{"text_format":"1","workbook":"xlsx","n_sheets":9,"sheets":["入力用科目","科目一覧","Inport","KOTCBN","KOTEIG","エプソン印刷","リコー印刷","リンク用","入力用"],"not_rendered":{"charts":0,"images":32,"macros":1,"external_links":0,"defined_names":5,"comments":1,"pivot_tables":0},"unopened":[],"bounds":{"document_bytes":16777216,"sheet_cells":100000,"rows_first":2000,"rows_last":500,"rows_between":2000,"halvings":0,"cell_chars":16384,"cell_head_chars":4096},"cells_cut":0,"cells_raw":0,"read":"whole","date_system":"1900"}

{"sheet":"入力用科目","index":0,"n_rows":218,"n_cols":54,"rows_kept":218,"cut":false,"hidden":false,"merged":[[217,40,217,43],[217,44,217,45],[218,24,218,27],[218,28,218,32],[218,33,218,35],[218,36,218,39],[218,40,218,43],[218,44,218,45],[214,1,218,14],[214,31,214,38],[214,39,214,45],[215,31,215,38],[215,39,215,45],[217,23,218,23],[217,24,217,27],[217,28,217,32],[217,33,217,35],[217,36,217,39],[211,38,211,45],[212,0,212,1],[212,3,212,5],[212,7,212,14],[212,16,212,18],[212,20,212,27],[212,29,212,36],[212,38,212,45],[211,0,211,1],[211,3,211,5],[211,7,211,14],[211,16,211,18],[211,20,211,27],[211,29,211,36],[209,38,209,45],[210,0,210,1],[210,3,210,5],[210,7,210,14],[210,16,210,18],[210,20,210,27],[210,29,210,36],[210,38,210,45],[209,0,209,1],[209,3,209,5],[209,7,209,14],[209,16,209,18],[209,20,209,27],[209,29,209,36],[207,38,207,45],[208,0,208,1],[208,3,208,5],[208,7,208,14],[208,16,208,18],[208,20,208,27],[208,29,208,36],[208,38,208,45],[207,0,207,1],[207,3,207,5],[207,7,207,14],[207,16,207,18],[207,20,207,27],[207,29,207,36],[205,38,205,45],[206,0,206,1],[206,3,206,5],[206,7,206,14],[206,16,206,18],[206,20,206,27],[206,29,206,36],[206,38,206,45],[205,0,205,1],[205,3,205,5],[205,7,205,14],[205,16,205,18],[205,20,205,27],[205,29,205,36],[203,38,203,45],[204,0,204,1],[204,3,204,5],[204,7,204,14],[204,16,204,18],[204,20,204,27],[204,29,204,36],[204,38,204,45],[203,0,203,1],[203,3,203,5],[203,7,203,14],[203,16,203,18],[203,20,203,27],[203,29,203,36],[201,38,201,45],[202,0,202,1],[202,3,202,5],[202,7,202,14],[202,16,202,18],[202,20,202,27],[202,29,202,36],[202,38,202,45],[201,0,201,1],[201,3,201,5],[201,7,201,14],[201,16,201,18],[201,20,201,27],[201,29,201,36],[199,38,199,45],[200,0,200,1],[200,3,200,5],[200,7,200,14],[200,16,200,18],[200,20,200,27],[200,29,200,36],[200,38,200,45],[199,0,199,1],[199,3,199,5],[199,7,199,14],[199,16,199,18],[199,20,199,27],[199,29,199,36],[197,38,197,45],[198,0,198,1],[198,3,198,5],[198,7,198,14],[198,16,198,18],[198,20,198,27],[198,29,198,36],[198,38,198,45],[197,0,197,1],[197,3,197,5],[197,7,197,14],[197,16,197,18],[197,20,197,27],[197,29,197,36],[195,38,195,45],[196,0,196,1],[196,3,196,5],[196,7,196,14],[196,16,196,18],[196,20,196,27],[196,29,196,36],[196,38,196,45],[195,0,195,1],[195,3,195,5],[195,7,195,14],[195,16,195,18],[195,20,195,27],[195,29,195,36],[193,38,193,45],[194,0,194,1],[194,3,194,5],[194,7,194,14],[194,16,194,18],[194,20,194,27],[194,29,194,36],[194,38,194,45],[193,0,193,1],[193,3,193,5],[193,7,193,14],[193,16,193,18],[193,20,193,27],[193,29,193,36],[191,38,191,45],[192,0,192,1],[192,3,192,5],[192,7,192,14],[192,16,192,18],[192,20,192,27],[192,29,192,36],[192,38,192,45],[191,0,191,1],[191,3,191,5],[191,7,191,14],[191,16,191,18],[191,20,191,27],[191,29,191,36],[189,38,189,45],[190,0,190,1],[190,3,190,5],[190,7,190,14],[190,16,190,18],[190,20,190,27],[190,29,190,36],[190,38,190,45],[189,0,189,1],[189,3,189,5],[189,7,189,14],[189,16,189,18],[189,20,189,27],[189,29,189,36],[187,38,187,45],[188,0,188,1],[188,3,188,5],[188,7,188,14],[188,16,188,18],[188,20,188,27],[188,29,188,36],[188,38,188,45],[187,0,187,1],[187,3,187,5],[187,7,187,14],[187,16,187,18],[187,20,187,27],[187,29,187,36],[185,38,185,45],[186,0,186,1],[186,3,186,5],[186,7,186,14],[186,16,186,18],[186,20,186,27],[186,29,186,36],[186,38,186,45],[185,0,185,1],[185,3,185,5],[185,7,185,14],[185,16,185,18],[185,20,185,27],[185,29,185,36],[183,38,183,45],[184,0,184,1],[184,3,184,5],[184,7,184,14],[184,16,184,18],[184,20,184,27],[184,29,184,36],[184,38,184,45],[183,0,183,1],[183,3,183,5],[183,7,183,14],[183,16,183,18],[183,20,183,27],[183,29,183,36],[181,38,181,45],[182,0,182,1],[182,3,182,5],[182,7,182,14],[182,16,182,18],[182,20,182,27],[182,29,182,36],[182,38,182,45],[179,29,179,36],[179,38,179,45],[180,7,180,14],[180,38,180,45],[181,0,181,1],[181,3,181,5],[181,7,181,14],[181,16,181,18],[181,20,181,27],[181,29,181,36],[176,43,176,45],[177,28,177,29],[177,32,177,40],[177,41,177,42],[177,43,177,45],[179,0,179,1],[179,3,179,5],[179,7,179,14],[179,16,179,18],[179,20,179,27],[176,0,176,2],[176,3,176,4],[176,20,176,25],[176,28,176,30],[176,32,176,40],[176,41,176,42],[173,40,173,43],[173,44,173,45],[174,24,174,27],[174,28,174,32],[174,33,174,35],[174,36,174,39],[174,40,174,43],[174,44,174,45],[170,1,174,14],[170,31,170,38],[170,39,170,45],[171,31,171,38],[171,39,171,45],[173,23,174,23],[173,24,173,27],[173,28,173,32],[173,33,173,35],[173,36,173,39],[167,38,167,45],[168,0,168,1],[168,3,168,5],[168,7,168,14],[168,16,168,18],[168,20,168,27],[168,29,168,36],[168,38,168,45],[167,0,167,1],[167,3,167,5],[167,7,167,14],[167,16,167,18],[167,20,167,27],[167,29,167,36],[165,38,165,45],[166,0,166,1],[166,3,166,5],[166,7,166,14],[166,16,166,18],[166,20,166,27],[166,29,166,36],[166,38,166,45],[165,0,165,1],[165,3,165,5],[165,7,165,14],[165,16,165,18],[165,20,165,27],[165,29,165,36],[163,38,163,45],[164,0,164,1],[164,3,164,5],[164,7,164,14],[164,16,164,18],[164,20,164,27],[164,29,164,36],[164,38,164,45],[163,0,163,1],[163,3,163,5],[163,7,163,14],[163,16,163,18],[163,20,163,27],[163,29,163,36],[161,38,161,45],[162,0,162,1],[162,3,162,5],[162,7,162,14],[162,16,162,18],[162,20,162,27],[162,29,162,36],[162,38,162,45],[161,0,161,1],[161,3,161,5],[161,7,161,14],[161,16,161,18],[161,20,161,27],[161,29,161,36],[159,38,159,45],[160,0,160,1],[160,3,160,5],[160,7,160,14],[160,16,160,18],[160,20,160,27],[160,29,160,36],[160,38,160,45],[159,0,159,1],[159,3,159,5],[159,7,159,14],[159,16,159,18],[159,20,159,27],[159,29,159,36],[157,38,157,45],[158,0,158,1],[158,3,158,5],[158,7,158,14],[158,16,158,18],[158,20,158,27],[158,29,158,36],[158,38,158,45],[157,0,157,1],[157,3,157,5],[157,7,157,14],[157,16,157,18],[157,20,157,27],[157,29,157,36],[155,38,155,45],[156,0,156,1],[156,3,156,5],[156,7,156,14],[156,16,156,18],[156,20,156,27],[156,29,156,36],[156,38,156,45],[155,0,155,1],[155,3,155,5],[155,7,155,14],[155,16,155,18],[155,20,155,27],[155,29,155,36],[153,38,153,45],[154,0,154,1],[154,3,154,5],[154,7,154,14],[154,16,154,18],[154,20,154,27],[154,29,154,36],[154,38,154,45],[153,0,153,1],[153,3,153,5],[153,7,153,14],[153,16,153,18],[153,20,153,27],[153,29,153,36],[151,38,151,45],[152,0,152,1],[152,3,152,5],[152,7,152,14],[152,16,152,18],[152,20,152,27],[152,29,152,36],[152,38,152,45],[151,0,151,1],[151,3,151,5],[151,7,151,14],[151,16,151,18],[151,20,151,27],[151,29,151,36],[149,38,149,45],[150,0,150,1],[150,3,150,5],[150,7,150,14],[150,16,150,18],[150,20,150,27],[150,29,150,36],[150,38,150,45],[149,0,149,1],[149,3,149,5],[149,7,149,14],[149,16,149,18],[149,20,149,27],[149,29,149,36],[147,38,147,45],[148,0,148,1],[148,3,148,5],[148,7,148,14],[148,16,148,18],[148,20,148,27],[148,29,148,36],[148,38,148,45],[147,0,147,1],[147,3,147,5],[147,7,147,14],[147,16,147,18],[147,20,147,27],[147,29,147,36],[145,38,145,45],[146,0,146,1],[146,3,146,5],[146,7,146,14],[146,16,146,18],[146,20,146,27],[146,29,146,36],[146,38,146,45],[145,0,145,1],[145,3,145,5],[145,7,145,14],[145,16,145,18],[145,20,145,27],[145,29,145,36],[143,38,143,45],[144,0,144,1],[144,3,144,5],[144,7,144,14],[144,16,144,18],[144,20,144,27],[144,29,144,36],[144,38,144,45],[143,0,143,1],[143,3,143,5],[143,7,143,14],[143,16,143,18],[143,20,143,27],[143,29,143,36],[141,38,141,45],[142,0,142,1],[142,3,142,5],[142,7,142,14],[142,16,142,18],[142,20,142,27],[142,29,142,36],[142,38,142,45],[141,0,141,1],[141,3,141,5],[141,7,141,14],[141,16,141,18],[141,20,141,27],[141,29,141,36],[139,38,139,45],[140,0,140,1],[140,3,140,5],[140,7,140,14],[140,16,140,18],[140,20,140,27],[140,29,140,36],[140,38,140,45],[139,0,139,1],[139,3,139,5],[139,7,139,14],[139,16,139,18],[139,20,139,27],[139,29,139,36],[137,38,137,45],[138,0,138,1],[138,3,138,5],[138,7,138,14],[138,16,138,18],[138,20,138,27],[138,29,138,36],[138,38,138,45],[135,29,135,36],[135,38,135,45],[136,7,136,14],[136,38,136,45],[137,0,137,1],[137,3,137,5],[137,7,137,14],[137,16,137,18],[137,20,137,27],[137,29,137,36],[132,43,132,45],[133,28,133,29],[133,32,133,40],[133,41,133,42],[133,43,133,45],[135,0,135,1],[135,3,135,5],[135,7,135,14],[135,16,135,18],[135,20,135,27],[132,0,132,2],[132,3,132,4],[132,20,132,25],[132,28,132,30],[132,32,132,40],[132,41,132,42],[129,40,129,43],[129,44,129,45],[130,24,130,27],[130,28,130,32],[130,33,130,35],[130,36,130,39],[130,40,130,43],[130,44,130,45],[126,1,130,14],[126,31,126,38],[126,39,126,45],[127,31,127,38],[127,39,127,45],[129,23,130,23],[129,24,129,27],[129,28,129,32],[129,33,129,35],[129,36,129,39],[123,38,123,45],[124,0,124,1],[124,3,124,5],[124,7,124,14],[124,16,124,18],[124,20,124,27],[124,29,124,36],[124,38,124,45],[123,0,123,1],[123,3,123,5],[123,7,123,14],[123,16,123,18],[123,20,123,27],[123,29,123,36],[121,38,121,45],[122,0,122,1],[122,3,122,5],[122,7,122,14],[122,16,122,18],[122,20,122,27],[122,29,122,36],[122,38,122,45],[121,0,121,1],[121,3,121,5],[121,7,121,14],[121,16,121,18],[121,20,121,27],[121,29,121,36],[119,38,119,45],[120,0,120,1],[120,3,120,5],[120,7,120,14],[120,16,120,18],[120,20,120,27],[120,29,120,36],[120,38,120,45],[119,0,119,1],[119,3,119,5],[119,7,119,14],[119,16,119,18],[119,20,119,27],[119,29,119,36],[117,38,117,45],[118,0,118,1],[118,3,118,5],[118,7,118,14],[118,16,118,18],[118,20,118,27],[118,29,118,36],[118,38,118,45],[117,0,117,1],[117,3,117,5],[117,7,117,14],[117,16,117,18],[117,20,117,27],[117,29,117,36],[115,38,115,45],[116,0,116,1],[116,3,116,5],[116,7,116,14],[116,16,116,18],[116,20,116,27],[116,29,116,36],[116,38,116,45],[115,0,115,1],[115,3,115,5],[115,7,115,14],[115,16,115,18],[115,20,115,27],[115,29,115,36],[113,38,113,45],[114,0,114,1],[114,3,114,5],[114,7,114,14],[114,16,114,18],[114,20,114,27],[114,29,114,36],[114,38,114,45],[113,0,113,1],[113,3,113,5],[113,7,113,14],[113,16,113,18],[113,20,113,27],[113,29,113,36],[111,38,111,45],[112,0,112,1],[112,3,112,5],[112,7,112,14],[112,16,112,18],[112,20,112,27],[112,29,112,36],[112,38,112,45],[111,0,111,1],[111,3,111,5],[111,7,111,14],[111,16,111,18],[111,20,111,27],[111,29,111,36],[109,38,109,45],[110,0,110,1],[110,3,110,5],[110,7,110,14],[110,16,110,18],[110,20,110,27],[110,29,110,36],[110,38,110,45],[109,0,109,1],[109,3,109,5],[109,7,109,14],[109,16,109,18],[109,20,109,27],[109,29,109,36],[107,38,107,45],[108,0,108,1],[108,3,108,5],[108,7,108,14],[108,16,108,18],[108,20,108,27],[108,29,108,36],[108,38,108,45],[107,0,107,1],[107,3,107,5],[107,7,107,14],[107,16,107,18],[107,20,107,27],[107,29,107,36],[105,38,105,45],[106,0,106,1],[106,3,106,5],[106,7,106,14],[106,16,106,18],[106,20,106,27],[106,29,106,36],[106,38,106,45],[105,0,105,1],[105,3,105,5],[105,7,105,14],[105,16,105,18],[105,20,105,27],[105,29,105,36],[103,38,103,45],[104,0,104,1],[104,3,104,5],[104,7,104,14],[104,16,104,18],[104,20,104,27],[104,29,104,36],[104,38,104,45],[103,0,103,1],[103,3,103,5],[103,7,103,14],[103,16,103,18],[103,20,103,27],[103,29,103,36],[101,38,101,45],[102,0,102,1],[102,3,102,5],[102,7,102,14],[102,16,102,18],[102,20,102,27],[102,29,102,36],[102,38,102,45],[101,0,101,1],[101,3,101,5],[101,7,101,14],[101,16,101,18],[101,20,101,27],[101,29,101,36],[99,38,99,45],[100,0,100,1],[100,3,100,5],[100,7,100,14],[100,16,100,18],[100,20,100,27],[100,29,100,36],[100,38,100,45],[99,0,99,1],[99,3,99,5],[99,7,99,14],[99,16,99,18],[99,20,99,27],[99,29,99,36],[97,38,97,45],[98,0,98,1],[98,3,98,5],[98,7,98,14],[98,16,98,18],[98,20,98,27],[98,29,98,36],[98,38,98,45],[97,0,97,1],[97,3,97,5],[97,7,97,14],[97,16,97,18],[97,20,97,27],[97,29,97,36],[95,38,95,45],[96,0,96,1],[96,3,96,5],[96,7,96,14],[96,16,96,18],[96,20,96,27],[96,29,96,36],[96,38,96,45],[95,0,95,1],[95,3,95,5],[95,7,95,14],[95,16,95,18],[95,20,95,27],[95,29,95,36],[93,38,93,45],[94,0,94,1],[94,3,94,5],[94,7,94,14],[94,16,94,18],[94,20,94,27],[94,29,94,36],[94,38,94,45],[91,29,91,36],[91,38,91,45],[92,7,92,14],[92,38,92,45],[93,0,93,1],[93,3,93,5],[93,7,93,14],[93,16,93,18],[93,20,93,27],[93,29,93,36],[88,43,88,45],[89,28,89,29],[89,32,89,40],[89,41,89,42],[89,43,89,45],[91,0,91,1],[91,3,91,5],[91,7,91,14],[91,16,91,18],[91,20,91,27],[88,0,88,2],[88,3,88,4],[88,20,88,25],[88,28,88,30],[88,32,88,40],[88,41,88,42],[85,40,85,43],[85,44,85,45],[86,24,86,27],[86,28,86,32],[86,33,86,35],[86,36,86,39],[86,40,86,43],[86,44,86,45],[82,1,86,14],[82,31,82,38],[82,39,82,45],[83,31,83,38],[83,39,83,45],[85,23,86,23],[85,24,85,27],[85,28,85,32],[85,33,85,35],[85,36,85,39],[79,38,79,45],[80,0,80,1],[80,3,80,5],[80,7,80,14],[80,16,80,18],[80,20,80,27],[80,29,80,36],[80,38,80,45],[79,0,79,1],[79,3,79,5],[79,7,79,14],[79,16,79,18],[79,20,79,27],[79,29,79,36],[77,38,77,45],[78,0,78,1],[78,3,78,5],[78,7,78,14],[78,16,78,18],[78,20,78,27],[78,29,78,36],[78,38,78,45],[77,0,77,1],[77,3,77,5],[77,7,77,14],[77,16,77,18],[77,20,77,27],[77,29,77,36],[75,38,75,45],[76,0,76,1],[76,3,76,5],[76,7,76,14],[76,16,76,18],[76,20,76,27],[76,29,76,36],[76,38,76,45],[75,0,75,1],[75,3,75,5],[75,7,75,14],[75,16,75,18],[75,20,75,27],[75,29,75,36],[73,38,73,45],[74,0,74,1],[74,3,74,5],[74,7,74,14],[74,16,74,18],[74,20,74,27],[74,29,74,36],[74,38,74,45],[73,0,73,1],[73,3,73,5],[73,7,73,14],[73,16,73,18],[73,20,73,27],[73,29,73,36],[71,38,71,45],[72,0,72,1],[72,3,72,5],[72,7,72,14],[72,16,72,18],[72,20,72,27],[72,29,72,36],[72,38,72,45],[71,0,71,1],[71,3,71,5],[71,7,71,14],[71,16,71,18],[71,20,71,27],[71,29,71,36],[69,38,69,45],[70,0,70,1],[70,3,70,5],[70,7,70,14],[70,16,70,18],[70,20,70,27],[70,29,70,36],[70,38,70,45],[69,0,69,1],[69,3,69,5],[69,7,69,14],[69,16,69,18],[69,20,69,27],[69,29,69,36],[67,38,67,45],[68,0,68,1],[68,3,68,5],[68,7,68,14],[68,16,68,18],[68,20,68,27],[68,29,68,36],[68,38,68,45],[67,0,67,1],[67,3,67,5],[67,7,67,14],[67,16,67,18],[67,20,67,27],[67,29,67,36],[65,38,65,45],[66,0,66,1],[66,3,66,5],[66,7,66,14],[66,16,66,18],[66,20,66,27],[66,29,66,36],[66,38,66,45],[65,0,65,1],[65,3,65,5],[65,7,65,14],[65,16,65,18],[65,20,65,27],[65,29,65,36],[63,38,63,45],[64,0,64,1],[64,3,64,5],[64,7,64,14],[64,16,64,18],[64,20,64,27],[64,29,64,36],[64,38,64,45],[63,0,63,1],[63,3,63,5],[63,7,63,14],[63,16,63,18],[63,20,63,27],[63,29,63,36],[61,38,61,45],[62,0,62,1],[62,3,62,5],[62,7,62,14],[62,16,62,18],[62,20,62,27],[62,29,62,36],[62,38,62,45],[61,0,61,1],[61,3,61,5],[61,7,61,14],[61,16,61,18],[61,20,61,27],[61,29,61,36],[59,38,59,45],[60,0,60,1],[60,3,60,5],[60,7,60,14],[60,16,60,18],[60,20,60,27],[60,29,60,36],[60,38,60,45],[59,0,59,1],[59,3,59,5],[59,7,59,14],[59,16,59,18],[59,20,59,27],[59,29,59,36],[57,38,57,45],[58,0,58,1],[58,3,58,5],[58,7,58,14],[58,16,58,18],[58,20,58,27],[58,29,58,36],[58,38,58,45],[57,0,57,1],[57,3,57,5],[57,7,57,14],[57,16,57,18],[57,20,57,27],[57,29,57,36],[55,38,55,45],[56,0,56,1],[56,3,56,5],[56,7,56,14],[56,16,56,18],[56,20,56,27],[56,29,56,36],[56,38,56,45],[55,0,55,1],[55,3,55,5],[55,7,55,14],[55,16,55,18],[55,20,55,27],[55,29,55,36],[53,38,53,45],[54,0,54,1],[54,3,54,5],[54,7,54,14],[54,16,54,18],[54,20,54,27],[54,29,54,36],[54,38,54,45],[53,0,53,1],[53,3,53,5],[53,7,53,14],[53,16,53,18],[53,20,53,27],[53,29,53,36]],"merged_total":1310,"flags":["merged_cut"]}
["年",null,null,"月",null,null,null,null,null,null,null,null,null,null,null,null,null,null,null,null,"コンピュータ番号",null,null,null,null,null,null,null,"頁",null,null,null,"事業者名",null,null,null,null,null,null,null,null,"年次",null,"整理番号"]
[0,6,null,null,null,null,null,null,null,null,null,null,null,null,null,null,null,null,null,null,2,1,6,null,null,null,null,null,null,null,1]
[]
["日付",null,null,"摘要ｺｰﾄﾞ",null,null,null,"摘　　　　　　要",null,null,null,null,null,null,null,null,"仕訳ｺｰﾄﾞ",null,null,"科　　目","収　入　金　額",null,null,null,null,null,null,null,null,"支　払　金　額",null,null,null,null,null,null,null,null,"差　引　金　額"]
[null,null,null,null,null,null,null,"繰　越　残　高"]
[null,null,null,null,null,null,null,null,null,null,null,null,null,null,null,null,null,null,null,{"$f":"IFERROR(VLOOKUP(Q6,科目一覧!$A$2:$C$39,3,FALSE),\"\")","v":""},null,null,null,null,null,null,null,null,null,null,null,null,null,null,null,null,null,null,{"$f":"AM5+U6-AD6","v":0},null,null,null,null,null,null,null,null,null,null,null,null,null,null,{"$f":"IF(Q6=1,1,0)","v":0}]
[null,null,null,null,null,null,null,null,null,null,null,null,null,null,null,null,null,null,null,{"$f":"IFERROR(VLOOKUP(Q7,科目一覧!$A$2:$C$39,3,FALSE),\"\")","v":""},null,null,null,null,null,null,null,null,null,null,null,null,null,null,null,null,null,null,{"$f":"AM6+U7-AD7","v":0},null,null,null,null,null,null,null,null,null,null,null,null,null,null,0]
[null,null,null,null,null,null,null,null,null,null,null,null,null,null,null,null,null,null,null,{"$f":"IFERROR(VLOOKUP(Q8,科目一覧!$A$2:$C$39,3,FALSE),\"\")","v":""},null,null,null,null,null,null,null,null,null,null,null,null,null,null,null,null,null,null,{"$f":"AM7+U8-AD8","v":0},null,null,null,null,null,null,null,null,null,null,null,null,null,null,0]
[null,null,null,null,null,null,null,null,null,null,null,null,null,null,null,null,null,null,null,{"$f":"IFERROR(VLOOKUP(Q9,科目一覧!$A$2:$C$39,3,FALSE),\"\")","v":""},null,null,null,null,null,null,null,null,null,null,null,null,null,null,null,null,null,null,0,null,null,null,null,null,null,null,null,null,null,null,null,null,null,0]
[null,null,null,null,null,null,null,null,null,null,null,null,null,null,null,null,null,null,null,{"$f":"IFERROR(VLOOKUP(Q10,科目一覧!$A$2:$C$39,3,FALSE),\"\")","v":""},null,null,null,null,null,null,null,null,null,null,null,null,null,null,null,null,null,null,0,null,null,null,null,null,null,null,null,null,null,null,null,null,null,0]
[null,null,null,null,null,null,null,null,null,null,null,null,null,null,null,null,null,null,null,{"$f":"IFERROR(VLOOKUP(Q11,科目一覧!$A$2:$C$39,3,FALSE),\"\")","v":""},null,null,null,null,null,null,null,null,null,null,null,null,null,null,null,null,null,null,0,null,null,null,null,null,null,null,null,null,null,null,null,null,null,0]
[null,null,null,null,null,null,null,null,null,null,null,null,null,null,null,null,null,null,null,{"$f":"IFERROR(VLOOKUP(Q12,科目一覧!$A$2:$C$39,3,FALSE),\"\")","v":""},null,null,null,null,null,null,null,null,null,null,null,null,null,null,null,null,null,null,0,null,null,null,null,null,null,null,null,null,null,null,null,null,null,0]
[null,null,null,null,null,null,null,null,null,null,null,null,null,null,null,null,null,null,null,{"$f":"IFERROR(VLOOKUP(Q13,科目一覧!$A$2:$C$39,3,FALSE),\"\")","v":""},null,null,null,null,null,null,null,null,null,null,null,null,null,null,null,null,null,null,0,null,null,null,null,null,null,null,null,null,null,null,null,null,null,0]
[null,null,null,null,null,null,null,null,null,null,null,null,null,null,null,null,null,null,null,{"$f":"IFERROR(VLOOKUP(Q14,科目一覧!$A$2:$C$39,3,FALSE),\"\")","v":""},null,null,null,null,null,null,null,null,null,null,null,null,null,null,null,null,null,null,0,null,null,null,null,null,null,null,null,null,null,null,null,null,null,0]
[null,null,null,null,null,null,null,null,null,null,null,null,null,null,null,null,null,null,null,{"$f":"IFERROR(VLOOKUP(Q15,科目一覧!$A$2:$C$39,3,FALSE),\"\")","v":""},null,null,null,null,null,null,null,null,null,null,null,null,null,null,null,null,null,null,0,null,null,null,null,null,null,null,null,null,null,null,null,null,null,0]
[null,null,null,null,null,null,null,null,null,null,null,null,null,null,null,null,null,null,null,{"$f":"IFERROR(VLOOKUP(Q16,科目一覧!$A$2:$C$39,3,FALSE),\"\")","v":""},null,null,null,null,null,null,null,null,null,null,null,null,null,null,null,null,null,null,0,null,null,null,null,null,null,null,null,null,null,null,null,null,null,0]
[null,null,null,null,null,null,null,null,null,null,null,null,null,null,null,null,null,null,null,{"$f":"IFERROR(VLOOKUP(Q17,科目一覧!$A$2:$C$39,3,FALSE),\"\")","v":""},null,null,null,null,null,null,null,null,null,null,null,null,null,null,null,null,null,null,{"$f":"AM16+U17-AD17","v":0},null,null,null,null,null,null,null,null,null,null,null,null,null,null,0]
[null,null,null,null,null,null,null,null,null,null,null,null,null,null,null,null,null,null,null,{"$f":"IFERROR(VLOOKUP(Q18,科目一覧!$A$2:$C$39,3,FALSE),\"\")","v":""},null,null,null,null,null,null,null,null,null,null,null,null,null,null,null,null,null,null,{"$f":"AM17+U18-AD18","v":0},null,null,null,null,null,null,null,null,null,null,null,null,null,null,0]
[null,null,null,null,null,null,null,null,null,null,null,null,null,null,null,null,null,null,null,{"$f":"IFERROR(VLOOKUP(Q19,科目一覧!$A$2:$C$39,3,FALSE),\"\")","v":""},null,null,null,null,null,null,null,null,null,null,null,null,null,null,null,null,null,null,0,null,null,null,null,null,null,null,null,null,null,null,null,null,null,0]
[null,null,null,null,null,null,null,null,null,null,null,null,null,null,null,null,null,null,null,{"$f":"IFERROR(VLOOKUP(Q20,科目一覧!$A$2:$C$39,3,FALSE),\"\")","v":""},null,null,null,null,null,null,null,null,null,null,null,null,null,null,null,null,null,null,0,null,null,null,null,null,null,null,null,null,null,null,null,null,null,0]
[null,null,null,null,null,null,null,null,null,null,null,null,null,null,null,null,null,null,null,{"$f":"IFERROR(VLOOKUP(Q21,科目一覧!$A$2:$C$39,3,FALSE),\"\")","v":""},null,null,null,null,null,null,null,null,null,null,null,null,null,null,null,null,null,null,0,null,null,null,null,null,null,null,null,null,null,null,null,null,null,0]
[null,null,null,null,null,null,null,null,null,null,null,null,null,null,null,null,null,null,null,{"$f":"IFERROR(VLOOKUP(Q22,科目一覧!$A$2:$C$39,3,FALSE),\"\")","v":""},null,null,null,null,null,null,null,null,null,null,null,null,null,null,null,null,null,null,0,null,null,null,null,null,null,null,null,null,null,null,null,null,null,0]
[null,null,null,null,null,null,null,null,null,null,null,null,null,null,null,null,null,null,null,{"$f":"IFERROR(VLOOKUP(Q23,科目一覧!$A$2:$C$39,3,FALSE),\"\")","v":""},null,null,null,null,null,null,null,null,null,null,null,null,null,null,null,null,null,null,0,null,null,null,null,null,null,null,null,null,null,null,null,null,null,0]
[null,null,null,null,null,null,null,null,null,null,null,null,null,null,null,null,null,null,null,{"$f":"IFERROR(VLOOKUP(Q24,科目一覧!$A$2:$C$39,3,FALSE),\"\")","v":""},null,null,null,null,null,null,null,null,null,null,null,null,null,null,null,null,null,null,0,null,null,null,null,null,null,null,null,null,null,null,null,null,null,0]
[null,null,null,null,null,null,null,null,null,null,null,null,null,null,null,null,null,null,null,{"$f":"IFERROR(VLOOKUP(Q25,科目一覧!$A$2:$C$39,3,FALSE),\"\")","v":""},null,null,null,null,null,null,null,null,null,null,null,null,null,null,null,null,null,null,0,null,null,null,null,null,null,null,null,null,null,null,null,null,null,0]
[null,null,null,null,null,null,null,null,null,null,null,null,null,null,null,null,null,null,null,{"$f":"IFERROR(VLOOKUP(Q26,科目一覧!$A$2:$C$39,3,FALSE),\"\")","v":""},null,null,null,null,null,null,null,null,null,null,null,null,null,null,null,null,null,null,0,null,null,null,null,null,null,null,null,null,null,null,null,null,null,0]
[null,null,null,null,null,null,null,null,null,null,null,null,null,null,null,null,null,null,null,{"$f":"IFERROR(VLOOKUP(Q27,科目一覧!$A$2:$C$39,3,FALSE),\"\")","v":""},null,null,null,null,null,null,null,null,null,null,null,null,null,null,null,null,null,null,{"$f":"AM26+U27-AD27","v":0},null,null,null,null,null,null,null,null,null,null,null,null,null,null,0]
[null,null,null,null,null,null,null,null,null,null,null,null,null,null,null,null,null,null,null,{"$f":"IFERROR(VLOOKUP(Q28,科目一覧!$A$2:$C$39,3,FALSE),\"\")","v":""},null,null,null,null,null,null,null,null,null,null,null,null,null,null,null,null,null,null,{"$f":"AM27+U28-AD28","v":0},null,null,null,null,null,null,null,null,null,null,null,null,null,null,0]
[null,null,null,null,null,null,null,null,null,null,null,null,null,null,null,null,null,null,null,{"$f":"IFERROR(VLOOKUP(Q29,科目一覧!$A$2:$C$39,3,FALSE),\"\")","v":""},null,null,null,null,null,null,null,null,null,null,null,null,null,null,null,null,null,null,0,null,null,null,null,null,null,null,null,null,null,null,null,null,null,0]
[null,null,null,null,null,null,null,null,null,null,null,null,null,null,null,null,null,null,null,{"$f":"IFERROR(VLOOKUP(Q30,科目一覧!$A$2:$C$39,3,FALSE),\"\")","v":""},null,null,null,null,null,null,null,null,null,null,null,null,null,null,null,null,null,null,0,null,null,null,null,null,null,null,null,null,null,null,null,null,null,0]
[null,null,null,null,null,null,null,null,null,null,null,null,null,null,null,null,null,null,null,{"$f":"IFERROR(VLOOKUP(Q31,科目一覧!$A$2:$C$39,3,FALSE),\"\")","v":""},null,null,null,null,null,null,null,null,null,null,null,null,null,null,null,null,null,null,0,null,null,null,null,null,null,null,null,null,null,null,null,null,null,0]
[null,null,null,null,null,null,null,null,null,null,null,null,null,null,null,null,null,null,null,{"$f":"IFERROR(VLOOKUP(Q32,科目一覧!$A$2:$C$39,3,FALSE),\"\")","v":""},null,null,null,null,null,null,null,null,null,null,null,null,null,null,null,null,null,null,0,null,null,null,null,null,null,null,null,null,null,null,null,null,null,0]
[null,null,null,null,null,null,null,null,null,null,null,null,null,null,null,null,null,null,null,{"$f":"IFERROR(VLOOKUP(Q33,科目一覧!$A$2:$C$39,3,FALSE),\"\")","v":""},null,null,null,null,null,null,null,null,null,null,null,null,null,null,null,null,null,null,0,null,null,null,null,null,null,null,null,null,null,null,null,null,null,0]
[null,null,null,null,null,null,null,null,null,null,null,null,null,null,null,null,null,null,null,{"$f":"IFERROR(VLOOKUP(Q34,科目一覧!$A$2:$C$39,3,FALSE),\"\")","v":""},null,null,null,null,null,null,null,null,null,null,null,null,null,null,null,null,null,null,0,null,null,null,null,null,null,null,null,null,null,null,null,null,null,0]
[null,null,null,null,null,null,null,null,null,null,null,null,null,null,null,null,null,null,null,{"$f":"IFERROR(VLOOKUP(Q35,科目一覧!$A$2:$C$39,3,FALSE),\"\")","v":""},null,null,null,null,null,null,null,null,null,null,null,null,null,null,null,null,null,null,0,null,null,null,null,null,null,null,null,null,null,null,null,null,null,0]
[null,null,null,null,null,null,null,null,null,null,null,null,null,null,null,null,null,null,null,{"$f":"IFERROR(VLOOKUP(Q36,科目一覧!$A$2:$C$39,3,FALSE),\"\")","v":""},null,null,null,null,null,null,null,null,null,null,null,null,null,null,null,null,null,null,{"$f":"AM35+U36-AD36","v":0},null,null,null,null,null,null,null,null,null,null,null,null,null,null,0]
[null,null,null,null,null,null,null,"小　　　計",null,null,null,null,null,null,null,null,null,null,null,null,{"$f":"SUM(U6:AB36)","v":0},null,null,null,null,null,null,null,null,{"$f":"SUM(AD6:AK36)","v":0},null,null,null,null,null,null,null,null,{"$f":"AM5+U37-AD37","v":0}]
[]
[null,null,null,null,null,null,null,null,null,null,null,null,null,null,null,null,null,null,null,null,null,null,null,null,null,null,null,null,null,null,null,"月末カード等未収入金",null,null,null,null,null,null,null,"総合計 収入金額"]
[null,null,null,null,null,null,null,null,null,null,null,null,null,null,null,null,null,null,null,null,null,null,null,null,null,null,null,null,null,null,null,null,null,null,null,null,null,null,null,{"$f":"SUMIF(Q6:AB36,1,U6:AB36)+SUMIF(Q50:S80,1,U50:AB80)+SUMIF(Q94:S124,1,U94:AB124)+SUMIF(Q138:S168,1,U138:AB168)+SUMIF(Q182:S212,1,U182:AB212)","v":0}]
[]
[null,null,null,null,null,null,null,null,null,null,null,null,null,null,null,null,null,null,null,null,null,null,null,"合計","走行粁",null,null,null,"実車粁",null,null,null,null,"回数",null,null,"人員",null,null,null,"空車粁",null,null,null,"日数"]
[null,null,null,null,null,null,null,null,null,null,null,null,null,null,null,null,null,null,null,null,null,null,null,null,null,null,null,null,null,null,null,null,null,null,null,null,null,null,null,null,{"$f":"Y43-AC43","v":0},null,null,null,{"$f":"BB216","v":0}]
[]
["年",null,null,"月",null,null,null,null,null,null,null,null,null,null,null,null,null,null,null,null,"コンピュータ番号",null,null,null,null,null,null,null,"頁",null,null,null,"事業者名",null,null,null,null,null,null,null,null,"年次",null,"整理番号"]
[{"$f":"IF(A2=\"\",\"\",A2)","v":0},{"$f":"IF(B2=\"\",\"\",B2)","v":6},null,{"$f":"IF(D2=\"\",\"\",D2)","v":""},{"$f":"IF(E2=\"\",\"\",E2)","v":""},null,null,null,null,null,null,null,null,null,null,null,null,null,null,null,{"$f":"IF(U2=\"\",\"\",U2)","v":2},1,6,"","","",null,null,null,null,2,null,{"$f":"IF(AG2=\"\",\"\",AG2)","v":""},null,null,null,null,null,null,null,null,{"$f":"IF(AP2=\"\",\"\",AP2)","v":""},null,{"$f":"IF(AR2=\"\",\"\",AR2)","v":""}]
[]
["日付",null,null,"摘要ｺｰﾄﾞ",null,null,null,"摘　　　　　　要",null,null,null,null,null,null,null,null,"仕訳ｺｰﾄﾞ",null,null,"科　　目","収　入　金　額",null,null,null,null,null,null,null,null,"支　払　金　額",null,null,null,null,null,null,null,null,"差　引　金　額"]
[null,null,null,null,null,null,null,"繰　越　残　高",null,null,null,null,null,null,null,null,null,null,null,null,null,null,null,null,null,null,null,null,null,null,null,null,null,null,null,null,null,null,{"$f":"AM37","v":0}]
[null,null,null,null,null,null,null,null,null,null,null,null,null,null,null,null,null,null,null,{"$f":"IFERROR(VLOOKUP(Q50,科目一覧!$A$2:$C$39,3,FALSE),\"\")","v":""},null,null,null,null,null,null,null,null,null,null,null,null,null,null,null,null,null,null,{"$f":"AM49+U50-AD50","v":0},null,null,null,null,null,null,null,null,null,null,null,null,null,null,{"$f":"IF(Q50=1,1,0)","v":0}]
[null,null,null,null,null,null,null,null,null,null,null,null,null,null,null,null,null,null,null,{"$f":"IFERROR(VLOOKUP(Q51,科目一覧!$A$2:$C$39,3,FALSE),\"\")","v":""},null,null,null,null,null,null,null,null,null,null,null,null,null,null,null,null,null,null,{"$f":"AM50+U51-AD51","v":0},null,null,null,null,null,null,null,null,null,null,null,null,null,null,0]
[null,null,null,null,null,null,null,null,null,null,null,null,null,null,null,null,null,null,null,{"$f":"IFERROR(VLOOKUP(Q52,科目一覧!$A$2:$C$39,3,FALSE),\"\")","v":""},null,null,null,null,null,null,null,null,null,null,null,null,null,null,null,null,null,null,{"$f":"AM51+U52-AD52","v":0},null,null,null,null,null,null,null,null,null,null,null,null,null,null,0]
[null,null,null,null,null,null,null,null,null,null,null,null,null,null,null,null,null,null,null,{"$f":"IFERROR(VLOOKUP(Q53,科目一覧!$A$2:$C$39,3,FALSE),\"\")","v":""},null,null,null,null,null,null,null,null,null,null,null,null,null,null,null,null,null,null,0,null,null,null,null,null,null,null,null,null,null,null,null,null,null,0]
[null,null,null,null,null,null,null,null,null,null,null,null,null,null,null,null,null,null,null,{"$f":"IFERROR(VLOOKUP(Q54,科目一覧!$A$2:$C$39,3,FALSE),\"\")","v":""},null,null,null,null,null,null,null,null,null,null,null,null,null,null,null,null,null,null,0,null,null,null,null,null,null,null,null,null,null,null,null,null,null,0]
[null,null,null,null,null,null,null,null,null,null,null,null,null,null,null,null,null,null,null,{"$f":"IFERROR(VLOOKUP(Q55,科目一覧!$A$2:$C$39,3,FALSE),\"\")","v":""},null,null,null,null,null,null,null,null,null,null,null,null,null,null,null,null,null,null,0,null,null,null,null,null,null,null,null,null,null,null,null,null,null,0]
[null,null,null,null,null,null,null,null,null,null,null,null,null,null,null,null,null,null,null,{"$f":"IFERROR(VLOOKUP(Q56,科目一覧!$A$2:$C$39,3,FALSE),\"\")","v":""},null,null,null,null,null,null,null,null,null,null,null,null,null,null,null,null,null,null,0,null,null,null,null,null,null,null,null,null,null,null,null,null,null,0]
[null,null,null,null,null,null,null,null,null,null,null,null,null,null,null,null,null,null,null,{"$f":"IFERROR(VLOOKUP(Q57,科目一覧!$A$2:$C$39,3,FALSE),\"\")","v":""},null,null,null,null,null,null,null,null,null,null,null,null,null,null,null,null,null,null,0,null,null,null,null,null,null,null,null,null,null,null,null,null,null,0]
[null,null,null,null,null,null,null,null,null,null,null,null,null,null,null,null,null,null,null,{"$f":"IFERROR(VLOOKUP(Q58,科目一覧!$A$2:$C$39,3,FALSE),\"\")","v":""},null,null,null,null,null,null,null,null,null,null,null,null,null,null,null,null,null,null,0,null,null,null,null,null,null,null,null,null,null,null,null,null,null,0]
[null,null,null,null,null,null,null,null,null,null,null,null,null,null,null,null,null,null,null,{"$f":"IFERROR(VLOOKUP(Q59,科目一覧!$A$2:$C$39,3,FALSE),\"\")","v":""},null,null,null,null,null,null,null,null,null,null,null,null,null,null,null,null,null,null,0,null,null,null,null,null,null,null,null,null,null,null,null,null,null,0]
[null,null,null,null,null,null,null,null,null,null,null,null,null,null,null,null,null,null,null,{"$f":"IFERROR(VLOOKUP(Q60,科目一覧!$A$2:$C$39,3,FALSE),\"\")","v":""},null,null,null,null,null,null,null,null,null,null,null,null,null,null,null,null,null,null,0,null,null,null,null,null,null,null,null,null,null,null,null,null,null,0]
[null,null,null,null,null,null,null,null,null,null,null,null,null,null,null,null,null,null,null,{"$f":"IFERROR(VLOOKUP(Q61,科目一覧!$A$2:$C$39,3,FALSE),\"\")","v":""},null,null,null,null,null,null,null,null,null,null,null,null,null,null,null,null,null,null,{"$f":"AM60+U61-AD61","v":0},null,null,null,null,null,null,null,null,null,null,null,null,null,null,0]
[null,null,null,null,null,null,null,null,null,null,null,null,null,null,null,null,null,null,null,{"$f":"IFERROR(VLOOKUP(Q62,科目一覧!$A$2:$C$39,3,FALSE),\"\")","v":""},null,null,null,null,null,null,null,null,null,null,null,null,null,null,null,null,null,null,{"$f":"AM61+U62-AD62","v":0},null,null,null,null,null,null,null,null,null,null,null,null,null,null,0]
[null,null,null,null,null,null,null,null,null,null,null,null,null,null,null,null,null,null,null,{"$f":"IFERROR(VLOOKUP(Q63,科目一覧!$A$2:$C$39,3,FALSE),\"\")","v":""},null,null,null,null,null,null,null,null,null,null,null,null,null,null,null,null,null,null,0,null,null,null,null,null,null,null,null,null,null,null,null,null,null,0]
[null,null,null,null,null,null,null,null,null,null,null,null,null,null,null,null,null,null,null,{"$f":"IFERROR(VLOOKUP(Q64,科目一覧!$A$2:$C$39,3,FALSE),\"\")","v":""},null,null,null,null,null,null,null,null,null,null,null,null,null,null,null,null,null,null,0,null,null,null,null,null,null,null,null,null,null,null,null,null,null,0]
[null,null,null,null,null,null,null,null,null,null,null,null,null,null,null,null,null,null,null,{"$f":"IFERROR(VLOOKUP(Q65,科目一覧!$A$2:$C$39,3,FALSE),\"\")","v":""},null,null,null,null,null,null,null,null,null,null,null,null,null,null,null,null,null,null,0,null,null,null,null,null,null,null,null,null,null,null,null,null,null,0]
[null,null,null,null,null,null,null,null,null,null,null,null,null,null,null,null,null,null,null,{"$f":"IFERROR(VLOOKUP(Q66,科目一覧!$A$2:$C$39,3,FALSE),\"\")","v":""},null,null,null,null,null,null,null,null,null,null,null,null,null,null,null,null,null,null,0,null,null,null,null,null,null,null,null,null,null,null,null,null,null,0]
[null,null,null,null,null,null,null,null,null,null,null,null,null,null,null,null,null,null,null,{"$f":"IFERROR(VLOOKUP(Q67,科目一覧!$A$2:$C$39,3,FALSE),\"\")","v":""},null,null,null,null,null,null,null,null,null,null,null,null,null,null,null,null,null,null,0,null,null,null,null,null,null,null,null,null,null,null,null,null,null,0]
[null,null,null,null,null,null,null,null,null,null,null,null,null,null,null,null,null,null,null,{"$f":"IFERROR(VLOOKUP(Q68,科目一覧!$A$2:$C$39,3,FALSE),\"\")","v":""},null,null,null,null,null,null,null,null,null,null,null,null,null,null,null,null,null,null,0,null,null,null,null,null,null,null,null,null,null,null,null,null,null,0]
[null,null,null,null,null,null,null,null,null,null,null,null,null,null,null,null,null,null,null,{"$f":"IFERROR(VLOOKUP(Q69,科目一覧!$A$2:$C$39,3,FALSE),\"\")","v":""},null,null,null,null,null,null,null,null,null,null,null,null,null,null,null,null,null,null,0,null,null,null,null,null,null,null,null,null,null,null,null,null,null,0]
[null,null,null,null,null,null,null,null,null,null,null,null,null,null,null,null,null,null,null,{"$f":"IFERROR(VLOOKUP(Q70,科目一覧!$A$2:$C$39,3,FALSE),\"\")","v":""},null,null,null,null,null,null,null,null,null,null,null,null,null,null,null,null,null,null,0,null,null,null,null,null,null,null,null,null,null,null,null,null,null,0]
[null,null,null,null,null,null,null,null,null,null,null,null,null,null,null,null,null,null,null,{"$f":"IFERROR(VLOOKUP(Q71,科目一覧!$A$2:$C$39,3,FALSE),\"\")","v":""},null,null,null,null,null,null,null,null,null,null,null,null,null,null,null,null,null,null,{"$f":"AM70+U71-AD71","v":0},null,null,null,null,null,null,null,null,null,null,null,null,null,null,0]
[null,null,null,null,null,null,null,null,null,null,null,null,null,null,null,null,null,null,null,{"$f":"IFERROR(VLOOKUP(Q72,科目一覧!$A$2:$C$39,3,FALSE),\"\")","v":""},null,null,null,null,null,null,null,null,null,null,null,null,null,null,null,null,null,null,{"$f":"AM71+U72-AD72","v":0},null,null,null,null,null,null,null,null,null,null,null,null,null,null,0]
[null,null,null,null,null,null,null,null,null,null,null,null,null,null,null,null,null,null,null,{"$f":"IFERROR(VLOOKUP(Q73,科目一覧!$A$2:$C$39,3,FALSE),\"\")","v":""},null,null,null,null,null,null,null,null,null,null,null,null,null,null,null,null,null,null,0,null,null,null,null,null,null,null,null,null,null,null,null,null,null,0]
[null,null,null,null,null,null,null,null,null,null,null,null,null,null,null,null,null,null,null,{"$f":"IFERROR(VLOOKUP(Q74,科目一覧!$A$2:$C$39,3,FALSE),\"\")","v":""},null,null,null,null,null,null,null,null,null,null,null,null,null,null,null,null,null,null,0,null,null,null,null,null,null,null,null,null,null,null,null,null,null,0]
[null,null,null,null,null,null,null,null,null,null,null,null,null,null,null,null,null,null,null,{"$f":"IFERROR(VLOOKUP(Q75,科目一覧!$A$2:$C$39,3,FALSE),\"\")","v":""},null,null,null,null,null,null,null,null,null,null,null,null,null,null,null,null,null,null,0,null,null,null,null,null,null,null,null,null,null,null,null,null,null,0]
[null,null,null,null,null,null,null,null,null,null,null,null,null,null,null,null,null,null,null,{"$f":"IFERROR(VLOOKUP(Q76,科目一覧!$A$2:$C$39,3,FALSE),\"\")","v":""},null,null,null,null,null,null,null,null,null,null,null,null,null,null,null,null,null,null,0,null,null,null,null,null,null,null,null,null,null,null,null,null,null,0]
[null,null,null,null,null,null,null,null,null,null,null,null,null,null,null,null,null,null,null,{"$f":"IFERROR(VLOOKUP(Q77,科目一覧!$A$2:$C$39,3,FALSE),\"\")","v":""},null,null,null,null,null,null,null,null,null,null,null,null,null,null,null,null,null,null,0,null,null,null,null,null,null,null,null,null,null,null,null,null,null,0]
[null,null,null,null,null,null,null,null,null,null,null,null,null,null,null,null,null,null,null,{"$f":"IFERROR(VLOOKUP(Q78,科目一覧!$A$2:$C$39,3,FALSE),\"\")","v":""},null,null,null,null,null,null,null,null,null,null,null,null,null,null,null,null,null,null,0,null,null,null,null,null,null,null,null,null,null,null,null,null,null,0]
[null,null,null,null,null,null,null,null,null,null,null,null,null,null,null,null,null,null,null,{"$f":"IFERROR(VLOOKUP(Q79,科目一覧!$A$2:$C$39,3,FALSE),\"\")","v":""},null,null,null,null,null,null,null,null,null,null,null,null,null,null,null,null,null,null,0,null,null,null,null,null,null,null,null,null,null,null,null,null,null,0]
[null,null,null,null,null,null,null,null,null,null,null,null,null,null,null,null,null,null,null,{"$f":"IFERROR(VLOOKUP(Q80,科目一覧!$A$2:$C$39,3,FALSE),\"\")","v":""},null,null,null,null,null,null,null,null,null,null,null,null,null,null,null,null,null,null,0,null,null,null,null,null,null,null,null,null,null,null,null,null,null,0]
[null,null,null,null,null,null,null,"小　　　計",null,null,null,null,null,null,null,null,null,null,null,null,{"$f":"SUM(U50:AB80)","v":0},null,null,null,null,null,null,null,null,{"$f":"SUM(AD50:AK80)","v":0},null,null,null,null,null,null,null,null,{"$f":"AM49+U81-AD81","v":0}]
[]
[null,null,null,null,null,null,null,null,null,null,null,null,null,null,null,null,null,null,null,null,null,null,null,null,null,null,null,null,null,null,null,"月末カード等未収入金",null,null,null,null,null,null,null,"合計　　収入金額"]
[null,null,null,null,null,null,null,null,null,null,null,null,null,null,null,null,null,null,null,null,null,null,null,null,null,null,null,null,null,null,null,null,null,null,null,null,null,null,null,{"$f":"SUMIF(Q50:AB80,1,U50:AB80)","v":0}]
[]
[null,null,null,null,null,null,null,null,null,null,null,null,null,null,null,null,null,null,null,null,null,null,null,"合計","走行粁",null,null,null,"実車粁",null,null,null,null,"回数",null,null,"人員",null,null,null,"空車粁",null,null,null,"日数"]
[]
[]
["年",null,null,"月",null,null,null,null,null,null,null,null,null,null,null,null,null,null,null,null,"コンピュータ番号",null,null,null,null,null,null,null,"頁",null,null,null,"事業者名",null,null,null,null,null,null,null,null,"年次",null,"整理番号"]
[{"$f":"IF(A46=\"\",\"\",A46)","v":0},{"$f":"IF(B46=\"\",\"\",B46)","v":6},null,{"$f":"IF(D46=\"\",\"\",D46)","v":""},{"$f":"IF(E46=\"\",\"\",E46)","v":""},null,null,null,null,null,null,null,null,null,null,null,null,null,null,null,{"$f":"IF(U46=\"\",\"\",U46)","v":2},1,6,"","","",null,null,null,null,3,null,{"$f":"IF(AG46=\"\",\"\",AG46)","v":""},null,null,null,null,null,null,null,null,{"$f":"IF(AP46=\"\",\"\",AP46)","v":""},null,{"$f":"IF(AR46=\"\",\"\",AR46)","v":""}]
[]
["日付",null,null,"摘要ｺｰﾄﾞ",null,null,null,"摘　　　　　　要",null,null,null,null,null,null,null,null,"仕訳ｺｰﾄﾞ",null,null,"科　　目","収　入　金　額",null,null,null,null,null,null,null,null,"支　払　金　額",null,null,null,null,null,null,null,null,"差　引　金　額"]
[null,null,null,null,null,null,null,"繰　越　残　高",null,null,null,null,null,null,null,null,null,null,null,null,null,null,null,null,null,null,null,null,null,null,null,null,null,null,null,null,null,null,{"$f":"AM81","v":0}]
[null,null,null,null,null,null,null,null,null,null,null,null,null,null,null,null,null,null,null,{"$f":"IFERROR(VLOOKUP(Q94,科目一覧!$A$2:$C$39,3,FALSE),\"\")","v":""},null,null,null,null,null,null,null,null,null,null,null,null,null,null,null,null,null,null,{"$f":"AM93+U94-AD94","v":0},null,null,null,null,null,null,null,null,null,null,null,null,null,null,{"$f":"IF(Q94=1,1,0)","v":0}]
[null,null,null,null,null,null,null,null,null,null,null,null,null,null,null,null,null,null,null,{"$f":"IFERROR(VLOOKUP(Q95,科目一覧!$A$2:$C$39,3,FALSE),\"\")","v":""},null,null,null,null,null,null,null,null,null,null,null,null,null,null,null,null,null,null,{"$f":"AM94+U95-AD95","v":0},null,null,null,null,null,null,null,null,null,null,null,null,null,null,{"$f":"IF(Q95=1,1,0)","v":0}]
[null,null,null,null,null,null,null,null,null,null,null,null,null,null,null,null,null,null,null,{"$f":"IFERROR(VLOOKUP(Q96,科目一覧!$A$2:$C$39,3,FALSE),\"\")","v":""},null,null,null,null,null,null,null,null,null,null,null,null,null,null,null,null,null,null,0,null,null,null,null,null,null,null,null,null,null,null,null,null,null,0]
[null,null,null,null,null,null,null,null,null,null,null,null,null,null,null,null,null,null,null,{"$f":"IFERROR(VLOOKUP(Q97,科目一覧!$A$2:$C$39,3,FALSE),\"\")","v":""},null,null,null,null,null,null,null,null,null,null,null,null,null,null,null,null,null,null,0,null,null,null,null,null,null,null,null,null,null,null,null,null,null,0]
[null,null,null,null,null,null,null,null,null,null,null,null,null,null,null,null,null,null,null,{"$f":"IFERROR(VLOOKUP(Q98,科目一覧!$A$2:$C$39,3,FALSE),\"\")","v":""},null,null,null,null,null,null,null,null,null,null,null,null,null,null,null,null,null,null,0,null,null,null,null,null,null,null,null,null,null,null,null,null,null,0]
[null,null,null,null,null,null,null,null,null,null,null,null,null,null,null,null,null,null,null,{"$f":"IFERROR(VLOOKUP(Q99,科目一覧!$A$2:$C$39,3,FALSE),\"\")","v":""},null,null,null,null,null,null,null,null,null,null,null,null,null,null,null,null,null,null,0,null,null,null,null,null,null,null,null,null,null,null,null,null,null,0]
[null,null,null,null,null,null,null,null,null,null,null,null,null,null,null,null,null,null,null,{"$f":"IFERROR(VLOOKUP(Q100,科目一覧!$A$2:$C$39,3,FALSE),\"\")","v":""},null,null,null,null,null,null,null,null,null,null,null,null,null,null,null,null,null,null,0,null,null,null,null,null,null,null,null,null,null,null,null,null,null,0]
[null,null,null,null,null,null,null,null,null,null,null,null,null,null,null,null,null,null,null,{"$f":"IFERROR(VLOOKUP(Q101,科目一覧!$A$2:$C$39,3,FALSE),\"\")","v":""},null,null,null,null,null,null,null,null,null,null,null,null,null,null,null,null,null,null,0,null,null,null,null,null,null,null,null,null,null,null,null,null,null,0]
[null,null,null,null,null,null,null,null,null,null,null,null,null,null,null,null,null,null,null,{"$f":"IFERROR(VLOOKUP(Q102,科目一覧!$A$2:$C$39,3,FALSE),\"\")","v":""},null,null,null,null,null,null,null,null,null,null,null,null,null,null,null,null,null,null,0,null,null,null,null,null,null,null,null,null,null,null,null,null,null,0]
[null,null,null,null,null,null,null,null,null,null,null,null,null,null,null,null,null,null,null,{"$f":"IFERROR(VLOOKUP(Q103,科目一覧!$A$2:$C$39,3,FALSE),\"\")","v":""},null,null,null,null,null,null,null,null,null,null,null,null,null,null,null,null,null,null,0,null,null,null,null,null,null,null,null,null,null,null,null,null,null,0]
[null,null,null,null,null,null,null,null,null,null,null,null,null,null,null,null,null,null,null,{"$f":"IFERROR(VLOOKUP(Q104,科目一覧!$A$2:$C$39,3,FALSE),\"\")","v":""},null,null,null,null,null,null,null,null,null,null,null,null,null,null,null,null,null,null,0,null,null,null,null,null,null,null,null,null,null,null,null,null,null,0]
[null,null,null,null,null,null,null,null,null,null,null,null,null,null,null,null,null,null,null,{"$f":"IFERROR(VLOOKUP(Q105,科目一覧!$A$2:$C$39,3,FALSE),\"\")","v":""},null,null,null,null,null,null,null,null,null,null,null,null,null,null,null,null,null,null,0,null,null,null,null,null,null,null,null,null,null,null,null,null,null,0]
[null,null,null,null,null,null,null,null,null,null,null,null,null,null,null,null,null,null,null,{"$f":"IFERROR(VLOOKUP(Q106,科目一覧!$A$2:$C$39,3,FALSE),\"\")","v":""},null,null,null,null,null,null,null,null,null,null,null,null,null,null,null,null,null,null,0,null,null,null,null,null,null,null,null,null,null,null,null,null,null,0]
[null,null,null,null,null,null,null,null,null,null,null,null,null,null,null,null,null,null,null,{"$f":"IFERROR(VLOOKUP(Q107,科目一覧!$A$2:$C$39,3,FALSE),\"\")","v":""},null,null,null,null,null,null,null,null,null,null,null,null,null,null,null,null,null,null,0,null,null,null,null,null,null,null,null,null,null,null,null,null,null,0]
[null,null,null,null,null,null,null,null,null,null,null,null,null,null,null,null,null,null,null,{"$f":"IFERROR(VLOOKUP(Q108,科目一覧!$A$2:$C$39,3,FALSE),\"\")","v":""},null,null,null,null,null,null,null,null,null,null,null,null,null,null,null,null,null,null,0,null,null,null,null,null,null,null,null,null,null,null,null,null,null,0]
[null,null,null,null,null,null,null,null,null,null,null,null,null,null,null,null,null,null,null,{"$f":"IFERROR(VLOOKUP(Q109,科目一覧!$A$2:$C$39,3,FALSE),\"\")","v":""},null,null,null,null,null,null,null,null,null,null,null,null,null,null,null,null,null,null,0,null,null,null,null,null,null,null,null,null,null,null,null,null,null,0]
[null,null,null,null,null,null,null,null,null,null,null,null,null,null,null,null,null,null,null,{"$f":"IFERROR(VLOOKUP(Q110,科目一覧!$A$2:$C$39,3,FALSE),\"\")","v":""},null,null,null,null,null,null,null,null,null,null,null,null,null,null,null,null,null,null,0,null,null,null,null,null,null,null,null,null,null,null,null,null,null,0]
[null,null,null,null,null,null,null,null,null,null,null,null,null,null,null,null,null,null,null,{"$f":"IFERROR(VLOOKUP(Q111,科目一覧!$A$2:$C$39,3,FALSE),\"\")","v":""},null,null,null,null,null,null,null,null,null,null,null,null,null,null,null,null,null,null,0,null,null,null,null,null,null,null,null,null,null,null,null,null,null,0]
[null,null,null,null,null,null,null,null,null,null,null,null,null,null,null,null,null,null,null,{"$f":"IFERROR(VLOOKUP(Q112,科目一覧!$A$2:$C$39,3,FALSE),\"\")","v":""},null,null,null,null,null,null,null,null,null,null,null,null,null,null,null,null,null,null,0,null,null,null,null,null,null,null,null,null,null,null,null,null,null,0]
[null,null,null,null,null,null,null,null,null,null,null,null,null,null,null,null,null,null,null,{"$f":"IFERROR(VLOOKUP(Q113,科目一覧!$A$2:$C$39,3,FALSE),\"\")","v":""},null,null,null,null,null,null,null,null,null,null,null,null,null,null,null,null,null,null,0,null,null,null,null,null,null,null,null,null,null,null,null,null,null,0]
[null,null,null,null,null,null,null,null,null,null,null,null,null,null,null,null,null,null,null,{"$f":"IFERROR(VLOOKUP(Q114,科目一覧!$A$2:$C$39,3,FALSE),\"\")","v":""},null,null,null,null,null,null,null,null,null,null,null,null,null,null,null,null,null,null,0,null,null,null,null,null,null,null,null,null,null,null,null,null,null,0]
[null,null,null,null,null,null,null,null,null,null,null,null,null,null,null,null,null,null,null,{"$f":"IFERROR(VLOOKUP(Q115,科目一覧!$A$2:$C$39,3,FALSE),\"\")","v":""},null,null,null,null,null,null,null,null,null,null,null,null,null,null,null,null,null,null,0,null,null,null,null,null,null,null,null,null,null,null,null,null,null,0]
[null,null,null,null,null,null,null,null,null,null,null,null,null,null,null,null,null,null,null,{"$f":"IFERROR(VLOOKUP(Q116,科目一覧!$A$2:$C$39,3,FALSE),\"\")","v":""},null,null,null,null,null,null,null,null,null,null,null,null,null,null,null,null,null,null,0,null,null,null,null,null,null,null,null,null,null,null,null,null,null,0]
[null,null,null,null,null,null,null,null,null,null,null,null,null,null,null,null,null,null,null,{"$f":"IFERROR(VLOOKUP(Q117,科目一覧!$A$2:$C$39,3,FALSE),\"\")","v":""},null,null,null,null,null,null,null,null,null,null,null,null,null,null,null,null,null,null,0,null,null,null,null,null,null,null,null,null,null,null,null,null,null,0]
[null,null,null,null,null,null,null,null,null,null,null,null,null,null,null,null,null,null,null,{"$f":"IFERROR(VLOOKUP(Q118,科目一覧!$A$2:$C$39,3,FALSE),\"\")","v":""},null,null,null,null,null,null,null,null,null,null,null,null,null,null,null,null,null,null,0,null,null,null,null,null,null,null,null,null,null,null,null,null,null,0]
[null,null,null,null,null,null,null,null,null,null,null,null,null,null,null,null,null,null,null,{"$f":"IFERROR(VLOOKUP(Q119,科目一覧!$A$2:$C$39,3,FALSE),\"\")","v":""},null,null,null,null,null,null,null,null,null,null,null,null,null,null,null,null,null,null,0,null,null,null,null,null,null,null,null,null,null,null,null,null,null,0]
[null,null,null,null,null,null,null,null,null,null,null,null,null,null,null,null,null,null,null,{"$f":"IFERROR(VLOOKUP(Q120,科目一覧!$A$2:$C$39,3,FALSE),\"\")","v":""},null,null,null,null,null,null,null,null,null,null,null,null,null,null,null,null,null,null,0,null,null,null,null,null,null,null,null,null,null,null,null,null,null,0]
[null,null,null,null,null,null,null,null,null,null,null,null,null,null,null,null,null,null,null,{"$f":"IFERROR(VLOOKUP(Q121,科目一覧!$A$2:$C$39,3,FALSE),\"\")","v":""},null,null,null,null,null,null,null,null,null,null,null,null,null,null,null,null,null,null,0,null,null,null,null,null,null,null,null,null,null,null,null,null,null,0]
[null,null,null,null,null,null,null,null,null,null,null,null,null,null,null,null,null,null,null,{"$f":"IFERROR(VLOOKUP(Q122,科目一覧!$A$2:$C$39,3,FALSE),\"\")","v":""},null,null,null,null,null,null,null,null,null,null,null,null,null,null,null,null,null,null,0,null,null,null,null,null,null,null,null,null,null,null,null,null,null,0]
[null,null,null,null,null,null,null,null,null,null,null,null,null,null,null,null,null,null,null,{"$f":"IFERROR(VLOOKUP(Q123,科目一覧!$A$2:$C$39,3,FALSE),\"\")","v":""},null,null,null,null,null,null,null,null,null,null,null,null,null,null,null,null,null,null,0,null,null,null,null,null,null,null,null,null,null,null,null,null,null,0]
[null,null,null,null,null,null,null,null,null,null,null,null,null,null,null,null,null,null,null,{"$f":"IFERROR(VLOOKUP(Q124,科目一覧!$A$2:$C$39,3,FALSE),\"\")","v":""},null,null,null,null,null,null,null,null,null,null,null,null,null,null,null,null,null,null,0,null,null,null,null,null,null,null,null,null,null,null,null,null,null,0]
[null,null,null,null,null,null,null,"小　　　計",null,null,null,null,null,null,null,null,null,null,null,null,{"$f":"SUM(U94:AB124)","v":0},null,null,null,null,null,null,null,null,{"$f":"SUM(AD94:AK124)","v":0},null,null,null,null,null,null,null,null,{"$f":"AM93+U125-AD125","v":0}]
[]
[null,null,null,null,null,null,null,null,null,null,null,null,null,null,null,null,null,null,null,null,null,null,null,null,null,null,null,null,null,null,null,"月末カード等未収入金",null,null,null,null,null,null,null,"合計　　収入金額"]
[null,null,null,null,null,null,null,null,null,null,null,null,null,null,null,null,null,null,null,null,null,null,null,null,null,null,null,null,null,null,null,null,null,null,null,null,null,null,null,{"$f":"SUMIF(Q94:AB124,1,U94:AB124)","v":0}]
[]
[null,null,null,null,null,null,null,null,null,null,null,null,null,null,null,null,null,null,null,null,null,null,null,"合計","走行粁",null,null,null,"実車粁",null,null,null,null,"回数",null,null,"人員",null,null,null,"空車粁",null,null,null,"日数"]
[]
[]
["年",null,null,"月",null,null,null,null,null,null,null,null,null,null,null,null,null,null,null,null,"コンピュータ番号",null,null,null,null,null,null,null,"頁",null,null,null,"事業者名",null,null,null,null,null,null,null,null,"年次",null,"整理番号"]
[{"$f":"IF(A90=\"\",\"\",A90)","v":0},{"$f":"IF(B90=\"\",\"\",B90)","v":6},null,{"$f":"IF(D90=\"\",\"\",D90)","v":""},{"$f":"IF(E90=\"\",\"\",E90)","v":""},null,null,null,null,null,null,null,null,null,null,null,null,null,null,null,{"$f":"IF(U90=\"\",\"\",U90)","v":2},1,6,"","","",null,null,null,null,4,null,{"$f":"IF(AG90=\"\",\"\",AG90)","v":""},null,null,null,null,null,null,null,null,{"$f":"IF(AP90=\"\",\"\",AP90)","v":""},null,{"$f":"IF(AR90=\"\",\"\",AR90)","v":""}]
[]
["日付",null,null,"摘要ｺｰﾄﾞ",null,null,null,"摘　　　　　　要",null,null,null,null,null,null,null,null,"仕訳ｺｰﾄﾞ",null,null,"科　　目","収　入　金　額",null,null,null,null,null,null,null,null,"支　払　金　額",null,null,null,null,null,null,null,null,"差　引　金　額"]
[null,null,null,null,null,null,null,"繰　越　残　高",null,null,null,null,null,null,null,null,null,null,null,null,null,null,null,null,null,null,null,null,null,null,null,null,null,null,null,null,null,null,{"$f":"AM125","v":0}]
[null,null,null,null,null,null,null,null,null,null,null,null,null,null,null,null,null,null,null,{"$f":"IFERROR(VLOOKUP(Q138,科目一覧!$A$2:$C$39,3,FALSE),\"\")","v":""},null,null,null,null,null,null,null,null,null,null,null,null,null,null,null,null,null,null,{"$f":"AM137+U138-AD138","v":0},null,null,null,null,null,null,null,null,null,null,null,null,null,null,{"$f":"IF(Q138=1,1,0)","v":0}]
[null,null,null,null,null,null,null,null,null,null,null,null,null,null,null,null,null,null,null,{"$f":"IFERROR(VLOOKUP(Q139,科目一覧!$A$2:$C$39,3,FALSE),\"\")","v":""},null,null,null,null,null,null,null,null,null,null,null,null,null,null,null,null,null,null,{"$f":"AM138+U139-AD139","v":0},null,null,null,null,null,null,null,null,null,null,null,null,null,null,{"$f":"IF(Q139=1,1,0)","v":0}]
[null,null,null,null,null,null,null,null,null,null,null,null,null,null,null,null,null,null,null,{"$f":"IFERROR(VLOOKUP(Q140,科目一覧!$A$2:$C$39,3,FALSE),\"\")","v":""},null,null,null,null,null,null,null,null,null,null,null,null,null,null,null,null,null,null,{"$f":"AM139+U140-AD140","v":0},null,null,null,null,null,null,null,null,null,null,null,null,null,null,0]
[null,null,null,null,null,null,null,null,null,null,null,null,null,null,null,null,null,null,null,{"$f":"IFERROR(VLOOKUP(Q141,科目一覧!$A$2:$C$39,3,FALSE),\"\")","v":""},null,null,null,null,null,null,null,null,null,null,null,null,null,null,null,null,null,null,0,null,null,null,null,null,null,null,null,null,null,null,null,null,null,0]
[null,null,null,null,null,null,null,null,null,null,null,null,null,null,null,null,null,null,null,{"$f":"IFERROR(VLOOKUP(Q142,科目一覧!$A$2:$C$39,3,FALSE),\"\")","v":""},null,null,null,null,null,null,null,null,null,null,null,null,null,null,null,null,null,null,0,null,null,null,null,null,null,null,null,null,null,null,null,null,null,0]
[null,null,null,null,null,null,null,null,null,null,null,null,null,null,null,null,null,null,null,{"$f":"IFERROR(VLOOKUP(Q143,科目一覧!$A$2:$C$39,3,FALSE),\"\")","v":""},null,null,null,null,null,null,null,null,null,null,null,null,null,null,null,null,null,null,0,null,null,null,null,null,null,null,null,null,null,null,null,null,null,0]
[null,null,null,null,null,null,null,null,null,null,null,null,null,null,null,null,null,null,null,{"$f":"IFERROR(VLOOKUP(Q144,科目一覧!$A$2:$C$39,3,FALSE),\"\")","v":""},null,null,null,null,null,null,null,null,null,null,null,null,null,null,null,null,null,null,0,null,null,null,null,null,null,null,null,null,null,null,null,null,null,0]
[null,null,null,null,null,null,null,null,null,null,null,null,null,null,null,null,null,null,null,{"$f":"IFERROR(VLOOKUP(Q145,科目一覧!$A$2:$C$39,3,FALSE),\"\")","v":""},null,null,null,null,null,null,null,null,null,null,null,null,null,null,null,null,null,null,0,null,null,null,null,null,null,null,null,null,null,null,null,null,null,0]
[null,null,null,null,null,null,null,null,null,null,null,null,null,null,null,null,null,null,null,{"$f":"IFERROR(VLOOKUP(Q146,科目一覧!$A$2:$C$39,3,FALSE),\"\")","v":""},null,null,null,null,null,null,null,null,null,null,null,null,null,null,null,null,null,null,0,null,null,null,null,null,null,null,null,null,null,null,null,null,null,0]
[null,null,null,null,null,null,null,null,null,null,null,null,null,null,null,null,null,null,null,{"$f":"IFERROR(VLOOKUP(Q147,科目一覧!$A$2:$C$39,3,FALSE),\"\")","v":""},null,null,null,null,null,null,null,null,null,null,null,null,null,null,null,null,null,null,0,null,null,null,null,null,null,null,null,null,null,null,null,null,null,0]
[null,null,null,null,null,null,null,null,null,null,null,null,null,null,null,null,null,null,null,{"$f":"IFERROR(VLOOKUP(Q148,科目一覧!$A$2:$C$39,3,FALSE),\"\")","v":""},null,null,null,null,null,null,null,null,null,null,null,null,null,null,null,null,null,null,0,null,null,null,null,null,null,null,null,null,null,null,null,null,null,0]
[null,null,null,null,null,null,null,null,null,null,null,null,null,null,null,null,null,null,null,{"$f":"IFERROR(VLOOKUP(Q149,科目一覧!$A$2:$C$39,3,FALSE),\"\")","v":""},null,null,null,null,null,null,null,null,null,null,null,null,null,null,null,null,null,null,0,null,null,null,null,null,null,null,null,null,null,null,null,null,null,0]
[null,null,null,null,null,null,null,null,null,null,null,null,null,null,null,null,null,null,null,{"$f":"IFERROR(VLOOKUP(Q150,科目一覧!$A$2:$C$39,3,FALSE),\"\")","v":""},null,null,null,null,null,null,null,null,null,null,null,null,null,null,null,null,null,null,0,null,null,null,null,null,null,null,null,null,null,null,null,null,null,0]
[null,null,null,null,null,null,null,null,null,null,null,null,null,null,null,null,null,null,null,{"$f":"IFERROR(VLOOKUP(Q151,科目一覧!$A$2:$C$39,3,FALSE),\"\")","v":""},null,null,null,null,null,null,null,null,null,null,null,null,null,null,null,null,null,null,0,null,null,null,null,null,null,null,null,null,null,null,null,null,null,0]
[null,null,null,null,null,null,null,null,null,null,null,null,null,null,null,null,null,null,null,{"$f":"IFERROR(VLOOKUP(Q152,科目一覧!$A$2:$C$39,3,FALSE),\"\")","v":""},null,null,null,null,null,null,null,null,null,null,null,null,null,null,null,null,null,null,0,null,null,null,null,null,null,null,null,null,null,null,null,null,null,0]
[null,null,null,null,null,null,null,null,null,null,null,null,null,null,null,null,null,null,null,{"$f":"IFERROR(VLOOKUP(Q153,科目一覧!$A$2:$C$39,3,FALSE),\"\")","v":""},null,null,null,null,null,null,null,null,null,null,null,null,null,null,null,null,null,null,0,null,null,null,null,null,null,null,null,null,null,null,null,null,null,0]
[null,null,null,null,null,null,null,null,null,null,null,null,null,null,null,null,null,null,null,{"$f":"IFERROR(VLOOKUP(Q154,科目一覧!$A$2:$C$39,3,FALSE),\"\")","v":""},null,null,null,null,null,null,null,null,null,null,null,null,null,null,null,null,null,null,0,null,null,null,null,null,null,null,null,null,null,null,null,null,null,0]
[null,null,null,null,null,null,null,null,null,null,null,null,null,null,null,null,null,null,null,{"$f":"IFERROR(VLOOKUP(Q155,科目一覧!$A$2:$C$39,3,FALSE),\"\")","v":""},null,null,null,null,null,null,null,null,null,null,null,null,null,null,null,null,null,null,0,null,null,null,null,null,null,null,null,null,null,null,null,null,null,0]
[null,null,null,null,null,null,null,null,null,null,null,null,null,null,null,null,null,null,null,{"$f":"IFERROR(VLOOKUP(Q156,科目一覧!$A$2:$C$39,3,FALSE),\"\")","v":""},null,null,null,null,null,null,null,null,null,null,null,null,null,null,null,null,null,null,0,null,null,null,null,null,null,null,null,null,null,null,null,null,null,0]
[null,null,null,null,null,null,null,null,null,null,null,null,null,null,null,null,null,null,null,{"$f":"IFERROR(VLOOKUP(Q157,科目一覧!$A$2:$C$39,3,FALSE),\"\")","v":""},null,null,null,null,null,null,null,null,null,null,null,null,null,null,null,null,null,null,0,null,null,null,null,null,null,null,null,null,null,null,null,null,null,0]
[null,null,null,null,null,null,null,null,null,null,null,null,null,null,null,null,null,null,null,{"$f":"IFERROR(VLOOKUP(Q158,科目一覧!$A$2:$C$39,3,FALSE),\"\")","v":""},null,null,null,null,null,null,null,null,null,null,null,null,null,null,null,null,null,null,0,null,null,null,null,null,null,null,null,null,null,null,null,null,null,0]
[null,null,null,null,null,null,null,null,null,null,null,null,null,null,null,null,null,null,null,{"$f":"IFERROR(VLOOKUP(Q159,科目一覧!$A$2:$C$39,3,FALSE),\"\")","v":""},null,null,null,null,null,null,null,null,null,null,null,null,null,null,null,null,null,null,0,null,null,null,null,null,null,null,null,null,null,null,null,null,null,0]
[null,null,null,null,null,null,null,null,null,null,null,null,null,null,null,null,null,null,null,{"$f":"IFERROR(VLOOKUP(Q160,科目一覧!$A$2:$C$39,3,FALSE),\"\")","v":""},null,null,null,null,null,null,null,null,null,null,null,null,null,null,null,null,null,null,0,null,null,null,null,null,null,null,null,null,null,null,null,null,null,0]
[null,null,null,null,null,null,null,null,null,null,null,null,null,null,null,null,null,null,null,{"$f":"IFERROR(VLOOKUP(Q161,科目一覧!$A$2:$C$39,3,FALSE),\"\")","v":""},null,null,null,null,null,null,null,null,null,null,null,null,null,null,null,null,null,null,0,null,null,null,null,null,null,null,null,null,null,null,null,null,null,0]
[null,null,null,null,null,null,null,null,null,null,null,null,null,null,null,null,null,null,null,{"$f":"IFERROR(VLOOKUP(Q162,科目一覧!$A$2:$C$39,3,FALSE),\"\")","v":""},null,null,null,null,null,null,null,null,null,null,null,null,null,null,null,null,null,null,0,null,null,null,null,null,null,null,null,null,null,null,null,null,null,0]
[null,null,null,null,null,null,null,null,null,null,null,null,null,null,null,null,null,null,null,{"$f":"IFERROR(VLOOKUP(Q163,科目一覧!$A$2:$C$39,3,FALSE),\"\")","v":""},null,null,null,null,null,null,null,null,null,null,null,null,null,null,null,null,null,null,0,null,null,null,null,null,null,null,null,null,null,null,null,null,null,0]
[null,null,null,null,null,null,null,null,null,null,null,null,null,null,null,null,null,null,null,{"$f":"IFERROR(VLOOKUP(Q164,科目一覧!$A$2:$C$39,3,FALSE),\"\")","v":""},null,null,null,null,null,null,null,null,null,null,null,null,null,null,null,null,null,null,0,null,null,null,null,null,null,null,null,null,null,null,null,null,null,0]
[null,null,null,null,null,null,null,null,null,null,null,null,null,null,null,null,null,null,null,{"$f":"IFERROR(VLOOKUP(Q165,科目一覧!$A$2:$C$39,3,FALSE),\"\")","v":""},null,null,null,null,null,null,null,null,null,null,null,null,null,null,null,null,null,null,0,null,null,null,null,null,null,null,null,null,null,null,null,null,null,0]
[null,null,null,null,null,null,null,null,null,null,null,null,null,null,null,null,null,null,null,{"$f":"IFERROR(VLOOKUP(Q166,科目一覧!$A$2:$C$39,3,FALSE),\"\")","v":""},null,null,null,null,null,null,null,null,null,null,null,null,null,null,null,null,null,null,0,null,null,null,null,null,null,null,null,null,null,null,null,null,null,0]
[null,null,null,null,null,null,null,null,null,null,null,null,null,null,null,null,null,null,null,{"$f":"IFERROR(VLOOKUP(Q167,科目一覧!$A$2:$C$39,3,FALSE),\"\")","v":""},null,null,null,null,null,null,null,null,null,null,null,null,null,null,null,null,null,null,0,null,null,null,null,null,null,null,null,null,null,null,null,null,null,0]
[null,null,null,null,null,null,null,null,null,null,null,null,null,null,null,null,null,null,null,{"$f":"IFERROR(VLOOKUP(Q168,科目一覧!$A$2:$C$39,3,FALSE),\"\")","v":""},null,null,null,null,null,null,null,null,null,null,null,null,null,null,null,null,null,null,0,null,null,null,null,null,null,null,null,null,null,null,null,null,null,0]
[null,null,null,null,null,null,null,"小　　　計",null,null,null,null,null,null,null,null,null,null,null,null,{"$f":"SUM(U138:AB168)","v":0},null,null,null,null,null,null,null,null,{"$f":"SUM(AD138:AK168)","v":0},null,null,null,null,null,null,null,null,{"$f":"AM137+U169-AD169","v":0}]
[]
[null,null,null,null,null,null,null,null,null,null,null,null,null,null,null,null,null,null,null,null,null,null,null,null,null,null,null,null,null,null,null,"月末カード等未収入金",null,null,null,null,null,null,null,"合計　　収入金額"]
[null,null,null,null,null,null,null,null,null,null,null,null,null,null,null,null,null,null,null,null,null,null,null,null,null,null,null,null,null,null,null,null,null,null,null,null,null,null,null,{"$f":"SUMIF(Q138:AB168,1,U138:AB168)","v":0}]
[]
[null,null,null,null,null,null,null,null,null,null,null,null,null,null,null,null,null,null,null,null,null,null,null,"合計","走行粁",null,null,null,"実車粁",null,null,null,null,"回数",null,null,"人員",null,null,null,"空車粁",null,null,null,"日数"]
[]
[]
["年",null,null,"月",null,null,null,null,null,null,null,null,null,null,null,null,null,null,null,null,"コンピュータ番号",null,null,null,null,null,null,null,"頁",null,null,null,"事業者名",null,null,null,null,null,null,null,null,"年次",null,"整理番号"]
[{"$f":"IF(A134=\"\",\"\",A134)","v":0},{"$f":"IF(B134=\"\",\"\",B134)","v":6},null,{"$f":"IF(D134=\"\",\"\",D134)","v":""},{"$f":"IF(E134=\"\",\"\",E134)","v":""},null,null,null,null,null,null,null,null,null,null,null,null,null,null,null,{"$f":"IF(U134=\"\",\"\",U134)","v":2},1,6,"","","",null,null,null,null,5,null,{"$f":"IF(AG134=\"\",\"\",AG134)","v":""},null,null,null,null,null,null,null,null,{"$f":"IF(AP134=\"\",\"\",AP134)","v":""},null,{"$f":"IF(AR134=\"\",\"\",AR134)","v":""}]
[]
["日付",null,null,"摘要ｺｰﾄﾞ",null,null,null,"摘　　　　　　要",null,null,null,null,null,null,null,null,"仕訳ｺｰﾄﾞ",null,null,"科　　目","収　入　金　額",null,null,null,null,null,null,null,null,"支　払　金　額",null,null,null,null,null,null,null,null,"差　引　金　額"]
[null,null,null,null,null,null,null,"繰　越　残　高",null,null,null,null,null,null,null,null,null,null,null,null,null,null,null,null,null,null,null,null,null,null,null,null,null,null,null,null,null,null,{"$f":"AM169","v":0}]
[null,null,null,null,null,null,null,null,null,null,null,null,null,null,null,null,null,null,null,{"$f":"IFERROR(VLOOKUP(Q182,科目一覧!$A$2:$C$39,3,FALSE),\"\")","v":""},null,null,null,null,null,null,null,null,null,null,null,null,null,null,null,null,null,null,{"$f":"AM181+U182-AD182","v":0},null,null,null,null,null,null,null,null,null,null,null,null,null,null,{"$f":"IF(Q182=1,1,0)","v":0}]
[null,null,null,null,null,null,null,null,null,null,null,null,null,null,null,null,null,null,null,{"$f":"IFERROR(VLOOKUP(Q183,科目一覧!$A$2:$C$39,3,FALSE),\"\")","v":""},null,null,null,null,null,null,null,null,null,null,null,null,null,null,null,null,null,null,{"$f":"AM182+U183-AD183","v":0},null,null,null,null,null,null,null,null,null,null,null,null,null,null,{"$f":"IF(Q183=1,1,0)","v":0}]
[null,null,null,null,null,null,null,null,null,null,null,null,null,null,null,null,null,null,null,{"$f":"IFERROR(VLOOKUP(Q184,科目一覧!$A$2:$C$39,3,FALSE),\"\")","v":""},null,null,null,null,null,null,null,null,null,null,null,null,null,null,null,null,null,null,0,null,null,null,null,null,null,null,null,null,null,null,null,null,null,0]
[null,null,null,null,null,null,null,null,null,null,null,null,null,null,null,null,null,null,null,{"$f":"IFERROR(VLOOKUP(Q185,科目一覧!$A$2:$C$39,3,FALSE),\"\")","v":""},null,null,null,null,null,null,null,null,null,null,null,null,null,null,null,null,null,null,0,null,null,null,null,null,null,null,null,null,null,null,null,null,null,0]
[null,null,null,null,null,null,null,null,null,null,null,null,null,null,null,null,null,null,null,{"$f":"IFERROR(VLOOKUP(Q186,科目一覧!$A$2:$C$39,3,FALSE),\"\")","v":""},null,null,null,null,null,null,null,null,null,null,null,null,null,null,null,null,null,null,0,null,null,null,null,null,null,null,null,null,null,null,null,null,null,0]
[null,null,null,null,null,null,null,null,null,null,null,null,null,null,null,null,null,null,null,{"$f":"IFERROR(VLOOKUP(Q187,科目一覧!$A$2:$C$39,3,FALSE),\"\")","v":""},null,null,null,null,null,null,null,null,null,null,null,null,null,null,null,null,null,null,0,null,null,null,null,null,null,null,null,null,null,null,null,null,null,0]
[null,null,null,null,null,null,null,null,null,null,null,null,null,null,null,null,null,null,null,{"$f":"IFERROR(VLOOKUP(Q188,科目一覧!$A$2:$C$39,3,FALSE),\"\")","v":""},null,null,null,null,null,null,null,null,null,null,null,null,null,null,null,null,null,null,0,null,null,null,null,null,null,null,null,null,null,null,null,null,null,0]
[null,null,null,null,null,null,null,null,null,null,null,null,null,null,null,null,null,null,null,{"$f":"IFERROR(VLOOKUP(Q189,科目一覧!$A$2:$C$39,3,FALSE),\"\")","v":""},null,null,null,null,null,null,null,null,null,null,null,null,null,null,null,null,null,null,0,null,null,null,null,null,null,null,null,null,null,null,null,null,null,0]
[null,null,null,null,null,null,null,null,null,null,null,null,null,null,null,null,null,null,null,{"$f":"IFERROR(VLOOKUP(Q190,科目一覧!$A$2:$C$39,3,FALSE),\"\")","v":""},null,null,null,null,null,null,null,null,null,null,null,null,null,null,null,null,null,null,0,null,null,null,null,null,null,null,null,null,null,null,null,null,null,0]
[null,null,null,null,null,null,null,null,null,null,null,null,null,null,null,null,null,null,null,{"$f":"IFERROR(VLOOKUP(Q191,科目一覧!$A$2:$C$39,3,FALSE),\"\")","v":""},null,null,null,null,null,null,null,null,null,null,null,null,null,null,null,null,null,null,0,null,null,null,null,null,null,null,null,null,null,null,null,null,null,0]
[null,null,null,null,null,null,null,null,null,null,null,null,null,null,null,null,null,null,null,{"$f":"IFERROR(VLOOKUP(Q192,科目一覧!$A$2:$C$39,3,FALSE),\"\")","v":""},null,null,null,null,null,null,null,null,null,null,null,null,null,null,null,null,null,null,0,null,null,null,null,null,null,null,null,null,null,null,null,null,null,0]
[null,null,null,null,null,null,null,null,null,null,null,null,null,null,null,null,null,null,null,{"$f":"IFERROR(VLOOKUP(Q193,科目一覧!$A$2:$C$39,3,FALSE),\"\")","v":""},null,null,null,null,null,null,null,null,null,null,null,null,null,null,null,null,null,null,0,null,null,null,null,null,null,null,null,null,null,null,null,null,null,0]
[null,null,null,null,null,null,null,null,null,null,null,null,null,null,null,null,null,null,null,{"$f":"IFERROR(VLOOKUP(Q194,科目一覧!$A$2:$C$39,3,FALSE),\"\")","v":""},null,null,null,null,null,null,null,null,null,null,null,null,null,null,null,null,null,null,0,null,null,null,null,null,null,null,null,null,null,null,null,null,null,0]
[null,null,null,null,null,null,null,null,null,null,null,null,null,null,null,null,null,null,null,{"$f":"IFERROR(VLOOKUP(Q195,科目一覧!$A$2:$C$39,3,FALSE),\"\")","v":""},null,null,null,null,null,null,null,null,null,null,null,null,null,null,null,null,null,null,0,null,null,null,null,null,null,null,null,null,null,null,null,null,null,0]
[null,null,null,null,null,null,null,null,null,null,null,null,null,null,null,null,null,null,null,{"$f":"IFERROR(VLOOKUP(Q196,科目一覧!$A$2:$C$39,3,FALSE),\"\")","v":""},null,null,null,null,null,null,null,null,null,null,null,null,null,null,null,null,null,null,0,null,null,null,null,null,null,null,null,null,null,null,null,null,null,0]
[null,null,null,null,null,null,null,null,null,null,null,null,null,null,null,null,null,null,null,{"$f":"IFERROR(VLOOKUP(Q197,科目一覧!$A$2:$C$39,3,FALSE),\"\")","v":""},null,null,null,null,null,null,null,null,null,null,null,null,null,null,null,null,null,null,0,null,null,null,null,null,null,null,null,null,null,null,null,null,null,0]
[null,null,null,null,null,null,null,null,null,null,null,null,null,null,null,null,null,null,null,{"$f":"IFERROR(VLOOKUP(Q198,科目一覧!$A$2:$C$39,3,FALSE),\"\")","v":""},null,null,null,null,null,null,null,null,null,null,null,null,null,null,null,null,null,null,0,null,null,null,null,null,null,null,null,null,null,null,null,null,null,0]
[null,null,null,null,null,null,null,null,null,null,null,null,null,null,null,null,null,null,null,{"$f":"IFERROR(VLOOKUP(Q199,科目一覧!$A$2:$C$39,3,FALSE),\"\")","v":""},null,null,null,null,null,null,null,null,null,null,null,null,null,null,null,null,null,null,0,null,null,null,null,null,null,null,null,null,null,null,null,null,null,0]
[null,null,null,null,null,null,null,null,null,null,null,null,null,null,null,null,null,null,null,{"$f":"IFERROR(VLOOKUP(Q200,科目一覧!$A$2:$C$39,3,FALSE),\"\")","v":""},null,null,null,null,null,null,null,null,null,null,null,null,null,null,null,null,null,null,0,null,null,null,null,null,null,null,null,null,null,null,null,null,null,0]
[null,null,null,null,null,null,null,null,null,null,null,null,null,null,null,null,null,null,null,{"$f":"IFERROR(VLOOKUP(Q201,科目一覧!$A$2:$C$39,3,FALSE),\"\")","v":""},null,null,null,null,null,null,null,null,null,null,null,null,null,null,null,null,null,null,0,null,null,null,null,null,null,null,null,null,null,null,null,null,null,0]
[null,null,null,null,null,null,null,null,null,null,null,null,null,null,null,null,null,null,null,{"$f":"IFERROR(VLOOKUP(Q202,科目一覧!$A$2:$C$39,3,FALSE),\"\")","v":""},null,null,null,null,null,null,null,null,null,null,null,null,null,null,null,null,null,null,0,null,null,null,null,null,null,null,null,null,null,null,null,null,null,0]
[null,null,null,null,null,null,null,null,null,null,null,null,null,null,null,null,null,null,null,{"$f":"IFERROR(VLOOKUP(Q203,科目一覧!$A$2:$C$39,3,FALSE),\"\")","v":""},null,null,null,null,null,null,null,null,null,null,null,null,null,null,null,null,null,null,0,null,null,null,null,null,null,null,null,null,null,null,null,null,null,0]
[null,null,null,null,null,null,null,null,null,null,null,null,null,null,null,null,null,null,null,{"$f":"IFERROR(VLOOKUP(Q204,科目一覧!$A$2:$C$39,3,FALSE),\"\")","v":""},null,null,null,null,null,null,null,null,null,null,null,null,null,null,null,null,null,null,0,null,null,null,null,null,null,null,null,null,null,null,null,null,null,0]
[null,null,null,null,null,null,null,null,null,null,null,null,null,null,null,null,null,null,null,{"$f":"IFERROR(VLOOKUP(Q205,科目一覧!$A$2:$C$39,3,FALSE),\"\")","v":""},null,null,null,null,null,null,null,null,null,null,null,null,null,null,null,null,null,null,0,null,null,null,null,null,null,null,null,null,null,null,null,null,null,0]
[null,null,null,null,null,null,null,null,null,null,null,null,null,null,null,null,null,null,null,{"$f":"IFERROR(VLOOKUP(Q206,科目一覧!$A$2:$C$39,3,FALSE),\"\")","v":""},null,null,null,null,null,null,null,null,null,null,null,null,null,null,null,null,null,null,0,null,null,null,null,null,null,null,null,null,null,null,null,null,null,0]
[null,null,null,null,null,null,null,null,null,null,null,null,null,null,null,null,null,null,null,{"$f":"IFERROR(VLOOKUP(Q207,科目一覧!$A$2:$C$39,3,FALSE),\"\")","v":""},null,null,null,null,null,null,null,null,null,null,null,null,null,null,null,null,null,null,0,null,null,null,null,null,null,null,null,null,null,null,null,null,null,0]
[null,null,null,null,null,null,null,null,null,null,null,null,null,null,null,null,null,null,null,{"$f":"IFERROR(VLOOKUP(Q208,科目一覧!$A$2:$C$39,3,FALSE),\"\")","v":""},null,null,null,null,null,null,null,null,null,null,null,null,null,null,null,null,null,null,0,null,null,null,null,null,null,null,null,null,null,null,null,null,null,0]
[null,null,null,null,null,null,null,null,null,null,null,null,null,null,null,null,null,null,null,{"$f":"IFERROR(VLOOKUP(Q209,科目一覧!$A$2:$C$39,3,FALSE),\"\")","v":""},null,null,null,null,null,null,null,null,null,null,null,null,null,null,null,null,null,null,0,null,null,null,null,null,null,null,null,null,null,null,null,null,null,0]
[null,null,null,null,null,null,null,null,null,null,null,null,null,null,null,null,null,null,null,{"$f":"IFERROR(VLOOKUP(Q210,科目一覧!$A$2:$C$39,3,FALSE),\"\")","v":""},null,null,null,null,null,null,null,null,null,null,null,null,null,null,null,null,null,null,0,null,null,null,null,null,null,null,null,null,null,null,null,null,null,0]
[null,null,null,null,null,null,null,null,null,null,null,null,null,null,null,null,null,null,null,{"$f":"IFERROR(VLOOKUP(Q211,科目一覧!$A$2:$C$39,3,FALSE),\"\")","v":""},null,null,null,null,null,null,null,null,null,null,null,null,null,null,null,null,null,null,0,null,null,null,null,null,null,null,null,null,null,null,null,null,null,0]
[null,null,null,null,null,null,null,null,null,null,null,null,null,null,null,null,null,null,null,{"$f":"IFERROR(VLOOKUP(Q212,科目一覧!$A$2:$C$39,3,FALSE),\"\")","v":""},null,null,null,null,null,null,null,null,null,null,null,null,null,null,null,null,null,null,0,null,null,null,null,null,null,null,null,null,null,null,null,null,null,0]
[null,null,null,null,null,null,null,"小　　　計",null,null,null,null,null,null,null,null,null,null,null,null,{"$f":"SUM(U182:AB212)","v":0},null,null,null,null,null,null,null,null,{"$f":"SUM(AD182:AK212)","v":0},null,null,null,null,null,null,null,null,{"$f":"AM181+U213-AD213","v":0}]
[]
[null,null,null,null,null,null,null,null,null,null,null,null,null,null,null,null,null,null,null,null,null,null,null,null,null,null,null,null,null,null,null,"月末カード等未収入金",null,null,null,null,null,null,null,"合計　　収入金額"]
[null,null,null,null,null,null,null,null,null,null,null,null,null,null,null,null,null,null,null,null,null,null,null,null,null,null,null,null,null,null,null,null,null,null,null,null,null,null,null,{"$f":"SUMIF(Q182:AB212,1,U182:AB212)","v":0},null,null,null,null,null,null,null,null,null,null,null,null,null,{"$f":"SUM(BB6:BB212)","v":0}]
[]
[null,null,null,null,null,null,null,null,null,null,null,null,null,null,null,null,null,null,null,null,null,null,null,"合計","走行粁",null,null,null,"実車粁",null,null,null,null,"回数",null,null,"人員",null,null,null,"空車粁",null,null,null,"日数"]

{"sheet":"科目一覧","index":1,"n_rows":39,"n_cols":3,"rows_kept":39,"cut":false,"hidden":true,"merged":[]}
["仕訳コード","勘定科目コード","勘定科目名"]
[1,600,"運送収入"]
[2,823,"燃　料　費"]
[3,825,"租税公課"]
[4,822,"水道光熱費"]
[5,815,"旅費交通費"]
[6,816,"通　信　費"]
[7,817,"接待交際費"]
[8,820,"損害保険料"]
[9,821,"修　繕　費"]
[10,824,"消耗品費"]
[11,920,"支払利息"]
[12,843,"地代家賃"]
[13,848,"諸負担金"]
[14,801,"代務者給与"]
[15,841,"リース料"]
[16,898,"雑　　費"]
[17,809,"専従者給与"]
[18,270,"未収入金"]
[19,255,"前払費用"]
[20,266,"貸　付　金"]
[21,300,"建　　物"]
[22,304,"車　　輛"]
[23,306,"備　　品"]
[24,345,"出　資　金"]
[25,355,"保　証　金"]
[26,399,"その他資産"]
[27,390,"事業主貸"]
[28,421,"借　入　金"]
[29,425,"未　払　金"]
[30,549,"その他負債"]
[31,540,"事業主借"]
[32,611,"雑　収　入"]
[33,280,"無線前払金"]
[40,361,"ﾘｻｲｸﾙ預託金"]
[41,550,"元入金"]
[91,111,"現　　金"]
[92,150,"普通預金"]
[93,191,"納税預金"]

{"sheet":"Inport","index":2,"n_rows":3,"n_cols":6,"rows_kept":3,"cut":false,"hidden":false,"merged":[]}
[]
[null,null,null,null,"年月","名前"]
[null,null,null,null,{"$f":"入力用科目!A2&入力用科目!B2&入力用科目!D2&入力用科目!E2","v":"06"},{"$f":"入力用科目!AG2","v":0}]

{"sheet":"KOTCBN","index":3,"n_rows":156,"n_cols":20,"rows_kept":156,"cut":false,"hidden":true,"merged":[]}
["組合番号","年月","監査区分","伝票区分","連番","行","日","仕訳コード","金額1","金額2","摘要区分","摘要名I","摘要名K","OCR頁","OCR行","登録日","更新日","削除区分","履歴","自動仕訳区分"]
[{"$f":"入力用科目!$X$2&入力用科目!$Y$2&入力用科目!$Z$2","v":""},{"$f":"(2018+(入力用科目!$A$2&入力用科目!$B$2))&入力用科目!$D$2&入力用科目!$E$2","v":"2024"},0,"1",1,2,{"$f":"IF(入力用科目!A6=\"\",1,入力用科目!A6)","v":1},{"$f":"IF(入力用科目!Q6=\"\",\"\",入力用科目!Q6)","v":""},{"$f":"入力用科目!U6","v":0},{"$f":"入力用科目!AD6","v":0},0,null,{"$f":"IF(入力用科目!H6<>\"\",入力用科目!H6,IF(入力用科目!Q6=1,\"運送収入\",\"\"))","v":""},0,0,{"$f":"TEXT(TODAY(),\"YYYYMMDD\")","v":"20240710"},0,0,0,0]
[{"$f":"入力用科目!$X$2&入力用科目!$Y$2&入力用科目!$Z$2","v":""},{"$f":"(2018+(入力用科目!$A$2&入力用科目!$B$2))&入力用科目!$D$2&入力用科目!$E$2","v":"2024"},0,"1",2,3,{"$f":"IF(入力用科目!A7=\"\",G2,入力用科目!A7)","v":1},{"$f":"IF(入力用科目!Q7=\"\",\"\",入力用科目!Q7)","v":""},{"$f":"入力用科目!U7","v":0},{"$f":"入力用科目!AD7","v":0},0,null,{"$f":"IF(入力用科目!H7<>\"\",入力用科目!H7,IF(入力用科目!Q7=1,\"運送収入\",\"\"))","v":""},0,0,{"$f":"TEXT(TODAY(),\"YYYYMMDD\")","v":"20240710"},0,0,0,0]
[{"$f":"入力用科目!$X$2&入力用科目!$Y$2&入力用科目!$Z$2","v":""},{"$f":"(2018+(入力用科目!$A$2&入力用科目!$B$2))&入力用科目!$D$2&入力用科目!$E$2","v":"2024"},0,"1",3,4,{"$f":"IF(入力用科目!A8=\"\",G3,入力用科目!A8)","v":1},{"$f":"IF(入力用科目!Q8=\"\",\"\",入力用科目!Q8)","v":""},{"$f":"入力用科目!U8","v":0},{"$f":"入力用科目!AD8","v":0},0,null,{"$f":"IF(入力用科目!H8<>\"\",入力用科目!H8,IF(入力用科目!Q8=1,\"運送収入\",\"\"))","v":""},0,0,"20240710",0,0,0,0]
[{"$f":"入力用科目!$X$2&入力用科目!$Y$2&入力用科目!$Z$2","v":""},{"$f":"(2018+(入力用科目!$A$2&入力用科目!$B$2))&入力用科目!$D$2&入力用科目!$E$2","v":"2024"},0,"1",4,5,{"$f":"IF(入力用科目!A9=\"\",G4,入力用科目!A9)","v":1},{"$f":"IF(入力用科目!Q9=\"\",\"\",入力用科目!Q9)","v":""},{"$f":"入力用科目!U9","v":0},{"$f":"入力用科目!AD9","v":0},0,null,{"$f":"IF(入力用科目!H9<>\"\",入力用科目!H9,IF(入力用科目!Q9=1,\"運送収入\",\"\"))","v":""},0,0,"20240710",0,0,0,0]
[{"$f":"入力用科目!$X$2&入力用科目!$Y$2&入力用科目!$Z$2","v":""},{"$f":"(2018+(入力用科目!$A$2&入力用科目!$B$2))&入力用科目!$D$2&入力用科目!$E$2","v":"2024"},0,"1",5,6,{"$f":"IF(入力用科目!A10=\"\",G5,入力用科目!A10)","v":1},{"$f":"IF(入力用科目!Q10=\"\",\"\",入力用科目!Q10)","v":""},{"$f":"入力用科目!U10","v":0},{"$f":"入力用科目!AD10","v":0},0,null,{"$f":"IF(入力用科目!H10<>\"\",入力用科目!H10,IF(入力用科目!Q10=1,\"運送収入\",\"\"))","v":""},0,0,"20240710",0,0,0,0]
[{"$f":"入力用科目!$X$2&入力用科目!$Y$2&入力用科目!$Z$2","v":""},{"$f":"(2018+(入力用科目!$A$2&入力用科目!$B$2))&入力用科目!$D$2&入力用科目!$E$2","v":"2024"},0,"1",6,7,{"$f":"IF(入力用科目!A11=\"\",G6,入力用科目!A11)","v":1},{"$f":"IF(入力用科目!Q11=\"\",\"\",入力用科目!Q11)","v":""},{"$f":"入力用科目!U11","v":0},{"$f":"入力用科目!AD11","v":0},0,null,{"$f":"IF(入力用科目!H11<>\"\",入力用科目!H11,IF(入力用科目!Q11=1,\"運送収入\",\"\"))","v":""},0,0,"20240710",0,0,0,0]
[{"$f":"入力用科目!$X$2&入力用科目!$Y$2&入力用科目!$Z$2","v":""},{"$f":"(2018+(入力用科目!$A$2&入力用科目!$B$2))&入力用科目!$D$2&入力用科目!$E$2","v":"2024"},0,"1",7,8,{"$f":"IF(入力用科目!A12=\"\",G7,入力用科目!A12)","v":1},{"$f":"IF(入力用科目!Q12=\"\",\"\",入力用科目!Q12)","v":""},{"$f":"入力用科目!U12","v":0},{"$f":"入力用科目!AD12","v":0},0,null,{"$f":"IF(入力用科目!H12<>\"\",入力用科目!H12,IF(入力用科目!Q12=1,\"運送収入\",\"\"))","v":""},0,0,"20240710",0,0,0,0]
[{"$f":"入力用科目!$X$2&入力用科目!$Y$2&入力用科目!$Z$2","v":""},{"$f":"(2018+(入力用科目!$A$2&入力用科目!$B$2))&入力用科目!$D$2&入力用科目!$E$2","v":"2024"},0,"1",8,9,{"$f":"IF(入力用科目!A13=\"\",G8,入力用科目!A13)","v":1},{"$f":"IF(入力用科目!Q13=\"\",\"\",入力用科目!Q13)","v":""},{"$f":"入力用科目!U13","v":0},{"$f":"入力用科目!AD13","v":0},0,null,{"$f":"IF(入力用科目!H13<>\"\",入力用科目!H13,IF(入力用科目!Q13=1,\"運送収入\",\"\"))","v":""},0,0,"20240710",0,0,0,0]
[{"$f":"入力用科目!$X$2&入力用科目!$Y$2&入力用科目!$Z$2","v":""},{"$f":"(2018+(入力用科目!$A$2&入力用科目!$B$2))&入力用科目!$D$2&入力用科目!$E$2","v":"2024"},0,"1",9,10,{"$f":"IF(入力用科目!A14=\"\",G9,入力用科目!A14)","v":1},{"$f":"IF(入力用科目!Q14=\"\",\"\",入力用科目!Q14)","v":""},{"$f":"入力用科目!U14","v":0},{"$f":"入力用科目!AD14","v":0},0,null,{"$f":"IF(入力用科目!H14<>\"\",入力用科目!H14,IF(入力用科目!Q14=1,\"運送収入\",\"\"))","v":""},0,0,"20240710",0,0,0,0]
[{"$f":"入力用科目!$X$2&入力用科目!$Y$2&入力用科目!$Z$2","v":""},{"$f":"(2018+(入力用科目!$A$2&入力用科目!$B$2))&入力用科目!$D$2&入力用科目!$E$2","v":"2024"},0,"1",10,11,{"$f":"IF(入力用科目!A15=\"\",G10,入力用科目!A15)","v":1},{"$f":"IF(入力用科目!Q15=\"\",\"\",入力用科目!Q15)","v":""},{"$f":"入力用科目!U15","v":0},{"$f":"入力用科目!AD15","v":0},0,null,{"$f":"IF(入力用科目!H15<>\"\",入力用科目!H15,IF(入力用科目!Q15=1,\"運送収入\",\"\"))","v":""},0,0,"20240710",0,0,0,0]
[{"$f":"入力用科目!$X$2&入力用科目!$Y$2&入力用科目!$Z$2","v":""},{"$f":"(2018+(入力用科目!$A$2&入力用科目!$B$2))&入力用科目!$D$2&入力用科目!$E$2","v":"2024"},0,"1",11,12,{"$f":"IF(入力用科目!A16=\"\",G11,入力用科目!A16)","v":1},{"$f":"IF(入力用科目!Q16=\"\",\"\",入力用科目!Q16)","v":""},{"$f":"入力用科目!U16","v":0},{"$f":"入力用科目!AD16","v":0},0,null,{"$f":"IF(入力用科目!H16<>\"\",入力用科目!H16,IF(入力用科目!Q16=1,\"運送収入\",\"\"))","v":""},0,0,"20240710",0,0,0,0]
[{"$f":"入力用科目!$X$2&入力用科目!$Y$2&入力用科目!$Z$2","v":""},{"$f":"(2018+(入力用科目!$A$2&入力用科目!$B$2))&入力用科目!$D$2&入力用科目!$E$2","v":"2024"},0,"1",12,13,{"$f":"IF(入力用科目!A17=\"\",G12,入力用科目!A17)","v":1},{"$f":"IF(入力用科目!Q17=\"\",\"\",入力用科目!Q17)","v":""},{"$f":"入力用科目!U17","v":0},{"$f":"入力用科目!AD17","v":0},0,null,{"$f":"IF(入力用科目!H17<>\"\",入力用科目!H17,IF(入力用科目!Q17=1,\"運送収入\",\"\"))","v":""},0,0,"20240710",0,0,0,0]
[{"$f":"入力用科目!$X$2&入力用科目!$Y$2&入力用科目!$Z$2","v":""},{"$f":"(2018+(入力用科目!$A$2&入力用科目!$B$2))&入力用科目!$D$2&入力用科目!$E$2","v":"2024"},0,"1",13,14,{"$f":"IF(入力用科目!A18=\"\",G13,入力用科目!A18)","v":1},{"$f":"IF(入力用科目!Q18=\"\",\"\",入力用科目!Q18)","v":""},{"$f":"入力用科目!U18","v":0},{"$f":"入力用科目!AD18","v":0},0,null,{"$f":"IF(入力用科目!H18<>\"\",入力用科目!H18,IF(入力用科目!Q18=1,\"運送収入\",\"\"))","v":""},0,0,"20240710",0,0,0,0]
[{"$f":"入力用科目!$X$2&入力用科目!$Y$2&入力用科目!$Z$2","v":""},{"$f":"(2018+(入力用科目!$A$2&入力用科目!$B$2))&入力用科目!$D$2&入力用科目!$E$2","v":"2024"},0,"1",14,15,{"$f":"IF(入力用科目!A19=\"\",G14,入力用科目!A19)","v":1},{"$f":"IF(入力用科目!Q19=\"\",\"\",入力用科目!Q19)","v":""},{"$f":"入力用科目!U19","v":0},{"$f":"入力用科目!AD19","v":0},0,null,{"$f":"IF(入力用科目!H19<>\"\",入力用科目!H19,IF(入力用科目!Q19=1,\"運送収入\",\"\"))","v":""},0,0,"20240710",0,0,0,0]
[{"$f":"入力用科目!$X$2&入力用科目!$Y$2&入力用科目!$Z$2","v":""},{"$f":"(2018+(入力用科目!$A$2&入力用科目!$B$2))&入力用科目!$D$2&入力用科目!$E$2","v":"2024"},0,"1",15,16,{"$f":"IF(入力用科目!A20=\"\",G15,入力用科目!A20)","v":1},{"$f":"IF(入力用科目!Q20=\"\",\"\",入力用科目!Q20)","v":""},{"$f":"入力用科目!U20","v":0},{"$f":"入力用科目!AD20","v":0},0,null,{"$f":"IF(入力用科目!H20<>\"\",入力用科目!H20,IF(入力用科目!Q20=1,\"運送収入\",\"\"))","v":""},0,0,"20240710",0,0,0,0]
[{"$f":"入力用科目!$X$2&入力用科目!$Y$2&入力用科目!$Z$2","v":""},{"$f":"(2018+(入力用科目!$A$2&入力用科目!$B$2))&入力用科目!$D$2&入力用科目!$E$2","v":"2024"},0,"1",16,17,{"$f":"IF(入力用科目!A21=\"\",G16,入力用科目!A21)","v":1},{"$f":"IF(入力用科目!Q21=\"\",\"\",入力用科目!Q21)","v":""},{"$f":"入力用科目!U21","v":0},{"$f":"入力用科目!AD21","v":0},0,null,{"$f":"IF(入力用科目!H21<>\"\",入力用科目!H21,IF(入力用科目!Q21=1,\"運送収入\",\"\"))","v":""},0,0,"20240710",0,0,0,0]
[{"$f":"入力用科目!$X$2&入力用科目!$Y$2&入力用科目!$Z$2","v":""},{"$f":"(2018+(入力用科目!$A$2&入力用科目!$B$2))&入力用科目!$D$2&入力用科目!$E$2","v":"2024"},0,"1",17,18,{"$f":"IF(入力用科目!A22=\"\",G17,入力用科目!A22)","v":1},{"$f":"IF(入力用科目!Q22=\"\",\"\",入力用科目!Q22)","v":""},{"$f":"入力用科目!U22","v":0},{"$f":"入力用科目!AD22","v":0},0,null,{"$f":"IF(入力用科目!H22<>\"\",入力用科目!H22,IF(入力用科目!Q22=1,\"運送収入\",\"\"))","v":""},0,0,"20240710",0,0,0,0]
[{"$f":"入力用科目!$X$2&入力用科目!$Y$2&入力用科目!$Z$2","v":""},{"$f":"(2018+(入力用科目!$A$2&入力用科目!$B$2))&入力用科目!$D$2&入力用科目!$E$2","v":"2024"},0,"1",18,19,{"$f":"IF(入力用科目!A23=\"\",G18,入力用科目!A23)","v":1},{"$f":"IF(入力用科目!Q23=\"\",\"\",入力用科目!Q23)","v":""},{"$f":"入力用科目!U23","v":0},{"$f":"入力用科目!AD23","v":0},0,null,{"$f":"IF(入力用科目!H23<>\"\",入力用科目!H23,IF(入力用科目!Q23=1,\"運送収入\",\"\"))","v":""},0,0,"20240710",0,0,0,0]
[{"$f":"入力用科目!$X$2&入力用科目!$Y$2&入力用科目!$Z$2","v":""},{"$f":"(2018+(入力用科目!$A$2&入力用科目!$B$2))&入力用科目!$D$2&入力用科目!$E$2","v":"2024"},0,"1",19,20,{"$f":"IF(入力用科目!A24=\"\",G19,入力用科目!A24)","v":1},{"$f":"IF(入力用科目!Q24=\"\",\"\",入力用科目!Q24)","v":""},{"$f":"入力用科目!U24","v":0},{"$f":"入力用科目!AD24","v":0},0,null,{"$f":"IF(入力用科目!H24<>\"\",入力用科目!H24,IF(入力用科目!Q24=1,\"運送収入\",\"\"))","v":""},0,0,"20240710",0,0,0,0]
[{"$f":"入力用科目!$X$2&入力用科目!$Y$2&入力用科目!$Z$2","v":""},{"$f":"(2018+(入力用科目!$A$2&入力用科目!$B$2))&入力用科目!$D$2&入力用科目!$E$2","v":"2024"},0,"1",20,21,{"$f":"IF(入力用科目!A25=\"\",G20,入力用科目!A25)","v":1},{"$f":"IF(入力用科目!Q25=\"\",\"\",入力用科目!Q25)","v":""},{"$f":"入力用科目!U25","v":0},{"$f":"入力用科目!AD25","v":0},0,null,{"$f":"IF(入力用科目!H25<>\"\",入力用科目!H25,IF(入力用科目!Q25=1,\"運送収入\",\"\"))","v":""},0,0,"20240710",0,0,0,0]
[{"$f":"入力用科目!$X$2&入力用科目!$Y$2&入力用科目!$Z$2","v":""},{"$f":"(2018+(入力用科目!$A$2&入力用科目!$B$2))&入力用科目!$D$2&入力用科目!$E$2","v":"2024"},0,"1",21,22,{"$f":"IF(入力用科目!A26=\"\",G21,入力用科目!A26)","v":1},{"$f":"IF(入力用科目!Q26=\"\",\"\",入力用科目!Q26)","v":""},{"$f":"入力用科目!U26","v":0},{"$f":"入力用科目!AD26","v":0},0,null,{"$f":"IF(入力用科目!H26<>\"\",入力用科目!H26,IF(入力用科目!Q26=1,\"運送収入\",\"\"))","v":""},0,0,"20240710",0,0,0,0]
[{"$f":"入力用科目!$X$2&入力用科目!$Y$2&入力用科目!$Z$2","v":""},{"$f":"(2018+(入力用科目!$A$2&入力用科目!$B$2))&入力用科目!$D$2&入力用科目!$E$2","v":"2024"},0,"1",22,23,{"$f":"IF(入力用科目!A27=\"\",G22,入力用科目!A27)","v":1},{"$f":"IF(入力用科目!Q27=\"\",\"\",入力用科目!Q27)","v":""},{"$f":"入力用科目!U27","v":0},{"$f":"入力用科目!AD27","v":0},0,null,{"$f":"IF(入力用科目!H27<>\"\",入力用科目!H27,IF(入力用科目!Q27=1,\"運送収入\",\"\"))","v":""},0,0,"20240710",0,0,0,0]
[{"$f":"入力用科目!$X$2&入力用科目!$Y$2&入力用科目!$Z$2","v":""},{"$f":"(2018+(入力用科目!$A$2&入力用科目!$B$2))&入力用科目!$D$2&入力用科目!$E$2","v":"2024"},0,"1",23,24,{"$f":"IF(入力用科目!A28=\"\",G23,入力用科目!A28)","v":1},{"$f":"IF(入力用科目!Q28=\"\",\"\",入力用科目!Q28)","v":""},{"$f":"入力用科目!U28","v":0},{"$f":"入力用科目!AD28","v":0},0,null,{"$f":"IF(入力用科目!H28<>\"\",入力用科目!H28,IF(入力用科目!Q28=1,\"運送収入\",\"\"))","v":""},0,0,"20240710",0,0,0,0]
[{"$f":"入力用科目!$X$2&入力用科目!$Y$2&入力用科目!$Z$2","v":""},{"$f":"(2018+(入力用科目!$A$2&入力用科目!$B$2))&入力用科目!$D$2&入力用科目!$E$2","v":"2024"},0,"1",24,25,{"$f":"IF(入力用科目!A29=\"\",G24,入力用科目!A29)","v":1},{"$f":"IF(入力用科目!Q29=\"\",\"\",入力用科目!Q29)","v":""},{"$f":"入力用科目!U29","v":0},{"$f":"入力用科目!AD29","v":0},0,null,{"$f":"IF(入力用科目!H29<>\"\",入力用科目!H29,IF(入力用科目!Q29=1,\"運送収入\",\"\"))","v":""},0,0,"20240710",0,0,0,0]
[{"$f":"入力用科目!$X$2&入力用科目!$Y$2&入力用科目!$Z$2","v":""},{"$f":"(2018+(入力用科目!$A$2&入力用科目!$B$2))&入力用科目!$D$2&入力用科目!$E$2","v":"2024"},0,"1",25,26,{"$f":"IF(入力用科目!A30=\"\",G25,入力用科目!A30)","v":1},{"$f":"IF(入力用科目!Q30=\"\",\"\",入力用科目!Q30)","v":""},{"$f":"入力用科目!U30","v":0},{"$f":"入力用科目!AD30","v":0},0,null,{"$f":"IF(入力用科目!H30<>\"\",入力用科目!H30,IF(入力用科目!Q30=1,\"運送収入\",\"\"))","v":""},0,0,"20240710",0,0,0,0]
[{"$f":"入力用科目!$X$2&入力用科目!$Y$2&入力用科目!$Z$2","v":""},{"$f":"(2018+(入力用科目!$A$2&入力用科目!$B$2))&入力用科目!$D$2&入力用科目!$E$2","v":"2024"},0,"1",26,27,{"$f":"IF(入力用科目!A31=\"\",G26,入力用科目!A31)","v":1},{"$f":"IF(入力用科目!Q31=\"\",\"\",入力用科目!Q31)","v":""},{"$f":"入力用科目!U31","v":0},{"$f":"入力用科目!AD31","v":0},0,null,{"$f":"IF(入力用科目!H31<>\"\",入力用科目!H31,IF(入力用科目!Q31=1,\"運送収入\",\"\"))","v":""},0,0,"20240710",0,0,0,0]
[{"$f":"入力用科目!$X$2&入力用科目!$Y$2&入力用科目!$Z$2","v":""},{"$f":"(2018+(入力用科目!$A$2&入力用科目!$B$2))&入力用科目!$D$2&入力用科目!$E$2","v":"2024"},0,"1",27,28,{"$f":"IF(入力用科目!A32=\"\",G27,入力用科目!A32)","v":1},{"$f":"IF(入力用科目!Q32=\"\",\"\",入力用科目!Q32)","v":""},{"$f":"入力用科目!U32","v":0},{"$f":"入力用科目!AD32","v":0},0,null,{"$f":"IF(入力用科目!H32<>\"\",入力用科目!H32,IF(入力用科目!Q32=1,\"運送収入\",\"\"))","v":""},0,0,"20240710",0,0,0,0]
[{"$f":"入力用科目!$X$2&入力用科目!$Y$2&入力用科目!$Z$2","v":""},{"$f":"(2018+(入力用科目!$A$2&入力用科目!$B$2))&入力用科目!$D$2&入力用科目!$E$2","v":"2024"},0,"1",28,29,{"$f":"IF(入力用科目!A33=\"\",G28,入力用科目!A33)","v":1},{"$f":"IF(入力用科目!Q33=\"\",\"\",入力用科目!Q33)","v":""},{"$f":"入力用科目!U33","v":0},{"$f":"入力用科目!AD33","v":0},0,null,{"$f":"IF(入力用科目!H33<>\"\",入力用科目!H33,IF(入力用科目!Q33=1,\"運送収入\",\"\"))","v":""},0,0,"20240710",0,0,0,0]
[{"$f":"入力用科目!$X$2&入力用科目!$Y$2&入力用科目!$Z$2","v":""},{"$f":"(2018+(入力用科目!$A$2&入力用科目!$B$2))&入力用科目!$D$2&入力用科目!$E$2","v":"2024"},0,"1",29,30,{"$f":"IF(入力用科目!A34=\"\",G29,入力用科目!A34)","v":1},{"$f":"IF(入力用科目!Q34=\"\",\"\",入力用科目!Q34)","v":""},{"$f":"入力用科目!U34","v":0},{"$f":"入力用科目!AD34","v":0},0,null,{"$f":"IF(入力用科目!H34<>\"\",入力用科目!H34,IF(入力用科目!Q34=1,\"運送収入\",\"\"))","v":""},0,0,"20240710",0,0,0,0]
[{"$f":"入力用科目!$X$2&入力用科目!$Y$2&入力用科目!$Z$2","v":""},{"$f":"(2018+(入力用科目!$A$2&入力用科目!$B$2))&入力用科目!$D$2&入力用科目!$E$2","v":"2024"},0,"1",30,31,{"$f":"IF(入力用科目!A35=\"\",G30,入力用科目!A35)","v":1},{"$f":"IF(入力用科目!Q35=\"\",\"\",入力用科目!Q35)","v":""},{"$f":"入力用科目!U35","v":0},{"$f":"入力用科目!AD35","v":0},0,null,{"$f":"IF(入力用科目!H35<>\"\",入力用科目!H35,IF(入力用科目!Q35=1,\"運送収入\",\"\"))","v":""},0,0,"20240710",0,0,0,0]
[{"$f":"入力用科目!$X$2&入力用科目!$Y$2&入力用科目!$Z$2","v":""},{"$f":"(2018+(入力用科目!$A$2&入力用科目!$B$2))&入力用科目!$D$2&入力用科目!$E$2","v":"2024"},0,"1",31,32,{"$f":"IF(入力用科目!A36=\"\",G31,入力用科目!A36)","v":1},{"$f":"IF(入力用科目!Q36=\"\",\"\",入力用科目!Q36)","v":""},{"$f":"入力用科目!U36","v":0},{"$f":"入力用科目!AD36","v":0},0,null,{"$f":"IF(入力用科目!H36<>\"\",入力用科目!H36,IF(入力用科目!Q36=1,\"運送収入\",\"\"))","v":""},0,0,"20240710",0,0,0,0]
[{"$f":"入力用科目!$X$2&入力用科目!$Y$2&入力用科目!$Z$2","v":""},{"$f":"(2018+(入力用科目!$A$2&入力用科目!$B$2))&入力用科目!$D$2&入力用科目!$E$2","v":"2024"},0,"1",32,33,{"$f":"IF(入力用科目!A50=\"\",G32,入力用科目!A50)","v":1},{"$f":"IF(入力用科目!Q50=\"\",\"\",入力用科目!Q50)","v":""},{"$f":"入力用科目!U50","v":0},{"$f":"入力用科目!AD50","v":0},0,null,{"$f":"IF(入力用科目!H50<>\"\",入力用科目!H50,IF(入力用科目!Q50=1,\"運送収入\",\"\"))","v":""},0,0,"20240710",0,0,0,0]
[{"$f":"入力用科目!$X$2&入力用科目!$Y$2&入力用科目!$Z$2","v":""},{"$f":"(2018+(入力用科目!$A$2&入力用科目!$B$2))&入力用科目!$D$2&入力用科目!$E$2","v":"2024"},0,"1",33,34,{"$f":"IF(入力用科目!A51=\"\",G33,入力用科目!A51)","v":1},{"$f":"IF(入力用科目!Q51=\"\",\"\",入力用科目!Q51)","v":""},{"$f":"入力用科目!U51","v":0},{"$f":"入力用科目!AD51","v":0},0,null,{"$f":"IF(入力用科目!H51<>\"\",入力用科目!H51,IF(入力用科目!Q51=1,\"運送収入\",\"\"))","v":""},0,0,"20240710",0,0,0,0]
[{"$f":"入力用科目!$X$2&入力用科目!$Y$2&入力用科目!$Z$2","v":""},{"$f":"(2018+(入力用科目!$A$2&入力用科目!$B$2))&入力用科目!$D$2&入力用科目!$E$2","v":"2024"},0,"1",34,35,{"$f":"IF(入力用科目!A52=\"\",G34,入力用科目!A52)","v":1},{"$f":"IF(入力用科目!Q52=\"\",\"\",入力用科目!Q52)","v":""},{"$f":"入力用科目!U52","v":0},{"$f":"入力用科目!AD52","v":0},0,null,{"$f":"IF(入力用科目!H52<>\"\",入力用科目!H52,IF(入力用科目!Q52=1,\"運送収入\",\"\"))","v":""},0,0,"20240710",0,0,0,0]
[{"$f":"入力用科目!$X$2&入力用科目!$Y$2&入力用科目!$Z$2","v":""},{"$f":"(2018+(入力用科目!$A$2&入力用科目!$B$2))&入力用科目!$D$2&入力用科目!$E$2","v":"2024"},0,"1",35,36,{"$f":"IF(入力用科目!A53=\"\",G35,入力用科目!A53)","v":1},{"$f":"IF(入力用科目!Q53=\"\",\"\",入力用科目!Q53)","v":""},{"$f":"入力用科目!U53","v":0},{"$f":"入力用科目!AD53","v":0},0,null,{"$f":"IF(入力用科目!H53<>\"\",入力用科目!H53,IF(入力用科目!Q53=1,\"運送収入\",\"\"))","v":""},0,0,"20240710",0,0,0,0]
[{"$f":"入力用科目!$X$2&入力用科目!$Y$2&入力用科目!$Z$2","v":""},{"$f":"(2018+(入力用科目!$A$2&入力用科目!$B$2))&入力用科目!$D$2&入力用科目!$E$2","v":"2024"},0,"1",36,37,{"$f":"IF(入力用科目!A54=\"\",G36,入力用科目!A54)","v":1},{"$f":"IF(入力用科目!Q54=\"\",\"\",入力用科目!Q54)","v":""},{"$f":"入力用科目!U54","v":0},{"$f":"入力用科目!AD54","v":0},0,null,{"$f":"IF(入力用科目!H54<>\"\",入力用科目!H54,IF(入力用科目!Q54=1,\"運送収入\",\"\"))","v":""},0,0,"20240710",0,0,0,0]
[{"$f":"入力用科目!$X$2&入力用科目!$Y$2&入力用科目!$Z$2","v":""},{"$f":"(2018+(入力用科目!$A$2&入力用科目!$B$2))&入力用科目!$D$2&入力用科目!$E$2","v":"2024"},0,"1",37,38,{"$f":"IF(入力用科目!A55=\"\",G37,入力用科目!A55)","v":1},{"$f":"IF(入力用科目!Q55=\"\",\"\",入力用科目!Q55)","v":""},{"$f":"入力用科目!U55","v":0},{"$f":"入力用科目!AD55","v":0},0,null,{"$f":"IF(入力用科目!H55<>\"\",入力用科目!H55,IF(入力用科目!Q55=1,\"運送収入\",\"\"))","v":""},0,0,"20240710",0,0,0,0]
[{"$f":"入力用科目!$X$2&入力用科目!$Y$2&入力用科目!$Z$2","v":""},{"$f":"(2018+(入力用科目!$A$2&入力用科目!$B$2))&入力用科目!$D$2&入力用科目!$E$2","v":"2024"},0,"1",38,39,{"$f":"IF(入力用科目!A56=\"\",G38,入力用科目!A56)","v":1},{"$f":"IF(入力用科目!Q56=\"\",\"\",入力用科目!Q56)","v":""},{"$f":"入力用科目!U56","v":0},{"$f":"入力用科目!AD56","v":0},0,null,{"$f":"IF(入力用科目!H56<>\"\",入力用科目!H56,IF(入力用科目!Q56=1,\"運送収入\",\"\"))","v":""},0,0,"20240710",0,0,0,0]
[{"$f":"入力用科目!$X$2&入力用科目!$Y$2&入力用科目!$Z$2","v":""},{"$f":"(2018+(入力用科目!$A$2&入力用科目!$B$2))&入力用科目!$D$2&入力用科目!$E$2","v":"2024"},0,"1",39,40,{"$f":"IF(入力用科目!A57=\"\",G39,入力用科目!A57)","v":1},{"$f":"IF(入力用科目!Q57=\"\",\"\",入力用科目!Q57)","v":""},{"$f":"入力用科目!U57","v":0},{"$f":"入力用科目!AD57","v":0},0,null,{"$f":"IF(入力用科目!H57<>\"\",入力用科目!H57,IF(入力用科目!Q57=1,\"運送収入\",\"\"))","v":""},0,0,"20240710",0,0,0,0]
[{"$f":"入力用科目!$X$2&入力用科目!$Y$2&入力用科目!$Z$2","v":""},{"$f":"(2018+(入力用科目!$A$2&入力用科目!$B$2))&入力用科目!$D$2&入力用科目!$E$2","v":"2024"},0,"1",40,41,{"$f":"IF(入力用科目!A58=\"\",G40,入力用科目!A58)","v":1},{"$f":"IF(入力用科目!Q58=\"\",\"\",入力用科目!Q58)","v":""},{"$f":"入力用科目!U58","v":0},{"$f":"入力用科目!AD58","v":0},0,null,{"$f":"IF(入力用科目!H58<>\"\",入力用科目!H58,IF(入力用科目!Q58=1,\"運送収入\",\"\"))","v":""},0,0,"20240710",0,0,0,0]
[{"$f":"入力用科目!$X$2&入力用科目!$Y$2&入力用科目!$Z$2","v":""},{"$f":"(2018+(入力用科目!$A$2&入力用科目!$B$2))&入力用科目!$D$2&入力用科目!$E$2","v":"2024"},0,"1",41,42,{"$f":"IF(入力用科目!A59=\"\",G41,入力用科目!A59)","v":1},{"$f":"IF(入力用科目!Q59=\"\",\"\",入力用科目!Q59)","v":""},{"$f":"入力用科目!U59","v":0},{"$f":"入力用科目!AD59","v":0},0,null,{"$f":"IF(入力用科目!H59<>\"\",入力用科目!H59,IF(入力用科目!Q59=1,\"運送収入\",\"\"))","v":""},0,0,"20240710",0,0,0,0]
[{"$f":"入力用科目!$X$2&入力用科目!$Y$2&入力用科目!$Z$2","v":""},{"$f":"(2018+(入力用科目!$A$2&入力用科目!$B$2))&入力用科目!$D$2&入力用科目!$E$2","v":"2024"},0,"1",42,43,{"$f":"IF(入力用科目!A60=\"\",G42,入力用科目!A60)","v":1},{"$f":"IF(入力用科目!Q60=\"\",\"\",入力用科目!Q60)","v":""},{"$f":"入力用科目!U60","v":0},{"$f":"入力用科目!AD60","v":0},0,null,{"$f":"IF(入力用科目!H60<>\"\",入力用科目!H60,IF(入力用科目!Q60=1,\"運送収入\",\"\"))","v":""},0,0,"20240710",0,0,0,0]
[{"$f":"入力用科目!$X$2&入力用科目!$Y$2&入力用科目!$Z$2","v":""},{"$f":"(2018+(入力用科目!$A$2&入力用科目!$B$2))&入力用科目!$D$2&入力用科目!$E$2","v":"2024"},0,"1",43,44,{"$f":"IF(入力用科目!A61=\"\",G43,入力用科目!A61)","v":1},{"$f":"IF(入力用科目!Q61=\"\",\"\",入力用科目!Q61)","v":""},{"$f":"入力用科目!U61","v":0},{"$f":"入力用科目!AD61","v":0},0,null,{"$f":"IF(入力用科目!H61<>\"\",入力用科目!H61,IF(入力用科目!Q61=1,\"運送収入\",\"\"))","v":""},0,0,"20240710",0,0,0,0]
[{"$f":"入力用科目!$X$2&入力用科目!$Y$2&入力用科目!$Z$2","v":""},{"$f":"(2018+(入力用科目!$A$2&入力用科目!$B$2))&入力用科目!$D$2&入力用科目!$E$2","v":"2024"},0,"1",44,45,{"$f":"IF(入力用科目!A62=\"\",G44,入力用科目!A62)","v":1},{"$f":"IF(入力用科目!Q62=\"\",\"\",入力用科目!Q62)","v":""},{"$f":"入力用科目!U62","v":0},{"$f":"入力用科目!AD62","v":0},0,null,{"$f":"IF(入力用科目!H62<>\"\",入力用科目!H62,IF(入力用科目!Q62=1,\"運送収入\",\"\"))","v":""},0,0,"20240710",0,0,0,0]
[{"$f":"入力用科目!$X$2&入力用科目!$Y$2&入力用科目!$Z$2","v":""},{"$f":"(2018+(入力用科目!$A$2&入力用科目!$B$2))&入力用科目!$D$2&入力用科目!$E$2","v":"2024"},0,"1",45,46,{"$f":"IF(入力用科目!A63=\"\",G45,入力用科目!A63)","v":1},{"$f":"IF(入力用科目!Q63=\"\",\"\",入力用科目!Q63)","v":""},{"$f":"入力用科目!U63","v":0},{"$f":"入力用科目!AD63","v":0},0,null,{"$f":"IF(入力用科目!H63<>\"\",入力用科目!H63,IF(入力用科目!Q63=1,\"運送収入\",\"\"))","v":""},0,0,"20240710",0,0,0,0]
[{"$f":"入力用科目!$X$2&入力用科目!$Y$2&入力用科目!$Z$2","v":""},{"$f":"(2018+(入力用科目!$A$2&入力用科目!$B$2))&入力用科目!$D$2&入力用科目!$E$2","v":"2024"},0,"1",46,47,{"$f":"IF(入力用科目!A64=\"\",G46,入力用科目!A64)","v":1},{"$f":"IF(入力用科目!Q64=\"\",\"\",入力用科目!Q64)","v":""},{"$f":"入力用科目!U64","v":0},{"$f":"入力用科目!AD64","v":0},0,null,{"$f":"IF(入力用科目!H64<>\"\",入力用科目!H64,IF(入力用科目!Q64=1,\"運送収入\",\"\"))","v":""},0,0,"20240710",0,0,0,0]
[{"$f":"入力用科目!$X$2&入力用科目!$Y$2&入力用科目!$Z$2","v":""},{"$f":"(2018+(入力用科目!$A$2&入力用科目!$B$2))&入力用科目!$D$2&入力用科目!$E$2","v":"2024"},0,"1",47,48,{"$f":"IF(入力用科目!A65=\"\",G47,入力用科目!A65)","v":1},{"$f":"IF(入力用科目!Q65=\"\",\"\",入力用科目!Q65)","v":""},{"$f":"入力用科目!U65","v":0},{"$f":"入力用科目!AD65","v":0},0,null,{"$f":"IF(入力用科目!H65<>\"\",入力用科目!H65,IF(入力用科目!Q65=1,\"運送収入\",\"\"))","v":""},0,0,"20240710",0,0,0,0]
[{"$f":"入力用科目!$X$2&入力用科目!$Y$2&入力用科目!$Z$2","v":""},{"$f":"(2018+(入力用科目!$A$2&入力用科目!$B$2))&入力用科目!$D$2&入力用科目!$E$2","v":"2024"},0,"1",48,49,{"$f":"IF(入力用科目!A66=\"\",G48,入力用科目!A66)","v":1},{"$f":"IF(入力用科目!Q66=\"\",\"\",入力用科目!Q66)","v":""},{"$f":"入力用科目!U66","v":0},{"$f":"入力用科目!AD66","v":0},0,null,{"$f":"IF(入力用科目!H66<>\"\",入力用科目!H66,IF(入力用科目!Q66=1,\"運送収入\",\"\"))","v":""},0,0,"20240710",0,0,0,0]
[{"$f":"入力用科目!$X$2&入力用科目!$Y$2&入力用科目!$Z$2","v":""},{"$f":"(2018+(入力用科目!$A$2&入力用科目!$B$2))&入力用科目!$D$2&入力用科目!$E$2","v":"2024"},0,"1",49,50,{"$f":"IF(入力用科目!A67=\"\",G49,入力用科目!A67)","v":1},{"$f":"IF(入力用科目!Q67=\"\",\"\",入力用科目!Q67)","v":""},{"$f":"入力用科目!U67","v":0},{"$f":"入力用科目!AD67","v":0},0,null,{"$f":"IF(入力用科目!H67<>\"\",入力用科目!H67,IF(入力用科目!Q67=1,\"運送収入\",\"\"))","v":""},0,0,"20240710",0,0,0,0]
[{"$f":"入力用科目!$X$2&入力用科目!$Y$2&入力用科目!$Z$2","v":""},{"$f":"(2018+(入力用科目!$A$2&入力用科目!$B$2))&入力用科目!$D$2&入力用科目!$E$2","v":"2024"},0,"1",50,51,{"$f":"IF(入力用科目!A68=\"\",G50,入力用科目!A68)","v":1},{"$f":"IF(入力用科目!Q68=\"\",\"\",入力用科目!Q68)","v":""},{"$f":"入力用科目!U68","v":0},{"$f":"入力用科目!AD68","v":0},0,null,{"$f":"IF(入力用科目!H68<>\"\",入力用科目!H68,IF(入力用科目!Q68=1,\"運送収入\",\"\"))","v":""},0,0,"20240710",0,0,0,0]
[{"$f":"入力用科目!$X$2&入力用科目!$Y$2&入力用科目!$Z$2","v":""},{"$f":"(2018+(入力用科目!$A$2&入力用科目!$B$2))&入力用科目!$D$2&入力用科目!$E$2","v":"2024"},0,"1",51,52,{"$f":"IF(入力用科目!A69=\"\",G51,入力用科目!A69)","v":1},{"$f":"IF(入力用科目!Q69=\"\",\"\",入力用科目!Q69)","v":""},{"$f":"入力用科目!U69","v":0},{"$f":"入力用科目!AD69","v":0},0,null,{"$f":"IF(入力用科目!H69<>\"\",入力用科目!H69,IF(入力用科目!Q69=1,\"運送収入\",\"\"))","v":""},0,0,"20240710",0,0,0,0]
[{"$f":"入力用科目!$X$2&入力用科目!$Y$2&入力用科目!$Z$2","v":""},{"$f":"(2018+(入力用科目!$A$2&入力用科目!$B$2))&入力用科目!$D$2&入力用科目!$E$2","v":"2024"},0,"1",52,53,{"$f":"IF(入力用科目!A70=\"\",G52,入力用科目!A70)","v":1},{"$f":"IF(入力用科目!Q70=\"\",\"\",入力用科目!Q70)","v":""},{"$f":"入力用科目!U70","v":0},{"$f":"入力用科目!AD70","v":0},0,null,{"$f":"IF(入力用科目!H70<>\"\",入力用科目!H70,IF(入力用科目!Q70=1,\"運送収入\",\"\"))","v":""},0,0,"20240710",0,0,0,0]
[{"$f":"入力用科目!$X$2&入力用科目!$Y$2&入力用科目!$Z$2","v":""},{"$f":"(2018+(入力用科目!$A$2&入力用科目!$B$2))&入力用科目!$D$2&入力用科目!$E$2","v":"2024"},0,"1",53,54,{"$f":"IF(入力用科目!A71=\"\",G53,入力用科目!A71)","v":1},{"$f":"IF(入力用科目!Q71=\"\",\"\",入力用科目!Q71)","v":""},{"$f":"入力用科目!U71","v":0},{"$f":"入力用科目!AD71","v":0},0,null,{"$f":"IF(入力用科目!H71<>\"\",入力用科目!H71,IF(入力用科目!Q71=1,\"運送収入\",\"\"))","v":""},0,0,"20240710",0,0,0,0]
[{"$f":"入力用科目!$X$2&入力用科目!$Y$2&入力用科目!$Z$2","v":""},{"$f":"(2018+(入力用科目!$A$2&入力用科目!$B$2))&入力用科目!$D$2&入力用科目!$E$2","v":"2024"},0,"1",54,55,{"$f":"IF(入力用科目!A72=\"\",G54,入力用科目!A72)","v":1},{"$f":"IF(入力用科目!Q72=\"\",\"\",入力用科目!Q72)","v":""},{"$f":"入力用科目!U72","v":0},{"$f":"入力用科目!AD72","v":0},0,null,{"$f":"IF(入力用科目!H72<>\"\",入力用科目!H72,IF(入力用科目!Q72=1,\"運送収入\",\"\"))","v":""},0,0,"20240710",0,0,0,0]
[{"$f":"入力用科目!$X$2&入力用科目!$Y$2&入力用科目!$Z$2","v":""},{"$f":"(2018+(入力用科目!$A$2&入力用科目!$B$2))&入力用科目!$D$2&入力用科目!$E$2","v":"2024"},0,"1",55,56,{"$f":"IF(入力用科目!A73=\"\",G55,入力用科目!A73)","v":1},{"$f":"IF(入力用科目!Q73=\"\",\"\",入力用科目!Q73)","v":""},{"$f":"入力用科目!U73","v":0},{"$f":"入力用科目!AD73","v":0},0,null,{"$f":"IF(入力用科目!H73<>\"\",入力用科目!H73,IF(入力用科目!Q73=1,\"運送収入\",\"\"))","v":""},0,0,"20240710",0,0,0,0]
[{"$f":"入力用科目!$X$2&入力用科目!$Y$2&入力用科目!$Z$2","v":""},{"$f":"(2018+(入力用科目!$A$2&入力用科目!$B$2))&入力用科目!$D$2&入力用科目!$E$2","v":"2024"},0,"1",56,57,{"$f":"IF(入力用科目!A74=\"\",G56,入力用科目!A74)","v":1},{"$f":"IF(入力用科目!Q74=\"\",\"\",入力用科目!Q74)","v":""},{"$f":"入力用科目!U74","v":0},{"$f":"入力用科目!AD74","v":0},0,null,{"$f":"IF(入力用科目!H74<>\"\",入力用科目!H74,IF(入力用科目!Q74=1,\"運送収入\",\"\"))","v":""},0,0,"20240710",0,0,0,0]
[{"$f":"入力用科目!$X$2&入力用科目!$Y$2&入力用科目!$Z$2","v":""},{"$f":"(2018+(入力用科目!$A$2&入力用科目!$B$2))&入力用科目!$D$2&入力用科目!$E$2","v":"2024"},0,"1",57,58,{"$f":"IF(入力用科目!A75=\"\",G57,入力用科目!A75)","v":1},{"$f":"IF(入力用科目!Q75=\"\",\"\",入力用科目!Q75)","v":""},{"$f":"入力用科目!U75","v":0},{"$f":"入力用科目!AD75","v":0},0,null,{"$f":"IF(入力用科目!H75<>\"\",入力用科目!H75,IF(入力用科目!Q75=1,\"運送収入\",\"\"))","v":""},0,0,"20240710",0,0,0,0]
[{"$f":"入力用科目!$X$2&入力用科目!$Y$2&入力用科目!$Z$2","v":""},{"$f":"(2018+(入力用科目!$A$2&入力用科目!$B$2))&入力用科目!$D$2&入力用科目!$E$2","v":"2024"},0,"1",58,59,{"$f":"IF(入力用科目!A76=\"\",G58,入力用科目!A76)","v":1},{"$f":"IF(入力用科目!Q76=\"\",\"\",入力用科目!Q76)","v":""},{"$f":"入力用科目!U76","v":0},{"$f":"入力用科目!AD76","v":0},0,null,{"$f":"IF(入力用科目!H76<>\"\",入力用科目!H76,IF(入力用科目!Q76=1,\"運送収入\",\"\"))","v":""},0,0,"20240710",0,0,0,0]
[{"$f":"入力用科目!$X$2&入力用科目!$Y$2&入力用科目!$Z$2","v":""},{"$f":"(2018+(入力用科目!$A$2&入力用科目!$B$2))&入力用科目!$D$2&入力用科目!$E$2","v":"2024"},0,"1",59,60,{"$f":"IF(入力用科目!A77=\"\",G59,入力用科目!A77)","v":1},{"$f":"IF(入力用科目!Q77=\"\",\"\",入力用科目!Q77)","v":""},{"$f":"入力用科目!U77","v":0},{"$f":"入力用科目!AD77","v":0},0,null,{"$f":"IF(入力用科目!H77<>\"\",入力用科目!H77,IF(入力用科目!Q77=1,\"運送収入\",\"\"))","v":""},0,0,"20240710",0,0,0,0]
[{"$f":"入力用科目!$X$2&入力用科目!$Y$2&入力用科目!$Z$2","v":""},{"$f":"(2018+(入力用科目!$A$2&入力用科目!$B$2))&入力用科目!$D$2&入力用科目!$E$2","v":"2024"},0,"1",60,61,{"$f":"IF(入力用科目!A78=\"\",G60,入力用科目!A78)","v":1},{"$f":"IF(入力用科目!Q78=\"\",\"\",入力用科目!Q78)","v":""},{"$f":"入力用科目!U78","v":0},{"$f":"入力用科目!AD78","v":0},0,null,{"$f":"IF(入力用科目!H78<>\"\",入力用科目!H78,IF(入力用科目!Q78=1,\"運送収入\",\"\"))","v":""},0,0,"20240710",0,0,0,0]
[{"$f":"入力用科目!$X$2&入力用科目!$Y$2&入力用科目!$Z$2","v":""},{"$f":"(2018+(入力用科目!$A$2&入力用科目!$B$2))&入力用科目!$D$2&入力用科目!$E$2","v":"2024"},0,"1",61,62,{"$f":"IF(入力用科目!A79=\"\",G61,入力用科目!A79)","v":1},{"$f":"IF(入力用科目!Q79=\"\",\"\",入力用科目!Q79)","v":""},{"$f":"入力用科目!U79","v":0},{"$f":"入力用科目!AD79","v":0},0,null,{"$f":"IF(入力用科目!H79<>\"\",入力用科目!H79,IF(入力用科目!Q79=1,\"運送収入\",\"\"))","v":""},0,0,"20240710",0,0,0,0]
[{"$f":"入力用科目!$X$2&入力用科目!$Y$2&入力用科目!$Z$2","v":""},{"$f":"(2018+(入力用科目!$A$2&入力用科目!$B$2))&入力用科目!$D$2&入力用科目!$E$2","v":"2024"},0,"1",62,63,{"$f":"IF(入力用科目!A80=\"\",G62,入力用科目!A80)","v":1},{"$f":"IF(入力用科目!Q80=\"\",\"\",入力用科目!Q80)","v":""},{"$f":"入力用科目!U80","v":0},{"$f":"入力用科目!AD80","v":0},0,null,{"$f":"IF(入力用科目!H80<>\"\",入力用科目!H80,IF(入力用科目!Q80=1,\"運送収入\",\"\"))","v":""},0,0,"20240710",0,0,0,0]
[{"$f":"入力用科目!$X$2&入力用科目!$Y$2&入力用科目!$Z$2","v":""},{"$f":"(2018+(入力用科目!$A$2&入力用科目!$B$2))&入力用科目!$D$2&入力用科目!$E$2","v":"2024"},0,"1",63,64,{"$f":"IF(入力用科目!A94=\"\",G63,入力用科目!A94)","v":1},{"$f":"IF(入力用科目!Q94=\"\",\"\",入力用科目!Q94)","v":""},{"$f":"入力用科目!U94","v":0},{"$f":"入力用科目!AD94","v":0},0,null,{"$f":"IF(入力用科目!H94<>\"\",入力用科目!H94,IF(入力用科目!Q94=1,\"運送収入\",\"\"))","v":""},0,0,"20240710",0,0,0,0]
[{"$f":"入力用科目!$X$2&入力用科目!$Y$2&入力用科目!$Z$2","v":""},{"$f":"(2018+(入力用科目!$A$2&入力用科目!$B$2))&入力用科目!$D$2&入力用科目!$E$2","v":"2024"},0,"1",64,65,{"$f":"IF(入力用科目!A95=\"\",G44,入力用科目!A95)","v":1},{"$f":"IF(入力用科目!Q95=\"\",\"\",入力用科目!Q95)","v":""},{"$f":"入力用科目!U95","v":0},{"$f":"入力用科目!AD95","v":0},0,null,{"$f":"IF(入力用科目!H95<>\"\",入力用科目!H95,IF(入力用科目!Q95=1,\"運送収入\",\"\"))","v":""},0,0,"20240710",0,0,0,0]
[{"$f":"入力用科目!$X$2&入力用科目!$Y$2&入力用科目!$Z$2","v":""},{"$f":"(2018+(入力用科目!$A$2&入力用科目!$B$2))&入力用科目!$D$2&入力用科目!$E$2","v":"2024"},0,"1",65,66,{"$f":"IF(入力用科目!A96=\"\",G65,入力用科目!A96)","v":1},{"$f":"IF(入力用科目!Q96=\"\",\"\",入力用科目!Q96)","v":""},{"$f":"入力用科目!U96","v":0},{"$f":"入力用科目!AD96","v":0},0,null,{"$f":"IF(入力用科目!H96<>\"\",入力用科目!H96,IF(入力用科目!Q96=1,\"運送収入\",\"\"))","v":""},0,0,"20240710",0,0,0,0]
[{"$f":"入力用科目!$X$2&入力用科目!$Y$2&入力用科目!$Z$2","v":""},{"$f":"(2018+(入力用科目!$A$2&入力用科目!$B$2))&入力用科目!$D$2&入力用科目!$E$2","v":"2024"},0,"1",66,67,{"$f":"IF(入力用科目!A97=\"\",G46,入力用科目!A97)","v":1},{"$f":"IF(入力用科目!Q97=\"\",\"\",入力用科目!Q97)","v":""},{"$f":"入力用科目!U97","v":0},{"$f":"入力用科目!AD97","v":0},0,null,{"$f":"IF(入力用科目!H97<>\"\",入力用科目!H97,IF(入力用科目!Q97=1,\"運送収入\",\"\"))","v":""},0,0,{"$f":"TEXT(TODAY(),\"YYYYMMDD\")","v":"20240710"},0,0,0,0]
[{"$f":"入力用科目!$X$2&入力用科目!$Y$2&入力用科目!$Z$2","v":""},{"$f":"(2018+(入力用科目!$A$2&入力用科目!$B$2))&入力用科目!$D$2&入力用科目!$E$2","v":"2024"},0,"1",67,68,{"$f":"IF(入力用科目!A98=\"\",G67,入力用科目!A98)","v":1},{"$f":"IF(入力用科目!Q98=\"\",\"\",入力用科目!Q98)","v":""},{"$f":"入力用科目!U98","v":0},{"$f":"入力用科目!AD98","v":0},0,null,{"$f":"IF(入力用科目!H98<>\"\",入力用科目!H98,IF(入力用科目!Q98=1,\"運送収入\",\"\"))","v":""},0,0,"20240710",0,0,0,0]
[{"$f":"入力用科目!$X$2&入力用科目!$Y$2&入力用科目!$Z$2","v":""},{"$f":"(2018+(入力用科目!$A$2&入力用科目!$B$2))&入力用科目!$D$2&入力用科目!$E$2","v":"2024"},0,"1",68,69,{"$f":"IF(入力用科目!A99=\"\",G48,入力用科目!A99)","v":1},{"$f":"IF(入力用科目!Q99=\"\",\"\",入力用科目!Q99)","v":""},{"$f":"入力用科目!U99","v":0},{"$f":"入力用科目!AD99","v":0},0,null,{"$f":"IF(入力用科目!H99<>\"\",入力用科目!H99,IF(入力用科目!Q99=1,\"運送収入\",\"\"))","v":""},0,0,"20240710",0,0,0,0]
[{"$f":"入力用科目!$X$2&入力用科目!$Y$2&入力用科目!$Z$2","v":""},{"$f":"(2018+(入力用科目!$A$2&入力用科目!$B$2))&入力用科目!$D$2&入力用科目!$E$2","v":"2024"},0,"1",69,70,{"$f":"IF(入力用科目!A100=\"\",G69,入力用科目!A100)","v":1},{"$f":"IF(入力用科目!Q100=\"\",\"\",入力用科目!Q100)","v":""},{"$f":"入力用科目!U100","v":0},{"$f":"入力用科目!AD100","v":0},0,null,{"$f":"IF(入力用科目!H100<>\"\",入力用科目!H100,IF(入力用科目!Q100=1,\"運送収入\",\"\"))","v":""},0,0,"20240710",0,0,0,0]
[{"$f":"入力用科目!$X$2&入力用科目!$Y$2&入力用科目!$Z$2","v":""},{"$f":"(2018+(入力用科目!$A$2&入力用科目!$B$2))&入力用科目!$D$2&入力用科目!$E$2","v":"2024"},0,"1",70,71,{"$f":"IF(入力用科目!A101=\"\",G50,入力用科目!A101)","v":1},{"$f":"IF(入力用科目!Q101=\"\",\"\",入力用科目!Q101)","v":""},{"$f":"入力用科目!U101","v":0},{"$f":"入力用科目!AD101","v":0},0,null,{"$f":"IF(入力用科目!H101<>\"\",入力用科目!H101,IF(入力用科目!Q101=1,\"運送収入\",\"\"))","v":""},0,0,"20240710",0,0,0,0]
[{"$f":"入力用科目!$X$2&入力用科目!$Y$2&入力用科目!$Z$2","v":""},{"$f":"(2018+(入力用科目!$A$2&入力用科目!$B$2))&入力用科目!$D$2&入力用科目!$E$2","v":"2024"},0,"1",71,72,{"$f":"IF(入力用科目!A102=\"\",G71,入力用科目!A102)","v":1},{"$f":"IF(入力用科目!Q102=\"\",\"\",入力用科目!Q102)","v":""},{"$f":"入力用科目!U102","v":0},{"$f":"入力用科目!AD102","v":0},0,null,{"$f":"IF(入力用科目!H102<>\"\",入力用科目!H102,IF(入力用科目!Q102=1,\"運送収入\",\"\"))","v":""},0,0,"20240710",0,0,0,0]
[{"$f":"入力用科目!$X$2&入力用科目!$Y$2&入力用科目!$Z$2","v":""},{"$f":"(2018+(入力用科目!$A$2&入力用科目!$B$2))&入力用科目!$D$2&入力用科目!$E$2","v":"2024"},0,"1",72,73,{"$f":"IF(入力用科目!A103=\"\",G52,入力用科目!A103)","v":1},{"$f":"IF(入力用科目!Q103=\"\",\"\",入力用科目!Q103)","v":""},{"$f":"入力用科目!U103","v":0},{"$f":"入力用科目!AD103","v":0},0,null,{"$f":"IF(入力用科目!H103<>\"\",入力用科目!H103,IF(入力用科目!Q103=1,\"運送収入\",\"\"))","v":""},0,0,"20240710",0,0,0,0]
[{"$f":"入力用科目!$X$2&入力用科目!$Y$2&入力用科目!$Z$2","v":""},{"$f":"(2018+(入力用科目!$A$2&入力用科目!$B$2))&入力用科目!$D$2&入力用科目!$E$2","v":"2024"},0,"1",73,74,{"$f":"IF(入力用科目!A104=\"\",G73,入力用科目!A104)","v":1},{"$f":"IF(入力用科目!Q104=\"\",\"\",入力用科目!Q104)","v":""},{"$f":"入力用科目!U104","v":0},{"$f":"入力用科目!AD104","v":0},0,null,{"$f":"IF(入力用科目!H104<>\"\",入力用科目!H104,IF(入力用科目!Q104=1,\"運送収入\",\"\"))","v":""},0,0,"20240710",0,0,0,0]
[{"$f":"入力用科目!$X$2&入力用科目!$Y$2&入力用科目!$Z$2","v":""},{"$f":"(2018+(入力用科目!$A$2&入力用科目!$B$2))&入力用科目!$D$2&入力用科目!$E$2","v":"2024"},0,"1",74,75,{"$f":"IF(入力用科目!A105=\"\",G54,入力用科目!A105)","v":1},{"$f":"IF(入力用科目!Q105=\"\",\"\",入力用科目!Q105)","v":""},{"$f":"入力用科目!U105","v":0},{"$f":"入力用科目!AD105","v":0},0,null,{"$f":"IF(入力用科目!H105<>\"\",入力用科目!H105,IF(入力用科目!Q105=1,\"運送収入\",\"\"))","v":""},0,0,"20240710",0,0,0,0]
[{"$f":"入力用科目!$X$2&入力用科目!$Y$2&入力用科目!$Z$2","v":""},{"$f":"(2018+(入力用科目!$A$2&入力用科目!$B$2))&入力用科目!$D$2&入力用科目!$E$2","v":"2024"},0,"1",75,76,{"$f":"IF(入力用科目!A106=\"\",G75,入力用科目!A106)","v":1},{"$f":"IF(入力用科目!Q106=\"\",\"\",入力用科目!Q106)","v":""},{"$f":"入力用科目!U106","v":0},{"$f":"入力用科目!AD106","v":0},0,null,{"$f":"IF(入力用科目!H106<>\"\",入力用科目!H106,IF(入力用科目!Q106=1,\"運送収入\",\"\"))","v":""},0,0,"20240710",0,0,0,0]
[{"$f":"入力用科目!$X$2&入力用科目!$Y$2&入力用科目!$Z$2","v":""},{"$f":"(2018+(入力用科目!$A$2&入力用科目!$B$2))&入力用科目!$D$2&入力用科目!$E$2","v":"2024"},0,"1",76,77,{"$f":"IF(入力用科目!A107=\"\",G56,入力用科目!A107)","v":1},{"$f":"IF(入力用科目!Q107=\"\",\"\",入力用科目!Q107)","v":""},{"$f":"入力用科目!U107","v":0},{"$f":"入力用科目!AD107","v":0},0,null,{"$f":"IF(入力用科目!H107<>\"\",入力用科目!H107,IF(入力用科目!Q107=1,\"運送収入\",\"\"))","v":""},0,0,"20240710",0,0,0,0]
[{"$f":"入力用科目!$X$2&入力用科目!$Y$2&入力用科目!$Z$2","v":""},{"$f":"(2018+(入力用科目!$A$2&入力用科目!$B$2))&入力用科目!$D$2&入力用科目!$E$2","v":"2024"},0,"1",77,78,{"$f":"IF(入力用科目!A108=\"\",G77,入力用科目!A108)","v":1},{"$f":"IF(入力用科目!Q108=\"\",\"\",入力用科目!Q108)","v":""},{"$f":"入力用科目!U108","v":0},{"$f":"入力用科目!AD108","v":0},0,null,{"$f":"IF(入力用科目!H108<>\"\",入力用科目!H108,IF(入力用科目!Q108=1,\"運送収入\",\"\"))","v":""},0,0,"20240710",0,0,0,0]
[{"$f":"入力用科目!$X$2&入力用科目!$Y$2&入力用科目!$Z$2","v":""},{"$f":"(2018+(入力用科目!$A$2&入力用科目!$B$2))&入力用科目!$D$2&入力用科目!$E$2","v":"2024"},0,"1",78,79,{"$f":"IF(入力用科目!A109=\"\",G58,入力用科目!A109)","v":1},{"$f":"IF(入力用科目!Q109=\"\",\"\",入力用科目!Q109)","v":""},{"$f":"入力用科目!U109","v":0},{"$f":"入力用科目!AD109","v":0},0,null,{"$f":"IF(入力用科目!H109<>\"\",入力用科目!H109,IF(入力用科目!Q109=1,\"運送収入\",\"\"))","v":""},0,0,"20240710",0,0,0,0]
[{"$f":"入力用科目!$X$2&入力用科目!$Y$2&入力用科目!$Z$2","v":""},{"$f":"(2018+(入力用科目!$A$2&入力用科目!$B$2))&入力用科目!$D$2&入力用科目!$E$2","v":"2024"},0,"1",79,80,{"$f":"IF(入力用科目!A110=\"\",G79,入力用科目!A110)","v":1},{"$f":"IF(入力用科目!Q110=\"\",\"\",入力用科目!Q110)","v":""},{"$f":"入力用科目!U110","v":0},{"$f":"入力用科目!AD110","v":0},0,null,{"$f":"IF(入力用科目!H110<>\"\",入力用科目!H110,IF(入力用科目!Q110=1,\"運送収入\",\"\"))","v":""},0,0,"20240710",0,0,0,0]
[{"$f":"入力用科目!$X$2&入力用科目!$Y$2&入力用科目!$Z$2","v":""},{"$f":"(2018+(入力用科目!$A$2&入力用科目!$B$2))&入力用科目!$D$2&入力用科目!$E$2","v":"2024"},0,"1",80,81,{"$f":"IF(入力用科目!A111=\"\",G60,入力用科目!A111)","v":1},{"$f":"IF(入力用科目!Q111=\"\",\"\",入力用科目!Q111)","v":""},{"$f":"入力用科目!U111","v":0},{"$f":"入力用科目!AD111","v":0},0,null,{"$f":"IF(入力用科目!H111<>\"\",入力用科目!H111,IF(入力用科目!Q111=1,\"運送収入\",\"\"))","v":""},0,0,"20240710",0,0,0,0]
[{"$f":"入力用科目!$X$2&入力用科目!$Y$2&入力用科目!$Z$2","v":""},{"$f":"(2018+(入力用科目!$A$2&入力用科目!$B$2))&入力用科目!$D$2&入力用科目!$E$2","v":"2024"},0,"1",81,82,{"$f":"IF(入力用科目!A112=\"\",G81,入力用科目!A112)","v":1},{"$f":"IF(入力用科目!Q112=\"\",\"\",入力用科目!Q112)","v":""},{"$f":"入力用科目!U112","v":0},{"$f":"入力用科目!AD112","v":0},0,null,{"$f":"IF(入力用科目!H112<>\"\",入力用科目!H112,IF(入力用科目!Q112=1,\"運送収入\",\"\"))","v":""},0,0,"20240710",0,0,0,0]
[{"$f":"入力用科目!$X$2&入力用科目!$Y$2&入力用科目!$Z$2","v":""},{"$f":"(2018+(入力用科目!$A$2&入力用科目!$B$2))&入力用科目!$D$2&入力用科目!$E$2","v":"2024"},0,"1",82,83,{"$f":"IF(入力用科目!A113=\"\",G62,入力用科目!A113)","v":1},{"$f":"IF(入力用科目!Q113=\"\",\"\",入力用科目!Q113)","v":""},{"$f":"入力用科目!U113","v":0},{"$f":"入力用科目!AD113","v":0},0,null,{"$f":"IF(入力用科目!H113<>\"\",入力用科目!H113,IF(入力用科目!Q113=1,\"運送収入\",\"\"))","v":""},0,0,"20240710",0,0,0,0]
[{"$f":"入力用科目!$X$2&入力用科目!$Y$2&入力用科目!$Z$2","v":""},{"$f":"(2018+(入力用科目!$A$2&入力用科目!$B$2))&入力用科目!$D$2&入力用科目!$E$2","v":"2024"},0,"1",83,84,{"$f":"IF(入力用科目!A114=\"\",G83,入力用科目!A114)","v":1},{"$f":"IF(入力用科目!Q114=\"\",\"\",入力用科目!Q114)","v":""},{"$f":"入力用科目!U114","v":0},{"$f":"入力用科目!AD114","v":0},0,null,{"$f":"IF(入力用科目!H114<>\"\",入力用科目!H114,IF(入力用科目!Q114=1,\"運送収入\",\"\"))","v":""},0,0,"20240710",0,0,0,0]
[{"$f":"入力用科目!$X$2&入力用科目!$Y$2&入力用科目!$Z$2","v":""},{"$f":"(2018+(入力用科目!$A$2&入力用科目!$B$2))&入力用科目!$D$2&入力用科目!$E$2","v":"2024"},0,"1",84,85,{"$f":"IF(入力用科目!A115=\"\",G84,入力用科目!A115)","v":1},{"$f":"IF(入力用科目!Q115=\"\",\"\",入力用科目!Q115)","v":""},{"$f":"入力用科目!U115","v":0},{"$f":"入力用科目!AD115","v":0},0,null,{"$f":"IF(入力用科目!H115<>\"\",入力用科目!H115,IF(入力用科目!Q115=1,\"運送収入\",\"\"))","v":""},0,0,"20240710",0,0,0,0]
[{"$f":"入力用科目!$X$2&入力用科目!$Y$2&入力用科目!$Z$2","v":""},{"$f":"(2018+(入力用科目!$A$2&入力用科目!$B$2))&入力用科目!$D$2&入力用科目!$E$2","v":"2024"},0,"1",85,86,{"$f":"IF(入力用科目!A116=\"\",G65,入力用科目!A116)","v":1},{"$f":"IF(入力用科目!Q116=\"\",\"\",入力用科目!Q116)","v":""},{"$f":"入力用科目!U116","v":0},{"$f":"入力用科目!AD116","v":0},0,null,{"$f":"IF(入力用科目!H116<>\"\",入力用科目!H116,IF(入力用科目!Q116=1,\"運送収入\",\"\"))","v":""},0,0,"20240710",0,0,0,0]
[{"$f":"入力用科目!$X$2&入力用科目!$Y$2&入力用科目!$Z$2","v":""},{"$f":"(2018+(入力用科目!$A$2&入力用科目!$B$2))&入力用科目!$D$2&入力用科目!$E$2","v":"2024"},0,"1",86,87,{"$f":"IF(入力用科目!A117=\"\",G86,入力用科目!A117)","v":1},{"$f":"IF(入力用科目!Q117=\"\",\"\",入力用科目!Q117)","v":""},{"$f":"入力用科目!U117","v":0},{"$f":"入力用科目!AD117","v":0},0,null,{"$f":"IF(入力用科目!H117<>\"\",入力用科目!H117,IF(入力用科目!Q117=1,\"運送収入\",\"\"))","v":""},0,0,"20240710",0,0,0,0]
[{"$f":"入力用科目!$X$2&入力用科目!$Y$2&入力用科目!$Z$2","v":""},{"$f":"(2018+(入力用科目!$A$2&入力用科目!$B$2))&入力用科目!$D$2&入力用科目!$E$2","v":"2024"},0,"1",87,88,{"$f":"IF(入力用科目!A118=\"\",G67,入力用科目!A118)","v":1},{"$f":"IF(入力用科目!Q118=\"\",\"\",入力用科目!Q118)","v":""},{"$f":"入力用科目!U118","v":0},{"$f":"入力用科目!AD118","v":0},0,null,{"$f":"IF(入力用科目!H118<>\"\",入力用科目!H118,IF(入力用科目!Q118=1,\"運送収入\",\"\"))","v":""},0,0,"20240710",0,0,0,0]
[{"$f":"入力用科目!$X$2&入力用科目!$Y$2&入力用科目!$Z$2","v":""},{"$f":"(2018+(入力用科目!$A$2&入力用科目!$B$2))&入力用科目!$D$2&入力用科目!$E$2","v":"2024"},0,"1",88,89,{"$f":"IF(入力用科目!A119=\"\",G88,入力用科目!A119)","v":1},{"$f":"IF(入力用科目!Q119=\"\",\"\",入力用科目!Q119)","v":""},{"$f":"入力用科目!U119","v":0},{"$f":"入力用科目!AD119","v":0},0,null,{"$f":"IF(入力用科目!H119<>\"\",入力用科目!H119,IF(入力用科目!Q119=1,\"運送収入\",\"\"))","v":""},0,0,"20240710",0,0,0,0]
[{"$f":"入力用科目!$X$2&入力用科目!$Y$2&入力用科目!$Z$2","v":""},{"$f":"(2018+(入力用科目!$A$2&入力用科目!$B$2))&入力用科目!$D$2&入力用科目!$E$2","v":"2024"},0,"1",89,90,{"$f":"IF(入力用科目!A120=\"\",G69,入力用科目!A120)","v":1},{"$f":"IF(入力用科目!Q120=\"\",\"\",入力用科目!Q120)","v":""},{"$f":"入力用科目!U120","v":0},{"$f":"入力用科目!AD120","v":0},0,null,{"$f":"IF(入力用科目!H120<>\"\",入力用科目!H120,IF(入力用科目!Q120=1,\"運送収入\",\"\"))","v":""},0,0,"20240710",0,0,0,0]
[{"$f":"入力用科目!$X$2&入力用科目!$Y$2&入力用科目!$Z$2","v":""},{"$f":"(2018+(入力用科目!$A$2&入力用科目!$B$2))&入力用科目!$D$2&入力用科目!$E$2","v":"2024"},0,"1",90,91,{"$f":"IF(入力用科目!A121=\"\",G90,入力用科目!A121)","v":1},{"$f":"IF(入力用科目!Q121=\"\",\"\",入力用科目!Q121)","v":""},{"$f":"入力用科目!U121","v":0},{"$f":"入力用科目!AD121","v":0},0,null,{"$f":"IF(入力用科目!H121<>\"\",入力用科目!H121,IF(入力用科目!Q121=1,\"運送収入\",\"\"))","v":""},0,0,"20240710",0,0,0,0]
[{"$f":"入力用科目!$X$2&入力用科目!$Y$2&入力用科目!$Z$2","v":""},{"$f":"(2018+(入力用科目!$A$2&入力用科目!$B$2))&入力用科目!$D$2&入力用科目!$E$2","v":"2024"},0,"1",91,92,{"$f":"IF(入力用科目!A122=\"\",G91,入力用科目!A122)","v":1},{"$f":"IF(入力用科目!Q122=\"\",\"\",入力用科目!Q122)","v":""},{"$f":"入力用科目!U122","v":0},{"$f":"入力用科目!AD122","v":0},0,null,{"$f":"IF(入力用科目!H122<>\"\",入力用科目!H122,IF(入力用科目!Q122=1,\"運送収入\",\"\"))","v":""},0,0,"20240710",0,0,0,0]
[{"$f":"入力用科目!$X$2&入力用科目!$Y$2&入力用科目!$Z$2","v":""},{"$f":"(2018+(入力用科目!$A$2&入力用科目!$B$2))&入力用科目!$D$2&入力用科目!$E$2","v":"2024"},0,"1",92,93,{"$f":"IF(入力用科目!A123=\"\",G72,入力用科目!A123)","v":1},{"$f":"IF(入力用科目!Q123=\"\",\"\",入力用科目!Q123)","v":""},{"$f":"入力用科目!U123","v":0},{"$f":"入力用科目!AD123","v":0},0,null,{"$f":"IF(入力用科目!H123<>\"\",入力用科目!H123,IF(入力用科目!Q123=1,\"運送収入\",\"\"))","v":""},0,0,"20240710",0,0,0,0]
[{"$f":"入力用科目!$X$2&入力用科目!$Y$2&入力用科目!$Z$2","v":""},{"$f":"(2018+(入力用科目!$A$2&入力用科目!$B$2))&入力用科目!$D$2&入力用科目!$E$2","v":"2024"},0,"1",93,94,{"$f":"IF(入力用科目!A124=\"\",G93,入力用科目!A124)","v":1},{"$f":"IF(入力用科目!Q124=\"\",\"\",入力用科目!Q124)","v":""},{"$f":"入力用科目!U124","v":0},{"$f":"入力用科目!AD124","v":0},0,null,{"$f":"IF(入力用科目!H124<>\"\",入力用科目!H124,IF(入力用科目!Q124=1,\"運送収入\",\"\"))","v":""},0,0,"20240710",0,0,0,0]
[{"$f":"入力用科目!$X$2&入力用科目!$Y$2&入力用科目!$Z$2","v":""},{"$f":"(2018+(入力用科目!$A$2&入力用科目!$B$2))&入力用科目!$D$2&入力用科目!$E$2","v":"2024"},0,"1",94,95,{"$f":"IF(入力用科目!A138=\"\",G94,入力用科目!A138)","v":1},{"$f":"IF(入力用科目!Q138=\"\",\"\",入力用科目!Q138)","v":""},{"$f":"入力用科目!U138","v":0},{"$f":"入力用科目!AD138","v":0},0,null,{"$f":"IF(入力用科目!H138<>\"\",入力用科目!H138,IF(入力用科目!Q138=1,\"運送収入\",\"\"))","v":""},0,0,"20240710",0,0,0,0]
[{"$f":"入力用科目!$X$2&入力用科目!$Y$2&入力用科目!$Z$2","v":""},{"$f":"(2018+(入力用科目!$A$2&入力用科目!$B$2))&入力用科目!$D$2&入力用科目!$E$2","v":"2024"},0,"1",95,96,{"$f":"IF(入力用科目!A139=\"\",G75,入力用科目!A139)","v":1},{"$f":"IF(入力用科目!Q139=\"\",\"\",入力用科目!Q139)","v":""},{"$f":"入力用科目!U139","v":0},{"$f":"入力用科目!AD139","v":0},0,null,{"$f":"IF(入力用科目!H139<>\"\",入力用科目!H139,IF(入力用科目!Q139=1,\"運送収入\",\"\"))","v":""},0,0,"20240710",0,0,0,0]
[{"$f":"入力用科目!$X$2&入力用科目!$Y$2&入力用科目!$Z$2","v":""},{"$f":"(2018+(入力用科目!$A$2&入力用科目!$B$2))&入力用科目!$D$2&入力用科目!$E$2","v":"2024"},0,"1",96,97,{"$f":"IF(入力用科目!A140=\"\",G96,入力用科目!A140)","v":1},{"$f":"IF(入力用科目!Q140=\"\",\"\",入力用科目!Q140)","v":""},{"$f":"入力用科目!U140","v":0},{"$f":"入力用科目!AD140","v":0},0,null,{"$f":"IF(入力用科目!H140<>\"\",入力用科目!H140,IF(入力用科目!Q140=1,\"運送収入\",\"\"))","v":""},0,0,"20240710",0,0,0,0]
[{"$f":"入力用科目!$X$2&入力用科目!$Y$2&入力用科目!$Z$2","v":""},{"$f":"(2018+(入力用科目!$A$2&入力用科目!$B$2))&入力用科目!$D$2&入力用科目!$E$2","v":"2024"},0,"1",97,98,{"$f":"IF(入力用科目!A141=\"\",G77,入力用科目!A141)","v":1},{"$f":"IF(入力用科目!Q141=\"\",\"\",入力用科目!Q141)","v":""},{"$f":"入力用科目!U141","v":0},{"$f":"入力用科目!AD141","v":0},0,null,{"$f":"IF(入力用科目!H141<>\"\",入力用科目!H141,IF(入力用科目!Q141=1,\"運送収入\",\"\"))","v":""},0,0,"20240710",0,0,0,0]
[{"$f":"入力用科目!$X$2&入力用科目!$Y$2&入力用科目!$Z$2","v":""},{"$f":"(2018+(入力用科目!$A$2&入力用科目!$B$2))&入力用科目!$D$2&入力用科目!$E$2","v":"2024"},0,"1",98,99,{"$f":"IF(入力用科目!A142=\"\",G98,入力用科目!A142)","v":1},{"$f":"IF(入力用科目!Q142=\"\",\"\",入力用科目!Q142)","v":""},{"$f":"入力用科目!U142","v":0},{"$f":"入力用科目!AD142","v":0},0,null,{"$f":"IF(入力用科目!H142<>\"\",入力用科目!H142,IF(入力用科目!Q142=1,\"運送収入\",\"\"))","v":""},0,0,"20240710",0,0,0,0]
[{"$f":"入力用科目!$X$2&入力用科目!$Y$2&入力用科目!$Z$2","v":""},{"$f":"(2018+(入力用科目!$A$2&入力用科目!$B$2))&入力用科目!$D$2&入力用科目!$E$2","v":"2024"},0,"1",99,100,{"$f":"IF(入力用科目!A143=\"\",G79,入力用科目!A143)","v":1},{"$f":"IF(入力用科目!Q143=\"\",\"\",入力用科目!Q143)","v":""},{"$f":"入力用科目!U143","v":0},{"$f":"入力用科目!AD143","v":0},0,null,{"$f":"IF(入力用科目!H143<>\"\",入力用科目!H143,IF(入力用科目!Q143=1,\"運送収入\",\"\"))","v":""},0,0,"20240710",0,0,0,0]
[{"$f":"入力用科目!$X$2&入力用科目!$Y$2&入力用科目!$Z$2","v":""},{"$f":"(2018+(入力用科目!$A$2&入力用科目!$B$2))&入力用科目!$D$2&入力用科目!$E$2","v":"2024"},0,"1",100,101,{"$f":"IF(入力用科目!A144=\"\",G100,入力用科目!A144)","v":1},{"$f":"IF(入力用科目!Q144=\"\",\"\",入力用科目!Q144)","v":""},{"$f":"入力用科目!U144","v":0},{"$f":"入力用科目!AD144","v":0},0,null,{"$f":"IF(入力用科目!H144<>\"\",入力用科目!H144,IF(入力用科目!Q144=1,\"運送収入\",\"\"))","v":""},0,0,"20240710",0,0,0,0]
[{"$f":"入力用科目!$X$2&入力用科目!$Y$2&入力用科目!$Z$2","v":""},{"$f":"(2018+(入力用科目!$A$2&入力用科目!$B$2))&入力用科目!$D$2&入力用科目!$E$2","v":"2024"},0,"1",101,102,{"$f":"IF(入力用科目!A145=\"\",G81,入力用科目!A145)","v":1},{"$f":"IF(入力用科目!Q145=\"\",\"\",入力用科目!Q145)","v":""},{"$f":"入力用科目!U145","v":0},{"$f":"入力用科目!AD145","v":0},0,null,{"$f":"IF(入力用科目!H145<>\"\",入力用科目!H145,IF(入力用科目!Q145=1,\"運送収入\",\"\"))","v":""},0,0,"20240710",0,0,0,0]
[{"$f":"入力用科目!$X$2&入力用科目!$Y$2&入力用科目!$Z$2","v":""},{"$f":"(2018+(入力用科目!$A$2&入力用科目!$B$2))&入力用科目!$D$2&入力用科目!$E$2","v":"2024"},0,"1",102,103,{"$f":"IF(入力用科目!A146=\"\",G102,入力用科目!A146)","v":1},{"$f":"IF(入力用科目!Q146=\"\",\"\",入力用科目!Q146)","v":""},{"$f":"入力用科目!U146","v":0},{"$f":"入力用科目!AD146","v":0},0,null,{"$f":"IF(入力用科目!H146<>\"\",入力用科目!H146,IF(入力用科目!Q146=1,\"運送収入\",\"\"))","v":""},0,0,"20240710",0,0,0,0]
[{"$f":"入力用科目!$X$2&入力用科目!$Y$2&入力用科目!$Z$2","v":""},{"$f":"(2018+(入力用科目!$A$2&入力用科目!$B$2))&入力用科目!$D$2&入力用科目!$E$2","v":"2024"},0,"1",103,104,{"$f":"IF(入力用科目!A147=\"\",G83,入力用科目!A147)","v":1},{"$f":"IF(入力用科目!Q147=\"\",\"\",入力用科目!Q147)","v":""},{"$f":"入力用科目!U147","v":0},{"$f":"入力用科目!AD147","v":0},0,null,{"$f":"IF(入力用科目!H147<>\"\",入力用科目!H147,IF(入力用科目!Q147=1,\"運送収入\",\"\"))","v":""},0,0,"20240710",0,0,0,0]
[{"$f":"入力用科目!$X$2&入力用科目!$Y$2&入力用科目!$Z$2","v":""},{"$f":"(2018+(入力用科目!$A$2&入力用科目!$B$2))&入力用科目!$D$2&入力用科目!$E$2","v":"2024"},0,"1",104,105,{"$f":"IF(入力用科目!A148=\"\",G104,入力用科目!A148)","v":1},{"$f":"IF(入力用科目!Q148=\"\",\"\",入力用科目!Q148)","v":""},{"$f":"入力用科目!U148","v":0},{"$f":"入力用科目!AD148","v":0},0,null,{"$f":"IF(入力用科目!H148<>\"\",入力用科目!H148,IF(入力用科目!Q148=1,\"運送収入\",\"\"))","v":""},0,0,"20240710",0,0,0,0]
[{"$f":"入力用科目!$X$2&入力用科目!$Y$2&入力用科目!$Z$2","v":""},{"$f":"(2018+(入力用科目!$A$2&入力用科目!$B$2))&入力用科目!$D$2&入力用科目!$E$2","v":"2024"},0,"1",105,106,{"$f":"IF(入力用科目!A149=\"\",G85,入力用科目!A149)","v":1},{"$f":"IF(入力用科目!Q149=\"\",\"\",入力用科目!Q149)","v":""},{"$f":"入力用科目!U149","v":0},{"$f":"入力用科目!AD149","v":0},0,null,{"$f":"IF(入力用科目!H149<>\"\",入力用科目!H149,IF(入力用科目!Q149=1,\"運送収入\",\"\"))","v":""},0,0,"20240710",0,0,0,0]
[{"$f":"入力用科目!$X$2&入力用科目!$Y$2&入力用科目!$Z$2","v":""},{"$f":"(2018+(入力用科目!$A$2&入力用科目!$B$2))&入力用科目!$D$2&入力用科目!$E$2","v":"2024"},0,"1",106,107,{"$f":"IF(入力用科目!A150=\"\",G106,入力用科目!A150)","v":1},{"$f":"IF(入力用科目!Q150=\"\",\"\",入力用科目!Q150)","v":""},{"$f":"入力用科目!U150","v":0},{"$f":"入力用科目!AD150","v":0},0,null,{"$f":"IF(入力用科目!H150<>\"\",入力用科目!H150,IF(入力用科目!Q150=1,\"運送収入\",\"\"))","v":""},0,0,"20240710",0,0,0,0]
[{"$f":"入力用科目!$X$2&入力用科目!$Y$2&入力用科目!$Z$2","v":""},{"$f":"(2018+(入力用科目!$A$2&入力用科目!$B$2))&入力用科目!$D$2&入力用科目!$E$2","v":"2024"},0,"1",107,108,{"$f":"IF(入力用科目!A151=\"\",G87,入力用科目!A151)","v":1},{"$f":"IF(入力用科目!Q151=\"\",\"\",入力用科目!Q151)","v":""},{"$f":"入力用科目!U151","v":0},{"$f":"入力用科目!AD151","v":0},0,null,{"$f":"IF(入力用科目!H151<>\"\",入力用科目!H151,IF(入力用科目!Q151=1,\"運送収入\",\"\"))","v":""},0,0,"20240710",0,0,0,0]
[{"$f":"入力用科目!$X$2&入力用科目!$Y$2&入力用科目!$Z$2","v":""},{"$f":"(2018+(入力用科目!$A$2&入力用科目!$B$2))&入力用科目!$D$2&入力用科目!$E$2","v":"2024"},0,"1",108,109,{"$f":"IF(入力用科目!A152=\"\",G108,入力用科目!A152)","v":1},{"$f":"IF(入力用科目!Q152=\"\",\"\",入力用科目!Q152)","v":""},{"$f":"入力用科目!U152","v":0},{"$f":"入力用科目!AD152","v":0},0,null,{"$f":"IF(入力用科目!H152<>\"\",入力用科目!H152,IF(入力用科目!Q152=1,\"運送収入\",\"\"))","v":""},0,0,"20240710",0,0,0,0]
[{"$f":"入力用科目!$X$2&入力用科目!$Y$2&入力用科目!$Z$2","v":""},{"$f":"(2018+(入力用科目!$A$2&入力用科目!$B$2))&入力用科目!$D$2&入力用科目!$E$2","v":"2024"},0,"1",109,110,{"$f":"IF(入力用科目!A153=\"\",G89,入力用科目!A153)","v":1},{"$f":"IF(入力用科目!Q153=\"\",\"\",入力用科目!Q153)","v":""},{"$f":"入力用科目!U153","v":0},{"$f":"入力用科目!AD153","v":0},0,null,{"$f":"IF(入力用科目!H153<>\"\",入力用科目!H153,IF(入力用科目!Q153=1,\"運送収入\",\"\"))","v":""},0,0,"20240710",0,0,0,0]
[{"$f":"入力用科目!$X$2&入力用科目!$Y$2&入力用科目!$Z$2","v":""},{"$f":"(2018+(入力用科目!$A$2&入力用科目!$B$2))&入力用科目!$D$2&入力用科目!$E$2","v":"2024"},0,"1",110,111,{"$f":"IF(入力用科目!A154=\"\",G110,入力用科目!A154)","v":1},{"$f":"IF(入力用科目!Q154=\"\",\"\",入力用科目!Q154)","v":""},{"$f":"入力用科目!U154","v":0},{"$f":"入力用科目!AD154","v":0},0,null,{"$f":"IF(入力用科目!H154<>\"\",入力用科目!H154,IF(入力用科目!Q154=1,\"運送収入\",\"\"))","v":""},0,0,"20240710",0,0,0,0]
[{"$f":"入力用科目!$X$2&入力用科目!$Y$2&入力用科目!$Z$2","v":""},{"$f":"(2018+(入力用科目!$A$2&入力用科目!$B$2))&入力用科目!$D$2&入力用科目!$E$2","v":"2024"},0,"1",111,112,{"$f":"IF(入力用科目!A155=\"\",G91,入力用科目!A155)","v":1},{"$f":"IF(入力用科目!Q155=\"\",\"\",入力用科目!Q155)","v":""},{"$f":"入力用科目!U155","v":0},{"$f":"入力用科目!AD155","v":0},0,null,{"$f":"IF(入力用科目!H155<>\"\",入力用科目!H155,IF(入力用科目!Q155=1,\"運送収入\",\"\"))","v":""},0,0,"20240710",0,0,0,0]
[{"$f":"入力用科目!$X$2&入力用科目!$Y$2&入力用科目!$Z$2","v":""},{"$f":"(2018+(入力用科目!$A$2&入力用科目!$B$2))&入力用科目!$D$2&入力用科目!$E$2","v":"2024"},0,"1",112,113,{"$f":"IF(入力用科目!A156=\"\",G112,入力用科目!A156)","v":1},{"$f":"IF(入力用科目!Q156=\"\",\"\",入力用科目!Q156)","v":""},{"$f":"入力用科目!U156","v":0},{"$f":"入力用科目!AD156","v":0},0,null,{"$f":"IF(入力用科目!H156<>\"\",入力用科目!H156,IF(入力用科目!Q156=1,\"運送収入\",\"\"))","v":""},0,0,"20240710",0,0,0,0]
[{"$f":"入力用科目!$X$2&入力用科目!$Y$2&入力用科目!$Z$2","v":""},{"$f":"(2018+(入力用科目!$A$2&入力用科目!$B$2))&入力用科目!$D$2&入力用科目!$E$2","v":"2024"},0,"1",113,114,{"$f":"IF(入力用科目!A157=\"\",G93,入力用科目!A157)","v":1},{"$f":"IF(入力用科目!Q157=\"\",\"\",入力用科目!Q157)","v":""},{"$f":"入力用科目!U157","v":0},{"$f":"入力用科目!AD157","v":0},0,null,{"$f":"IF(入力用科目!H157<>\"\",入力用科目!H157,IF(入力用科目!Q157=1,\"運送収入\",\"\"))","v":""},0,0,"20240710",0,0,0,0]
[{"$f":"入力用科目!$X$2&入力用科目!$Y$2&入力用科目!$Z$2","v":""},{"$f":"(2018+(入力用科目!$A$2&入力用科目!$B$2))&入力用科目!$D$2&入力用科目!$E$2","v":"2024"},0,"1",114,115,{"$f":"IF(入力用科目!A158=\"\",G114,入力用科目!A158)","v":1},{"$f":"IF(入力用科目!Q158=\"\",\"\",入力用科目!Q158)","v":""},{"$f":"入力用科目!U158","v":0},{"$f":"入力用科目!AD158","v":0},0,null,{"$f":"IF(入力用科目!H158<>\"\",入力用科目!H158,IF(入力用科目!Q158=1,\"運送収入\",\"\"))","v":""},0,0,"20240710",0,0,0,0]
[{"$f":"入力用科目!$X$2&入力用科目!$Y$2&入力用科目!$Z$2","v":""},{"$f":"(2018+(入力用科目!$A$2&入力用科目!$B$2))&入力用科目!$D$2&入力用科目!$E$2","v":"2024"},0,"1",115,116,{"$f":"IF(入力用科目!A159=\"\",G95,入力用科目!A159)","v":1},{"$f":"IF(入力用科目!Q159=\"\",\"\",入力用科目!Q159)","v":""},{"$f":"入力用科目!U159","v":0},{"$f":"入力用科目!AD159","v":0},0,null,{"$f":"IF(入力用科目!H159<>\"\",入力用科目!H159,IF(入力用科目!Q159=1,\"運送収入\",\"\"))","v":""},0,0,"20240710",0,0,0,0]
[{"$f":"入力用科目!$X$2&入力用科目!$Y$2&入力用科目!$Z$2","v":""},{"$f":"(2018+(入力用科目!$A$2&入力用科目!$B$2))&入力用科目!$D$2&入力用科目!$E$2","v":"2024"},0,"1",116,117,{"$f":"IF(入力用科目!A160=\"\",G116,入力用科目!A160)","v":1},{"$f":"IF(入力用科目!Q160=\"\",\"\",入力用科目!Q160)","v":""},{"$f":"入力用科目!U160","v":0},{"$f":"入力用科目!AD160","v":0},0,null,{"$f":"IF(入力用科目!H160<>\"\",入力用科目!H160,IF(入力用科目!Q160=1,\"運送収入\",\"\"))","v":""},0,0,"20240710",0,0,0,0]
[{"$f":"入力用科目!$X$2&入力用科目!$Y$2&入力用科目!$Z$2","v":""},{"$f":"(2018+(入力用科目!$A$2&入力用科目!$B$2))&入力用科目!$D$2&入力用科目!$E$2","v":"2024"},0,"1",117,118,{"$f":"IF(入力用科目!A161=\"\",G97,入力用科目!A161)","v":1},{"$f":"IF(入力用科目!Q161=\"\",\"\",入力用科目!Q161)","v":""},{"$f":"入力用科目!U161","v":0},{"$f":"入力用科目!AD161","v":0},0,null,{"$f":"IF(入力用科目!H161<>\"\",入力用科目!H161,IF(入力用科目!Q161=1,\"運送収入\",\"\"))","v":""},0,0,"20240710",0,0,0,0]
[{"$f":"入力用科目!$X$2&入力用科目!$Y$2&入力用科目!$Z$2","v":""},{"$f":"(2018+(入力用科目!$A$2&入力用科目!$B$2))&入力用科目!$D$2&入力用科目!$E$2","v":"2024"},0,"1",118,119,{"$f":"IF(入力用科目!A162=\"\",G118,入力用科目!A162)","v":1},{"$f":"IF(入力用科目!Q162=\"\",\"\",入力用科目!Q162)","v":""},{"$f":"入力用科目!U162","v":0},{"$f":"入力用科目!AD162","v":0},0,null,{"$f":"IF(入力用科目!H162<>\"\",入力用科目!H162,IF(入力用科目!Q162=1,\"運送収入\",\"\"))","v":""},0,0,"20240710",0,0,0,0]
[{"$f":"入力用科目!$X$2&入力用科目!$Y$2&入力用科目!$Z$2","v":""},{"$f":"(2018+(入力用科目!$A$2&入力用科目!$B$2))&入力用科目!$D$2&入力用科目!$E$2","v":"2024"},0,"1",119,120,{"$f":"IF(入力用科目!A163=\"\",G99,入力用科目!A163)","v":1},{"$f":"IF(入力用科目!Q163=\"\",\"\",入力用科目!Q163)","v":""},{"$f":"入力用科目!U163","v":0},{"$f":"入力用科目!AD163","v":0},0,null,{"$f":"IF(入力用科目!H163<>\"\",入力用科目!H163,IF(入力用科目!Q163=1,\"運送収入\",\"\"))","v":""},0,0,"20240710",0,0,0,0]
[{"$f":"入力用科目!$X$2&入力用科目!$Y$2&入力用科目!$Z$2","v":""},{"$f":"(2018+(入力用科目!$A$2&入力用科目!$B$2))&入力用科目!$D$2&入力用科目!$E$2","v":"2024"},0,"1",120,121,{"$f":"IF(入力用科目!A164=\"\",G120,入力用科目!A164)","v":1},{"$f":"IF(入力用科目!Q164=\"\",\"\",入力用科目!Q164)","v":""},{"$f":"入力用科目!U164","v":0},{"$f":"入力用科目!AD164","v":0},0,null,{"$f":"IF(入力用科目!H164<>\"\",入力用科目!H164,IF(入力用科目!Q164=1,\"運送収入\",\"\"))","v":""},0,0,"20240710",0,0,0,0]
[{"$f":"入力用科目!$X$2&入力用科目!$Y$2&入力用科目!$Z$2","v":""},{"$f":"(2018+(入力用科目!$A$2&入力用科目!$B$2))&入力用科目!$D$2&入力用科目!$E$2","v":"2024"},0,"1",121,122,{"$f":"IF(入力用科目!A165=\"\",G101,入力用科目!A165)","v":1},{"$f":"IF(入力用科目!Q165=\"\",\"\",入力用科目!Q165)","v":""},{"$f":"入力用科目!U165","v":0},{"$f":"入力用科目!AD165","v":0},0,null,{"$f":"IF(入力用科目!H165<>\"\",入力用科目!H165,IF(入力用科目!Q165=1,\"運送収入\",\"\"))","v":""},0,0,"20240710",0,0,0,0]
[{"$f":"入力用科目!$X$2&入力用科目!$Y$2&入力用科目!$Z$2","v":""},{"$f":"(2018+(入力用科目!$A$2&入力用科目!$B$2))&入力用科目!$D$2&入力用科目!$E$2","v":"2024"},0,"1",122,123,{"$f":"IF(入力用科目!A166=\"\",G122,入力用科目!A166)","v":1},{"$f":"IF(入力用科目!Q166=\"\",\"\",入力用科目!Q166)","v":""},{"$f":"入力用科目!U166","v":0},{"$f":"入力用科目!AD166","v":0},0,null,{"$f":"IF(入力用科目!H166<>\"\",入力用科目!H166,IF(入力用科目!Q166=1,\"運送収入\",\"\"))","v":""},0,0,"20240710",0,0,0,0]
[{"$f":"入力用科目!$X$2&入力用科目!$Y$2&入力用科目!$Z$2","v":""},{"$f":"(2018+(入力用科目!$A$2&入力用科目!$B$2))&入力用科目!$D$2&入力用科目!$E$2","v":"2024"},0,"1",123,124,{"$f":"IF(入力用科目!A167=\"\",G103,入力用科目!A167)","v":1},{"$f":"IF(入力用科目!Q167=\"\",\"\",入力用科目!Q167)","v":""},{"$f":"入力用科目!U167","v":0},{"$f":"入力用科目!AD167","v":0},0,null,{"$f":"IF(入力用科目!H167<>\"\",入力用科目!H167,IF(入力用科目!Q167=1,\"運送収入\",\"\"))","v":""},0,0,"20240710",0,0,0,0]
[{"$f":"入力用科目!$X$2&入力用科目!$Y$2&入力用科目!$Z$2","v":""},{"$f":"(2018+(入力用科目!$A$2&入力用科目!$B$2))&入力用科目!$D$2&入力用科目!$E$2","v":"2024"},0,"1",124,125,{"$f":"IF(入力用科目!A168=\"\",G124,入力用科目!A168)","v":1},{"$f":"IF(入力用科目!Q168=\"\",\"\",入力用科目!Q168)","v":""},{"$f":"入力用科目!U168","v":0},{"$f":"入力用科目!AD168","v":0},0,null,{"$f":"IF(入力用科目!H168<>\"\",入力用科目!H168,IF(入力用科目!Q168=1,\"運送収入\",\"\"))","v":""},0,0,"20240710",0,0,0,0]
[{"$f":"入力用科目!$X$2&入力用科目!$Y$2&入力用科目!$Z$2","v":""},{"$f":"(2018+(入力用科目!$A$2&入力用科目!$B$2))&入力用科目!$D$2&入力用科目!$E$2","v":"2024"},0,"1",125,126,{"$f":"IF(入力用科目!A182=\"\",G125,入力用科目!A182)","v":1},{"$f":"IF(入力用科目!Q182=\"\",\"\",入力用科目!Q182)","v":""},{"$f":"入力用科目!U182","v":0},{"$f":"入力用科目!AD182","v":0},0,null,{"$f":"IF(入力用科目!H182<>\"\",入力用科目!H182,IF(入力用科目!Q182=1,\"運送収入\",\"\"))","v":""},0,0,"20240710",0,0,0,0]
[{"$f":"入力用科目!$X$2&入力用科目!$Y$2&入力用科目!$Z$2","v":""},{"$f":"(2018+(入力用科目!$A$2&入力用科目!$B$2))&入力用科目!$D$2&入力用科目!$E$2","v":"2024"},0,"1",126,127,{"$f":"IF(入力用科目!A183=\"\",G106,入力用科目!A183)","v":1},{"$f":"IF(入力用科目!Q183=\"\",\"\",入力用科目!Q183)","v":""},{"$f":"入力用科目!U183","v":0},{"$f":"入力用科目!AD183","v":0},0,null,{"$f":"IF(入力用科目!H183<>\"\",入力用科目!H183,IF(入力用科目!Q183=1,\"運送収入\",\"\"))","v":""},0,0,"20240710",0,0,0,0]
[{"$f":"入力用科目!$X$2&入力用科目!$Y$2&入力用科目!$Z$2","v":""},{"$f":"(2018+(入力用科目!$A$2&入力用科目!$B$2))&入力用科目!$D$2&入力用科目!$E$2","v":"2024"},0,"1",127,128,{"$f":"IF(入力用科目!A184=\"\",G127,入力用科目!A184)","v":1},{"$f":"IF(入力用科目!Q184=\"\",\"\",入力用科目!Q184)","v":""},{"$f":"入力用科目!U184","v":0},{"$f":"入力用科目!AD184","v":0},0,null,{"$f":"IF(入力用科目!H184<>\"\",入力用科目!H184,IF(入力用科目!Q184=1,\"運送収入\",\"\"))","v":""},0,0,"20240710",0,0,0,0]
[{"$f":"入力用科目!$X$2&入力用科目!$Y$2&入力用科目!$Z$2","v":""},{"$f":"(2018+(入力用科目!$A$2&入力用科目!$B$2))&入力用科目!$D$2&入力用科目!$E$2","v":"2024"},0,"1",128,129,{"$f":"IF(入力用科目!A185=\"\",G108,入力用科目!A185)","v":1},{"$f":"IF(入力用科目!Q185=\"\",\"\",入力用科目!Q185)","v":""},{"$f":"入力用科目!U185","v":0},{"$f":"入力用科目!AD185","v":0},0,null,{"$f":"IF(入力用科目!H185<>\"\",入力用科目!H185,IF(入力用科目!Q185=1,\"運送収入\",\"\"))","v":""},0,0,"20240710",0,0,0,0]
[{"$f":"入力用科目!$X$2&入力用科目!$Y$2&入力用科目!$Z$2","v":""},{"$f":"(2018+(入力用科目!$A$2&入力用科目!$B$2))&入力用科目!$D$2&入力用科目!$E$2","v":"2024"},0,"1",129,130,{"$f":"IF(入力用科目!A186=\"\",G129,入力用科目!A186)","v":1},{"$f":"IF(入力用科目!Q186=\"\",\"\",入力用科目!Q186)","v":""},{"$f":"入力用科目!U186","v":0},{"$f":"入力用科目!AD186","v":0},0,null,{"$f":"IF(入力用科目!H186<>\"\",入力用科目!H186,IF(入力用科目!Q186=1,\"運送収入\",\"\"))","v":""},0,0,"20240710",0,0,0,0]
[{"$f":"入力用科目!$X$2&入力用科目!$Y$2&入力用科目!$Z$2","v":""},{"$f":"(2018+(入力用科目!$A$2&入力用科目!$B$2))&入力用科目!$D$2&入力用科目!$E$2","v":"2024"},0,"1",130,131,{"$f":"IF(入力用科目!A187=\"\",G110,入力用科目!A187)","v":1},{"$f":"IF(入力用科目!Q187=\"\",\"\",入力用科目!Q187)","v":""},{"$f":"入力用科目!U187","v":0},{"$f":"入力用科目!AD187","v":0},0,null,{"$f":"IF(入力用科目!H187<>\"\",入力用科目!H187,IF(入力用科目!Q187=1,\"運送収入\",\"\"))","v":""},0,0,{"$f":"TEXT(TODAY(),\"YYYYMMDD\")","v":"20240710"},0,0,0,0]
[{"$f":"入力用科目!$X$2&入力用科目!$Y$2&入力用科目!$Z$2","v":""},{"$f":"(2018+(入力用科目!$A$2&入力用科目!$B$2))&入力用科目!$D$2&入力用科目!$E$2","v":"2024"},0,"1",131,132,{"$f":"IF(入力用科目!A188=\"\",G131,入力用科目!A188)","v":1},{"$f":"IF(入力用科目!Q188=\"\",\"\",入力用科目!Q188)","v":""},{"$f":"入力用科目!U188","v":0},{"$f":"入力用科目!AD188","v":0},0,null,{"$f":"IF(入力用科目!H188<>\"\",入力用科目!H188,IF(入力用科目!Q188=1,\"運送収入\",\"\"))","v":""},0,0,"20240710",0,0,0,0]
[{"$f":"入力用科目!$X$2&入力用科目!$Y$2&入力用科目!$Z$2","v":""},{"$f":"(2018+(入力用科目!$A$2&入力用科目!$B$2))&入力用科目!$D$2&入力用科目!$E$2","v":"2024"},0,"1",132,133,{"$f":"IF(入力用科目!A189=\"\",G112,入力用科目!A189)","v":1},{"$f":"IF(入力用科目!Q189=\"\",\"\",入力用科目!Q189)","v":""},{"$f":"入力用科目!U189","v":0},{"$f":"入力用科目!AD189","v":0},0,null,{"$f":"IF(入力用科目!H189<>\"\",入力用科目!H189,IF(入力用科目!Q189=1,\"運送収入\",\"\"))","v":""},0,0,"20240710",0,0,0,0]
[{"$f":"入力用科目!$X$2&入力用科目!$Y$2&入力用科目!$Z$2","v":""},{"$f":"(2018+(入力用科目!$A$2&入力用科目!$B$2))&入力用科目!$D$2&入力用科目!$E$2","v":"2024"},0,"1",133,134,{"$f":"IF(入力用科目!A190=\"\",G133,入力用科目!A190)","v":1},{"$f":"IF(入力用科目!Q190=\"\",\"\",入力用科目!Q190)","v":""},{"$f":"入力用科目!U190","v":0},{"$f":"入力用科目!AD190","v":0},0,null,{"$f":"IF(入力用科目!H190<>\"\",入力用科目!H190,IF(入力用科目!Q190=1,\"運送収入\",\"\"))","v":""},0,0,"20240710",0,0,0,0]
[{"$f":"入力用科目!$X$2&入力用科目!$Y$2&入力用科目!$Z$2","v":""},{"$f":"(2018+(入力用科目!$A$2&入力用科目!$B$2))&入力用科目!$D$2&入力用科目!$E$2","v":"2024"},0,"1",134,135,{"$f":"IF(入力用科目!A191=\"\",G114,入力用科目!A191)","v":1},{"$f":"IF(入力用科目!Q191=\"\",\"\",入力用科目!Q191)","v":""},{"$f":"入力用科目!U191","v":0},{"$f":"入力用科目!AD191","v":0},0,null,{"$f":"IF(入力用科目!H191<>\"\",入力用科目!H191,IF(入力用科目!Q191=1,\"運送収入\",\"\"))","v":""},0,0,"20240710",0,0,0,0]
[{"$f":"入力用科目!$X$2&入力用科目!$Y$2&入力用科目!$Z$2","v":""},{"$f":"(2018+(入力用科目!$A$2&入力用科目!$B$2))&入力用科目!$D$2&入力用科目!$E$2","v":"2024"},0,"1",135,136,{"$f":"IF(入力用科目!A192=\"\",G135,入力用科目!A192)","v":1},{"$f":"IF(入力用科目!Q192=\"\",\"\",入力用科目!Q192)","v":""},{"$f":"入力用科目!U192","v":0},{"$f":"入力用科目!AD192","v":0},0,null,{"$f":"IF(入力用科目!H192<>\"\",入力用科目!H192,IF(入力用科目!Q192=1,\"運送収入\",\"\"))","v":""},0,0,"20240710",0,0,0,0]
[{"$f":"入力用科目!$X$2&入力用科目!$Y$2&入力用科目!$Z$2","v":""},{"$f":"(2018+(入力用科目!$A$2&入力用科目!$B$2))&入力用科目!$D$2&入力用科目!$E$2","v":"2024"},0,"1",136,137,{"$f":"IF(入力用科目!A193=\"\",G116,入力用科目!A193)","v":1},{"$f":"IF(入力用科目!Q193=\"\",\"\",入力用科目!Q193)","v":""},{"$f":"入力用科目!U193","v":0},{"$f":"入力用科目!AD193","v":0},0,null,{"$f":"IF(入力用科目!H193<>\"\",入力用科目!H193,IF(入力用科目!Q193=1,\"運送収入\",\"\"))","v":""},0,0,"20240710",0,0,0,0]
[{"$f":"入力用科目!$X$2&入力用科目!$Y$2&入力用科目!$Z$2","v":""},{"$f":"(2018+(入力用科目!$A$2&入力用科目!$B$2))&入力用科目!$D$2&入力用科目!$E$2","v":"2024"},0,"1",137,138,{"$f":"IF(入力用科目!A194=\"\",G137,入力用科目!A194)","v":1},{"$f":"IF(入力用科目!Q194=\"\",\"\",入力用科目!Q194)","v":""},{"$f":"入力用科目!U194","v":0},{"$f":"入力用科目!AD194","v":0},0,null,{"$f":"IF(入力用科目!H194<>\"\",入力用科目!H194,IF(入力用科目!Q194=1,\"運送収入\",\"\"))","v":""},0,0,"20240710",0,0,0,0]
[{"$f":"入力用科目!$X$2&入力用科目!$Y$2&入力用科目!$Z$2","v":""},{"$f":"(2018+(入力用科目!$A$2&入力用科目!$B$2))&入力用科目!$D$2&入力用科目!$E$2","v":"2024"},0,"1",138,139,{"$f":"IF(入力用科目!A195=\"\",G118,入力用科目!A195)","v":1},{"$f":"IF(入力用科目!Q195=\"\",\"\",入力用科目!Q195)","v":""},{"$f":"入力用科目!U195","v":0},{"$f":"入力用科目!AD195","v":0},0,null,{"$f":"IF(入力用科目!H195<>\"\",入力用科目!H195,IF(入力用科目!Q195=1,\"運送収入\",\"\"))","v":""},0,0,"20240710",0,0,0,0]
[{"$f":"入力用科目!$X$2&入力用科目!$Y$2&入力用科目!$Z$2","v":""},{"$f":"(2018+(入力用科目!$A$2&入力用科目!$B$2))&入力用科目!$D$2&入力用科目!$E$2","v":"2024"},0,"1",139,140,{"$f":"IF(入力用科目!A196=\"\",G139,入力用科目!A196)","v":1},{"$f":"IF(入力用科目!Q196=\"\",\"\",入力用科目!Q196)","v":""},{"$f":"入力用科目!U196","v":0},{"$f":"入力用科目!AD196","v":0},0,null,{"$f":"IF(入力用科目!H196<>\"\",入力用科目!H196,IF(入力用科目!Q196=1,\"運送収入\",\"\"))","v":""},0,0,"20240710",0,0,0,0]
[{"$f":"入力用科目!$X$2&入力用科目!$Y$2&入力用科目!$Z$2","v":""},{"$f":"(2018+(入力用科目!$A$2&入力用科目!$B$2))&入力用科目!$D$2&入力用科目!$E$2","v":"2024"},0,"1",140,141,{"$f":"IF(入力用科目!A197=\"\",G120,入力用科目!A197)","v":1},{"$f":"IF(入力用科目!Q197=\"\",\"\",入力用科目!Q197)","v":""},{"$f":"入力用科目!U197","v":0},{"$f":"入力用科目!AD197","v":0},0,null,{"$f":"IF(入力用科目!H197<>\"\",入力用科目!H197,IF(入力用科目!Q197=1,\"運送収入\",\"\"))","v":""},0,0,"20240710",0,0,0,0]
[{"$f":"入力用科目!$X$2&入力用科目!$Y$2&入力用科目!$Z$2","v":""},{"$f":"(2018+(入力用科目!$A$2&入力用科目!$B$2))&入力用科目!$D$2&入力用科目!$E$2","v":"2024"},0,"1",141,142,{"$f":"IF(入力用科目!A198=\"\",G141,入力用科目!A198)","v":1},{"$f":"IF(入力用科目!Q198=\"\",\"\",入力用科目!Q198)","v":""},{"$f":"入力用科目!U198","v":0},{"$f":"入力用科目!AD198","v":0},0,null,{"$f":"IF(入力用科目!H198<>\"\",入力用科目!H198,IF(入力用科目!Q198=1,\"運送収入\",\"\"))","v":""},0,0,"20240710",0,0,0,0]
[{"$f":"入力用科目!$X$2&入力用科目!$Y$2&入力用科目!$Z$2","v":""},{"$f":"(2018+(入力用科目!$A$2&入力用科目!$B$2))&入力用科目!$D$2&入力用科目!$E$2","v":"2024"},0,"1",142,143,{"$f":"IF(入力用科目!A199=\"\",G122,入力用科目!A199)","v":1},{"$f":"IF(入力用科目!Q199=\"\",\"\",入力用科目!Q199)","v":""},{"$f":"入力用科目!U199","v":0},{"$f":"入力用科目!AD199","v":0},0,null,{"$f":"IF(入力用科目!H199<>\"\",入力用科目!H199,IF(入力用科目!Q199=1,\"運送収入\",\"\"))","v":""},0,0,"20240710",0,0,0,0]
[{"$f":"入力用科目!$X$2&入力用科目!$Y$2&入力用科目!$Z$2","v":""},{"$f":"(2018+(入力用科目!$A$2&入力用科目!$B$2))&入力用科目!$D$2&入力用科目!$E$2","v":"2024"},0,"1",143,144,{"$f":"IF(入力用科目!A200=\"\",G143,入力用科目!A200)","v":1},{"$f":"IF(入力用科目!Q200=\"\",\"\",入力用科目!Q200)","v":""},{"$f":"入力用科目!U200","v":0},{"$f":"入力用科目!AD200","v":0},0,null,{"$f":"IF(入力用科目!H200<>\"\",入力用科目!H200,IF(入力用科目!Q200=1,\"運送収入\",\"\"))","v":""},0,0,"20240710",0,0,0,0]
[{"$f":"入力用科目!$X$2&入力用科目!$Y$2&入力用科目!$Z$2","v":""},{"$f":"(2018+(入力用科目!$A$2&入力用科目!$B$2))&入力用科目!$D$2&入力用科目!$E$2","v":"2024"},0,"1",144,145,{"$f":"IF(入力用科目!A201=\"\",G124,入力用科目!A201)","v":1},{"$f":"IF(入力用科目!Q201=\"\",\"\",入力用科目!Q201)","v":""},{"$f":"入力用科目!U201","v":0},{"$f":"入力用科目!AD201","v":0},0,null,{"$f":"IF(入力用科目!H201<>\"\",入力用科目!H201,IF(入力用科目!Q201=1,\"運送収入\",\"\"))","v":""},0,0,"20240710",0,0,0,0]
[{"$f":"入力用科目!$X$2&入力用科目!$Y$2&入力用科目!$Z$2","v":""},{"$f":"(2018+(入力用科目!$A$2&入力用科目!$B$2))&入力用科目!$D$2&入力用科目!$E$2","v":"2024"},0,"1",145,146,{"$f":"IF(入力用科目!A202=\"\",G145,入力用科目!A202)","v":1},{"$f":"IF(入力用科目!Q202=\"\",\"\",入力用科目!Q202)","v":""},{"$f":"入力用科目!U202","v":0},{"$f":"入力用科目!AD202","v":0},0,null,{"$f":"IF(入力用科目!H202<>\"\",入力用科目!H202,IF(入力用科目!Q202=1,\"運送収入\",\"\"))","v":""},0,0,"20240710",0,0,0,0]
[{"$f":"入力用科目!$X$2&入力用科目!$Y$2&入力用科目!$Z$2","v":""},{"$f":"(2018+(入力用科目!$A$2&入力用科目!$B$2))&入力用科目!$D$2&入力用科目!$E$2","v":"2024"},0,"1",146,147,{"$f":"IF(入力用科目!A203=\"\",G126,入力用科目!A203)","v":1},{"$f":"IF(入力用科目!Q203=\"\",\"\",入力用科目!Q203)","v":""},{"$f":"入力用科目!U203","v":0},{"$f":"入力用科目!AD203","v":0},0,null,{"$f":"IF(入力用科目!H203<>\"\",入力用科目!H203,IF(入力用科目!Q203=1,\"運送収入\",\"\"))","v":""},0,0,"20240710",0,0,0,0]
[{"$f":"入力用科目!$X$2&入力用科目!$Y$2&入力用科目!$Z$2","v":""},{"$f":"(2018+(入力用科目!$A$2&入力用科目!$B$2))&入力用科目!$D$2&入力用科目!$E$2","v":"2024"},0,"1",147,148,{"$f":"IF(入力用科目!A204=\"\",G147,入力用科目!A204)","v":1},{"$f":"IF(入力用科目!Q204=\"\",\"\",入力用科目!Q204)","v":""},{"$f":"入力用科目!U204","v":0},{"$f":"入力用科目!AD204","v":0},0,null,{"$f":"IF(入力用科目!H204<>\"\",入力用科目!H204,IF(入力用科目!Q204=1,\"運送収入\",\"\"))","v":""},0,0,"20240710",0,0,0,0]
[{"$f":"入力用科目!$X$2&入力用科目!$Y$2&入力用科目!$Z$2","v":""},{"$f":"(2018+(入力用科目!$A$2&入力用科目!$B$2))&入力用科目!$D$2&入力用科目!$E$2","v":"2024"},0,"1",148,149,{"$f":"IF(入力用科目!A205=\"\",G128,入力用科目!A205)","v":1},{"$f":"IF(入力用科目!Q205=\"\",\"\",入力用科目!Q205)","v":""},{"$f":"入力用科目!U205","v":0},{"$f":"入力用科目!AD205","v":0},0,null,{"$f":"IF(入力用科目!H205<>\"\",入力用科目!H205,IF(入力用科目!Q205=1,\"運送収入\",\"\"))","v":""},0,0,"20240710",0,0,0,0]
[{"$f":"入力用科目!$X$2&入力用科目!$Y$2&入力用科目!$Z$2","v":""},{"$f":"(2018+(入力用科目!$A$2&入力用科目!$B$2))&入力用科目!$D$2&入力用科目!$E$2","v":"2024"},0,"1",149,150,{"$f":"IF(入力用科目!A206=\"\",G149,入力用科目!A206)","v":1},{"$f":"IF(入力用科目!Q206=\"\",\"\",入力用科目!Q206)","v":""},{"$f":"入力用科目!U206","v":0},{"$f":"入力用科目!AD206","v":0},0,null,{"$f":"IF(入力用科目!H206<>\"\",入力用科目!H206,IF(入力用科目!Q206=1,\"運送収入\",\"\"))","v":""},0,0,"20240710",0,0,0,0]
[{"$f":"入力用科目!$X$2&入力用科目!$Y$2&入力用科目!$Z$2","v":""},{"$f":"(2018+(入力用科目!$A$2&入力用科目!$B$2))&入力用科目!$D$2&入力用科目!$E$2","v":"2024"},0,"1",150,151,{"$f":"IF(入力用科目!A207=\"\",G130,入力用科目!A207)","v":1},{"$f":"IF(入力用科目!Q207=\"\",\"\",入力用科目!Q207)","v":""},{"$f":"入力用科目!U207","v":0},{"$f":"入力用科目!AD207","v":0},0,null,{"$f":"IF(入力用科目!H207<>\"\",入力用科目!H207,IF(入力用科目!Q207=1,\"運送収入\",\"\"))","v":""},0,0,"20240710",0,0,0,0]
[{"$f":"入力用科目!$X$2&入力用科目!$Y$2&入力用科目!$Z$2","v":""},{"$f":"(2018+(入力用科目!$A$2&入力用科目!$B$2))&入力用科目!$D$2&入力用科目!$E$2","v":"2024"},0,"1",151,152,{"$f":"IF(入力用科目!A208=\"\",G151,入力用科目!A208)","v":1},{"$f":"IF(入力用科目!Q208=\"\",\"\",入力用科目!Q208)","v":""},{"$f":"入力用科目!U208","v":0},{"$f":"入力用科目!AD208","v":0},0,null,{"$f":"IF(入力用科目!H208<>\"\",入力用科目!H208,IF(入力用科目!Q208=1,\"運送収入\",\"\"))","v":""},0,0,"20240710",0,0,0,0]
[{"$f":"入力用科目!$X$2&入力用科目!$Y$2&入力用科目!$Z$2","v":""},{"$f":"(2018+(入力用科目!$A$2&入力用科目!$B$2))&入力用科目!$D$2&入力用科目!$E$2","v":"2024"},0,"1",152,153,{"$f":"IF(入力用科目!A209=\"\",G132,入力用科目!A209)","v":1},{"$f":"IF(入力用科目!Q209=\"\",\"\",入力用科目!Q209)","v":""},{"$f":"入力用科目!U209","v":0},{"$f":"入力用科目!AD209","v":0},0,null,{"$f":"IF(入力用科目!H209<>\"\",入力用科目!H209,IF(入力用科目!Q209=1,\"運送収入\",\"\"))","v":""},0,0,"20240710",0,0,0,0]
[{"$f":"入力用科目!$X$2&入力用科目!$Y$2&入力用科目!$Z$2","v":""},{"$f":"(2018+(入力用科目!$A$2&入力用科目!$B$2))&入力用科目!$D$2&入力用科目!$E$2","v":"2024"},0,"1",153,154,{"$f":"IF(入力用科目!A210=\"\",G153,入力用科目!A210)","v":1},{"$f":"IF(入力用科目!Q210=\"\",\"\",入力用科目!Q210)","v":""},{"$f":"入力用科目!U210","v":0},{"$f":"入力用科目!AD210","v":0},0,null,{"$f":"IF(入力用科目!H210<>\"\",入力用科目!H210,IF(入力用科目!Q210=1,\"運送収入\",\"\"))","v":""},0,0,"20240710",0,0,0,0]
[{"$f":"入力用科目!$X$2&入力用科目!$Y$2&入力用科目!$Z$2","v":""},{"$f":"(2018+(入力用科目!$A$2&入力用科目!$B$2))&入力用科目!$D$2&入力用科目!$E$2","v":"2024"},0,"1",154,155,{"$f":"IF(入力用科目!A211=\"\",G134,入力用科目!A211)","v":1},{"$f":"IF(入力用科目!Q211=\"\",\"\",入力用科目!Q211)","v":""},{"$f":"入力用科目!U211","v":0},{"$f":"入力用科目!AD211","v":0},0,null,{"$f":"IF(入力用科目!H211<>\"\",入力用科目!H211,IF(入力用科目!Q211=1,\"運送収入\",\"\"))","v":""},0,0,"20240710",0,0,0,0]
[{"$f":"入力用科目!$X$2&入力用科目!$Y$2&入力用科目!$Z$2","v":""},{"$f":"(2018+(入力用科目!$A$2&入力用科目!$B$2))&入力用科目!$D$2&入力用科目!$E$2","v":"2024"},0,"1",155,156,{"$f":"IF(入力用科目!A212=\"\",G155,入力用科目!A212)","v":1},{"$f":"IF(入力用科目!Q212=\"\",\"\",入力用科目!Q212)","v":""},{"$f":"入力用科目!U212","v":0},{"$f":"入力用科目!AD212","v":0},0,null,{"$f":"IF(入力用科目!H212<>\"\",入力用科目!H212,IF(入力用科目!Q212=1,\"運送収入\",\"\"))","v":""},0,0,"20240710",0,0,0,0]

{"sheet":"KOTEIG","index":4,"n_rows":2,"n_cols":11,"rows_kept":2,"cut":false,"hidden":true,"merged":[]}
["組合番号","年月","決算修正区分","走行料","実車料","空車料","回数","人員","営業日数","月末カード等未収金","合計収入金額"]
[{"$f":"入力用科目!$X$2&入力用科目!$Y$2&入力用科目!$Z$2","v":""},{"$f":"(2018+(入力用科目!$A$2&入力用科目!$B$2))&入力用科目!$D$2&入力用科目!$E$2","v":"2024"},0,{"$f":"入力用科目!Y43","v":0},{"$f":"入力用科目!AC43","v":0},{"$f":"入力用科目!AO43","v":0},{"$f":"入力用科目!AH43","v":0},{"$f":"入力用科目!AK43","v":0},{"$f":"入力用科目!AS43","v":0},{"$f":"入力用科目!AF40","v":0},{"$f":"入力用科目!AN40","v":0}]

{"sheet":"エプソン印刷","index":5,"n_rows":216,"n_cols":46,"rows_kept":216,"cut":false,"hidden":false,"merged":[[219,43,219,45],[219,0,219,2],[219,3,219,4],[219,20,219,25],[219,28,219,30],[219,32,219,40],[219,41,219,42],[214,39,214,45],[215,37,215,38],[217,23,218,23],[217,24,217,27],[217,28,217,32],[217,33,217,35],[217,36,217,39],[217,40,217,43],[217,44,217,45],[218,28,218,29],[209,7,209,14],[210,7,210,14],[211,7,211,14],[212,7,212,14],[214,1,218,14],[214,31,214,38],[218,37,218,38],[203,7,203,14],[204,7,204,14],[205,7,205,14],[206,7,206,14],[207,7,207,14],[208,7,208,14],[197,7,197,14],[198,7,198,14],[199,7,199,14],[200,7,200,14],[201,7,201,14],[202,7,202,14],[191,7,191,14],[192,7,192,14],[193,7,193,14],[194,7,194,14],[195,7,195,14],[196,7,196,14],[188,7,188,14],[189,7,189,14],[190,7,190,14],[179,38,179,45],[180,7,180,14],[181,7,181,14],[182,7,182,14],[183,7,183,14],[184,7,184,14],[179,0,179,1],[179,3,179,5],[179,7,179,14],[179,16,179,18],[179,20,179,27],[179,29,179,36],[185,7,185,14],[186,7,186,14],[187,7,187,14],[176,0,176,2],[176,3,176,4],[176,20,176,25],[176,28,176,30],[176,32,176,40],[176,41,176,42],[176,43,176,45],[177,28,177,29],[177,32,177,40],[177,41,177,42],[177,43,177,45],[174,28,174,29],[174,37,174,38],[175,0,175,2],[175,3,175,4],[175,20,175,25],[175,28,175,30],[175,32,175,40],[170,31,170,38],[170,39,170,45],[171,37,171,38],[173,23,174,23],[173,24,173,27],[173,28,173,32],[173,33,173,35],[173,36,173,39],[173,40,173,43],[173,44,173,45],[175,41,175,42],[175,43,175,45],[164,7,164,14],[165,7,165,14],[166,7,166,14],[167,7,167,14],[168,7,168,14],[170,1,174,14],[158,7,158,14],[159,7,159,14],[160,7,160,14],[161,7,161,14],[162,7,162,14],[163,7,163,14],[152,7,152,14],[153,7,153,14],[154,7,154,14],[155,7,155,14],[156,7,156,14],[157,7,157,14],[146,7,146,14],[147,7,147,14],[148,7,148,14],[149,7,149,14],[150,7,150,14],[151,7,151,14],[140,7,140,14],[141,7,141,14],[142,7,142,14],[143,7,143,14],[144,7,144,14],[145,7,145,14],[135,29,135,36],[135,38,135,45],[136,7,136,14],[137,7,137,14],[138,7,138,14],[139,7,139,14],[132,43,132,45],[133,28,133,29],[133,32,133,40],[133,41,133,42],[133,43,133,45],[135,0,135,1],[135,3,135,5],[135,7,135,14],[135,16,135,18],[135,20,135,27],[132,0,132,2],[132,3,132,4],[132,20,132,25],[132,28,132,30],[132,32,132,40],[132,41,132,42],[100,7,100,14],[101,7,101,14],[102,7,102,14],[103,7,103,14],[104,7,104,14],[105,7,105,14],[118,7,118,14],[124,7,124,14],[126,1,130,14],[119,7,119,14],[120,7,120,14],[121,7,121,14],[122,7,122,14],[123,7,123,14],[112,7,112,14],[113,7,113,14],[114,7,114,14],[115,7,115,14],[116,7,116,14],[117,7,117,14],[88,43,88,45],[92,7,92,14],[89,41,89,42],[89,43,89,45],[93,7,93,14],[91,29,91,36],[91,38,91,45],[89,28,89,29],[89,32,89,40],[88,28,88,30],[88,20,88,25],[88,32,88,40],[88,41,88,42],[87,0,87,2],[87,3,87,4],[87,20,87,25],[87,28,87,30],[87,32,87,40],[87,41,87,42],[82,39,82,45],[83,37,83,38],[85,23,86,23],[85,24,85,27],[85,28,85,32],[85,33,85,35],[85,36,85,39],[85,40,85,43],[85,44,85,45],[86,28,86,29],[87,43,87,45],[78,7,78,14],[79,7,79,14],[80,7,80,14],[82,1,86,14],[82,31,82,38],[86,37,86,38],[72,7,72,14],[73,7,73,14],[74,7,74,14],[75,7,75,14],[76,7,76,14],[77,7,77,14],[66,7,66,14],[67,7,67,14],[68,7,68,14],[69,7,69,14],[70,7,70,14],[71,7,71,14],[60,7,60,14],[61,7,61,14],[62,7,62,14],[63,7,63,14],[64,7,64,14],[65,7,65,14],[54,7,54,14],[55,7,55,14],[56,7,56,14],[57,7,57,14],[58,7,58,14],[59,7,59,14],[48,7,48,14],[49,7,49,14],[50,7,50,14],[51,7,51,14],[52,7,52,14],[53,7,53,14],[47,0,47,1],[47,3,47,5],[47,7,47,14],[47,16,47,18],[47,38,47,45],[47,29,47,36],[45,28,45,29],[45,32,45,40],[45,41,45,42],[45,43,45,45],[47,20,47,27],[44,43,44,45],[44,32,44,40],[44,41,44,42],[41,33,41,35],[41,36,41,39],[41,40,41,43],[41,44,41,45],[42,28,42,29],[43,20,43,25],[43,28,43,30],[43,32,43,40],[43,41,43,42],[43,43,43,45],[44,20,44,25],[44,28,44,30],[34,7,34,14],[35,7,35,14],[36,7,36,14],[38,31,38,38],[42,37,42,38],[38,39,38,45],[39,37,39,38],[41,23,42,23],[41,24,41,27],[41,28,41,32],[28,7,28,14],[29,7,29,14],[30,7,30,14],[31,7,31,14],[32,7,32,14],[33,7,33,14],[22,7,22,14],[23,7,23,14],[24,7,24,14],[25,7,25,14],[26,7,26,14],[27,7,27,14],[20,7,20,14],[21,7,21,14],[0,41,0,42],[3,38,3,45],[4,7,4,14],[5,7,5,14],[6,7,6,14],[3,7,3,14],[3,16,3,18],[3,20,3,27],[3,29,3,36],[0,0,0,2],[0,3,0,4],[0,20,0,25],[0,28,0,30],[0,43,0,45],[1,28,1,29],[1,32,1,40],[1,41,1,42],[1,43,1,45],[0,32,0,40],[88,0,88,2],[88,3,88,4],[126,31,126,38],[126,39,126,45],[3,0,3,1],[3,3,3,5],[44,0,44,2],[44,3,44,4],[43,0,43,2],[43,3,43,4],[38,1,42,14],[7,7,7,14],[8,7,8,14],[9,7,9,14],[10,7,10,14],[11,7,11,14],[12,7,12,14],[13,7,13,14],[14,7,14,14],[15,7,15,14],[16,7,16,14],[17,7,17,14],[18,7,18,14],[19,7,19,14],[129,40,129,43],[129,44,129,45],[131,41,131,42],[131,43,131,45],[130,28,130,29],[130,37,130,38],[131,32,131,40],[91,0,91,1],[91,3,91,5],[91,16,91,18],[91,20,91,27],[91,7,91,14],[94,7,94,14],[95,7,95,14],[96,7,96,14],[97,7,97,14],[98,7,98,14],[99,7,99,14],[106,7,106,14],[107,7,107,14],[108,7,108,14],[109,7,109,14],[110,7,110,14],[111,7,111,14],[131,0,131,2],[131,3,131,4],[131,20,131,25],[131,28,131,30],[127,37,127,38],[129,23,130,23],[129,24,129,27],[129,28,129,32],[129,33,129,35],[129,36,129,39]]}
[]
[{"$f":"IF(入力用科目!A2=\"\",\"\",入力用科目!A2)","v":0},{"$f":"IF(入力用科目!B2=\"\",\"\",入力用科目!B2)","v":6},null,{"$f":"IF(入力用科目!D2=\"\",\"\",入力用科目!D2)","v":""},{"$f":"IF(入力用科目!E2=\"\",\"\",入力用科目!E2)","v":""},null,null,null,null,null,null,null,null,null,null,null,null,null,null,null,null,null,null,null,null,null,null,null,null,null,null,null,{"$f":"IF(入力用科目!AG2=\"\",\"\",入力用科目!AG2)","v":""},null,null,null,null,null,null,null,null,{"$f":"IF(入力用科目!AP2=\"\",\"\",入力用科目!AP2)","v":""},null,{"$f":"IF(入力用科目!AR2=\"\",\"\",入力用科目!AR2)","v":""}]
[]
[]
[null,null,null,null,null,null,null,null,null,null,null,null,null,null,null,null,null,null,null,null,null,null,null,null,null,null,null,null,null,null,null,null,null,null,null,null,null,null,{"$f":"IF(入力用科目!$AM5=\"\",\"\",MID(TEXT(入力用科目!$AM5,\"????????\"),1,1))","v":""},{"$f":"IF(入力用科目!$AM5=\"\",\"\",MID(TEXT(入力用科目!$AM5,\"????????\"),2,1))","v":""},{"$f":"IF(入力用科目!$AM5=\"\",\"\",MID(TEXT(入力用科目!$AM5,\"????????\"),3,1))","v":""},{"$f":"IF(入力用科目!$AM5=\"\",\"\",MID(TEXT(入力用科目!$AM5,\"????????\"),4,1))","v":""},{"$f":"IF(入力用科目!$AM5=\"\",\"\",MID(TEXT(入力用科目!$AM5,\"????????\"),5,1))","v":""},{"$f":"IF(入力用科目!$AM5=\"\",\"\",MID(TEXT(入力用科目!$AM5,\"????????\"),6,1))","v":""},{"$f":"IF(入力用科目!$AM5=\"\",\"\",MID(TEXT(入力用科目!$AM5,\"????????\"),7,1))","v":""},{"$f":"IF(入力用科目!$AM5=\"\",\"\",MID(TEXT(入力用科目!$AM5,\"????????\"),8,1))","v":""}]
[{"$f":"IF(入力用科目!A6=\"\",\"\",MID(TEXT(入力用科目!$A6,\"??\"),COLUMN(),1))","v":""},{"$f":"IF(入力用科目!A6=\"\",\"\",MID(TEXT(入力用科目!$A6,\"??\"),COLUMN(),1))","v":""},null,{"$f":"IF(入力用科目!$D6=\"\",\"\",MID(TEXT(入力用科目!$D6,\"???\"),1,1))","v":""},{"$f":"IF(入力用科目!$D6=\"\",\"\",MID(TEXT(入力用科目!$D6,\"???\"),2,1))","v":""},{"$f":"IF(入力用科目!$D6=\"\",\"\",MID(TEXT(入力用科目!$D6,\"???\"),3,1))","v":""},null,{"$f":"IF(入力用科目!$Q6=1,\"運送収入\",IF(入力用科目!$H6=\"\",\"\",入力用科目!$H6))","v":""},null,null,null,null,null,null,null,null,{"$f":"IF(入力用科目!$Q6=\"\",\"\",MID(TEXT(入力用科目!$Q6,\"???\"),1,1))","v":""},{"$f":"IF(入力用科目!$Q6=\"\",\"\",MID(TEXT(入力用科目!$Q6,\"???\"),2,1))","v":""},{"$f":"IF(入力用科目!$Q6=\"\",\"\",MID(TEXT(入力用科目!$Q6,\"???\"),3,1))","v":""},null,{"$f":"IF(入力用科目!$U6=\"\",\"\",MID(TEXT(入力用科目!$U6,\"????????\"),1,1))","v":""},{"$f":"IF(入力用科目!$U6=\"\",\"\",MID(TEXT(入力用科目!$U6,\"????????\"),2,1))","v":""},{"$f":"IF(入力用科目!$U6=\"\",\"\",MID(TEXT(入力用科目!$U6,\"????????\"),3,1))","v":""},{"$f":"IF(入力用科目!$U6=\"\",\"\",MID(TEXT(入力用科目!$U6,\"????????\"),4,1))","v":""},{"$f":"IF(入力用科目!$U6=\"\",\"\",MID(TEXT(入力用科目!$U6,\"????????\"),5,1))","v":""},{"$f":"IF(入力用科目!$U6=\"\",\"\",MID(TEXT(入力用科目!$U6,\"????????\"),6,1))","v":""},{"$f":"IF(入力用科目!$U6=\"\",\"\",MID(TEXT(入力用科目!$U6,\"????????\"),7,1))","v":""},{"$f":"IF(入力用科目!$U6=\"\",\"\",MID(TEXT(入力用科目!$U6,\"????????\"),8,1))","v":""},null,{"$f":"IF(入力用科目!$AD6=\"\",\"\",MID(TEXT(入力用科目!$AD6,\"????????\"),1,1))","v":""},{"$f":"IF(入力用科目!$AD6=\"\",\"\",MID(TEXT(入力用科目!$AD6,\"????????\"),2,1))","v":""},{"$f":"IF(入力用科目!$AD6=\"\",\"\",MID(TEXT(入力用科目!$AD6,\"????????\"),3,1))","v":""},{"$f":"IF(入力用科目!$AD6=\"\",\"\",MID(TEXT(入力用科目!$AD6,\"????????\"),4,1))","v":""},{"$f":"IF(入力用科目!$AD6=\"\",\"\",MID(TEXT(入力用科目!$AD6,\"????????\"),5,1))","v":""},{"$f":"IF(入力用科目!$AD6=\"\",\"\",MID(TEXT(入力用科目!$AD6,\"????????\"),6,1))","v":""},{"$f":"IF(入力用科目!$AD6=\"\",\"\",MID(TEXT(入力用科目!$AD6,\"????????\"),7,1))","v":""},{"$f":"IF(入力用科目!$AD6=\"\",\"\",MID(TEXT(入力用科目!$AD6,\"????????\"),8,1))","v":""},null,{"$f":"IF(入力用科目!$AM6=\"\",\"\",MID(TEXT(入力用科目!$AM6,\"????????\"),1,1))","v":" "},{"$f":"IF(入力用科目!$AM6=\"\",\"\",MID(TEXT(入力用科目!$AM6,\"????????\"),2,1))","v":" "},{"$f":"IF(入力用科目!$AM6=\"\",\"\",MID(TEXT(入力用科目!$AM6,\"????????\"),3,1))","v":" "},{"$f":"IF(入力用科目!$AM6=\"\",\"\",MID(TEXT(入力用科目!$AM6,\"????????\"),4,1))","v":" "},{"$f":"IF(入力用科目!$AM6=\"\",\"\",MID(TEXT(入力用科目!$AM6,\"????????\"),5,1))","v":" "},{"$f":"IF(入力用科目!$AM6=\"\",\"\",MID(TEXT(入力用科目!$AM6,\"????????\"),6,1))","v":" "},{"$f":"IF(入力用科目!$AM6=\"\",\"\",MID(TEXT(入力用科目!$AM6,\"????????\"),7,1))","v":" "},{"$f":"IF(入力用科目!$AM6=\"\",\"\",MID(TEXT(入力用科目!$AM6,\"????????\"),8,1))","v":" "}]
[{"$f":"IF(入力用科目!A7=\"\",\"\",MID(TEXT(入力用科目!$A7,\"??\"),COLUMN(),1))","v":""},{"$f":"IF(入力用科目!A7=\"\",\"\",MID(TEXT(入力用科目!$A7,\"??\"),COLUMN(),1))","v":""},null,{"$f":"IF(入力用科目!$D7=\"\",\"\",MID(TEXT(入力用科目!$D7,\"???\"),1,1))","v":""},{"$f":"IF(入力用科目!$D7=\"\",\"\",MID(TEXT(入力用科目!$D7,\"???\"),2,1))","v":""},{"$f":"IF(入力用科目!$D7=\"\",\"\",MID(TEXT(入力用科目!$D7,\"???\"),3,1))","v":""},null,{"$f":"IF(入力用科目!$Q7=1,\"運送収入\",IF(入力用科目!$H7=\"\",\"\",入力用科目!$H7))","v":""},null,null,null,null,null,null,null,null,{"$f":"IF(入力用科目!$Q7=\"\",\"\",MID(TEXT(入力用科目!$Q7,\"???\"),1,1))","v":""},{"$f":"IF(入力用科目!$Q7=\"\",\"\",MID(TEXT(入力用科目!$Q7,\"???\"),2,1))","v":""},{"$f":"IF(入力用科目!$Q7=\"\",\"\",MID(TEXT(入力用科目!$Q7,\"???\"),3,1))","v":""},null,{"$f":"IF(入力用科目!$U7=\"\",\"\",MID(TEXT(入力用科目!$U7,\"????????\"),1,1))","v":""},{"$f":"IF(入力用科目!$U7=\"\",\"\",MID(TEXT(入力用科目!$U7,\"????????\"),2,1))","v":""},{"$f":"IF(入力用科目!$U7=\"\",\"\",MID(TEXT(入力用科目!$U7,\"????????\"),3,1))","v":""},{"$f":"IF(入力用科目!$U7=\"\",\"\",MID(TEXT(入力用科目!$U7,\"????????\"),4,1))","v":""},{"$f":"IF(入力用科目!$U7=\"\",\"\",MID(TEXT(入力用科目!$U7,\"????????\"),5,1))","v":""},{"$f":"IF(入力用科目!$U7=\"\",\"\",MID(TEXT(入力用科目!$U7,\"????????\"),6,1))","v":""},{"$f":"IF(入力用科目!$U7=\"\",\"\",MID(TEXT(入力用科目!$U7,\"????????\"),7,1))","v":""},{"$f":"IF(入力用科目!$U7=\"\",\"\",MID(TEXT(入力用科目!$U7,\"????????\"),8,1))","v":""},null,{"$f":"IF(入力用科目!$AD7=\"\",\"\",MID(TEXT(入力用科目!$AD7,\"????????\"),1,1))","v":""},{"$f":"IF(入力用科目!$AD7=\"\",\"\",MID(TEXT(入力用科目!$AD7,\"????????\"),2,1))","v":""},{"$f":"IF(入力用科目!$AD7=\"\",\"\",MID(TEXT(入力用科目!$AD7,\"????????\"),3,1))","v":""},{"$f":"IF(入力用科目!$AD7=\"\",\"\",MID(TEXT(入力用科目!$AD7,\"????????\"),4,1))","v":""},{"$f":"IF(入力用科目!$AD7=\"\",\"\",MID(TEXT(入力用科目!$AD7,\"????????\"),5,1))","v":""},{"$f":"IF(入力用科目!$AD7=\"\",\"\",MID(TEXT(入力用科目!$AD7,\"????????\"),6,1))","v":""},{"$f":"IF(入力用科目!$AD7=\"\",\"\",MID(TEXT(入力用科目!$AD7,\"????????\"),7,1))","v":""},{"$f":"IF(入力用科目!$AD7=\"\",\"\",MID(TEXT(入力用科目!$AD7,\"????????\"),8,1))","v":""},null,{"$f":"IF(入力用科目!$AM7=\"\",\"\",MID(TEXT(入力用科目!$AM7,\"????????\"),1,1))","v":" "},{"$f":"IF(入力用科目!$AM7=\"\",\"\",MID(TEXT(入力用科目!$AM7,\"????????\"),2,1))","v":" "},{"$f":"IF(入力用科目!$AM7=\"\",\"\",MID(TEXT(入力用科目!$AM7,\"????????\"),3,1))","v":" "},{"$f":"IF(入力用科目!$AM7=\"\",\"\",MID(TEXT(入力用科目!$AM7,\"????????\"),4,1))","v":" "},{"$f":"IF(入力用科目!$AM7=\"\",\"\",MID(TEXT(入力用科目!$AM7,\"????????\"),5,1))","v":" "},{"$f":"IF(入力用科目!$AM7=\"\",\"\",MID(TEXT(入力用科目!$AM7,\"????????\"),6,1))","v":" "},{"$f":"IF(入力用科目!$AM7=\"\",\"\",MID(TEXT(入力用科目!$AM7,\"????????\"),7,1))","v":" "},{"$f":"IF(入力用科目!$AM7=\"\",\"\",MID(TEXT(入力用科目!$AM7,\"????????\"),8,1))","v":" "}]
[{"$f":"IF(入力用科目!A8=\"\",\"\",MID(TEXT(入力用科目!$A8,\"??\"),COLUMN(),1))","v":""},{"$f":"IF(入力用科目!A8=\"\",\"\",MID(TEXT(入力用科目!$A8,\"??\"),COLUMN(),1))","v":""},null,{"$f":"IF(入力用科目!$D8=\"\",\"\",MID(TEXT(入力用科目!$D8,\"???\"),1,1))","v":""},{"$f":"IF(入力用科目!$D8=\"\",\"\",MID(TEXT(入力用科目!$D8,\"???\"),2,1))","v":""},{"$f":"IF(入力用科目!$D8=\"\",\"\",MID(TEXT(入力用科目!$D8,\"???\"),3,1))","v":""},null,{"$f":"IF(入力用科目!$Q8=1,\"運送収入\",IF(入力用科目!$H8=\"\",\"\",入力用科目!$H8))","v":""},null,null,null,null,null,null,null,null,{"$f":"IF(入力用科目!$Q8=\"\",\"\",MID(TEXT(入力用科目!$Q8,\"???\"),1,1))","v":""},{"$f":"IF(入力用科目!$Q8=\"\",\"\",MID(TEXT(入力用科目!$Q8,\"???\"),2,1))","v":""},{"$f":"IF(入力用科目!$Q8=\"\",\"\",MID(TEXT(入力用科目!$Q8,\"???\"),3,1))","v":""},null,{"$f":"IF(入力用科目!$U8=\"\",\"\",MID(TEXT(入力用科目!$U8,\"????????\"),1,1))","v":""},{"$f":"IF(入力用科目!$U8=\"\",\"\",MID(TEXT(入力用科目!$U8,\"????????\"),2,1))","v":""},{"$f":"IF(入力用科目!$U8=\"\",\"\",MID(TEXT(入力用科目!$U8,\"????????\"),3,1))","v":""},{"$f":"IF(入力用科目!$U8=\"\",\"\",MID(TEXT(入力用科目!$U8,\"????????\"),4,1))","v":""},{"$f":"IF(入力用科目!$U8=\"\",\"\",MID(TEXT(入力用科目!$U8,\"????????\"),5,1))","v":""},{"$f":"IF(入力用科目!$U8=\"\",\"\",MID(TEXT(入力用科目!$U8,\"????????\"),6,1))","v":""},{"$f":"IF(入力用科目!$U8=\"\",\"\",MID(TEXT(入力用科目!$U8,\"????????\"),7,1))","v":""},{"$f":"IF(入力用科目!$U8=\"\",\"\",MID(TEXT(入力用科目!$U8,\"????????\"),8,1))","v":""},null,{"$f":"IF(入力用科目!$AD8=\"\",\"\",MID(TEXT(入力用科目!$AD8,\"????????\"),1,1))","v":""},{"$f":"IF(入力用科目!$AD8=\"\",\"\",MID(TEXT(入力用科目!$AD8,\"????????\"),2,1))","v":""},{"$f":"IF(入力用科目!$AD8=\"\",\"\",MID(TEXT(入力用科目!$AD8,\"????????\"),3,1))","v":""},{"$f":"IF(入力用科目!$AD8=\"\",\"\",MID(TEXT(入力用科目!$AD8,\"????????\"),4,1))","v":""},{"$f":"IF(入力用科目!$AD8=\"\",\"\",MID(TEXT(入力用科目!$AD8,\"????????\"),5,1))","v":""},{"$f":"IF(入力用科目!$AD8=\"\",\"\",MID(TEXT(入力用科目!$AD8,\"????????\"),6,1))","v":""},{"$f":"IF(入力用科目!$AD8=\"\",\"\",MID(TEXT(入力用科目!$AD8,\"????????\"),7,1))","v":""},{"$f":"IF(入力用科目!$AD8=\"\",\"\",MID(TEXT(入力用科目!$AD8,\"????????\"),8,1))","v":""},null,{"$f":"IF(入力用科目!$AM8=\"\",\"\",MID(TEXT(入力用科目!$AM8,\"????????\"),1,1))","v":" "},{"$f":"IF(入力用科目!$AM8=\"\",\"\",MID(TEXT(入力用科目!$AM8,\"????????\"),2,1))","v":" "},{"$f":"IF(入力用科目!$AM8=\"\",\"\",MID(TEXT(入力用科目!$AM8,\"????????\"),3,1))","v":" "},{"$f":"IF(入力用科目!$AM8=\"\",\"\",MID(TEXT(入力用科目!$AM8,\"????????\"),4,1))","v":" "},{"$f":"IF(入力用科目!$AM8=\"\",\"\",MID(TEXT(入力用科目!$AM8,\"????????\"),5,1))","v":" "},{"$f":"IF(入力用科目!$AM8=\"\",\"\",MID(TEXT(入力用科目!$AM8,\"????????\"),6,1))","v":" "},{"$f":"IF(入力用科目!$AM8=\"\",\"\",MID(TEXT(入力用科目!$AM8,\"????????\"),7,1))","v":" "},{"$f":"IF(入力用科目!$AM8=\"\",\"\",MID(TEXT(入力用科目!$AM8,\"????????\"),8,1))","v":" "}]
[{"$f":"IF(入力用科目!A9=\"\",\"\",MID(TEXT(入力用科目!$A9,\"??\"),COLUMN(),1))","v":""},{"$f":"IF(入力用科目!A9=\"\",\"\",MID(TEXT(入力用科目!$A9,\"??\"),COLUMN(),1))","v":""},null,{"$f":"IF(入力用科目!$D9=\"\",\"\",MID(TEXT(入力用科目!$D9,\"???\"),1,1))","v":""},{"$f":"IF(入力用科目!$D9=\"\",\"\",MID(TEXT(入力用科目!$D9,\"???\"),2,1))","v":""},{"$f":"IF(入力用科目!$D9=\"\",\"\",MID(TEXT(入力用科目!$D9,\"???\"),3,1))","v":""},null,{"$f":"IF(入力用科目!$Q9=1,\"運送収入\",IF(入力用科目!$H9=\"\",\"\",入力用科目!$H9))","v":""},null,null,null,null,null,null,null,null,{"$f":"IF(入力用科目!$Q9=\"\",\"\",MID(TEXT(入力用科目!$Q9,\"???\"),1,1))","v":""},{"$f":"IF(入力用科目!$Q9=\"\",\"\",MID(TEXT(入力用科目!$Q9,\"???\"),2,1))","v":""},{"$f":"IF(入力用科目!$Q9=\"\",\"\",MID(TEXT(入力用科目!$Q9,\"???\"),3,1))","v":""},null,{"$f":"IF(入力用科目!$U9=\"\",\"\",MID(TEXT(入力用科目!$U9,\"????????\"),1,1))","v":""},{"$f":"IF(入力用科目!$U9=\"\",\"\",MID(TEXT(入力用科目!$U9,\"????????\"),2,1))","v":""},{"$f":"IF(入力用科目!$U9=\"\",\"\",MID(TEXT(入力用科目!$U9,\"????????\"),3,1))","v":""},{"$f":"IF(入力用科目!$U9=\"\",\"\",MID(TEXT(入力用科目!$U9,\"????????\"),4,1))","v":""},{"$f":"IF(入力用科目!$U9=\"\",\"\",MID(TEXT(入力用科目!$U9,\"????????\"),5,1))","v":""},{"$f":"IF(入力用科目!$U9=\"\",\"\",MID(TEXT(入力用科目!$U9,\"????????\"),6,1))","v":""},{"$f":"IF(入力用科目!$U9=\"\",\"\",MID(TEXT(入力用科目!$U9,\"????????\"),7,1))","v":""},{"$f":"IF(入力用科目!$U9=\"\",\"\",MID(TEXT(入力用科目!$U9,\"????????\"),8,1))","v":""},null,{"$f":"IF(入力用科目!$AD9=\"\",\"\",MID(TEXT(入力用科目!$AD9,\"????????\"),1,1))","v":""},{"$f":"IF(入力用科目!$AD9=\"\",\"\",MID(TEXT(入力用科目!$AD9,\"????????\"),2,1))","v":""},{"$f":"IF(入力用科目!$AD9=\"\",\"\",MID(TEXT(入力用科目!$AD9,\"????????\"),3,1))","v":""},{"$f":"IF(入力用科目!$AD9=\"\",\"\",MID(TEXT(入力用科目!$AD9,\"????????\"),4,1))","v":""},{"$f":"IF(入力用科目!$AD9=\"\",\"\",MID(TEXT(入力用科目!$AD9,\"????????\"),5,1))","v":""},{"$f":"IF(入力用科目!$AD9=\"\",\"\",MID(TEXT(入力用科目!$AD9,\"????????\"),6,1))","v":""},{"$f":"IF(入力用科目!$AD9=\"\",\"\",MID(TEXT(入力用科目!$AD9,\"????????\"),7,1))","v":""},{"$f":"IF(入力用科目!$AD9=\"\",\"\",MID(TEXT(入力用科目!$AD9,\"????????\"),8,1))","v":""},null,{"$f":"IF(入力用科目!$AM9=\"\",\"\",MID(TEXT(入力用科目!$AM9,\"????????\"),1,1))","v":" "},{"$f":"IF(入力用科目!$AM9=\"\",\"\",MID(TEXT(入力用科目!$AM9,\"????????\"),2,1))","v":" "},{"$f":"IF(入力用科目!$AM9=\"\",\"\",MID(TEXT(入力用科目!$AM9,\"????????\"),3,1))","v":" "},{"$f":"IF(入力用科目!$AM9=\"\",\"\",MID(TEXT(入力用科目!$AM9,\"????????\"),4,1))","v":" "},{"$f":"IF(入力用科目!$AM9=\"\",\"\",MID(TEXT(入力用科目!$AM9,\"????????\"),5,1))","v":" "},{"$f":"IF(入力用科目!$AM9=\"\",\"\",MID(TEXT(入力用科目!$AM9,\"????????\"),6,1))","v":" "},{"$f":"IF(入力用科目!$AM9=\"\",\"\",MID(TEXT(入力用科目!$AM9,\"????????\"),7,1))","v":" "},{"$f":"IF(入力用科目!$AM9=\"\",\"\",MID(TEXT(入力用科目!$AM9,\"????????\"),8,1))","v":" "}]
[{"$f":"IF(入力用科目!A10=\"\",\"\",MID(TEXT(入力用科目!$A10,\"??\"),COLUMN(),1))","v":""},{"$f":"IF(入力用科目!A10=\"\",\"\",MID(TEXT(入力用科目!$A10,\"??\"),COLUMN(),1))","v":""},null,{"$f":"IF(入力用科目!$D10=\"\",\"\",MID(TEXT(入力用科目!$D10,\"???\"),1,1))","v":""},{"$f":"IF(入力用科目!$D10=\"\",\"\",MID(TEXT(入力用科目!$D10,\"???\"),2,1))","v":""},{"$f":"IF(入力用科目!$D10=\"\",\"\",MID(TEXT(入力用科目!$D10,\"???\"),3,1))","v":""},null,{"$f":"IF(入力用科目!$Q10=1,\"運送収入\",IF(入力用科目!$H10=\"\",\"\",入力用科目!$H10))","v":""},null,null,null,null,null,null,null,null,{"$f":"IF(入力用科目!$Q10=\"\",\"\",MID(TEXT(入力用科目!$Q10,\"???\"),1,1))","v":""},{"$f":"IF(入力用科目!$Q10=\"\",\"\",MID(TEXT(入力用科目!$Q10,\"???\"),2,1))","v":""},{"$f":"IF(入力用科目!$Q10=\"\",\"\",MID(TEXT(入力用科目!$Q10,\"???\"),3,1))","v":""},null,{"$f":"IF(入力用科目!$U10=\"\",\"\",MID(TEXT(入力用科目!$U10,\"????????\"),1,1))","v":""},{"$f":"IF(入力用科目!$U10=\"\",\"\",MID(TEXT(入力用科目!$U10,\"????????\"),2,1))","v":""},{"$f":"IF(入力用科目!$U10=\"\",\"\",MID(TEXT(入力用科目!$U10,\"????????\"),3,1))","v":""},{"$f":"IF(入力用科目!$U10=\"\",\"\",MID(TEXT(入力用科目!$U10,\"????????\"),4,1))","v":""},{"$f":"IF(入力用科目!$U10=\"\",\"\",MID(TEXT(入力用科目!$U10,\"????????\"),5,1))","v":""},{"$f":"IF(入力用科目!$U10=\"\",\"\",MID(TEXT(入力用科目!$U10,\"????????\"),6,1))","v":""},{"$f":"IF(入力用科目!$U10=\"\",\"\",MID(TEXT(入力用科目!$U10,\"????????\"),7,1))","v":""},{"$f":"IF(入力用科目!$U10=\"\",\"\",MID(TEXT(入力用科目!$U10,\"????????\"),8,1))","v":""},null,{"$f":"IF(入力用科目!$AD10=\"\",\"\",MID(TEXT(入力用科目!$AD10,\"????????\"),1,1))","v":""},{"$f":"IF(入力用科目!$AD10=\"\",\"\",MID(TEXT(入力用科目!$AD10,\"????????\"),2,1))","v":""},{"$f":"IF(入力用科目!$AD10=\"\",\"\",MID(TEXT(入力用科目!$AD10,\"????????\"),3,1))","v":""},{"$f":"IF(入力用科目!$AD10=\"\",\"\",MID(TEXT(入力用科目!$AD10,\"????????\"),4,1))","v":""},{"$f":"IF(入力用科目!$AD10=\"\",\"\",MID(TEXT(入力用科目!$AD10,\"????????\"),5,1))","v":""},{"$f":"IF(入力用科目!$AD10=\"\",\"\",MID(TEXT(入力用科目!$AD10,\"????????\"),6,1))","v":""},{"$f":"IF(入力用科目!$AD10=\"\",\"\",MID(TEXT(入力用科目!$AD10,\"????????\"),7,1))","v":""},{"$f":"IF(入力用科目!$AD10=\"\",\"\",MID(TEXT(入力用科目!$AD10,\"????????\"),8,1))","v":""},null,{"$f":"IF(入力用科目!$AM10=\"\",\"\",MID(TEXT(入力用科目!$AM10,\"????????\"),1,1))","v":" "},{"$f":"IF(入力用科目!$AM10=\"\",\"\",MID(TEXT(入力用科目!$AM10,\"????????\"),2,1))","v":" "},{"$f":"IF(入力用科目!$AM10=\"\",\"\",MID(TEXT(入力用科目!$AM10,\"????????\"),3,1))","v":" "},{"$f":"IF(入力用科目!$AM10=\"\",\"\",MID(TEXT(入力用科目!$AM10,\"????????\"),4,1))","v":" "},{"$f":"IF(入力用科目!$AM10=\"\",\"\",MID(TEXT(入力用科目!$AM10,\"????????\"),5,1))","v":" "},{"$f":"IF(入力用科目!$AM10=\"\",\"\",MID(TEXT(入力用科目!$AM10,\"????????\"),6,1))","v":" "},{"$f":"IF(入力用科目!$AM10=\"\",\"\",MID(TEXT(入力用科目!$AM10,\"????????\"),7,1))","v":" "},{"$f":"IF(入力用科目!$AM10=\"\",\"\",MID(TEXT(入力用科目!$AM10,\"????????\"),8,1))","v":" "}]
[{"$f":"IF(入力用科目!A11=\"\",\"\",MID(TEXT(入力用科目!$A11,\"??\"),COLUMN(),1))","v":""},{"$f":"IF(入力用科目!A11=\"\",\"\",MID(TEXT(入力用科目!$A11,\"??\"),COLUMN(),1))","v":""},null,{"$f":"IF(入力用科目!$D11=\"\",\"\",MID(TEXT(入力用科目!$D11,\"???\"),1,1))","v":""},{"$f":"IF(入力用科目!$D11=\"\",\"\",MID(TEXT(入力用科目!$D11,\"???\"),2,1))","v":""},{"$f":"IF(入力用科目!$D11=\"\",\"\",MID(TEXT(入力用科目!$D11,\"???\"),3,1))","v":""},null,{"$f":"IF(入力用科目!$Q11=1,\"運送収入\",IF(入力用科目!$H11=\"\",\"\",入力用科目!$H11))","v":""},null,null,null,null,null,null,null,null,{"$f":"IF(入力用科目!$Q11=\"\",\"\",MID(TEXT(入力用科目!$Q11,\"???\"),1,1))","v":""},{"$f":"IF(入力用科目!$Q11=\"\",\"\",MID(TEXT(入力用科目!$Q11,\"???\"),2,1))","v":""},{"$f":"IF(入力用科目!$Q11=\"\",\"\",MID(TEXT(入力用科目!$Q11,\"???\"),3,1))","v":""},null,{"$f":"IF(入力用科目!$U11=\"\",\"\",MID(TEXT(入力用科目!$U11,\"????????\"),1,1))","v":""},{"$f":"IF(入力用科目!$U11=\"\",\"\",MID(TEXT(入力用科目!$U11,\"????????\"),2,1))","v":""},{"$f":"IF(入力用科目!$U11=\"\",\"\",MID(TEXT(入力用科目!$U11,\"????????\"),3,1))","v":""},{"$f":"IF(入力用科目!$U11=\"\",\"\",MID(TEXT(入力用科目!$U11,\"????????\"),4,1))","v":""},{"$f":"IF(入力用科目!$U11=\"\",\"\",MID(TEXT(入力用科目!$U11,\"????????\"),5,1))","v":""},{"$f":"IF(入力用科目!$U11=\"\",\"\",MID(TEXT(入力用科目!$U11,\"????????\"),6,1))","v":""},{"$f":"IF(入力用科目!$U11=\"\",\"\",MID(TEXT(入力用科目!$U11,\"????????\"),7,1))","v":""},{"$f":"IF(入力用科目!$U11=\"\",\"\",MID(TEXT(入力用科目!$U11,\"????????\"),8,1))","v":""},null,{"$f":"IF(入力用科目!$AD11=\"\",\"\",MID(TEXT(入力用科目!$AD11,\"????????\"),1,1))","v":""},{"$f":"IF(入力用科目!$AD11=\"\",\"\",MID(TEXT(入力用科目!$AD11,\"????????\"),2,1))","v":""},{"$f":"IF(入力用科目!$AD11=\"\",\"\",MID(TEXT(入力用科目!$AD11,\"????????\"),3,1))","v":""},{"$f":"IF(入力用科目!$AD11=\"\",\"\",MID(TEXT(入力用科目!$AD11,\"????????\"),4,1))","v":""},{"$f":"IF(入力用科目!$AD11=\"\",\"\",MID(TEXT(入力用科目!$AD11,\"????????\"),5,1))","v":""},{"$f":"IF(入力用科目!$AD11=\"\",\"\",MID(TEXT(入力用科目!$AD11,\"????????\"),6,1))","v":""},{"$f":"IF(入力用科目!$AD11=\"\",\"\",MID(TEXT(入力用科目!$AD11,\"????????\"),7,1))","v":""},{"$f":"IF(入力用科目!$AD11=\"\",\"\",MID(TEXT(入力用科目!$AD11,\"????????\"),8,1))","v":""},null,{"$f":"IF(入力用科目!$AM11=\"\",\"\",MID(TEXT(入力用科目!$AM11,\"????????\"),1,1))","v":" "},{"$f":"IF(入力用科目!$AM11=\"\",\"\",MID(TEXT(入力用科目!$AM11,\"????????\"),2,1))","v":" "},{"$f":"IF(入力用科目!$AM11=\"\",\"\",MID(TEXT(入力用科目!$AM11,\"????????\"),3,1))","v":" "},{"$f":"IF(入力用科目!$AM11=\"\",\"\",MID(TEXT(入力用科目!$AM11,\"????????\"),4,1))","v":" "},{"$f":"IF(入力用科目!$AM11=\"\",\"\",MID(TEXT(入力用科目!$AM11,\"????????\"),5,1))","v":" "},{"$f":"IF(入力用科目!$AM11=\"\",\"\",MID(TEXT(入力用科目!$AM11,\"????????\"),6,1))","v":" "},{"$f":"IF(入力用科目!$AM11=\"\",\"\",MID(TEXT(入力用科目!$AM11,\"????????\"),7,1))","v":" "},{"$f":"IF(入力用科目!$AM11=\"\",\"\",MID(TEXT(入力用科目!$AM11,\"????????\"),8,1))","v":" "}]
[{"$f":"IF(入力用科目!A12=\"\",\"\",MID(TEXT(入力用科目!$A12,\"??\"),COLUMN(),1))","v":""},{"$f":"IF(入力用科目!A12=\"\",\"\",MID(TEXT(入力用科目!$A12,\"??\"),COLUMN(),1))","v":""},null,{"$f":"IF(入力用科目!$D12=\"\",\"\",MID(TEXT(入力用科目!$D12,\"???\"),1,1))","v":""},{"$f":"IF(入力用科目!$D12=\"\",\"\",MID(TEXT(入力用科目!$D12,\"???\"),2,1))","v":""},{"$f":"IF(入力用科目!$D12=\"\",\"\",MID(TEXT(入力用科目!$D12,\"???\"),3,1))","v":""},null,{"$f":"IF(入力用科目!$Q12=1,\"運送収入\",IF(入力用科目!$H12=\"\",\"\",入力用科目!$H12))","v":""},null,null,null,null,null,null,null,null,{"$f":"IF(入力用科目!$Q12=\"\",\"\",MID(TEXT(入力用科目!$Q12,\"???\"),1,1))","v":""},{"$f":"IF(入力用科目!$Q12=\"\",\"\",MID(TEXT(入力用科目!$Q12,\"???\"),2,1))","v":""},{"$f":"IF(入力用科目!$Q12=\"\",\"\",MID(TEXT(入力用科目!$Q12,\"???\"),3,1))","v":""},null,{"$f":"IF(入力用科目!$U12=\"\",\"\",MID(TEXT(入力用科目!$U12,\"????????\"),1,1))","v":""},{"$f":"IF(入力用科目!$U12=\"\",\"\",MID(TEXT(入力用科目!$U12,\"????????\"),2,1))","v":""},{"$f":"IF(入力用科目!$U12=\"\",\"\",MID(TEXT(入力用科目!$U12,\"????????\"),3,1))","v":""},{"$f":"IF(入力用科目!$U12=\"\",\"\",MID(TEXT(入力用科目!$U12,\"????????\"),4,1))","v":""},{"$f":"IF(入力用科目!$U12=\"\",\"\",MID(TEXT(入力用科目!$U12,\"????????\"),5,1))","v":""},{"$f":"IF(入力用科目!$U12=\"\",\"\",MID(TEXT(入力用科目!$U12,\"????????\"),6,1))","v":""},{"$f":"IF(入力用科目!$U12=\"\",\"\",MID(TEXT(入力用科目!$U12,\"????????\"),7,1))","v":""},{"$f":"IF(入力用科目!$U12=\"\",\"\",MID(TEXT(入力用科目!$U12,\"????????\"),8,1))","v":""},null,{"$f":"IF(入力用科目!$AD12=\"\",\"\",MID(TEXT(入力用科目!$AD12,\"????????\"),1,1))","v":""},{"$f":"IF(入力用科目!$AD12=\"\",\"\",MID(TEXT(入力用科目!$AD12,\"????????\"),2,1))","v":""},{"$f":"IF(入力用科目!$AD12=\"\",\"\",MID(TEXT(入力用科目!$AD12,\"????????\"),3,1))","v":""},{"$f":"IF(入力用科目!$AD12=\"\",\"\",MID(TEXT(入力用科目!$AD12,\"????????\"),4,1))","v":""},{"$f":"IF(入力用科目!$AD12=\"\",\"\",MID(TEXT(入力用科目!$AD12,\"????????\"),5,1))","v":""},{"$f":"IF(入力用科目!$AD12=\"\",\"\",MID(TEXT(入力用科目!$AD12,\"????????\"),6,1))","v":""},{"$f":"IF(入力用科目!$AD12=\"\",\"\",MID(TEXT(入力用科目!$AD12,\"????????\"),7,1))","v":""},{"$f":"IF(入力用科目!$AD12=\"\",\"\",MID(TEXT(入力用科目!$AD12,\"????????\"),8,1))","v":""},null,{"$f":"IF(入力用科目!$AM12=\"\",\"\",MID(TEXT(入力用科目!$AM12,\"????????\"),1,1))","v":" "},{"$f":"IF(入力用科目!$AM12=\"\",\"\",MID(TEXT(入力用科目!$AM12,\"????????\"),2,1))","v":" "},{"$f":"IF(入力用科目!$AM12=\"\",\"\",MID(TEXT(入力用科目!$AM12,\"????????\"),3,1))","v":" "},{"$f":"IF(入力用科目!$AM12=\"\",\"\",MID(TEXT(入力用科目!$AM12,\"????????\"),4,1))","v":" "},{"$f":"IF(入力用科目!$AM12=\"\",\"\",MID(TEXT(入力用科目!$AM12,\"????????\"),5,1))","v":" "},{"$f":"IF(入力用科目!$AM12=\"\",\"\",MID(TEXT(入力用科目!$AM12,\"????????\"),6,1))","v":" "},{"$f":"IF(入力用科目!$AM12=\"\",\"\",MID(TEXT(入力用科目!$AM12,\"????????\"),7,1))","v":" "},{"$f":"IF(入力用科目!$AM12=\"\",\"\",MID(TEXT(入力用科目!$AM12,\"????????\"),8,1))","v":" "}]
[{"$f":"IF(入力用科目!A13=\"\",\"\",MID(TEXT(入力用科目!$A13,\"??\"),COLUMN(),1))","v":""},{"$f":"IF(入力用科目!A13=\"\",\"\",MID(TEXT(入力用科目!$A13,\"??\"),COLUMN(),1))","v":""},null,{"$f":"IF(入力用科目!$D13=\"\",\"\",MID(TEXT(入力用科目!$D13,\"???\"),1,1))","v":""},{"$f":"IF(入力用科目!$D13=\"\",\"\",MID(TEXT(入力用科目!$D13,\"???\"),2,1))","v":""},{"$f":"IF(入力用科目!$D13=\"\",\"\",MID(TEXT(入力用科目!$D13,\"???\"),3,1))","v":""},null,{"$f":"IF(入力用科目!$Q13=1,\"運送収入\",IF(入力用科目!$H13=\"\",\"\",入力用科目!$H13))","v":""},null,null,null,null,null,null,null,null,{"$f":"IF(入力用科目!$Q13=\"\",\"\",MID(TEXT(入力用科目!$Q13,\"???\"),1,1))","v":""},{"$f":"IF(入力用科目!$Q13=\"\",\"\",MID(TEXT(入力用科目!$Q13,\"???\"),2,1))","v":""},{"$f":"IF(入力用科目!$Q13=\"\",\"\",MID(TEXT(入力用科目!$Q13,\"???\"),3,1))","v":""},null,{"$f":"IF(入力用科目!$U13=\"\",\"\",MID(TEXT(入力用科目!$U13,\"????????\"),1,1))","v":""},{"$f":"IF(入力用科目!$U13=\"\",\"\",MID(TEXT(入力用科目!$U13,\"????????\"),2,1))","v":""},{"$f":"IF(入力用科目!$U13=\"\",\"\",MID(TEXT(入力用科目!$U13,\"????????\"),3,1))","v":""},{"$f":"IF(入力用科目!$U13=\"\",\"\",MID(TEXT(入力用科目!$U13,\"????????\"),4,1))","v":""},{"$f":"IF(入力用科目!$U13=\"\",\"\",MID(TEXT(入力用科目!$U13,\"????????\"),5,1))","v":""},{"$f":"IF(入力用科目!$U13=\"\",\"\",MID(TEXT(入力用科目!$U13,\"????????\"),6,1))","v":""},{"$f":"IF(入力用科目!$U13=\"\",\"\",MID(TEXT(入力用科目!$U13,\"????????\"),7,1))","v":""},{"$f":"IF(入力用科目!$U13=\"\",\"\",MID(TEXT(入力用科目!$U13,\"????????\"),8,1))","v":""},null,{"$f":"IF(入力用科目!$AD13=\"\",\"\",MID(TEXT(入力用科目!$AD13,\"????????\"),1,1))","v":""},{"$f":"IF(入力用科目!$AD13=\"\",\"\",MID(TEXT(入力用科目!$AD13,\"????????\"),2,1))","v":""},{"$f":"IF(入力用科目!$AD13=\"\",\"\",MID(TEXT(入力用科目!$AD13,\"????????\"),3,1))","v":""},{"$f":"IF(入力用科目!$AD13=\"\",\"\",MID(TEXT(入力用科目!$AD13,\"????????\"),4,1))","v":""},{"$f":"IF(入力用科目!$AD13=\"\",\"\",MID(TEXT(入力用科目!$AD13,\"????????\"),5,1))","v":""},{"$f":"IF(入力用科目!$AD13=\"\",\"\",MID(TEXT(入力用科目!$AD13,\"????????\"),6,1))","v":""},{"$f":"IF(入力用科目!$AD13=\"\",\"\",MID(TEXT(入力用科目!$AD13,\"????????\"),7,1))","v":""},{"$f":"IF(入力用科目!$AD13=\"\",\"\",MID(TEXT(入力用科目!$AD13,\"????????\"),8,1))","v":""},null,{"$f":"IF(入力用科目!$AM13=\"\",\"\",MID(TEXT(入力用科目!$AM13,\"????????\"),1,1))","v":" "},{"$f":"IF(入力用科目!$AM13=\"\",\"\",MID(TEXT(入力用科目!$AM13,\"????????\"),2,1))","v":" "},{"$f":"IF(入力用科目!$AM13=\"\",\"\",MID(TEXT(入力用科目!$AM13,\"????????\"),3,1))","v":" "},{"$f":"IF(入力用科目!$AM13=\"\",\"\",MID(TEXT(入力用科目!$AM13,\"????????\"),4,1))","v":" "},{"$f":"IF(入力用科目!$AM13=\"\",\"\",MID(TEXT(入力用科目!$AM13,\"????????\"),5,1))","v":" "},{"$f":"IF(入力用科目!$AM13=\"\",\"\",MID(TEXT(入力用科目!$AM13,\"????????\"),6,1))","v":" "},{"$f":"IF(入力用科目!$AM13=\"\",\"\",MID(TEXT(入力用科目!$AM13,\"????????\"),7,1))","v":" "},{"$f":"IF(入力用科目!$AM13=\"\",\"\",MID(TEXT(入力用科目!$AM13,\"????????\"),8,1))","v":" "}]
[{"$f":"IF(入力用科目!A14=\"\",\"\",MID(TEXT(入力用科目!$A14,\"??\"),COLUMN(),1))","v":""},{"$f":"IF(入力用科目!A14=\"\",\"\",MID(TEXT(入力用科目!$A14,\"??\"),COLUMN(),1))","v":""},null,{"$f":"IF(入力用科目!$D14=\"\",\"\",MID(TEXT(入力用科目!$D14,\"???\"),1,1))","v":""},{"$f":"IF(入力用科目!$D14=\"\",\"\",MID(TEXT(入力用科目!$D14,\"???\"),2,1))","v":""},{"$f":"IF(入力用科目!$D14=\"\",\"\",MID(TEXT(入力用科目!$D14,\"???\"),3,1))","v":""},null,{"$f":"IF(入力用科目!$Q14=1,\"運送収入\",IF(入力用科目!$H14=\"\",\"\",入力用科目!$H14))","v":""},null,null,null,null,null,null,null,null,{"$f":"IF(入力用科目!$Q14=\"\",\"\",MID(TEXT(入力用科目!$Q14,\"???\"),1,1))","v":""},{"$f":"IF(入力用科目!$Q14=\"\",\"\",MID(TEXT(入力用科目!$Q14,\"???\"),2,1))","v":""},{"$f":"IF(入力用科目!$Q14=\"\",\"\",MID(TEXT(入力用科目!$Q14,\"???\"),3,1))","v":""},null,{"$f":"IF(入力用科目!$U14=\"\",\"\",MID(TEXT(入力用科目!$U14,\"????????\"),1,1))","v":""},{"$f":"IF(入力用科目!$U14=\"\",\"\",MID(TEXT(入力用科目!$U14,\"????????\"),2,1))","v":""},{"$f":"IF(入力用科目!$U14=\"\",\"\",MID(TEXT(入力用科目!$U14,\"????????\"),3,1))","v":""},{"$f":"IF(入力用科目!$U14=\"\",\"\",MID(TEXT(入力用科目!$U14,\"????????\"),4,1))","v":""},{"$f":"IF(入力用科目!$U14=\"\",\"\",MID(TEXT(入力用科目!$U14,\"????????\"),5,1))","v":""},{"$f":"IF(入力用科目!$U14=\"\",\"\",MID(TEXT(入力用科目!$U14,\"????????\"),6,1))","v":""},{"$f":"IF(入力用科目!$U14=\"\",\"\",MID(TEXT(入力用科目!$U14,\"????????\"),7,1))","v":""},{"$f":"IF(入力用科目!$U14=\"\",\"\",MID(TEXT(入力用科目!$U14,\"????????\"),8,1))","v":""},null,{"$f":"IF(入力用科目!$AD14=\"\",\"\",MID(TEXT(入力用科目!$AD14,\"????????\"),1,1))","v":""},{"$f":"IF(入力用科目!$AD14=\"\",\"\",MID(TEXT(入力用科目!$AD14,\"????????\"),2,1))","v":""},{"$f":"IF(入力用科目!$AD14=\"\",\"\",MID(TEXT(入力用科目!$AD14,\"????????\"),3,1))","v":""},{"$f":"IF(入力用科目!$AD14=\"\",\"\",MID(TEXT(入力用科目!$AD14,\"????????\"),4,1))","v":""},{"$f":"IF(入力用科目!$AD14=\"\",\"\",MID(TEXT(入力用科目!$AD14,\"????????\"),5,1))","v":""},{"$f":"IF(入力用科目!$AD14=\"\",\"\",MID(TEXT(入力用科目!$AD14,\"????????\"),6,1))","v":""},{"$f":"IF(入力用科目!$AD14=\"\",\"\",MID(TEXT(入力用科目!$AD14,\"????????\"),7,1))","v":""},{"$f":"IF(入力用科目!$AD14=\"\",\"\",MID(TEXT(入力用科目!$AD14,\"????????\"),8,1))","v":""},null,{"$f":"IF(入力用科目!$AM14=\"\",\"\",MID(TEXT(入力用科目!$AM14,\"????????\"),1,1))","v":" "},{"$f":"IF(入力用科目!$AM14=\"\",\"\",MID(TEXT(入力用科目!$AM14,\"????????\"),2,1))","v":" "},{"$f":"IF(入力用科目!$AM14=\"\",\"\",MID(TEXT(入力用科目!$AM14,\"????????\"),3,1))","v":" "},{"$f":"IF(入力用科目!$AM14=\"\",\"\",MID(TEXT(入力用科目!$AM14,\"????????\"),4,1))","v":" "},{"$f":"IF(入力用科目!$AM14=\"\",\"\",MID(TEXT(入力用科目!$AM14,\"????????\"),5,1))","v":" "},{"$f":"IF(入力用科目!$AM14=\"\",\"\",MID(TEXT(入力用科目!$AM14,\"????????\"),6,1))","v":" "},{"$f":"IF(入力用科目!$AM14=\"\",\"\",MID(TEXT(入力用科目!$AM14,\"????????\"),7,1))","v":" "},{"$f":"IF(入力用科目!$AM14=\"\",\"\",MID(TEXT(入力用科目!$AM14,\"????????\"),8,1))","v":" "}]
[{"$f":"IF(入力用科目!A15=\"\",\"\",MID(TEXT(入力用科目!$A15,\"??\"),COLUMN(),1))","v":""},{"$f":"IF(入力用科目!A15=\"\",\"\",MID(TEXT(入力用科目!$A15,\"??\"),COLUMN(),1))","v":""},null,{"$f":"IF(入力用科目!$D15=\"\",\"\",MID(TEXT(入力用科目!$D15,\"???\"),1,1))","v":""},{"$f":"IF(入力用科目!$D15=\"\",\"\",MID(TEXT(入力用科目!$D15,\"???\"),2,1))","v":""},{"$f":"IF(入力用科目!$D15=\"\",\"\",MID(TEXT(入力用科目!$D15,\"???\"),3,1))","v":""},null,{"$f":"IF(入力用科目!$Q15=1,\"運送収入\",IF(入力用科目!$H15=\"\",\"\",入力用科目!$H15))","v":""},null,null,null,null,null,null,null,null,{"$f":"IF(入力用科目!$Q15=\"\",\"\",MID(TEXT(入力用科目!$Q15,\"???\"),1,1))","v":""},{"$f":"IF(入力用科目!$Q15=\"\",\"\",MID(TEXT(入力用科目!$Q15,\"???\"),2,1))","v":""},{"$f":"IF(入力用科目!$Q15=\"\",\"\",MID(TEXT(入力用科目!$Q15,\"???\"),3,1))","v":""},null,{"$f":"IF(入力用科目!$U15=\"\",\"\",MID(TEXT(入力用科目!$U15,\"????????\"),1,1))","v":""},{"$f":"IF(入力用科目!$U15=\"\",\"\",MID(TEXT(入力用科目!$U15,\"????????\"),2,1))","v":""},{"$f":"IF(入力用科目!$U15=\"\",\"\",MID(TEXT(入力用科目!$U15,\"????????\"),3,1))","v":""},{"$f":"IF(入力用科目!$U15=\"\",\"\",MID(TEXT(入力用科目!$U15,\"????????\"),4,1))","v":""},{"$f":"IF(入力用科目!$U15=\"\",\"\",MID(TEXT(入力用科目!$U15,\"????????\"),5,1))","v":""},{"$f":"IF(入力用科目!$U15=\"\",\"\",MID(TEXT(入力用科目!$U15,\"????????\"),6,1))","v":""},{"$f":"IF(入力用科目!$U15=\"\",\"\",MID(TEXT(入力用科目!$U15,\"????????\"),7,1))","v":""},{"$f":"IF(入力用科目!$U15=\"\",\"\",MID(TEXT(入力用科目!$U15,\"????????\"),8,1))","v":""},null,{"$f":"IF(入力用科目!$AD15=\"\",\"\",MID(TEXT(入力用科目!$AD15,\"????????\"),1,1))","v":""},{"$f":"IF(入力用科目!$AD15=\"\",\"\",MID(TEXT(入力用科目!$AD15,\"????????\"),2,1))","v":""},{"$f":"IF(入力用科目!$AD15=\"\",\"\",MID(TEXT(入力用科目!$AD15,\"????????\"),3,1))","v":""},{"$f":"IF(入力用科目!$AD15=\"\",\"\",MID(TEXT(入力用科目!$AD15,\"????????\"),4,1))","v":""},{"$f":"IF(入力用科目!$AD15=\"\",\"\",MID(TEXT(入力用科目!$AD15,\"????????\"),5,1))","v":""},{"$f":"IF(入力用科目!$AD15=\"\",\"\",MID(TEXT(入力用科目!$AD15,\"????????\"),6,1))","v":""},{"$f":"IF(入力用科目!$AD15=\"\",\"\",MID(TEXT(入力用科目!$AD15,\"????????\"),7,1))","v":""},{"$f":"IF(入力用科目!$AD15=\"\",\"\",MID(TEXT(入力用科目!$AD15,\"????????\"),8,1))","v":""},null,{"$f":"IF(入力用科目!$AM15=\"\",\"\",MID(TEXT(入力用科目!$AM15,\"????????\"),1,1))","v":" "},{"$f":"IF(入力用科目!$AM15=\"\",\"\",MID(TEXT(入力用科目!$AM15,\"????????\"),2,1))","v":" "},{"$f":"IF(入力用科目!$AM15=\"\",\"\",MID(TEXT(入力用科目!$AM15,\"????????\"),3,1))","v":" "},{"$f":"IF(入力用科目!$AM15=\"\",\"\",MID(TEXT(入力用科目!$AM15,\"????????\"),4,1))","v":" "},{"$f":"IF(入力用科目!$AM15=\"\",\"\",MID(TEXT(入力用科目!$AM15,\"????????\"),5,1))","v":" "},{"$f":"IF(入力用科目!$AM15=\"\",\"\",MID(TEXT(入力用科目!$AM15,\"????????\"),6,1))","v":" "},{"$f":"IF(入力用科目!$AM15=\"\",\"\",MID(TEXT(入力用科目!$AM15,\"????????\"),7,1))","v":" "},{"$f":"IF(入力用科目!$AM15=\"\",\"\",MID(TEXT(入力用科目!$AM15,\"????????\"),8,1))","v":" "}]
[{"$f":"IF(入力用科目!A16=\"\",\"\",MID(TEXT(入力用科目!$A16,\"??\"),COLUMN(),1))","v":""},{"$f":"IF(入力用科目!A16=\"\",\"\",MID(TEXT(入力用科目!$A16,\"??\"),COLUMN(),1))","v":""},null,{"$f":"IF(入力用科目!$D16=\"\",\"\",MID(TEXT(入力用科目!$D16,\"???\"),1,1))","v":""},{"$f":"IF(入力用科目!$D16=\"\",\"\",MID(TEXT(入力用科目!$D16,\"???\"),2,1))","v":""},{"$f":"IF(入力用科目!$D16=\"\",\"\",MID(TEXT(入力用科目!$D16,\"???\"),3,1))","v":""},null,{"$f":"IF(入力用科目!$Q16=1,\"運送収入\",IF(入力用科目!$H16=\"\",\"\",入力用科目!$H16))","v":""},null,null,null,null,null,null,null,null,{"$f":"IF(入力用科目!$Q16=\"\",\"\",MID(TEXT(入力用科目!$Q16,\"???\"),1,1))","v":""},{"$f":"IF(入力用科目!$Q16=\"\",\"\",MID(TEXT(入力用科目!$Q16,\"???\"),2,1))","v":""},{"$f":"IF(入力用科目!$Q16=\"\",\"\",MID(TEXT(入力用科目!$Q16,\"???\"),3,1))","v":""},null,{"$f":"IF(入力用科目!$U16=\"\",\"\",MID(TEXT(入力用科目!$U16,\"????????\"),1,1))","v":""},{"$f":"IF(入力用科目!$U16=\"\",\"\",MID(TEXT(入力用科目!$U16,\"????????\"),2,1))","v":""},{"$f":"IF(入力用科目!$U16=\"\",\"\",MID(TEXT(入力用科目!$U16,\"????????\"),3,1))","v":""},{"$f":"IF(入力用科目!$U16=\"\",\"\",MID(TEXT(入力用科目!$U16,\"????????\"),4,1))","v":""},{"$f":"IF(入力用科目!$U16=\"\",\"\",MID(TEXT(入力用科目!$U16,\"????????\"),5,1))","v":""},{"$f":"IF(入力用科目!$U16=\"\",\"\",MID(TEXT(入力用科目!$U16,\"????????\"),6,1))","v":""},{"$f":"IF(入力用科目!$U16=\"\",\"\",MID(TEXT(入力用科目!$U16,\"????????\"),7,1))","v":""},{"$f":"IF(入力用科目!$U16=\"\",\"\",MID(TEXT(入力用科目!$U16,\"????????\"),8,1))","v":""},null,{"$f":"IF(入力用科目!$AD16=\"\",\"\",MID(TEXT(入力用科目!$AD16,\"????????\"),1,1))","v":""},{"$f":"IF(入力用科目!$AD16=\"\",\"\",MID(TEXT(入力用科目!$AD16,\"????????\"),2,1))","v":""},{"$f":"IF(入力用科目!$AD16=\"\",\"\",MID(TEXT(入力用科目!$AD16,\"????????\"),3,1))","v":""},{"$f":"IF(入力用科目!$AD16=\"\",\"\",MID(TEXT(入力用科目!$AD16,\"????????\"),4,1))","v":""},{"$f":"IF(入力用科目!$AD16=\"\",\"\",MID(TEXT(入力用科目!$AD16,\"????????\"),5,1))","v":""},{"$f":"IF(入力用科目!$AD16=\"\",\"\",MID(TEXT(入力用科目!$AD16,\"????????\"),6,1))","v":""},{"$f":"IF(入力用科目!$AD16=\"\",\"\",MID(TEXT(入力用科目!$AD16,\"????????\"),7,1))","v":""},{"$f":"IF(入力用科目!$AD16=\"\",\"\",MID(TEXT(入力用科目!$AD16,\"????????\"),8,1))","v":""},null,{"$f":"IF(入力用科目!$AM16=\"\",\"\",MID(TEXT(入力用科目!$AM16,\"????????\"),1,1))","v":" "},{"$f":"IF(入力用科目!$AM16=\"\",\"\",MID(TEXT(入力用科目!$AM16,\"????????\"),2,1))","v":" "},{"$f":"IF(入力用科目!$AM16=\"\",\"\",MID(TEXT(入力用科目!$AM16,\"????????\"),3,1))","v":" "},{"$f":"IF(入力用科目!$AM16=\"\",\"\",MID(TEXT(入力用科目!$AM16,\"????????\"),4,1))","v":" "},{"$f":"IF(入力用科目!$AM16=\"\",\"\",MID(TEXT(入力用科目!$AM16,\"????????\"),5,1))","v":" "},{"$f":"IF(入力用科目!$AM16=\"\",\"\",MID(TEXT(入力用科目!$AM16,\"????????\"),6,1))","v":" "},{"$f":"IF(入力用科目!$AM16=\"\",\"\",MID(TEXT(入力用科目!$AM16,\"????????\"),7,1))","v":" "},{"$f":"IF(入力用科目!$AM16=\"\",\"\",MID(TEXT(入力用科目!$AM16,\"????????\"),8,1))","v":" "}]
[{"$f":"IF(入力用科目!A17=\"\",\"\",MID(TEXT(入力用科目!$A17,\"??\"),COLUMN(),1))","v":""},{"$f":"IF(入力用科目!A17=\"\",\"\",MID(TEXT(入力用科目!$A17,\"??\"),COLUMN(),1))","v":""},null,{"$f":"IF(入力用科目!$D17=\"\",\"\",MID(TEXT(入力用科目!$D17,\"???\"),1,1))","v":""},{"$f":"IF(入力用科目!$D17=\"\",\"\",MID(TEXT(入力用科目!$D17,\"???\"),2,1))","v":""},{"$f":"IF(入力用科目!$D17=\"\",\"\",MID(TEXT(入力用科目!$D17,\"???\"),3,1))","v":""},null,{"$f":"IF(入力用科目!$Q17=1,\"運送収入\",IF(入力用科目!$H17=\"\",\"\",入力用科目!$H17))","v":""},null,null,null,null,null,null,null,null,{"$f":"IF(入力用科目!$Q17=\"\",\"\",MID(TEXT(入力用科目!$Q17,\"???\"),1,1))","v":""},{"$f":"IF(入力用科目!$Q17=\"\",\"\",MID(TEXT(入力用科目!$Q17,\"???\"),2,1))","v":""},{"$f":"IF(入力用科目!$Q17=\"\",\"\",MID(TEXT(入力用科目!$Q17,\"???\"),3,1))","v":""},null,{"$f":"IF(入力用科目!$U17=\"\",\"\",MID(TEXT(入力用科目!$U17,\"????????\"),1,1))","v":""},{"$f":"IF(入力用科目!$U17=\"\",\"\",MID(TEXT(入力用科目!$U17,\"????????\"),2,1))","v":""},{"$f":"IF(入力用科目!$U17=\"\",\"\",MID(TEXT(入力用科目!$U17,\"????????\"),3,1))","v":""},{"$f":"IF(入力用科目!$U17=\"\",\"\",MID(TEXT(入力用科目!$U17,\"????????\"),4,1))","v":""},{"$f":"IF(入力用科目!$U17=\"\",\"\",MID(TEXT(入力用科目!$U17,\"????????\"),5,1))","v":""},{"$f":"IF(入力用科目!$U17=\"\",\"\",MID(TEXT(入力用科目!$U17,\"????????\"),6,1))","v":""},{"$f":"IF(入力用科目!$U17=\"\",\"\",MID(TEXT(入力用科目!$U17,\"????????\"),7,1))","v":""},{"$f":"IF(入力用科目!$U17=\"\",\"\",MID(TEXT(入力用科目!$U17,\"????????\"),8,1))","v":""},null,{"$f":"IF(入力用科目!$AD17=\"\",\"\",MID(TEXT(入力用科目!$AD17,\"????????\"),1,1))","v":""},{"$f":"IF(入力用科目!$AD17=\"\",\"\",MID(TEXT(入力用科目!$AD17,\"????????\"),2,1))","v":""},{"$f":"IF(入力用科目!$AD17=\"\",\"\",MID(TEXT(入力用科目!$AD17,\"????????\"),3,1))","v":""},{"$f":"IF(入力用科目!$AD17=\"\",\"\",MID(TEXT(入力用科目!$AD17,\"????????\"),4,1))","v":""},{"$f":"IF(入力用科目!$AD17=\"\",\"\",MID(TEXT(入力用科目!$AD17,\"????????\"),5,1))","v":""},{"$f":"IF(入力用科目!$AD17=\"\",\"\",MID(TEXT(入力用科目!$AD17,\"????????\"),6,1))","v":""},{"$f":"IF(入力用科目!$AD17=\"\",\"\",MID(TEXT(入力用科目!$AD17,\"????????\"),7,1))","v":""},{"$f":"IF(入力用科目!$AD17=\"\",\"\",MID(TEXT(入力用科目!$AD17,\"????????\"),8,1))","v":""},null,{"$f":"IF(入力用科目!$AM17=\"\",\"\",MID(TEXT(入力用科目!$AM17,\"????????\"),1,1))","v":" "},{"$f":"IF(入力用科目!$AM17=\"\",\"\",MID(TEXT(入力用科目!$AM17,\"????????\"),2,1))","v":" "},{"$f":"IF(入力用科目!$AM17=\"\",\"\",MID(TEXT(入力用科目!$AM17,\"????????\"),3,1))","v":" "},{"$f":"IF(入力用科目!$AM17=\"\",\"\",MID(TEXT(入力用科目!$AM17,\"????????\"),4,1))","v":" "},{"$f":"IF(入力用科目!$AM17=\"\",\"\",MID(TEXT(入力用科目!$AM17,\"????????\"),5,1))","v":" "},{"$f":"IF(入力用科目!$AM17=\"\",\"\",MID(TEXT(入力用科目!$AM17,\"????????\"),6,1))","v":" "},{"$f":"IF(入力用科目!$AM17=\"\",\"\",MID(TEXT(入力用科目!$AM17,\"????????\"),7,1))","v":" "},{"$f":"IF(入力用科目!$AM17=\"\",\"\",MID(TEXT(入力用科目!$AM17,\"????????\"),8,1))","v":" "}]
[{"$f":"IF(入力用科目!A18=\"\",\"\",MID(TEXT(入力用科目!$A18,\"??\"),COLUMN(),1))","v":""},{"$f":"IF(入力用科目!A18=\"\",\"\",MID(TEXT(入力用科目!$A18,\"??\"),COLUMN(),1))","v":""},null,{"$f":"IF(入力用科目!$D18=\"\",\"\",MID(TEXT(入力用科目!$D18,\"???\"),1,1))","v":""},{"$f":"IF(入力用科目!$D18=\"\",\"\",MID(TEXT(入力用科目!$D18,\"???\"),2,1))","v":""},{"$f":"IF(入力用科目!$D18=\"\",\"\",MID(TEXT(入力用科目!$D18,\"???\"),3,1))","v":""},null,{"$f":"IF(入力用科目!$Q18=1,\"運送収入\",IF(入力用科目!$H18=\"\",\"\",入力用科目!$H18))","v":""},null,null,null,null,null,null,null,null,{"$f":"IF(入力用科目!$Q18=\"\",\"\",MID(TEXT(入力用科目!$Q18,\"???\"),1,1))","v":""},{"$f":"IF(入力用科目!$Q18=\"\",\"\",MID(TEXT(入力用科目!$Q18,\"???\"),2,1))","v":""},{"$f":"IF(入力用科目!$Q18=\"\",\"\",MID(TEXT(入力用科目!$Q18,\"???\"),3,1))","v":""},null,{"$f":"IF(入力用科目!$U18=\"\",\"\",MID(TEXT(入力用科目!$U18,\"????????\"),1,1))","v":""},{"$f":"IF(入力用科目!$U18=\"\",\"\",MID(TEXT(入力用科目!$U18,\"????????\"),2,1))","v":""},{"$f":"IF(入力用科目!$U18=\"\",\"\",MID(TEXT(入力用科目!$U18,\"????????\"),3,1))","v":""},{"$f":"IF(入力用科目!$U18=\"\",\"\",MID(TEXT(入力用科目!$U18,\"????????\"),4,1))","v":""},{"$f":"IF(入力用科目!$U18=\"\",\"\",MID(TEXT(入力用科目!$U18,\"????????\"),5,1))","v":""},{"$f":"IF(入力用科目!$U18=\"\",\"\",MID(TEXT(入力用科目!$U18,\"????????\"),6,1))","v":""},{"$f":"IF(入力用科目!$U18=\"\",\"\",MID(TEXT(入力用科目!$U18,\"????????\"),7,1))","v":""},{"$f":"IF(入力用科目!$U18=\"\",\"\",MID(TEXT(入力用科目!$U18,\"????????\"),8,1))","v":""},null,{"$f":"IF(入力用科目!$AD18=\"\",\"\",MID(TEXT(入力用科目!$AD18,\"????????\"),1,1))","v":""},{"$f":"IF(入力用科目!$AD18=\"\",\"\",MID(TEXT(入力用科目!$AD18,\"????????\"),2,1))","v":""},{"$f":"IF(入力用科目!$AD18=\"\",\"\",MID(TEXT(入力用科目!$AD18,\"????????\"),3,1))","v":""},{"$f":"IF(入力用科目!$AD18=\"\",\"\",MID(TEXT(入力用科目!$AD18,\"????????\"),4,1))","v":""},{"$f":"IF(入力用科目!$AD18=\"\",\"\",MID(TEXT(入力用科目!$AD18,\"????????\"),5,1))","v":""},{"$f":"IF(入力用科目!$AD18=\"\",\"\",MID(TEXT(入力用科目!$AD18,\"????????\"),6,1))","v":""},{"$f":"IF(入力用科目!$AD18=\"\",\"\",MID(TEXT(入力用科目!$AD18,\"????????\"),7,1))","v":""},{"$f":"IF(入力用科目!$AD18=\"\",\"\",MID(TEXT(入力用科目!$AD18,\"????????\"),8,1))","v":""},null,{"$f":"IF(入力用科目!$AM18=\"\",\"\",MID(TEXT(入力用科目!$AM18,\"????????\"),1,1))","v":" "},{"$f":"IF(入力用科目!$AM18=\"\",\"\",MID(TEXT(入力用科目!$AM18,\"????????\"),2,1))","v":" "},{"$f":"IF(入力用科目!$AM18=\"\",\"\",MID(TEXT(入力用科目!$AM18,\"????????\"),3,1))","v":" "},{"$f":"IF(入力用科目!$AM18=\"\",\"\",MID(TEXT(入力用科目!$AM18,\"????????\"),4,1))","v":" "},{"$f":"IF(入力用科目!$AM18=\"\",\"\",MID(TEXT(入力用科目!$AM18,\"????????\"),5,1))","v":" "},{"$f":"IF(入力用科目!$AM18=\"\",\"\",MID(TEXT(入力用科目!$AM18,\"????????\"),6,1))","v":" "},{"$f":"IF(入力用科目!$AM18=\"\",\"\",MID(TEXT(入力用科目!$AM18,\"????????\"),7,1))","v":" "},{"$f":"IF(入力用科目!$AM18=\"\",\"\",MID(TEXT(入力用科目!$AM18,\"????????\"),8,1))","v":" "}]
[{"$f":"IF(入力用科目!A19=\"\",\"\",MID(TEXT(入力用科目!$A19,\"??\"),COLUMN(),1))","v":""},{"$f":"IF(入力用科目!A19=\"\",\"\",MID(TEXT(入力用科目!$A19,\"??\"),COLUMN(),1))","v":""},null,{"$f":"IF(入力用科目!$D19=\"\",\"\",MID(TEXT(入力用科目!$D19,\"???\"),1,1))","v":""},{"$f":"IF(入力用科目!$D19=\"\",\"\",MID(TEXT(入力用科目!$D19,\"???\"),2,1))","v":""},{"$f":"IF(入力用科目!$D19=\"\",\"\",MID(TEXT(入力用科目!$D19,\"???\"),3,1))","v":""},null,{"$f":"IF(入力用科目!$Q19=1,\"運送収入\",IF(入力用科目!$H19=\"\",\"\",入力用科目!$H19))","v":""},null,null,null,null,null,null,null,null,{"$f":"IF(入力用科目!$Q19=\"\",\"\",MID(TEXT(入力用科目!$Q19,\"???\"),1,1))","v":""},{"$f":"IF(入力用科目!$Q19=\"\",\"\",MID(TEXT(入力用科目!$Q19,\"???\"),2,1))","v":""},{"$f":"IF(入力用科目!$Q19=\"\",\"\",MID(TEXT(入力用科目!$Q19,\"???\"),3,1))","v":""},null,{"$f":"IF(入力用科目!$U19=\"\",\"\",MID(TEXT(入力用科目!$U19,\"????????\"),1,1))","v":""},{"$f":"IF(入力用科目!$U19=\"\",\"\",MID(TEXT(入力用科目!$U19,\"????????\"),2,1))","v":""},{"$f":"IF(入力用科目!$U19=\"\",\"\",MID(TEXT(入力用科目!$U19,\"????????\"),3,1))","v":""},{"$f":"IF(入力用科目!$U19=\"\",\"\",MID(TEXT(入力用科目!$U19,\"????????\"),4,1))","v":""},{"$f":"IF(入力用科目!$U19=\"\",\"\",MID(TEXT(入力用科目!$U19,\"????????\"),5,1))","v":""},{"$f":"IF(入力用科目!$U19=\"\",\"\",MID(TEXT(入力用科目!$U19,\"????????\"),6,1))","v":""},{"$f":"IF(入力用科目!$U19=\"\",\"\",MID(TEXT(入力用科目!$U19,\"????????\"),7,1))","v":""},{"$f":"IF(入力用科目!$U19=\"\",\"\",MID(TEXT(入力用科目!$U19,\"????????\"),8,1))","v":""},null,{"$f":"IF(入力用科目!$AD19=\"\",\"\",MID(TEXT(入力用科目!$AD19,\"????????\"),1,1))","v":""},{"$f":"IF(入力用科目!$AD19=\"\",\"\",MID(TEXT(入力用科目!$AD19,\"????????\"),2,1))","v":""},{"$f":"IF(入力用科目!$AD19=\"\",\"\",MID(TEXT(入力用科目!$AD19,\"????????\"),3,1))","v":""},{"$f":"IF(入力用科目!$AD19=\"\",\"\",MID(TEXT(入力用科目!$AD19,\"????????\"),4,1))","v":""},{"$f":"IF(入力用科目!$AD19=\"\",\"\",MID(TEXT(入力用科目!$AD19,\"????????\"),5,1))","v":""},{"$f":"IF(入力用科目!$AD19=\"\",\"\",MID(TEXT(入力用科目!$AD19,\"????????\"),6,1))","v":""},{"$f":"IF(入力用科目!$AD19=\"\",\"\",MID(TEXT(入力用科目!$AD19,\"????????\"),7,1))","v":""},{"$f":"IF(入力用科目!$AD19=\"\",\"\",MID(TEXT(入力用科目!$AD19,\"????????\"),8,1))","v":""},null,{"$f":"IF(入力用科目!$AM19=\"\",\"\",MID(TEXT(入力用科目!$AM19,\"????????\"),1,1))","v":" "},{"$f":"IF(入力用科目!$AM19=\"\",\"\",MID(TEXT(入力用科目!$AM19,\"????????\"),2,1))","v":" "},{"$f":"IF(入力用科目!$AM19=\"\",\"\",MID(TEXT(入力用科目!$AM19,\"????????\"),3,1))","v":" "},{"$f":"IF(入力用科目!$AM19=\"\",\"\",MID(TEXT(入力用科目!$AM19,\"????????\"),4,1))","v":" "},{"$f":"IF(入力用科目!$AM19=\"\",\"\",MID(TEXT(入力用科目!$AM19,\"????????\"),5,1))","v":" "},{"$f":"IF(入力用科目!$AM19=\"\",\"\",MID(TEXT(入力用科目!$AM19,\"????????\"),6,1))","v":" "},{"$f":"IF(入力用科目!$AM19=\"\",\"\",MID(TEXT(入力用科目!$AM19,\"????????\"),7,1))","v":" "},{"$f":"IF(入力用科目!$AM19=\"\",\"\",MID(TEXT(入力用科目!$AM19,\"????????\"),8,1))","v":" "}]
[{"$f":"IF(入力用科目!A20=\"\",\"\",MID(TEXT(入力用科目!$A20,\"??\"),COLUMN(),1))","v":""},{"$f":"IF(入力用科目!A20=\"\",\"\",MID(TEXT(入力用科目!$A20,\"??\"),COLUMN(),1))","v":""},null,{"$f":"IF(入力用科目!$D20=\"\",\"\",MID(TEXT(入力用科目!$D20,\"???\"),1,1))","v":""},{"$f":"IF(入力用科目!$D20=\"\",\"\",MID(TEXT(入力用科目!$D20,\"???\"),2,1))","v":""},{"$f":"IF(入力用科目!$D20=\"\",\"\",MID(TEXT(入力用科目!$D20,\"???\"),3,1))","v":""},null,{"$f":"IF(入力用科目!$Q20=1,\"運送収入\",IF(入力用科目!$H20=\"\",\"\",入力用科目!$H20))","v":""},null,null,null,null,null,null,null,null,{"$f":"IF(入力用科目!$Q20=\"\",\"\",MID(TEXT(入力用科目!$Q20,\"???\"),1,1))","v":""},{"$f":"IF(入力用科目!$Q20=\"\",\"\",MID(TEXT(入力用科目!$Q20,\"???\"),2,1))","v":""},{"$f":"IF(入力用科目!$Q20=\"\",\"\",MID(TEXT(入力用科目!$Q20,\"???\"),3,1))","v":""},null,{"$f":"IF(入力用科目!$U20=\"\",\"\",MID(TEXT(入力用科目!$U20,\"????????\"),1,1))","v":""},{"$f":"IF(入力用科目!$U20=\"\",\"\",MID(TEXT(入力用科目!$U20,\"????????\"),2,1))","v":""},{"$f":"IF(入力用科目!$U20=\"\",\"\",MID(TEXT(入力用科目!$U20,\"????????\"),3,1))","v":""},{"$f":"IF(入力用科目!$U20=\"\",\"\",MID(TEXT(入力用科目!$U20,\"????????\"),4,1))","v":""},{"$f":"IF(入力用科目!$U20=\"\",\"\",MID(TEXT(入力用科目!$U20,\"????????\"),5,1))","v":""},{"$f":"IF(入力用科目!$U20=\"\",\"\",MID(TEXT(入力用科目!$U20,\"????????\"),6,1))","v":""},{"$f":"IF(入力用科目!$U20=\"\",\"\",MID(TEXT(入力用科目!$U20,\"????????\"),7,1))","v":""},{"$f":"IF(入力用科目!$U20=\"\",\"\",MID(TEXT(入力用科目!$U20,\"????????\"),8,1))","v":""},null,{"$f":"IF(入力用科目!$AD20=\"\",\"\",MID(TEXT(入力用科目!$AD20,\"????????\"),1,1))","v":""},{"$f":"IF(入力用科目!$AD20=\"\",\"\",MID(TEXT(入力用科目!$AD20,\"????????\"),2,1))","v":""},{"$f":"IF(入力用科目!$AD20=\"\",\"\",MID(TEXT(入力用科目!$AD20,\"????????\"),3,1))","v":""},{"$f":"IF(入力用科目!$AD20=\"\",\"\",MID(TEXT(入力用科目!$AD20,\"????????\"),4,1))","v":""},{"$f":"IF(入力用科目!$AD20=\"\",\"\",MID(TEXT(入力用科目!$AD20,\"????????\"),5,1))","v":""},{"$f":"IF(入力用科目!$AD20=\"\",\"\",MID(TEXT(入力用科目!$AD20,\"????????\"),6,1))","v":""},{"$f":"IF(入力用科目!$AD20=\"\",\"\",MID(TEXT(入力用科目!$AD20,\"????????\"),7,1))","v":""},{"$f":"IF(入力用科目!$AD20=\"\",\"\",MID(TEXT(入力用科目!$AD20,\"????????\"),8,1))","v":""},null,{"$f":"IF(入力用科目!$AM20=\"\",\"\",MID(TEXT(入力用科目!$AM20,\"????????\"),1,1))","v":" "},{"$f":"IF(入力用科目!$AM20=\"\",\"\",MID(TEXT(入力用科目!$AM20,\"????????\"),2,1))","v":" "},{"$f":"IF(入力用科目!$AM20=\"\",\"\",MID(TEXT(入力用科目!$AM20,\"????????\"),3,1))","v":" "},{"$f":"IF(入力用科目!$AM20=\"\",\"\",MID(TEXT(入力用科目!$AM20,\"????????\"),4,1))","v":" "},{"$f":"IF(入力用科目!$AM20=\"\",\"\",MID(TEXT(入力用科目!$AM20,\"????????\"),5,1))","v":" "},{"$f":"IF(入力用科目!$AM20=\"\",\"\",MID(TEXT(入力用科目!$AM20,\"????????\"),6,1))","v":" "},{"$f":"IF(入力用科目!$AM20=\"\",\"\",MID(TEXT(入力用科目!$AM20,\"????????\"),7,1))","v":" "},{"$f":"IF(入力用科目!$AM20=\"\",\"\",MID(TEXT(入力用科目!$AM20,\"????????\"),8,1))","v":" "}]
[{"$f":"IF(入力用科目!A21=\"\",\"\",MID(TEXT(入力用科目!$A21,\"??\"),COLUMN(),1))","v":""},{"$f":"IF(入力用科目!A21=\"\",\"\",MID(TEXT(入力用科目!$A21,\"??\"),COLUMN(),1))","v":""},null,{"$f":"IF(入力用科目!$D21=\"\",\"\",MID(TEXT(入力用科目!$D21,\"???\"),1,1))","v":""},{"$f":"IF(入力用科目!$D21=\"\",\"\",MID(TEXT(入力用科目!$D21,\"???\"),2,1))","v":""},{"$f":"IF(入力用科目!$D21=\"\",\"\",MID(TEXT(入力用科目!$D21,\"???\"),3,1))","v":""},null,{"$f":"IF(入力用科目!$Q21=1,\"運送収入\",IF(入力用科目!$H21=\"\",\"\",入力用科目!$H21))","v":""},null,null,null,null,null,null,null,null,{"$f":"IF(入力用科目!$Q21=\"\",\"\",MID(TEXT(入力用科目!$Q21,\"???\"),1,1))","v":""},{"$f":"IF(入力用科目!$Q21=\"\",\"\",MID(TEXT(入力用科目!$Q21,\"???\"),2,1))","v":""},{"$f":"IF(入力用科目!$Q21=\"\",\"\",MID(TEXT(入力用科目!$Q21,\"???\"),3,1))","v":""},null,{"$f":"IF(入力用科目!$U21=\"\",\"\",MID(TEXT(入力用科目!$U21,\"????????\"),1,1))","v":""},{"$f":"IF(入力用科目!$U21=\"\",\"\",MID(TEXT(入力用科目!$U21,\"????????\"),2,1))","v":""},{"$f":"IF(入力用科目!$U21=\"\",\"\",MID(TEXT(入力用科目!$U21,\"????????\"),3,1))","v":""},{"$f":"IF(入力用科目!$U21=\"\",\"\",MID(TEXT(入力用科目!$U21,\"????????\"),4,1))","v":""},{"$f":"IF(入力用科目!$U21=\"\",\"\",MID(TEXT(入力用科目!$U21,\"????????\"),5,1))","v":""},{"$f":"IF(入力用科目!$U21=\"\",\"\",MID(TEXT(入力用科目!$U21,\"????????\"),6,1))","v":""},{"$f":"IF(入力用科目!$U21=\"\",\"\",MID(TEXT(入力用科目!$U21,\"????????\"),7,1))","v":""},{"$f":"IF(入力用科目!$U21=\"\",\"\",MID(TEXT(入力用科目!$U21,\"????????\"),8,1))","v":""},null,{"$f":"IF(入力用科目!$AD21=\"\",\"\",MID(TEXT(入力用科目!$AD21,\"????????\"),1,1))","v":""},{"$f":"IF(入力用科目!$AD21=\"\",\"\",MID(TEXT(入力用科目!$AD21,\"????????\"),2,1))","v":""},{"$f":"IF(入力用科目!$AD21=\"\",\"\",MID(TEXT(入力用科目!$AD21,\"????????\"),3,1))","v":""},{"$f":"IF(入力用科目!$AD21=\"\",\"\",MID(TEXT(入力用科目!$AD21,\"????????\"),4,1))","v":""},{"$f":"IF(入力用科目!$AD21=\"\",\"\",MID(TEXT(入力用科目!$AD21,\"????????\"),5,1))","v":""},{"$f":"IF(入力用科目!$AD21=\"\",\"\",MID(TEXT(入力用科目!$AD21,\"????????\"),6,1))","v":""},{"$f":"IF(入力用科目!$AD21=\"\",\"\",MID(TEXT(入力用科目!$AD21,\"????????\"),7,1))","v":""},{"$f":"IF(入力用科目!$AD21=\"\",\"\",MID(TEXT(入力用科目!$AD21,\"????????\"),8,1))","v":""},null,{"$f":"IF(入力用科目!$AM21=\"\",\"\",MID(TEXT(入力用科目!$AM21,\"????????\"),1,1))","v":" "},{"$f":"IF(入力用科目!$AM21=\"\",\"\",MID(TEXT(入力用科目!$AM21,\"????????\"),2,1))","v":" "},{"$f":"IF(入力用科目!$AM21=\"\",\"\",MID(TEXT(入力用科目!$AM21,\"????????\"),3,1))","v":" "},{"$f":"IF(入力用科目!$AM21=\"\",\"\",MID(TEXT(入力用科目!$AM21,\"????????\"),4,1))","v":" "},{"$f":"IF(入力用科目!$AM21=\"\",\"\",MID(TEXT(入力用科目!$AM21,\"????????\"),5,1))","v":" "},{"$f":"IF(入力用科目!$AM21=\"\",\"\",MID(TEXT(入力用科目!$AM21,\"????????\"),6,1))","v":" "},{"$f":"IF(入力用科目!$AM21=\"\",\"\",MID(TEXT(入力用科目!$AM21,\"????????\"),7,1))","v":" "},{"$f":"IF(入力用科目!$AM21=\"\",\"\",MID(TEXT(入力用科目!$AM21,\"????????\"),8,1))","v":" "}]
[{"$f":"IF(入力用科目!A22=\"\",\"\",MID(TEXT(入力用科目!$A22,\"??\"),COLUMN(),1))","v":""},{"$f":"IF(入力用科目!A22=\"\",\"\",MID(TEXT(入力用科目!$A22,\"??\"),COLUMN(),1))","v":""},null,{"$f":"IF(入力用科目!$D22=\"\",\"\",MID(TEXT(入力用科目!$D22,\"???\"),1,1))","v":""},{"$f":"IF(入力用科目!$D22=\"\",\"\",MID(TEXT(入力用科目!$D22,\"???\"),2,1))","v":""},{"$f":"IF(入力用科目!$D22=\"\",\"\",MID(TEXT(入力用科目!$D22,\"???\"),3,1))","v":""},null,{"$f":"IF(入力用科目!$Q22=1,\"運送収入\",IF(入力用科目!$H22=\"\",\"\",入力用科目!$H22))","v":""},null,null,null,null,null,null,null,null,{"$f":"IF(入力用科目!$Q22=\"\",\"\",MID(TEXT(入力用科目!$Q22,\"???\"),1,1))","v":""},{"$f":"IF(入力用科目!$Q22=\"\",\"\",MID(TEXT(入力用科目!$Q22,\"???\"),2,1))","v":""},{"$f":"IF(入力用科目!$Q22=\"\",\"\",MID(TEXT(入力用科目!$Q22,\"???\"),3,1))","v":""},null,{"$f":"IF(入力用科目!$U22=\"\",\"\",MID(TEXT(入力用科目!$U22,\"????????\"),1,1))","v":""},{"$f":"IF(入力用科目!$U22=\"\",\"\",MID(TEXT(入力用科目!$U22,\"????????\"),2,1))","v":""},{"$f":"IF(入力用科目!$U22=\"\",\"\",MID(TEXT(入力用科目!$U22,\"????????\"),3,1))","v":""},{"$f":"IF(入力用科目!$U22=\"\",\"\",MID(TEXT(入力用科目!$U22,\"????????\"),4,1))","v":""},{"$f":"IF(入力用科目!$U22=\"\",\"\",MID(TEXT(入力用科目!$U22,\"????????\"),5,1))","v":""},{"$f":"IF(入力用科目!$U22=\"\",\"\",MID(TEXT(入力用科目!$U22,\"????????\"),6,1))","v":""},{"$f":"IF(入力用科目!$U22=\"\",\"\",MID(TEXT(入力用科目!$U22,\"????????\"),7,1))","v":""},{"$f":"IF(入力用科目!$U22=\"\",\"\",MID(TEXT(入力用科目!$U22,\"????????\"),8,1))","v":""},null,{"$f":"IF(入力用科目!$AD22=\"\",\"\",MID(TEXT(入力用科目!$AD22,\"????????\"),1,1))","v":""},{"$f":"IF(入力用科目!$AD22=\"\",\"\",MID(TEXT(入力用科目!$AD22,\"????????\"),2,1))","v":""},{"$f":"IF(入力用科目!$AD22=\"\",\"\",MID(TEXT(入力用科目!$AD22,\"????????\"),3,1))","v":""},{"$f":"IF(入力用科目!$AD22=\"\",\"\",MID(TEXT(入力用科目!$AD22,\"????????\"),4,1))","v":""},{"$f":"IF(入力用科目!$AD22=\"\",\"\",MID(TEXT(入力用科目!$AD22,\"????????\"),5,1))","v":""},{"$f":"IF(入力用科目!$AD22=\"\",\"\",MID(TEXT(入力用科目!$AD22,\"????????\"),6,1))","v":""},{"$f":"IF(入力用科目!$AD22=\"\",\"\",MID(TEXT(入力用科目!$AD22,\"????????\"),7,1))","v":""},{"$f":"IF(入力用科目!$AD22=\"\",\"\",MID(TEXT(入力用科目!$AD22,\"????????\"),8,1))","v":""},null,{"$f":"IF(入力用科目!$AM22=\"\",\"\",MID(TEXT(入力用科目!$AM22,\"????????\"),1,1))","v":" "},{"$f":"IF(入力用科目!$AM22=\"\",\"\",MID(TEXT(入力用科目!$AM22,\"????????\"),2,1))","v":" "},{"$f":"IF(入力用科目!$AM22=\"\",\"\",MID(TEXT(入力用科目!$AM22,\"????????\"),3,1))","v":" "},{"$f":"IF(入力用科目!$AM22=\"\",\"\",MID(TEXT(入力用科目!$AM22,\"????????\"),4,1))","v":" "},{"$f":"IF(入力用科目!$AM22=\"\",\"\",MID(TEXT(入力用科目!$AM22,\"????????\"),5,1))","v":" "},{"$f":"IF(入力用科目!$AM22=\"\",\"\",MID(TEXT(入力用科目!$AM22,\"????????\"),6,1))","v":" "},{"$f":"IF(入力用科目!$AM22=\"\",\"\",MID(TEXT(入力用科目!$AM22,\"????????\"),7,1))","v":" "},{"$f":"IF(入力用科目!$AM22=\"\",\"\",MID(TEXT(入力用科目!$AM22,\"????????\"),8,1))","v":" "}]
[{"$f":"IF(入力用科目!A23=\"\",\"\",MID(TEXT(入力用科目!$A23,\"??\"),COLUMN(),1))","v":""},{"$f":"IF(入力用科目!A23=\"\",\"\",MID(TEXT(入力用科目!$A23,\"??\"),COLUMN(),1))","v":""},null,{"$f":"IF(入力用科目!$D23=\"\",\"\",MID(TEXT(入力用科目!$D23,\"???\"),1,1))","v":""},{"$f":"IF(入力用科目!$D23=\"\",\"\",MID(TEXT(入力用科目!$D23,\"???\"),2,1))","v":""},{"$f":"IF(入力用科目!$D23=\"\",\"\",MID(TEXT(入力用科目!$D23,\"???\"),3,1))","v":""},null,{"$f":"IF(入力用科目!$Q23=1,\"運送収入\",IF(入力用科目!$H23=\"\",\"\",入力用科目!$H23))","v":""},null,null,null,null,null,null,null,null,{"$f":"IF(入力用科目!$Q23=\"\",\"\",MID(TEXT(入力用科目!$Q23,\"???\"),1,1))","v":""},{"$f":"IF(入力用科目!$Q23=\"\",\"\",MID(TEXT(入力用科目!$Q23,\"???\"),2,1))","v":""},{"$f":"IF(入力用科目!$Q23=\"\",\"\",MID(TEXT(入力用科目!$Q23,\"???\"),3,1))","v":""},null,{"$f":"IF(入力用科目!$U23=\"\",\"\",MID(TEXT(入力用科目!$U23,\"????????\"),1,1))","v":""},{"$f":"IF(入力用科目!$U23=\"\",\"\",MID(TEXT(入力用科目!$U23,\"????????\"),2,1))","v":""},{"$f":"IF(入力用科目!$U23=\"\",\"\",MID(TEXT(入力用科目!$U23,\"????????\"),3,1))","v":""},{"$f":"IF(入力用科目!$U23=\"\",\"\",MID(TEXT(入力用科目!$U23,\"????????\"),4,1))","v":""},{"$f":"IF(入力用科目!$U23=\"\",\"\",MID(TEXT(入力用科目!$U23,\"????????\"),5,1))","v":""},{"$f":"IF(入力用科目!$U23=\"\",\"\",MID(TEXT(入力用科目!$U23,\"????????\"),6,1))","v":""},{"$f":"IF(入力用科目!$U23=\"\",\"\",MID(TEXT(入力用科目!$U23,\"????????\"),7,1))","v":""},{"$f":"IF(入力用科目!$U23=\"\",\"\",MID(TEXT(入力用科目!$U23,\"????????\"),8,1))","v":""},null,{"$f":"IF(入力用科目!$AD23=\"\",\"\",MID(TEXT(入力用科目!$AD23,\"????????\"),1,1))","v":""},{"$f":"IF(入力用科目!$AD23=\"\",\"\",MID(TEXT(入力用科目!$AD23,\"????????\"),2,1))","v":""},{"$f":"IF(入力用科目!$AD23=\"\",\"\",MID(TEXT(入力用科目!$AD23,\"????????\"),3,1))","v":""},{"$f":"IF(入力用科目!$AD23=\"\",\"\",MID(TEXT(入力用科目!$AD23,\"????????\"),4,1))","v":""},{"$f":"IF(入力用科目!$AD23=\"\",\"\",MID(TEXT(入力用科目!$AD23,\"????????\"),5,1))","v":""},{"$f":"IF(入力用科目!$AD23=\"\",\"\",MID(TEXT(入力用科目!$AD23,\"????????\"),6,1))","v":""},{"$f":"IF(入力用科目!$AD23=\"\",\"\",MID(TEXT(入力用科目!$AD23,\"????????\"),7,1))","v":""},{"$f":"IF(入力用科目!$AD23=\"\",\"\",MID(TEXT(入力用科目!$AD23,\"????????\"),8,1))","v":""},null,{"$f":"IF(入力用科目!$AM23=\"\",\"\",MID(TEXT(入力用科目!$AM23,\"????????\"),1,1))","v":" "},{"$f":"IF(入力用科目!$AM23=\"\",\"\",MID(TEXT(入力用科目!$AM23,\"????????\"),2,1))","v":" "},{"$f":"IF(入力用科目!$AM23=\"\",\"\",MID(TEXT(入力用科目!$AM23,\"????????\"),3,1))","v":" "},{"$f":"IF(入力用科目!$AM23=\"\",\"\",MID(TEXT(入力用科目!$AM23,\"????????\"),4,1))","v":" "},{"$f":"IF(入力用科目!$AM23=\"\",\"\",MID(TEXT(入力用科目!$AM23,\"????????\"),5,1))","v":" "},{"$f":"IF(入力用科目!$AM23=\"\",\"\",MID(TEXT(入力用科目!$AM23,\"????????\"),6,1))","v":" "},{"$f":"IF(入力用科目!$AM23=\"\",\"\",MID(TEXT(入力用科目!$AM23,\"????????\"),7,1))","v":" "},{"$f":"IF(入力用科目!$AM23=\"\",\"\",MID(TEXT(入力用科目!$AM23,\"????????\"),8,1))","v":" "}]
[{"$f":"IF(入力用科目!A24=\"\",\"\",MID(TEXT(入力用科目!$A24,\"??\"),COLUMN(),1))","v":""},{"$f":"IF(入力用科目!A24=\"\",\"\",MID(TEXT(入力用科目!$A24,\"??\"),COLUMN(),1))","v":""},null,{"$f":"IF(入力用科目!$D24=\"\",\"\",MID(TEXT(入力用科目!$D24,\"???\"),1,1))","v":""},{"$f":"IF(入力用科目!$D24=\"\",\"\",MID(TEXT(入力用科目!$D24,\"???\"),2,1))","v":""},{"$f":"IF(入力用科目!$D24=\"\",\"\",MID(TEXT(入力用科目!$D24,\"???\"),3,1))","v":""},null,{"$f":"IF(入力用科目!$Q24=1,\"運送収入\",IF(入力用科目!$H24=\"\",\"\",入力用科目!$H24))","v":""},null,null,null,null,null,null,null,null,{"$f":"IF(入力用科目!$Q24=\"\",\"\",MID(TEXT(入力用科目!$Q24,\"???\"),1,1))","v":""},{"$f":"IF(入力用科目!$Q24=\"\",\"\",MID(TEXT(入力用科目!$Q24,\"???\"),2,1))","v":""},{"$f":"IF(入力用科目!$Q24=\"\",\"\",MID(TEXT(入力用科目!$Q24,\"???\"),3,1))","v":""},null,{"$f":"IF(入力用科目!$U24=\"\",\"\",MID(TEXT(入力用科目!$U24,\"????????\"),1,1))","v":""},{"$f":"IF(入力用科目!$U24=\"\",\"\",MID(TEXT(入力用科目!$U24,\"????????\"),2,1))","v":""},{"$f":"IF(入力用科目!$U24=\"\",\"\",MID(TEXT(入力用科目!$U24,\"????????\"),3,1))","v":""},{"$f":"IF(入力用科目!$U24=\"\",\"\",MID(TEXT(入力用科目!$U24,\"????????\"),4,1))","v":""},{"$f":"IF(入力用科目!$U24=\"\",\"\",MID(TEXT(入力用科目!$U24,\"????????\"),5,1))","v":""},{"$f":"IF(入力用科目!$U24=\"\",\"\",MID(TEXT(入力用科目!$U24,\"????????\"),6,1))","v":""},{"$f":"IF(入力用科目!$U24=\"\",\"\",MID(TEXT(入力用科目!$U24,\"????????\"),7,1))","v":""},{"$f":"IF(入力用科目!$U24=\"\",\"\",MID(TEXT(入力用科目!$U24,\"????????\"),8,1))","v":""},null,{"$f":"IF(入力用科目!$AD24=\"\",\"\",MID(TEXT(入力用科目!$AD24,\"????????\"),1,1))","v":""},{"$f":"IF(入力用科目!$AD24=\"\",\"\",MID(TEXT(入力用科目!$AD24,\"????????\"),2,1))","v":""},{"$f":"IF(入力用科目!$AD24=\"\",\"\",MID(TEXT(入力用科目!$AD24,\"????????\"),3,1))","v":""},{"$f":"IF(入力用科目!$AD24=\"\",\"\",MID(TEXT(入力用科目!$AD24,\"????????\"),4,1))","v":""},{"$f":"IF(入力用科目!$AD24=\"\",\"\",MID(TEXT(入力用科目!$AD24,\"????????\"),5,1))","v":""},{"$f":"IF(入力用科目!$AD24=\"\",\"\",MID(TEXT(入力用科目!$AD24,\"????????\"),6,1))","v":""},{"$f":"IF(入力用科目!$AD24=\"\",\"\",MID(TEXT(入力用科目!$AD24,\"????????\"),7,1))","v":""},{"$f":"IF(入力用科目!$AD24=\"\",\"\",MID(TEXT(入力用科目!$AD24,\"????????\"),8,1))","v":""},null,{"$f":"IF(入力用科目!$AM24=\"\",\"\",MID(TEXT(入力用科目!$AM24,\"????????\"),1,1))","v":" "},{"$f":"IF(入力用科目!$AM24=\"\",\"\",MID(TEXT(入力用科目!$AM24,\"????????\"),2,1))","v":" "},{"$f":"IF(入力用科目!$AM24=\"\",\"\",MID(TEXT(入力用科目!$AM24,\"????????\"),3,1))","v":" "},{"$f":"IF(入力用科目!$AM24=\"\",\"\",MID(TEXT(入力用科目!$AM24,\"????????\"),4,1))","v":" "},{"$f":"IF(入力用科目!$AM24=\"\",\"\",MID(TEXT(入力用科目!$AM24,\"????????\"),5,1))","v":" "},{"$f":"IF(入力用科目!$AM24=\"\",\"\",MID(TEXT(入力用科目!$AM24,\"????????\"),6,1))","v":" "},{"$f":"IF(入力用科目!$AM24=\"\",\"\",MID(TEXT(入力用科目!$AM24,\"????????\"),7,1))","v":" "},{"$f":"IF(入力用科目!$AM24=\"\",\"\",MID(TEXT(入力用科目!$AM24,\"????????\"),8,1))","v":" "}]
[{"$f":"IF(入力用科目!A25=\"\",\"\",MID(TEXT(入力用科目!$A25,\"??\"),COLUMN(),1))","v":""},{"$f":"IF(入力用科目!A25=\"\",\"\",MID(TEXT(入力用科目!$A25,\"??\"),COLUMN(),1))","v":""},null,{"$f":"IF(入力用科目!$D25=\"\",\"\",MID(TEXT(入力用科目!$D25,\"???\"),1,1))","v":""},{"$f":"IF(入力用科目!$D25=\"\",\"\",MID(TEXT(入力用科目!$D25,\"???\"),2,1))","v":""},{"$f":"IF(入力用科目!$D25=\"\",\"\",MID(TEXT(入力用科目!$D25,\"???\"),3,1))","v":""},null,{"$f":"IF(入力用科目!$Q25=1,\"運送収入\",IF(入力用科目!$H25=\"\",\"\",入力用科目!$H25))","v":""},null,null,null,null,null,null,null,null,{"$f":"IF(入力用科目!$Q25=\"\",\"\",MID(TEXT(入力用科目!$Q25,\"???\"),1,1))","v":""},{"$f":"IF(入力用科目!$Q25=\"\",\"\",MID(TEXT(入力用科目!$Q25,\"???\"),2,1))","v":""},{"$f":"IF(入力用科目!$Q25=\"\",\"\",MID(TEXT(入力用科目!$Q25,\"???\"),3,1))","v":""},null,{"$f":"IF(入力用科目!$U25=\"\",\"\",MID(TEXT(入力用科目!$U25,\"????????\"),1,1))","v":""},{"$f":"IF(入力用科目!$U25=\"\",\"\",MID(TEXT(入力用科目!$U25,\"????????\"),2,1))","v":""},{"$f":"IF(入力用科目!$U25=\"\",\"\",MID(TEXT(入力用科目!$U25,\"????????\"),3,1))","v":""},{"$f":"IF(入力用科目!$U25=\"\",\"\",MID(TEXT(入力用科目!$U25,\"????????\"),4,1))","v":""},{"$f":"IF(入力用科目!$U25=\"\",\"\",MID(TEXT(入力用科目!$U25,\"????????\"),5,1))","v":""},{"$f":"IF(入力用科目!$U25=\"\",\"\",MID(TEXT(入力用科目!$U25,\"????????\"),6,1))","v":""},{"$f":"IF(入力用科目!$U25=\"\",\"\",MID(TEXT(入力用科目!$U25,\"????????\"),7,1))","v":""},{"$f":"IF(入力用科目!$U25=\"\",\"\",MID(TEXT(入力用科目!$U25,\"????????\"),8,1))","v":""},null,{"$f":"IF(入力用科目!$AD25=\"\",\"\",MID(TEXT(入力用科目!$AD25,\"????????\"),1,1))","v":""},{"$f":"IF(入力用科目!$AD25=\"\",\"\",MID(TEXT(入力用科目!$AD25,\"????????\"),2,1))","v":""},{"$f":"IF(入力用科目!$AD25=\"\",\"\",MID(TEXT(入力用科目!$AD25,\"????????\"),3,1))","v":""},{"$f":"IF(入力用科目!$AD25=\"\",\"\",MID(TEXT(入力用科目!$AD25,\"????????\"),4,1))","v":""},{"$f":"IF(入力用科目!$AD25=\"\",\"\",MID(TEXT(入力用科目!$AD25,\"????????\"),5,1))","v":""},{"$f":"IF(入力用科目!$AD25=\"\",\"\",MID(TEXT(入力用科目!$AD25,\"????????\"),6,1))","v":""},{"$f":"IF(入力用科目!$AD25=\"\",\"\",MID(TEXT(入力用科目!$AD25,\"????????\"),7,1))","v":""},{"$f":"IF(入力用科目!$AD25=\"\",\"\",MID(TEXT(入力用科目!$AD25,\"????????\"),8,1))","v":""},null,{"$f":"IF(入力用科目!$AM25=\"\",\"\",MID(TEXT(入力用科目!$AM25,\"????????\"),1,1))","v":" "},{"$f":"IF(入力用科目!$AM25=\"\",\"\",MID(TEXT(入力用科目!$AM25,\"????????\"),2,1))","v":" "},{"$f":"IF(入力用科目!$AM25=\"\",\"\",MID(TEXT(入力用科目!$AM25,\"????????\"),3,1))","v":" "},{"$f":"IF(入力用科目!$AM25=\"\",\"\",MID(TEXT(入力用科目!$AM25,\"????????\"),4,1))","v":" "},{"$f":"IF(入力用科目!$AM25=\"\",\"\",MID(TEXT(入力用科目!$AM25,\"????????\"),5,1))","v":" "},{"$f":"IF(入力用科目!$AM25=\"\",\"\",MID(TEXT(入力用科目!$AM25,\"????????\"),6,1))","v":" "},{"$f":"IF(入力用科目!$AM25=\"\",\"\",MID(TEXT(入力用科目!$AM25,\"????????\"),7,1))","v":" "},{"$f":"IF(入力用科目!$AM25=\"\",\"\",MID(TEXT(入力用科目!$AM25,\"????????\"),8,1))","v":" "}]
[{"$f":"IF(入力用科目!A26=\"\",\"\",MID(TEXT(入力用科目!$A26,\"??\"),COLUMN(),1))","v":""},{"$f":"IF(入力用科目!A26=\"\",\"\",MID(TEXT(入力用科目!$A26,\"??\"),COLUMN(),1))","v":""},null,{"$f":"IF(入力用科目!$D26=\"\",\"\",MID(TEXT(入力用科目!$D26,\"???\"),1,1))","v":""},{"$f":"IF(入力用科目!$D26=\"\",\"\",MID(TEXT(入力用科目!$D26,\"???\"),2,1))","v":""},{"$f":"IF(入力用科目!$D26=\"\",\"\",MID(TEXT(入力用科目!$D26,\"???\"),3,1))","v":""},null,{"$f":"IF(入力用科目!$Q26=1,\"運送収入\",IF(入力用科目!$H26=\"\",\"\",入力用科目!$H26))","v":""},null,null,null,null,null,null,null,null,{"$f":"IF(入力用科目!$Q26=\"\",\"\",MID(TEXT(入力用科目!$Q26,\"???\"),1,1))","v":""},{"$f":"IF(入力用科目!$Q26=\"\",\"\",MID(TEXT(入力用科目!$Q26,\"???\"),2,1))","v":""},{"$f":"IF(入力用科目!$Q26=\"\",\"\",MID(TEXT(入力用科目!$Q26,\"???\"),3,1))","v":""},null,{"$f":"IF(入力用科目!$U26=\"\",\"\",MID(TEXT(入力用科目!$U26,\"????????\"),1,1))","v":""},{"$f":"IF(入力用科目!$U26=\"\",\"\",MID(TEXT(入力用科目!$U26,\"????????\"),2,1))","v":""},{"$f":"IF(入力用科目!$U26=\"\",\"\",MID(TEXT(入力用科目!$U26,\"????????\"),3,1))","v":""},{"$f":"IF(入力用科目!$U26=\"\",\"\",MID(TEXT(入力用科目!$U26,\"????????\"),4,1))","v":""},{"$f":"IF(入力用科目!$U26=\"\",\"\",MID(TEXT(入力用科目!$U26,\"????????\"),5,1))","v":""},{"$f":"IF(入力用科目!$U26=\"\",\"\",MID(TEXT(入力用科目!$U26,\"????????\"),6,1))","v":""},{"$f":"IF(入力用科目!$U26=\"\",\"\",MID(TEXT(入力用科目!$U26,\"????????\"),7,1))","v":""},{"$f":"IF(入力用科目!$U26=\"\",\"\",MID(TEXT(入力用科目!$U26,\"????????\"),8,1))","v":""},null,{"$f":"IF(入力用科目!$AD26=\"\",\"\",MID(TEXT(入力用科目!$AD26,\"????????\"),1,1))","v":""},{"$f":"IF(入力用科目!$AD26=\"\",\"\",MID(TEXT(入力用科目!$AD26,\"????????\"),2,1))","v":""},{"$f":"IF(入力用科目!$AD26=\"\",\"\",MID(TEXT(入力用科目!$AD26,\"????????\"),3,1))","v":""},{"$f":"IF(入力用科目!$AD26=\"\",\"\",MID(TEXT(入力用科目!$AD26,\"????????\"),4,1))","v":""},{"$f":"IF(入力用科目!$AD26=\"\",\"\",MID(TEXT(入力用科目!$AD26,\"????????\"),5,1))","v":""},{"$f":"IF(入力用科目!$AD26=\"\",\"\",MID(TEXT(入力用科目!$AD26,\"????????\"),6,1))","v":""},{"$f":"IF(入力用科目!$AD26=\"\",\"\",MID(TEXT(入力用科目!$AD26,\"????????\"),7,1))","v":""},{"$f":"IF(入力用科目!$AD26=\"\",\"\",MID(TEXT(入力用科目!$AD26,\"????????\"),8,1))","v":""},null,{"$f":"IF(入力用科目!$AM26=\"\",\"\",MID(TEXT(入力用科目!$AM26,\"????????\"),1,1))","v":" "},{"$f":"IF(入力用科目!$AM26=\"\",\"\",MID(TEXT(入力用科目!$AM26,\"????????\"),2,1))","v":" "},{"$f":"IF(入力用科目!$AM26=\"\",\"\",MID(TEXT(入力用科目!$AM26,\"????????\"),3,1))","v":" "},{"$f":"IF(入力用科目!$AM26=\"\",\"\",MID(TEXT(入力用科目!$AM26,\"????????\"),4,1))","v":" "},{"$f":"IF(入力用科目!$AM26=\"\",\"\",MID(TEXT(入力用科目!$AM26,\"????????\"),5,1))","v":" "},{"$f":"IF(入力用科目!$AM26=\"\",\"\",MID(TEXT(入力用科目!$AM26,\"????????\"),6,1))","v":" "},{"$f":"IF(入力用科目!$AM26=\"\",\"\",MID(TEXT(入力用科目!$AM26,\"????????\"),7,1))","v":" "},{"$f":"IF(入力用科目!$AM26=\"\",\"\",MID(TEXT(入力用科目!$AM26,\"????????\"),8,1))","v":" "}]
[{"$f":"IF(入力用科目!A27=\"\",\"\",MID(TEXT(入力用科目!$A27,\"??\"),COLUMN(),1))","v":""},{"$f":"IF(入力用科目!A27=\"\",\"\",MID(TEXT(入力用科目!$A27,\"??\"),COLUMN(),1))","v":""},null,{"$f":"IF(入力用科目!$D27=\"\",\"\",MID(TEXT(入力用科目!$D27,\"???\"),1,1))","v":""},{"$f":"IF(入力用科目!$D27=\"\",\"\",MID(TEXT(入力用科目!$D27,\"???\"),2,1))","v":""},{"$f":"IF(入力用科目!$D27=\"\",\"\",MID(TEXT(入力用科目!$D27,\"???\"),3,1))","v":""},null,{"$f":"IF(入力用科目!$Q27=1,\"運送収入\",IF(入力用科目!$H27=\"\",\"\",入力用科目!$H27))","v":""},null,null,null,null,null,null,null,null,{"$f":"IF(入力用科目!$Q27=\"\",\"\",MID(TEXT(入力用科目!$Q27,\"???\"),1,1))","v":""},{"$f":"IF(入力用科目!$Q27=\"\",\"\",MID(TEXT(入力用科目!$Q27,\"???\"),2,1))","v":""},{"$f":"IF(入力用科目!$Q27=\"\",\"\",MID(TEXT(入力用科目!$Q27,\"???\"),3,1))","v":""},null,{"$f":"IF(入力用科目!$U27=\"\",\"\",MID(TEXT(入力用科目!$U27,\"????????\"),1,1))","v":""},{"$f":"IF(入力用科目!$U27=\"\",\"\",MID(TEXT(入力用科目!$U27,\"????????\"),2,1))","v":""},{"$f":"IF(入力用科目!$U27=\"\",\"\",MID(TEXT(入力用科目!$U27,\"????????\"),3,1))","v":""},{"$f":"IF(入力用科目!$U27=\"\",\"\",MID(TEXT(入力用科目!$U27,\"????????\"),4,1))","v":""},{"$f":"IF(入力用科目!$U27=\"\",\"\",MID(TEXT(入力用科目!$U27,\"????????\"),5,1))","v":""},{"$f":"IF(入力用科目!$U27=\"\",\"\",MID(TEXT(入力用科目!$U27,\"????????\"),6,1))","v":""},{"$f":"IF(入力用科目!$U27=\"\",\"\",MID(TEXT(入力用科目!$U27,\"????????\"),7,1))","v":""},{"$f":"IF(入力用科目!$U27=\"\",\"\",MID(TEXT(入力用科目!$U27,\"????????\"),8,1))","v":""},null,{"$f":"IF(入力用科目!$AD27=\"\",\"\",MID(TEXT(入力用科目!$AD27,\"????????\"),1,1))","v":""},{"$f":"IF(入力用科目!$AD27=\"\",\"\",MID(TEXT(入力用科目!$AD27,\"????????\"),2,1))","v":""},{"$f":"IF(入力用科目!$AD27=\"\",\"\",MID(TEXT(入力用科目!$AD27,\"????????\"),3,1))","v":""},{"$f":"IF(入力用科目!$AD27=\"\",\"\",MID(TEXT(入力用科目!$AD27,\"????????\"),4,1))","v":""},{"$f":"IF(入力用科目!$AD27=\"\",\"\",MID(TEXT(入力用科目!$AD27,\"????????\"),5,1))","v":""},{"$f":"IF(入力用科目!$AD27=\"\",\"\",MID(TEXT(入力用科目!$AD27,\"????????\"),6,1))","v":""},{"$f":"IF(入力用科目!$AD27=\"\",\"\",MID(TEXT(入力用科目!$AD27,\"????????\"),7,1))","v":""},{"$f":"IF(入力用科目!$AD27=\"\",\"\",MID(TEXT(入力用科目!$AD27,\"????????\"),8,1))","v":""},null,{"$f":"IF(入力用科目!$AM27=\"\",\"\",MID(TEXT(入力用科目!$AM27,\"????????\"),1,1))","v":" "},{"$f":"IF(入力用科目!$AM27=\"\",\"\",MID(TEXT(入力用科目!$AM27,\"????????\"),2,1))","v":" "},{"$f":"IF(入力用科目!$AM27=\"\",\"\",MID(TEXT(入力用科目!$AM27,\"????????\"),3,1))","v":" "},{"$f":"IF(入力用科目!$AM27=\"\",\"\",MID(TEXT(入力用科目!$AM27,\"????????\"),4,1))","v":" "},{"$f":"IF(入力用科目!$AM27=\"\",\"\",MID(TEXT(入力用科目!$AM27,\"????????\"),5,1))","v":" "},{"$f":"IF(入力用科目!$AM27=\"\",\"\",MID(TEXT(入力用科目!$AM27,\"????????\"),6,1))","v":" "},{"$f":"IF(入力用科目!$AM27=\"\",\"\",MID(TEXT(入力用科目!$AM27,\"????????\"),7,1))","v":" "},{"$f":"IF(入力用科目!$AM27=\"\",\"\",MID(TEXT(入力用科目!$AM27,\"????????\"),8,1))","v":" "}]
[{"$f":"IF(入力用科目!A28=\"\",\"\",MID(TEXT(入力用科目!$A28,\"??\"),COLUMN(),1))","v":""},{"$f":"IF(入力用科目!A28=\"\",\"\",MID(TEXT(入力用科目!$A28,\"??\"),COLUMN(),1))","v":""},null,{"$f":"IF(入力用科目!$D28=\"\",\"\",MID(TEXT(入力用科目!$D28,\"???\"),1,1))","v":""},{"$f":"IF(入力用科目!$D28=\"\",\"\",MID(TEXT(入力用科目!$D28,\"???\"),2,1))","v":""},{"$f":"IF(入力用科目!$D28=\"\",\"\",MID(TEXT(入力用科目!$D28,\"???\"),3,1))","v":""},null,{"$f":"IF(入力用科目!$Q28=1,\"運送収入\",IF(入力用科目!$H28=\"\",\"\",入力用科目!$H28))","v":""},null,null,null,null,null,null,null,null,{"$f":"IF(入力用科目!$Q28=\"\",\"\",MID(TEXT(入力用科目!$Q28,\"???\"),1,1))","v":""},{"$f":"IF(入力用科目!$Q28=\"\",\"\",MID(TEXT(入力用科目!$Q28,\"???\"),2,1))","v":""},{"$f":"IF(入力用科目!$Q28=\"\",\"\",MID(TEXT(入力用科目!$Q28,\"???\"),3,1))","v":""},null,{"$f":"IF(入力用科目!$U28=\"\",\"\",MID(TEXT(入力用科目!$U28,\"????????\"),1,1))","v":""},{"$f":"IF(入力用科目!$U28=\"\",\"\",MID(TEXT(入力用科目!$U28,\"????????\"),2,1))","v":""},{"$f":"IF(入力用科目!$U28=\"\",\"\",MID(TEXT(入力用科目!$U28,\"????????\"),3,1))","v":""},{"$f":"IF(入力用科目!$U28=\"\",\"\",MID(TEXT(入力用科目!$U28,\"????????\"),4,1))","v":""},{"$f":"IF(入力用科目!$U28=\"\",\"\",MID(TEXT(入力用科目!$U28,\"????????\"),5,1))","v":""},{"$f":"IF(入力用科目!$U28=\"\",\"\",MID(TEXT(入力用科目!$U28,\"????????\"),6,1))","v":""},{"$f":"IF(入力用科目!$U28=\"\",\"\",MID(TEXT(入力用科目!$U28,\"????????\"),7,1))","v":""},{"$f":"IF(入力用科目!$U28=\"\",\"\",MID(TEXT(入力用科目!$U28,\"????????\"),8,1))","v":""},null,{"$f":"IF(入力用科目!$AD28=\"\",\"\",MID(TEXT(入力用科目!$AD28,\"????????\"),1,1))","v":""},{"$f":"IF(入力用科目!$AD28=\"\",\"\",MID(TEXT(入力用科目!$AD28,\"????????\"),2,1))","v":""},{"$f":"IF(入力用科目!$AD28=\"\",\"\",MID(TEXT(入力用科目!$AD28,\"????????\"),3,1))","v":""},{"$f":"IF(入力用科目!$AD28=\"\",\"\",MID(TEXT(入力用科目!$AD28,\"????????\"),4,1))","v":""},{"$f":"IF(入力用科目!$AD28=\"\",\"\",MID(TEXT(入力用科目!$AD28,\"????????\"),5,1))","v":""},{"$f":"IF(入力用科目!$AD28=\"\",\"\",MID(TEXT(入力用科目!$AD28,\"????????\"),6,1))","v":""},{"$f":"IF(入力用科目!$AD28=\"\",\"\",MID(TEXT(入力用科目!$AD28,\"????????\"),7,1))","v":""},{"$f":"IF(入力用科目!$AD28=\"\",\"\",MID(TEXT(入力用科目!$AD28,\"????????\"),8,1))","v":""},null,{"$f":"IF(入力用科目!$AM28=\"\",\"\",MID(TEXT(入力用科目!$AM28,\"????????\"),1,1))","v":" "},{"$f":"IF(入力用科目!$AM28=\"\",\"\",MID(TEXT(入力用科目!$AM28,\"????????\"),2,1))","v":" "},{"$f":"IF(入力用科目!$AM28=\"\",\"\",MID(TEXT(入力用科目!$AM28,\"????????\"),3,1))","v":" "},{"$f":"IF(入力用科目!$AM28=\"\",\"\",MID(TEXT(入力用科目!$AM28,\"????????\"),4,1))","v":" "},{"$f":"IF(入力用科目!$AM28=\"\",\"\",MID(TEXT(入力用科目!$AM28,\"????????\"),5,1))","v":" "},{"$f":"IF(入力用科目!$AM28=\"\",\"\",MID(TEXT(入力用科目!$AM28,\"????????\"),6,1))","v":" "},{"$f":"IF(入力用科目!$AM28=\"\",\"\",MID(TEXT(入力用科目!$AM28,\"????????\"),7,1))","v":" "},{"$f":"IF(入力用科目!$AM28=\"\",\"\",MID(TEXT(入力用科目!$AM28,\"????????\"),8,1))","v":" "}]
[{"$f":"IF(入力用科目!A29=\"\",\"\",MID(TEXT(入力用科目!$A29,\"??\"),COLUMN(),1))","v":""},{"$f":"IF(入力用科目!A29=\"\",\"\",MID(TEXT(入力用科目!$A29,\"??\"),COLUMN(),1))","v":""},null,{"$f":"IF(入力用科目!$D29=\"\",\"\",MID(TEXT(入力用科目!$D29,\"???\"),1,1))","v":""},{"$f":"IF(入力用科目!$D29=\"\",\"\",MID(TEXT(入力用科目!$D29,\"???\"),2,1))","v":""},{"$f":"IF(入力用科目!$D29=\"\",\"\",MID(TEXT(入力用科目!$D29,\"???\"),3,1))","v":""},null,{"$f":"IF(入力用科目!$Q29=1,\"運送収入\",IF(入力用科目!$H29=\"\",\"\",入力用科目!$H29))","v":""},null,null,null,null,null,null,null,null,{"$f":"IF(入力用科目!$Q29=\"\",\"\",MID(TEXT(入力用科目!$Q29,\"???\"),1,1))","v":""},{"$f":"IF(入力用科目!$Q29=\"\",\"\",MID(TEXT(入力用科目!$Q29,\"???\"),2,1))","v":""},{"$f":"IF(入力用科目!$Q29=\"\",\"\",MID(TEXT(入力用科目!$Q29,\"???\"),3,1))","v":""},null,{"$f":"IF(入力用科目!$U29=\"\",\"\",MID(TEXT(入力用科目!$U29,\"????????\"),1,1))","v":""},{"$f":"IF(入力用科目!$U29=\"\",\"\",MID(TEXT(入力用科目!$U29,\"????????\"),2,1))","v":""},{"$f":"IF(入力用科目!$U29=\"\",\"\",MID(TEXT(入力用科目!$U29,\"????????\"),3,1))","v":""},{"$f":"IF(入力用科目!$U29=\"\",\"\",MID(TEXT(入力用科目!$U29,\"????????\"),4,1))","v":""},{"$f":"IF(入力用科目!$U29=\"\",\"\",MID(TEXT(入力用科目!$U29,\"????????\"),5,1))","v":""},{"$f":"IF(入力用科目!$U29=\"\",\"\",MID(TEXT(入力用科目!$U29,\"????????\"),6,1))","v":""},{"$f":"IF(入力用科目!$U29=\"\",\"\",MID(TEXT(入力用科目!$U29,\"????????\"),7,1))","v":""},{"$f":"IF(入力用科目!$U29=\"\",\"\",MID(TEXT(入力用科目!$U29,\"????????\"),8,1))","v":""},null,{"$f":"IF(入力用科目!$AD29=\"\",\"\",MID(TEXT(入力用科目!$AD29,\"????????\"),1,1))","v":""},{"$f":"IF(入力用科目!$AD29=\"\",\"\",MID(TEXT(入力用科目!$AD29,\"????????\"),2,1))","v":""},{"$f":"IF(入力用科目!$AD29=\"\",\"\",MID(TEXT(入力用科目!$AD29,\"????????\"),3,1))","v":""},{"$f":"IF(入力用科目!$AD29=\"\",\"\",MID(TEXT(入力用科目!$AD29,\"????????\"),4,1))","v":""},{"$f":"IF(入力用科目!$AD29=\"\",\"\",MID(TEXT(入力用科目!$AD29,\"????????\"),5,1))","v":""},{"$f":"IF(入力用科目!$AD29=\"\",\"\",MID(TEXT(入力用科目!$AD29,\"????????\"),6,1))","v":""},{"$f":"IF(入力用科目!$AD29=\"\",\"\",MID(TEXT(入力用科目!$AD29,\"????????\"),7,1))","v":""},{"$f":"IF(入力用科目!$AD29=\"\",\"\",MID(TEXT(入力用科目!$AD29,\"????????\"),8,1))","v":""},null,{"$f":"IF(入力用科目!$AM29=\"\",\"\",MID(TEXT(入力用科目!$AM29,\"????????\"),1,1))","v":" "},{"$f":"IF(入力用科目!$AM29=\"\",\"\",MID(TEXT(入力用科目!$AM29,\"????????\"),2,1))","v":" "},{"$f":"IF(入力用科目!$AM29=\"\",\"\",MID(TEXT(入力用科目!$AM29,\"????????\"),3,1))","v":" "},{"$f":"IF(入力用科目!$AM29=\"\",\"\",MID(TEXT(入力用科目!$AM29,\"????????\"),4,1))","v":" "},{"$f":"IF(入力用科目!$AM29=\"\",\"\",MID(TEXT(入力用科目!$AM29,\"????????\"),5,1))","v":" "},{"$f":"IF(入力用科目!$AM29=\"\",\"\",MID(TEXT(入力用科目!$AM29,\"????????\"),6,1))","v":" "},{"$f":"IF(入力用科目!$AM29=\"\",\"\",MID(TEXT(入力用科目!$AM29,\"????????\"),7,1))","v":" "},{"$f":"IF(入力用科目!$AM29=\"\",\"\",MID(TEXT(入力用科目!$AM29,\"????????\"),8,1))","v":" "}]
[{"$f":"IF(入力用科目!A30=\"\",\"\",MID(TEXT(入力用科目!$A30,\"??\"),COLUMN(),1))","v":""},{"$f":"IF(入力用科目!A30=\"\",\"\",MID(TEXT(入力用科目!$A30,\"??\"),COLUMN(),1))","v":""},null,{"$f":"IF(入力用科目!$D30=\"\",\"\",MID(TEXT(入力用科目!$D30,\"???\"),1,1))","v":""},{"$f":"IF(入力用科目!$D30=\"\",\"\",MID(TEXT(入力用科目!$D30,\"???\"),2,1))","v":""},{"$f":"IF(入力用科目!$D30=\"\",\"\",MID(TEXT(入力用科目!$D30,\"???\"),3,1))","v":""},null,{"$f":"IF(入力用科目!$Q30=1,\"運送収入\",IF(入力用科目!$H30=\"\",\"\",入力用科目!$H30))","v":""},null,null,null,null,null,null,null,null,{"$f":"IF(入力用科目!$Q30=\"\",\"\",MID(TEXT(入力用科目!$Q30,\"???\"),1,1))","v":""},{"$f":"IF(入力用科目!$Q30=\"\",\"\",MID(TEXT(入力用科目!$Q30,\"???\"),2,1))","v":""},{"$f":"IF(入力用科目!$Q30=\"\",\"\",MID(TEXT(入力用科目!$Q30,\"???\"),3,1))","v":""},null,{"$f":"IF(入力用科目!$U30=\"\",\"\",MID(TEXT(入力用科目!$U30,\"????????\"),1,1))","v":""},{"$f":"IF(入力用科目!$U30=\"\",\"\",MID(TEXT(入力用科目!$U30,\"????????\"),2,1))","v":""},{"$f":"IF(入力用科目!$U30=\"\",\"\",MID(TEXT(入力用科目!$U30,\"????????\"),3,1))","v":""},{"$f":"IF(入力用科目!$U30=\"\",\"\",MID(TEXT(入力用科目!$U30,\"????????\"),4,1))","v":""},{"$f":"IF(入力用科目!$U30=\"\",\"\",MID(TEXT(入力用科目!$U30,\"????????\"),5,1))","v":""},{"$f":"IF(入力用科目!$U30=\"\",\"\",MID(TEXT(入力用科目!$U30,\"????????\"),6,1))","v":""},{"$f":"IF(入力用科目!$U30=\"\",\"\",MID(TEXT(入力用科目!$U30,\"????????\"),7,1))","v":""},{"$f":"IF(入力用科目!$U30=\"\",\"\",MID(TEXT(入力用科目!$U30,\"????????\"),8,1))","v":""},null,{"$f":"IF(入力用科目!$AD30=\"\",\"\",MID(TEXT(入力用科目!$AD30,\"????????\"),1,1))","v":""},{"$f":"IF(入力用科目!$AD30=\"\",\"\",MID(TEXT(入力用科目!$AD30,\"????????\"),2,1))","v":""},{"$f":"IF(入力用科目!$AD30=\"\",\"\",MID(TEXT(入力用科目!$AD30,\"????????\"),3,1))","v":""},{"$f":"IF(入力用科目!$AD30=\"\",\"\",MID(TEXT(入力用科目!$AD30,\"????????\"),4,1))","v":""},{"$f":"IF(入力用科目!$AD30=\"\",\"\",MID(TEXT(入力用科目!$AD30,\"????????\"),5,1))","v":""},{"$f":"IF(入力用科目!$AD30=\"\",\"\",MID(TEXT(入力用科目!$AD30,\"????????\"),6,1))","v":""},{"$f":"IF(入力用科目!$AD30=\"\",\"\",MID(TEXT(入力用科目!$AD30,\"????????\"),7,1))","v":""},{"$f":"IF(入力用科目!$AD30=\"\",\"\",MID(TEXT(入力用科目!$AD30,\"????????\"),8,1))","v":""},null,{"$f":"IF(入力用科目!$AM30=\"\",\"\",MID(TEXT(入力用科目!$AM30,\"????????\"),1,1))","v":" "},{"$f":"IF(入力用科目!$AM30=\"\",\"\",MID(TEXT(入力用科目!$AM30,\"????????\"),2,1))","v":" "},{"$f":"IF(入力用科目!$AM30=\"\",\"\",MID(TEXT(入力用科目!$AM30,\"????????\"),3,1))","v":" "},{"$f":"IF(入力用科目!$AM30=\"\",\"\",MID(TEXT(入力用科目!$AM30,\"????????\"),4,1))","v":" "},{"$f":"IF(入力用科目!$AM30=\"\",\"\",MID(TEXT(入力用科目!$AM30,\"????????\"),5,1))","v":" "},{"$f":"IF(入力用科目!$AM30=\"\",\"\",MID(TEXT(入力用科目!$AM30,\"????????\"),6,1))","v":" "},{"$f":"IF(入力用科目!$AM30=\"\",\"\",MID(TEXT(入力用科目!$AM30,\"????????\"),7,1))","v":" "},{"$f":"IF(入力用科目!$AM30=\"\",\"\",MID(TEXT(入力用科目!$AM30,\"????????\"),8,1))","v":" "}]
[{"$f":"IF(入力用科目!A31=\"\",\"\",MID(TEXT(入力用科目!$A31,\"??\"),COLUMN(),1))","v":""},{"$f":"IF(入力用科目!A31=\"\",\"\",MID(TEXT(入力用科目!$A31,\"??\"),COLUMN(),1))","v":""},null,{"$f":"IF(入力用科目!$D31=\"\",\"\",MID(TEXT(入力用科目!$D31,\"???\"),1,1))","v":""},{"$f":"IF(入力用科目!$D31=\"\",\"\",MID(TEXT(入力用科目!$D31,\"???\"),2,1))","v":""},{"$f":"IF(入力用科目!$D31=\"\",\"\",MID(TEXT(入力用科目!$D31,\"???\"),3,1))","v":""},null,{"$f":"IF(入力用科目!$Q31=1,\"運送収入\",IF(入力用科目!$H31=\"\",\"\",入力用科目!$H31))","v":""},null,null,null,null,null,null,null,null,{"$f":"IF(入力用科目!$Q31=\"\",\"\",MID(TEXT(入力用科目!$Q31,\"???\"),1,1))","v":""},{"$f":"IF(入力用科目!$Q31=\"\",\"\",MID(TEXT(入力用科目!$Q31,\"???\"),2,1))","v":""},{"$f":"IF(入力用科目!$Q31=\"\",\"\",MID(TEXT(入力用科目!$Q31,\"???\"),3,1))","v":""},null,{"$f":"IF(入力用科目!$U31=\"\",\"\",MID(TEXT(入力用科目!$U31,\"????????\"),1,1))","v":""},{"$f":"IF(入力用科目!$U31=\"\",\"\",MID(TEXT(入力用科目!$U31,\"????????\"),2,1))","v":""},{"$f":"IF(入力用科目!$U31=\"\",\"\",MID(TEXT(入力用科目!$U31,\"????????\"),3,1))","v":""},{"$f":"IF(入力用科目!$U31=\"\",\"\",MID(TEXT(入力用科目!$U31,\"????????\"),4,1))","v":""},{"$f":"IF(入力用科目!$U31=\"\",\"\",MID(TEXT(入力用科目!$U31,\"????????\"),5,1))","v":""},{"$f":"IF(入力用科目!$U31=\"\",\"\",MID(TEXT(入力用科目!$U31,\"????????\"),6,1))","v":""},{"$f":"IF(入力用科目!$U31=\"\",\"\",MID(TEXT(入力用科目!$U31,\"????????\"),7,1))","v":""},{"$f":"IF(入力用科目!$U31=\"\",\"\",MID(TEXT(入力用科目!$U31,\"????????\"),8,1))","v":""},null,{"$f":"IF(入力用科目!$AD31=\"\",\"\",MID(TEXT(入力用科目!$AD31,\"????????\"),1,1))","v":""},{"$f":"IF(入力用科目!$AD31=\"\",\"\",MID(TEXT(入力用科目!$AD31,\"????????\"),2,1))","v":""},{"$f":"IF(入力用科目!$AD31=\"\",\"\",MID(TEXT(入力用科目!$AD31,\"????????\"),3,1))","v":""},{"$f":"IF(入力用科目!$AD31=\"\",\"\",MID(TEXT(入力用科目!$AD31,\"????????\"),4,1))","v":""},{"$f":"IF(入力用科目!$AD31=\"\",\"\",MID(TEXT(入力用科目!$AD31,\"????????\"),5,1))","v":""},{"$f":"IF(入力用科目!$AD31=\"\",\"\",MID(TEXT(入力用科目!$AD31,\"????????\"),6,1))","v":""},{"$f":"IF(入力用科目!$AD31=\"\",\"\",MID(TEXT(入力用科目!$AD31,\"????????\"),7,1))","v":""},{"$f":"IF(入力用科目!$AD31=\"\",\"\",MID(TEXT(入力用科目!$AD31,\"????????\"),8,1))","v":""},null,{"$f":"IF(入力用科目!$AM31=\"\",\"\",MID(TEXT(入力用科目!$AM31,\"????????\"),1,1))","v":" "},{"$f":"IF(入力用科目!$AM31=\"\",\"\",MID(TEXT(入力用科目!$AM31,\"????????\"),2,1))","v":" "},{"$f":"IF(入力用科目!$AM31=\"\",\"\",MID(TEXT(入力用科目!$AM31,\"????????\"),3,1))","v":" "},{"$f":"IF(入力用科目!$AM31=\"\",\"\",MID(TEXT(入力用科目!$AM31,\"????????\"),4,1))","v":" "},{"$f":"IF(入力用科目!$AM31=\"\",\"\",MID(TEXT(入力用科目!$AM31,\"????????\"),5,1))","v":" "},{"$f":"IF(入力用科目!$AM31=\"\",\"\",MID(TEXT(入力用科目!$AM31,\"????????\"),6,1))","v":" "},{"$f":"IF(入力用科目!$AM31=\"\",\"\",MID(TEXT(入力用科目!$AM31,\"????????\"),7,1))","v":" "},{"$f":"IF(入力用科目!$AM31=\"\",\"\",MID(TEXT(入力用科目!$AM31,\"????????\"),8,1))","v":" "}]
[{"$f":"IF(入力用科目!A32=\"\",\"\",MID(TEXT(入力用科目!$A32,\"??\"),COLUMN(),1))","v":""},{"$f":"IF(入力用科目!A32=\"\",\"\",MID(TEXT(入力用科目!$A32,\"??\"),COLUMN(),1))","v":""},null,{"$f":"IF(入力用科目!$D32=\"\",\"\",MID(TEXT(入力用科目!$D32,\"???\"),1,1))","v":""},{"$f":"IF(入力用科目!$D32=\"\",\"\",MID(TEXT(入力用科目!$D32,\"???\"),2,1))","v":""},{"$f":"IF(入力用科目!$D32=\"\",\"\",MID(TEXT(入力用科目!$D32,\"???\"),3,1))","v":""},null,{"$f":"IF(入力用科目!$Q32=1,\"運送収入\",IF(入力用科目!$H32=\"\",\"\",入力用科目!$H32))","v":""},null,null,null,null,null,null,null,null,{"$f":"IF(入力用科目!$Q32=\"\",\"\",MID(TEXT(入力用科目!$Q32,\"???\"),1,1))","v":""},{"$f":"IF(入力用科目!$Q32=\"\",\"\",MID(TEXT(入力用科目!$Q32,\"???\"),2,1))","v":""},{"$f":"IF(入力用科目!$Q32=\"\",\"\",MID(TEXT(入力用科目!$Q32,\"???\"),3,1))","v":""},null,{"$f":"IF(入力用科目!$U32=\"\",\"\",MID(TEXT(入力用科目!$U32,\"????????\"),1,1))","v":""},{"$f":"IF(入力用科目!$U32=\"\",\"\",MID(TEXT(入力用科目!$U32,\"????????\"),2,1))","v":""},{"$f":"IF(入力用科目!$U32=\"\",\"\",MID(TEXT(入力用科目!$U32,\"????????\"),3,1))","v":""},{"$f":"IF(入力用科目!$U32=\"\",\"\",MID(TEXT(入力用科目!$U32,\"????????\"),4,1))","v":""},{"$f":"IF(入力用科目!$U32=\"\",\"\",MID(TEXT(入力用科目!$U32,\"????????\"),5,1))","v":""},{"$f":"IF(入力用科目!$U32=\"\",\"\",MID(TEXT(入力用科目!$U32,\"????????\"),6,1))","v":""},{"$f":"IF(入力用科目!$U32=\"\",\"\",MID(TEXT(入力用科目!$U32,\"????????\"),7,1))","v":""},{"$f":"IF(入力用科目!$U32=\"\",\"\",MID(TEXT(入力用科目!$U32,\"????????\"),8,1))","v":""},null,{"$f":"IF(入力用科目!$AD32=\"\",\"\",MID(TEXT(入力用科目!$AD32,\"????????\"),1,1))","v":""},{"$f":"IF(入力用科目!$AD32=\"\",\"\",MID(TEXT(入力用科目!$AD32,\"????????\"),2,1))","v":""},{"$f":"IF(入力用科目!$AD32=\"\",\"\",MID(TEXT(入力用科目!$AD32,\"????????\"),3,1))","v":""},{"$f":"IF(入力用科目!$AD32=\"\",\"\",MID(TEXT(入力用科目!$AD32,\"????????\"),4,1))","v":""},{"$f":"IF(入力用科目!$AD32=\"\",\"\",MID(TEXT(入力用科目!$AD32,\"????????\"),5,1))","v":""},{"$f":"IF(入力用科目!$AD32=\"\",\"\",MID(TEXT(入力用科目!$AD32,\"????????\"),6,1))","v":""},{"$f":"IF(入力用科目!$AD32=\"\",\"\",MID(TEXT(入力用科目!$AD32,\"????????\"),7,1))","v":""},{"$f":"IF(入力用科目!$AD32=\"\",\"\",MID(TEXT(入力用科目!$AD32,\"????????\"),8,1))","v":""},null,{"$f":"IF(入力用科目!$AM32=\"\",\"\",MID(TEXT(入力用科目!$AM32,\"????????\"),1,1))","v":" "},{"$f":"IF(入力用科目!$AM32=\"\",\"\",MID(TEXT(入力用科目!$AM32,\"????????\"),2,1))","v":" "},{"$f":"IF(入力用科目!$AM32=\"\",\"\",MID(TEXT(入力用科目!$AM32,\"????????\"),3,1))","v":" "},{"$f":"IF(入力用科目!$AM32=\"\",\"\",MID(TEXT(入力用科目!$AM32,\"????????\"),4,1))","v":" "},{"$f":"IF(入力用科目!$AM32=\"\",\"\",MID(TEXT(入力用科目!$AM32,\"????????\"),5,1))","v":" "},{"$f":"IF(入力用科目!$AM32=\"\",\"\",MID(TEXT(入力用科目!$AM32,\"????????\"),6,1))","v":" "},{"$f":"IF(入力用科目!$AM32=\"\",\"\",MID(TEXT(入力用科目!$AM32,\"????????\"),7,1))","v":" "},{"$f":"IF(入力用科目!$AM32=\"\",\"\",MID(TEXT(入力用科目!$AM32,\"????????\"),8,1))","v":" "}]
[{"$f":"IF(入力用科目!A33=\"\",\"\",MID(TEXT(入力用科目!$A33,\"??\"),COLUMN(),1))","v":""},{"$f":"IF(入力用科目!A33=\"\",\"\",MID(TEXT(入力用科目!$A33,\"??\"),COLUMN(),1))","v":""},null,{"$f":"IF(入力用科目!$D33=\"\",\"\",MID(TEXT(入力用科目!$D33,\"???\"),1,1))","v":""},{"$f":"IF(入力用科目!$D33=\"\",\"\",MID(TEXT(入力用科目!$D33,\"???\"),2,1))","v":""},{"$f":"IF(入力用科目!$D33=\"\",\"\",MID(TEXT(入力用科目!$D33,\"???\"),3,1))","v":""},null,{"$f":"IF(入力用科目!$Q33=1,\"運送収入\",IF(入力用科目!$H33=\"\",\"\",入力用科目!$H33))","v":""},null,null,null,null,null,null,null,null,{"$f":"IF(入力用科目!$Q33=\"\",\"\",MID(TEXT(入力用科目!$Q33,\"???\"),1,1))","v":""},{"$f":"IF(入力用科目!$Q33=\"\",\"\",MID(TEXT(入力用科目!$Q33,\"???\"),2,1))","v":""},{"$f":"IF(入力用科目!$Q33=\"\",\"\",MID(TEXT(入力用科目!$Q33,\"???\"),3,1))","v":""},null,{"$f":"IF(入力用科目!$U33=\"\",\"\",MID(TEXT(入力用科目!$U33,\"????????\"),1,1))","v":""},{"$f":"IF(入力用科目!$U33=\"\",\"\",MID(TEXT(入力用科目!$U33,\"????????\"),2,1))","v":""},{"$f":"IF(入力用科目!$U33=\"\",\"\",MID(TEXT(入力用科目!$U33,\"????????\"),3,1))","v":""},{"$f":"IF(入力用科目!$U33=\"\",\"\",MID(TEXT(入力用科目!$U33,\"????????\"),4,1))","v":""},{"$f":"IF(入力用科目!$U33=\"\",\"\",MID(TEXT(入力用科目!$U33,\"????????\"),5,1))","v":""},{"$f":"IF(入力用科目!$U33=\"\",\"\",MID(TEXT(入力用科目!$U33,\"????????\"),6,1))","v":""},{"$f":"IF(入力用科目!$U33=\"\",\"\",MID(TEXT(入力用科目!$U33,\"????????\"),7,1))","v":""},{"$f":"IF(入力用科目!$U33=\"\",\"\",MID(TEXT(入力用科目!$U33,\"????????\"),8,1))","v":""},null,{"$f":"IF(入力用科目!$AD33=\"\",\"\",MID(TEXT(入力用科目!$AD33,\"????????\"),1,1))","v":""},{"$f":"IF(入力用科目!$AD33=\"\",\"\",MID(TEXT(入力用科目!$AD33,\"????????\"),2,1))","v":""},{"$f":"IF(入力用科目!$AD33=\"\",\"\",MID(TEXT(入力用科目!$AD33,\"????????\"),3,1))","v":""},{"$f":"IF(入力用科目!$AD33=\"\",\"\",MID(TEXT(入力用科目!$AD33,\"????????\"),4,1))","v":""},{"$f":"IF(入力用科目!$AD33=\"\",\"\",MID(TEXT(入力用科目!$AD33,\"????????\"),5,1))","v":""},{"$f":"IF(入力用科目!$AD33=\"\",\"\",MID(TEXT(入力用科目!$AD33,\"????????\"),6,1))","v":""},{"$f":"IF(入力用科目!$AD33=\"\",\"\",MID(TEXT(入力用科目!$AD33,\"????????\"),7,1))","v":""},{"$f":"IF(入力用科目!$AD33=\"\",\"\",MID(TEXT(入力用科目!$AD33,\"????????\"),8,1))","v":""},null,{"$f":"IF(入力用科目!$AM33=\"\",\"\",MID(TEXT(入力用科目!$AM33,\"????????\"),1,1))","v":" "},{"$f":"IF(入力用科目!$AM33=\"\",\"\",MID(TEXT(入力用科目!$AM33,\"????????\"),2,1))","v":" "},{"$f":"IF(入力用科目!$AM33=\"\",\"\",MID(TEXT(入力用科目!$AM33,\"????????\"),3,1))","v":" "},{"$f":"IF(入力用科目!$AM33=\"\",\"\",MID(TEXT(入力用科目!$AM33,\"????????\"),4,1))","v":" "},{"$f":"IF(入力用科目!$AM33=\"\",\"\",MID(TEXT(入力用科目!$AM33,\"????????\"),5,1))","v":" "},{"$f":"IF(入力用科目!$AM33=\"\",\"\",MID(TEXT(入力用科目!$AM33,\"????????\"),6,1))","v":" "},{"$f":"IF(入力用科目!$AM33=\"\",\"\",MID(TEXT(入力用科目!$AM33,\"????????\"),7,1))","v":" "},{"$f":"IF(入力用科目!$AM33=\"\",\"\",MID(TEXT(入力用科目!$AM33,\"????????\"),8,1))","v":" "}]
[{"$f":"IF(入力用科目!A34=\"\",\"\",MID(TEXT(入力用科目!$A34,\"??\"),COLUMN(),1))","v":""},{"$f":"IF(入力用科目!A34=\"\",\"\",MID(TEXT(入力用科目!$A34,\"??\"),COLUMN(),1))","v":""},null,{"$f":"IF(入力用科目!$D34=\"\",\"\",MID(TEXT(入力用科目!$D34,\"???\"),1,1))","v":""},{"$f":"IF(入力用科目!$D34=\"\",\"\",MID(TEXT(入力用科目!$D34,\"???\"),2,1))","v":""},{"$f":"IF(入力用科目!$D34=\"\",\"\",MID(TEXT(入力用科目!$D34,\"???\"),3,1))","v":""},null,{"$f":"IF(入力用科目!H34=\"\",\"\",入力用科目!H34)","v":""},null,null,null,null,null,null,null,null,{"$f":"IF(入力用科目!$Q34=\"\",\"\",MID(TEXT(入力用科目!$Q34,\"???\"),1,1))","v":""},{"$f":"IF(入力用科目!$Q34=\"\",\"\",MID(TEXT(入力用科目!$Q34,\"???\"),2,1))","v":""},{"$f":"IF(入力用科目!$Q34=\"\",\"\",MID(TEXT(入力用科目!$Q34,\"???\"),3,1))","v":""},null,{"$f":"IF(入力用科目!$U34=\"\",\"\",MID(TEXT(入力用科目!$U34,\"????????\"),1,1))","v":""},{"$f":"IF(入力用科目!$U34=\"\",\"\",MID(TEXT(入力用科目!$U34,\"????????\"),2,1))","v":""},{"$f":"IF(入力用科目!$U34=\"\",\"\",MID(TEXT(入力用科目!$U34,\"????????\"),3,1))","v":""},{"$f":"IF(入力用科目!$U34=\"\",\"\",MID(TEXT(入力用科目!$U34,\"????????\"),4,1))","v":""},{"$f":"IF(入力用科目!$U34=\"\",\"\",MID(TEXT(入力用科目!$U34,\"????????\"),5,1))","v":""},{"$f":"IF(入力用科目!$U34=\"\",\"\",MID(TEXT(入力用科目!$U34,\"????????\"),6,1))","v":""},{"$f":"IF(入力用科目!$U34=\"\",\"\",MID(TEXT(入力用科目!$U34,\"????????\"),7,1))","v":""},{"$f":"IF(入力用科目!$U34=\"\",\"\",MID(TEXT(入力用科目!$U34,\"????????\"),8,1))","v":""},null,{"$f":"IF(入力用科目!$AD34=\"\",\"\",MID(TEXT(入力用科目!$AD34,\"????????\"),1,1))","v":""},{"$f":"IF(入力用科目!$AD34=\"\",\"\",MID(TEXT(入力用科目!$AD34,\"????????\"),2,1))","v":""},{"$f":"IF(入力用科目!$AD34=\"\",\"\",MID(TEXT(入力用科目!$AD34,\"????????\"),3,1))","v":""},{"$f":"IF(入力用科目!$AD34=\"\",\"\",MID(TEXT(入力用科目!$AD34,\"????????\"),4,1))","v":""},{"$f":"IF(入力用科目!$AD34=\"\",\"\",MID(TEXT(入力用科目!$AD34,\"????????\"),5,1))","v":""},{"$f":"IF(入力用科目!$AD34=\"\",\"\",MID(TEXT(入力用科目!$AD34,\"????????\"),6,1))","v":""},{"$f":"IF(入力用科目!$AD34=\"\",\"\",MID(TEXT(入力用科目!$AD34,\"????????\"),7,1))","v":""},{"$f":"IF(入力用科目!$AD34=\"\",\"\",MID(TEXT(入力用科目!$AD34,\"????????\"),8,1))","v":""},null,{"$f":"IF(入力用科目!$AM34=\"\",\"\",MID(TEXT(入力用科目!$AM34,\"????????\"),1,1))","v":" "},{"$f":"IF(入力用科目!$AM34=\"\",\"\",MID(TEXT(入力用科目!$AM34,\"????????\"),2,1))","v":" "},{"$f":"IF(入力用科目!$AM34=\"\",\"\",MID(TEXT(入力用科目!$AM34,\"????????\"),3,1))","v":" "},{"$f":"IF(入力用科目!$AM34=\"\",\"\",MID(TEXT(入力用科目!$AM34,\"????????\"),4,1))","v":" "},{"$f":"IF(入力用科目!$AM34=\"\",\"\",MID(TEXT(入力用科目!$AM34,\"????????\"),5,1))","v":" "},{"$f":"IF(入力用科目!$AM34=\"\",\"\",MID(TEXT(入力用科目!$AM34,\"????????\"),6,1))","v":" "},{"$f":"IF(入力用科目!$AM34=\"\",\"\",MID(TEXT(入力用科目!$AM34,\"????????\"),7,1))","v":" "},{"$f":"IF(入力用科目!$AM34=\"\",\"\",MID(TEXT(入力用科目!$AM34,\"????????\"),8,1))","v":" "}]
[{"$f":"IF(入力用科目!A35=\"\",\"\",MID(TEXT(入力用科目!$A35,\"??\"),COLUMN(),1))","v":""},{"$f":"IF(入力用科目!A35=\"\",\"\",MID(TEXT(入力用科目!$A35,\"??\"),COLUMN(),1))","v":""},null,{"$f":"IF(入力用科目!$D35=\"\",\"\",MID(TEXT(入力用科目!$D35,\"???\"),1,1))","v":""},{"$f":"IF(入力用科目!$D35=\"\",\"\",MID(TEXT(入力用科目!$D35,\"???\"),2,1))","v":""},{"$f":"IF(入力用科目!$D35=\"\",\"\",MID(TEXT(入力用科目!$D35,\"???\"),3,1))","v":""},null,{"$f":"IF(入力用科目!H35=\"\",\"\",入力用科目!H35)","v":""},null,null,null,null,null,null,null,null,{"$f":"IF(入力用科目!$Q35=\"\",\"\",MID(TEXT(入力用科目!$Q35,\"???\"),1,1))","v":""},{"$f":"IF(入力用科目!$Q35=\"\",\"\",MID(TEXT(入力用科目!$Q35,\"???\"),2,1))","v":""},{"$f":"IF(入力用科目!$Q35=\"\",\"\",MID(TEXT(入力用科目!$Q35,\"???\"),3,1))","v":""},null,{"$f":"IF(入力用科目!$U35=\"\",\"\",MID(TEXT(入力用科目!$U35,\"????????\"),1,1))","v":""},{"$f":"IF(入力用科目!$U35=\"\",\"\",MID(TEXT(入力用科目!$U35,\"????????\"),2,1))","v":""},{"$f":"IF(入力用科目!$U35=\"\",\"\",MID(TEXT(入力用科目!$U35,\"????????\"),3,1))","v":""},{"$f":"IF(入力用科目!$U35=\"\",\"\",MID(TEXT(入力用科目!$U35,\"????????\"),4,1))","v":""},{"$f":"IF(入力用科目!$U35=\"\",\"\",MID(TEXT(入力用科目!$U35,\"????????\"),5,1))","v":""},{"$f":"IF(入力用科目!$U35=\"\",\"\",MID(TEXT(入力用科目!$U35,\"????????\"),6,1))","v":""},{"$f":"IF(入力用科目!$U35=\"\",\"\",MID(TEXT(入力用科目!$U35,\"????????\"),7,1))","v":""},{"$f":"IF(入力用科目!$U35=\"\",\"\",MID(TEXT(入力用科目!$U35,\"????????\"),8,1))","v":""},null,{"$f":"IF(入力用科目!$AD35=\"\",\"\",MID(TEXT(入力用科目!$AD35,\"????????\"),1,1))","v":""},{"$f":"IF(入力用科目!$AD35=\"\",\"\",MID(TEXT(入力用科目!$AD35,\"????????\"),2,1))","v":""},{"$f":"IF(入力用科目!$AD35=\"\",\"\",MID(TEXT(入力用科目!$AD35,\"????????\"),3,1))","v":""},{"$f":"IF(入力用科目!$AD35=\"\",\"\",MID(TEXT(入力用科目!$AD35,\"????????\"),4,1))","v":""},{"$f":"IF(入力用科目!$AD35=\"\",\"\",MID(TEXT(入力用科目!$AD35,\"????????\"),5,1))","v":""},{"$f":"IF(入力用科目!$AD35=\"\",\"\",MID(TEXT(入力用科目!$AD35,\"????????\"),6,1))","v":""},{"$f":"IF(入力用科目!$AD35=\"\",\"\",MID(TEXT(入力用科目!$AD35,\"????????\"),7,1))","v":""},{"$f":"IF(入力用科目!$AD35=\"\",\"\",MID(TEXT(入力用科目!$AD35,\"????????\"),8,1))","v":""},null,{"$f":"IF(入力用科目!$AM35=\"\",\"\",MID(TEXT(入力用科目!$AM35,\"????????\"),1,1))","v":" "},{"$f":"IF(入力用科目!$AM35=\"\",\"\",MID(TEXT(入力用科目!$AM35,\"????????\"),2,1))","v":" "},{"$f":"IF(入力用科目!$AM35=\"\",\"\",MID(TEXT(入力用科目!$AM35,\"????????\"),3,1))","v":" "},{"$f":"IF(入力用科目!$AM35=\"\",\"\",MID(TEXT(入力用科目!$AM35,\"????????\"),4,1))","v":" "},{"$f":"IF(入力用科目!$AM35=\"\",\"\",MID(TEXT(入力用科目!$AM35,\"????????\"),5,1))","v":" "},{"$f":"IF(入力用科目!$AM35=\"\",\"\",MID(TEXT(入力用科目!$AM35,\"????????\"),6,1))","v":" "},{"$f":"IF(入力用科目!$AM35=\"\",\"\",MID(TEXT(入力用科目!$AM35,\"????????\"),7,1))","v":" "},{"$f":"IF(入力用科目!$AM35=\"\",\"\",MID(TEXT(入力用科目!$AM35,\"????????\"),8,1))","v":" "}]
[{"$f":"IF(入力用科目!A36=\"\",\"\",MID(TEXT(入力用科目!$A36,\"??\"),COLUMN(),1))","v":""},{"$f":"IF(入力用科目!A36=\"\",\"\",MID(TEXT(入力用科目!$A36,\"??\"),COLUMN(),1))","v":""},null,{"$f":"IF(入力用科目!$D36=\"\",\"\",MID(TEXT(入力用科目!$D36,\"???\"),1,1))","v":""},{"$f":"IF(入力用科目!$D36=\"\",\"\",MID(TEXT(入力用科目!$D36,\"???\"),2,1))","v":""},{"$f":"IF(入力用科目!$D36=\"\",\"\",MID(TEXT(入力用科目!$D36,\"???\"),3,1))","v":""},null,{"$f":"IF(入力用科目!H36=\"\",\"\",入力用科目!H36)","v":""},null,null,null,null,null,null,null,null,{"$f":"IF(入力用科目!$Q36=\"\",\"\",MID(TEXT(入力用科目!$Q36,\"???\"),1,1))","v":""},{"$f":"IF(入力用科目!$Q36=\"\",\"\",MID(TEXT(入力用科目!$Q36,\"???\"),2,1))","v":""},{"$f":"IF(入力用科目!$Q36=\"\",\"\",MID(TEXT(入力用科目!$Q36,\"???\"),3,1))","v":""},null,{"$f":"IF(入力用科目!$U36=\"\",\"\",MID(TEXT(入力用科目!$U36,\"????????\"),1,1))","v":""},{"$f":"IF(入力用科目!$U36=\"\",\"\",MID(TEXT(入力用科目!$U36,\"????????\"),2,1))","v":""},{"$f":"IF(入力用科目!$U36=\"\",\"\",MID(TEXT(入力用科目!$U36,\"????????\"),3,1))","v":""},{"$f":"IF(入力用科目!$U36=\"\",\"\",MID(TEXT(入力用科目!$U36,\"????????\"),4,1))","v":""},{"$f":"IF(入力用科目!$U36=\"\",\"\",MID(TEXT(入力用科目!$U36,\"????????\"),5,1))","v":""},{"$f":"IF(入力用科目!$U36=\"\",\"\",MID(TEXT(入力用科目!$U36,\"????????\"),6,1))","v":""},{"$f":"IF(入力用科目!$U36=\"\",\"\",MID(TEXT(入力用科目!$U36,\"????????\"),7,1))","v":""},{"$f":"IF(入力用科目!$U36=\"\",\"\",MID(TEXT(入力用科目!$U36,\"????????\"),8,1))","v":""},null,{"$f":"IF(入力用科目!$AD36=\"\",\"\",MID(TEXT(入力用科目!$AD36,\"????????\"),1,1))","v":""},{"$f":"IF(入力用科目!$AD36=\"\",\"\",MID(TEXT(入力用科目!$AD36,\"????????\"),2,1))","v":""},{"$f":"IF(入力用科目!$AD36=\"\",\"\",MID(TEXT(入力用科目!$AD36,\"????????\"),3,1))","v":""},{"$f":"IF(入力用科目!$AD36=\"\",\"\",MID(TEXT(入力用科目!$AD36,\"????????\"),4,1))","v":""},{"$f":"IF(入力用科目!$AD36=\"\",\"\",MID(TEXT(入力用科目!$AD36,\"????????\"),5,1))","v":""},{"$f":"IF(入力用科目!$AD36=\"\",\"\",MID(TEXT(入力用科目!$AD36,\"????????\"),6,1))","v":""},{"$f":"IF(入力用科目!$AD36=\"\",\"\",MID(TEXT(入力用科目!$AD36,\"????????\"),7,1))","v":""},{"$f":"IF(入力用科目!$AD36=\"\",\"\",MID(TEXT(入力用科目!$AD36,\"????????\"),8,1))","v":""},null,{"$f":"IF(入力用科目!$AM36=\"\",\"\",MID(TEXT(入力用科目!$AM36,\"????????\"),1,1))","v":" "},{"$f":"IF(入力用科目!$AM36=\"\",\"\",MID(TEXT(入力用科目!$AM36,\"????????\"),2,1))","v":" "},{"$f":"IF(入力用科目!$AM36=\"\",\"\",MID(TEXT(入力用科目!$AM36,\"????????\"),3,1))","v":" "},{"$f":"IF(入力用科目!$AM36=\"\",\"\",MID(TEXT(入力用科目!$AM36,\"????????\"),4,1))","v":" "},{"$f":"IF(入力用科目!$AM36=\"\",\"\",MID(TEXT(入力用科目!$AM36,\"????????\"),5,1))","v":" "},{"$f":"IF(入力用科目!$AM36=\"\",\"\",MID(TEXT(入力用科目!$AM36,\"????????\"),6,1))","v":" "},{"$f":"IF(入力用科目!$AM36=\"\",\"\",MID(TEXT(入力用科目!$AM36,\"????????\"),7,1))","v":" "},{"$f":"IF(入力用科目!$AM36=\"\",\"\",MID(TEXT(入力用科目!$AM36,\"????????\"),8,1))","v":" "}]
[{"$f":"IF(入力用科目!A37=\"\",\"\",MID(TEXT(入力用科目!$A37,\"??\"),COLUMN(),1))","v":""},{"$f":"IF(入力用科目!A37=\"\",\"\",MID(TEXT(入力用科目!$A37,\"??\"),COLUMN(),1))","v":""},null,{"$f":"IF(入力用科目!$D37=\"\",\"\",MID(TEXT(入力用科目!$D37,\"???\"),1,1))","v":""},{"$f":"IF(入力用科目!$D37=\"\",\"\",MID(TEXT(入力用科目!$D37,\"???\"),2,1))","v":""},{"$f":"IF(入力用科目!$D37=\"\",\"\",MID(TEXT(入力用科目!$D37,\"???\"),3,1))","v":""},null,{"$f":"IF(入力用科目!H37=\"\",\"\",入力用科目!H37)","v":"小　　　計"},null,null,null,null,null,null,null,null,{"$f":"IF(入力用科目!$Q37=\"\",\"\",MID(TEXT(入力用科目!$Q37,\"???\"),1,1))","v":""},{"$f":"IF(入力用科目!$Q37=\"\",\"\",MID(TEXT(入力用科目!$Q37,\"???\"),2,1))","v":""},{"$f":"IF(入力用科目!$Q37=\"\",\"\",MID(TEXT(入力用科目!$Q37,\"???\"),3,1))","v":""},null,{"$f":"IF(入力用科目!$U37=\"\",\"\",MID(TEXT(入力用科目!$U37,\"????????\"),1,1))","v":" "},{"$f":"IF(入力用科目!$U37=\"\",\"\",MID(TEXT(入力用科目!$U37,\"????????\"),2,1))","v":" "},{"$f":"IF(入力用科目!$U37=\"\",\"\",MID(TEXT(入力用科目!$U37,\"????????\"),3,1))","v":" "},{"$f":"IF(入力用科目!$U37=\"\",\"\",MID(TEXT(入力用科目!$U37,\"????????\"),4,1))","v":" "},{"$f":"IF(入力用科目!$U37=\"\",\"\",MID(TEXT(入力用科目!$U37,\"????????\"),5,1))","v":" "},{"$f":"IF(入力用科目!$U37=\"\",\"\",MID(TEXT(入力用科目!$U37,\"????????\"),6,1))","v":" "},{"$f":"IF(入力用科目!$U37=\"\",\"\",MID(TEXT(入力用科目!$U37,\"????????\"),7,1))","v":" "},{"$f":"IF(入力用科目!$U37=\"\",\"\",MID(TEXT(入力用科目!$U37,\"????????\"),8,1))","v":" "},null,{"$f":"IF(入力用科目!$AD37=\"\",\"\",MID(TEXT(入力用科目!$AD37,\"????????\"),1,1))","v":" "},{"$f":"IF(入力用科目!$AD37=\"\",\"\",MID(TEXT(入力用科目!$AD37,\"????????\"),2,1))","v":" "},{"$f":"IF(入力用科目!$AD37=\"\",\"\",MID(TEXT(入力用科目!$AD37,\"????????\"),3,1))","v":" "},{"$f":"IF(入力用科目!$AD37=\"\",\"\",MID(TEXT(入力用科目!$AD37,\"????????\"),4,1))","v":" "},{"$f":"IF(入力用科目!$AD37=\"\",\"\",MID(TEXT(入力用科目!$AD37,\"????????\"),5,1))","v":" "},{"$f":"IF(入力用科目!$AD37=\"\",\"\",MID(TEXT(入力用科目!$AD37,\"????????\"),6,1))","v":" "},{"$f":"IF(入力用科目!$AD37=\"\",\"\",MID(TEXT(入力用科目!$AD37,\"????????\"),7,1))","v":" "},{"$f":"IF(入力用科目!$AD37=\"\",\"\",MID(TEXT(入力用科目!$AD37,\"????????\"),8,1))","v":" "},null,{"$f":"IF(入力用科目!$AM37=\"\",\"\",MID(TEXT(入力用科目!$AM37,\"????????\"),1,1))","v":" "},{"$f":"IF(入力用科目!$AM37=\"\",\"\",MID(TEXT(入力用科目!$AM37,\"????????\"),2,1))","v":" "},{"$f":"IF(入力用科目!$AM37=\"\",\"\",MID(TEXT(入力用科目!$AM37,\"????????\"),3,1))","v":" "},{"$f":"IF(入力用科目!$AM37=\"\",\"\",MID(TEXT(入力用科目!$AM37,\"????????\"),4,1))","v":" "},{"$f":"IF(入力用科目!$AM37=\"\",\"\",MID(TEXT(入力用科目!$AM37,\"????????\"),5,1))","v":" "},{"$f":"IF(入力用科目!$AM37=\"\",\"\",MID(TEXT(入力用科目!$AM37,\"????????\"),6,1))","v":" "},{"$f":"IF(入力用科目!$AM37=\"\",\"\",MID(TEXT(入力用科目!$AM37,\"????????\"),7,1))","v":" "},{"$f":"IF(入力用科目!$AM37=\"\",\"\",MID(TEXT(入力用科目!$AM37,\"????????\"),8,1))","v":" "}]
[]
[null,{"$f":"IF(入力用科目!B39=\"\",\"\",入力用科目!B39)","v":""}]
[null,null,null,null,null,null,null,null,null,null,null,null,null,null,null,null,null,null,null,null,null,null,null,null,null,null,null,null,null,null,null,{"$f":"IF(入力用科目!$AF40=\"\",\"\",MID(TEXT(入力用科目!$AF40,\"???????\"),1,1))","v":""},{"$f":"IF(入力用科目!$AF40=\"\",\"\",MID(TEXT(入力用科目!$AF40,\"???????\"),2,1))","v":""},{"$f":"IF(入力用科目!$AF40=\"\",\"\",MID(TEXT(入力用科目!$AF40,\"???????\"),3,1))","v":""},{"$f":"IF(入力用科目!$AF40=\"\",\"\",MID(TEXT(入力用科目!$AF40,\"???????\"),4,1))","v":""},{"$f":"IF(入力用科目!$AF40=\"\",\"\",MID(TEXT(入力用科目!$AF40,\"???????\"),5,1))","v":""},{"$f":"IF(入力用科目!$AF40=\"\",\"\",MID(TEXT(入力用科目!$AF40,\"???????\"),6,1))","v":""},{"$f":"IF(入力用科目!$AF40=\"\",\"\",MID(TEXT(入力用科目!$AF40,\"???????\"),7,1))","v":""},null,{"$f":"IF(入力用科目!$AN40=\"\",\"\",MID(TEXT(入力用科目!$AN40,\"???????\"),1,1))","v":" "},{"$f":"IF(入力用科目!$AN40=\"\",\"\",MID(TEXT(入力用科目!$AN40,\"???????\"),2,1))","v":" "},{"$f":"IF(入力用科目!$AN40=\"\",\"\",MID(TEXT(入力用科目!$AN40,\"???????\"),3,1))","v":" "},{"$f":"IF(入力用科目!$AN40=\"\",\"\",MID(TEXT(入力用科目!$AN40,\"???????\"),4,1))","v":" "},{"$f":"IF(入力用科目!$AN40=\"\",\"\",MID(TEXT(入力用科目!$AN40,\"???????\"),5,1))","v":" "},{"$f":"IF(入力用科目!$AN40=\"\",\"\",MID(TEXT(入力用科目!$AN40,\"???????\"),6,1))","v":" "},{"$f":"IF(入力用科目!$AN40=\"\",\"\",MID(TEXT(入力用科目!$AN40,\"???????\"),7,1))","v":" "}]
[]
[]
[]
[]
[]
[{"$f":"IF(入力用科目!A46=\"\",\"\",入力用科目!A46)","v":0},{"$f":"IF(入力用科目!B46=\"\",\"\",入力用科目!B46)","v":6},null,{"$f":"IF(入力用科目!D46=\"\",\"\",入力用科目!D46)","v":""},{"$f":"IF(入力用科目!E46=\"\",\"\",入力用科目!E46)","v":""},null,null,null,null,null,null,null,null,null,null,null,null,null,null,null,null,null,null,null,null,null,null,null,null,null,null,null,{"$f":"IF(入力用科目!AG46=\"\",\"\",入力用科目!AG46)","v":""},null,null,null,null,null,null,null,null,{"$f":"IF(入力用科目!AP46=\"\",\"\",入力用科目!AP46)","v":""},null,{"$f":"IF(入力用科目!AR46=\"\",\"\",入力用科目!AR46)","v":""}]
[]
[]
[null,null,null,null,null,null,null,null,null,null,null,null,null,null,null,null,null,null,null,null,null,null,null,null,null,null,null,null,null,null,null,null,null,null,null,null,null,null,{"$f":"IF(入力用科目!$AM49=\"\",\"\",MID(TEXT(入力用科目!$AM49,\"????????\"),1,1))","v":" "},{"$f":"IF(入力用科目!$AM49=\"\",\"\",MID(TEXT(入力用科目!$AM49,\"????????\"),2,1))","v":" "},{"$f":"IF(入力用科目!$AM49=\"\",\"\",MID(TEXT(入力用科目!$AM49,\"????????\"),3,1))","v":" "},{"$f":"IF(入力用科目!$AM49=\"\",\"\",MID(TEXT(入力用科目!$AM49,\"????????\"),4,1))","v":" "},{"$f":"IF(入力用科目!$AM49=\"\",\"\",MID(TEXT(入力用科目!$AM49,\"????????\"),5,1))","v":" "},{"$f":"IF(入力用科目!$AM49=\"\",\"\",MID(TEXT(入力用科目!$AM49,\"????????\"),6,1))","v":" "},{"$f":"IF(入力用科目!$AM49=\"\",\"\",MID(TEXT(入力用科目!$AM49,\"????????\"),7,1))","v":" "},{"$f":"IF(入力用科目!$AM49=\"\",\"\",MID(TEXT(入力用科目!$AM49,\"????????\"),8,1))","v":" "}]
[{"$f":"IF(入力用科目!A50=\"\",\"\",MID(TEXT(入力用科目!$A50,\"??\"),COLUMN(),1))","v":""},{"$f":"IF(入力用科目!A50=\"\",\"\",MID(TEXT(入力用科目!$A50,\"??\"),COLUMN(),1))","v":""},null,{"$f":"IF(入力用科目!$D50=\"\",\"\",MID(TEXT(入力用科目!$D50,\"???\"),1,1))","v":""},{"$f":"IF(入力用科目!$D50=\"\",\"\",MID(TEXT(入力用科目!$D50,\"???\"),2,1))","v":""},{"$f":"IF(入力用科目!$D50=\"\",\"\",MID(TEXT(入力用科目!$D50,\"???\"),3,1))","v":""},null,{"$f":"IF(入力用科目!$Q50=1,\"運送収入\",IF(入力用科目!$H50=\"\",\"\",入力用科目!$H50))","v":""},null,null,null,null,null,null,null,null,{"$f":"IF(入力用科目!$Q50=\"\",\"\",MID(TEXT(入力用科目!$Q50,\"???\"),1,1))","v":""},{"$f":"IF(入力用科目!$Q50=\"\",\"\",MID(TEXT(入力用科目!$Q50,\"???\"),2,1))","v":""},{"$f":"IF(入力用科目!$Q50=\"\",\"\",MID(TEXT(入力用科目!$Q50,\"???\"),3,1))","v":""},null,{"$f":"IF(入力用科目!$U50=\"\",\"\",MID(TEXT(入力用科目!$U50,\"????????\"),1,1))","v":""},{"$f":"IF(入力用科目!$U50=\"\",\"\",MID(TEXT(入力用科目!$U50,\"????????\"),2,1))","v":""},{"$f":"IF(入力用科目!$U50=\"\",\"\",MID(TEXT(入力用科目!$U50,\"????????\"),3,1))","v":""},{"$f":"IF(入力用科目!$U50=\"\",\"\",MID(TEXT(入力用科目!$U50,\"????????\"),4,1))","v":""},{"$f":"IF(入力用科目!$U50=\"\",\"\",MID(TEXT(入力用科目!$U50,\"????????\"),5,1))","v":""},{"$f":"IF(入力用科目!$U50=\"\",\"\",MID(TEXT(入力用科目!$U50,\"????????\"),6,1))","v":""},{"$f":"IF(入力用科目!$U50=\"\",\"\",MID(TEXT(入力用科目!$U50,\"????????\"),7,1))","v":""},{"$f":"IF(入力用科目!$U50=\"\",\"\",MID(TEXT(入力用科目!$U50,\"????????\"),8,1))","v":""},null,{"$f":"IF(入力用科目!$AD50=\"\",\"\",MID(TEXT(入力用科目!$AD50,\"????????\"),1,1))","v":""},{"$f":"IF(入力用科目!$AD50=\"\",\"\",MID(TEXT(入力用科目!$AD50,\"????????\"),2,1))","v":""},{"$f":"IF(入力用科目!$AD50=\"\",\"\",MID(TEXT(入力用科目!$AD50,\"????????\"),3,1))","v":""},{"$f":"IF(入力用科目!$AD50=\"\",\"\",MID(TEXT(入力用科目!$AD50,\"????????\"),4,1))","v":""},{"$f":"IF(入力用科目!$AD50=\"\",\"\",MID(TEXT(入力用科目!$AD50,\"????????\"),5,1))","v":""},{"$f":"IF(入力用科目!$AD50=\"\",\"\",MID(TEXT(入力用科目!$AD50,\"????????\"),6,1))","v":""},{"$f":"IF(入力用科目!$AD50=\"\",\"\",MID(TEXT(入力用科目!$AD50,\"????????\"),7,1))","v":""},{"$f":"IF(入力用科目!$AD50=\"\",\"\",MID(TEXT(入力用科目!$AD50,\"????????\"),8,1))","v":""},null,{"$f":"IF(入力用科目!$AM50=\"\",\"\",MID(TEXT(入力用科目!$AM50,\"????????\"),1,1))","v":" "},{"$f":"IF(入力用科目!$AM50=\"\",\"\",MID(TEXT(入力用科目!$AM50,\"????????\"),2,1))","v":" "},{"$f":"IF(入力用科目!$AM50=\"\",\"\",MID(TEXT(入力用科目!$AM50,\"????????\"),3,1))","v":" "},{"$f":"IF(入力用科目!$AM50=\"\",\"\",MID(TEXT(入力用科目!$AM50,\"????????\"),4,1))","v":" "},{"$f":"IF(入力用科目!$AM50=\"\",\"\",MID(TEXT(入力用科目!$AM50,\"????????\"),5,1))","v":" "},{"$f":"IF(入力用科目!$AM50=\"\",\"\",MID(TEXT(入力用科目!$AM50,\"????????\"),6,1))","v":" "},{"$f":"IF(入力用科目!$AM50=\"\",\"\",MID(TEXT(入力用科目!$AM50,\"????????\"),7,1))","v":" "},{"$f":"IF(入力用科目!$AM50=\"\",\"\",MID(TEXT(入力用科目!$AM50,\"????????\"),8,1))","v":" "}]
[{"$f":"IF(入力用科目!A51=\"\",\"\",MID(TEXT(入力用科目!$A51,\"??\"),COLUMN(),1))","v":""},{"$f":"IF(入力用科目!A51=\"\",\"\",MID(TEXT(入力用科目!$A51,\"??\"),COLUMN(),1))","v":""},null,{"$f":"IF(入力用科目!$D51=\"\",\"\",MID(TEXT(入力用科目!$D51,\"???\"),1,1))","v":""},{"$f":"IF(入力用科目!$D51=\"\",\"\",MID(TEXT(入力用科目!$D51,\"???\"),2,1))","v":""},{"$f":"IF(入力用科目!$D51=\"\",\"\",MID(TEXT(入力用科目!$D51,\"???\"),3,1))","v":""},null,{"$f":"IF(入力用科目!$Q51=1,\"運送収入\",IF(入力用科目!$H51=\"\",\"\",入力用科目!$H51))","v":""},null,null,null,null,null,null,null,null,{"$f":"IF(入力用科目!$Q51=\"\",\"\",MID(TEXT(入力用科目!$Q51,\"???\"),1,1))","v":""},{"$f":"IF(入力用科目!$Q51=\"\",\"\",MID(TEXT(入力用科目!$Q51,\"???\"),2,1))","v":""},{"$f":"IF(入力用科目!$Q51=\"\",\"\",MID(TEXT(入力用科目!$Q51,\"???\"),3,1))","v":""},null,{"$f":"IF(入力用科目!$U51=\"\",\"\",MID(TEXT(入力用科目!$U51,\"????????\"),1,1))","v":""},{"$f":"IF(入力用科目!$U51=\"\",\"\",MID(TEXT(入力用科目!$U51,\"????????\"),2,1))","v":""},{"$f":"IF(入力用科目!$U51=\"\",\"\",MID(TEXT(入力用科目!$U51,\"????????\"),3,1))","v":""},{"$f":"IF(入力用科目!$U51=\"\",\"\",MID(TEXT(入力用科目!$U51,\"????????\"),4,1))","v":""},{"$f":"IF(入力用科目!$U51=\"\",\"\",MID(TEXT(入力用科目!$U51,\"????????\"),5,1))","v":""},{"$f":"IF(入力用科目!$U51=\"\",\"\",MID(TEXT(入力用科目!$U51,\"????????\"),6,1))","v":""},{"$f":"IF(入力用科目!$U51=\"\",\"\",MID(TEXT(入力用科目!$U51,\"????????\"),7,1))","v":""},{"$f":"IF(入力用科目!$U51=\"\",\"\",MID(TEXT(入力用科目!$U51,\"????????\"),8,1))","v":""},null,{"$f":"IF(入力用科目!$AD51=\"\",\"\",MID(TEXT(入力用科目!$AD51,\"????????\"),1,1))","v":""},{"$f":"IF(入力用科目!$AD51=\"\",\"\",MID(TEXT(入力用科目!$AD51,\"????????\"),2,1))","v":""},{"$f":"IF(入力用科目!$AD51=\"\",\"\",MID(TEXT(入力用科目!$AD51,\"????????\"),3,1))","v":""},{"$f":"IF(入力用科目!$AD51=\"\",\"\",MID(TEXT(入力用科目!$AD51,\"????????\"),4,1))","v":""},{"$f":"IF(入力用科目!$AD51=\"\",\"\",MID(TEXT(入力用科目!$AD51,\"????????\"),5,1))","v":""},{"$f":"IF(入力用科目!$AD51=\"\",\"\",MID(TEXT(入力用科目!$AD51,\"????????\"),6,1))","v":""},{"$f":"IF(入力用科目!$AD51=\"\",\"\",MID(TEXT(入力用科目!$AD51,\"????????\"),7,1))","v":""},{"$f":"IF(入力用科目!$AD51=\"\",\"\",MID(TEXT(入力用科目!$AD51,\"????????\"),8,1))","v":""},null,{"$f":"IF(入力用科目!$AM51=\"\",\"\",MID(TEXT(入力用科目!$AM51,\"????????\"),1,1))","v":" "},{"$f":"IF(入力用科目!$AM51=\"\",\"\",MID(TEXT(入力用科目!$AM51,\"????????\"),2,1))","v":" "},{"$f":"IF(入力用科目!$AM51=\"\",\"\",MID(TEXT(入力用科目!$AM51,\"????????\"),3,1))","v":" "},{"$f":"IF(入力用科目!$AM51=\"\",\"\",MID(TEXT(入力用科目!$AM51,\"????????\"),4,1))","v":" "},{"$f":"IF(入力用科目!$AM51=\"\",\"\",MID(TEXT(入力用科目!$AM51,\"????????\"),5,1))","v":" "},{"$f":"IF(入力用科目!$AM51=\"\",\"\",MID(TEXT(入力用科目!$AM51,\"????????\"),6,1))","v":" "},{"$f":"IF(入力用科目!$AM51=\"\",\"\",MID(TEXT(入力用科目!$AM51,\"????????\"),7,1))","v":" "},{"$f":"IF(入力用科目!$AM51=\"\",\"\",MID(TEXT(入力用科目!$AM51,\"????????\"),8,1))","v":" "}]
[{"$f":"IF(入力用科目!A52=\"\",\"\",MID(TEXT(入力用科目!$A52,\"??\"),COLUMN(),1))","v":""},{"$f":"IF(入力用科目!A52=\"\",\"\",MID(TEXT(入力用科目!$A52,\"??\"),COLUMN(),1))","v":""},null,{"$f":"IF(入力用科目!$D52=\"\",\"\",MID(TEXT(入力用科目!$D52,\"???\"),1,1))","v":""},{"$f":"IF(入力用科目!$D52=\"\",\"\",MID(TEXT(入力用科目!$D52,\"???\"),2,1))","v":""},{"$f":"IF(入力用科目!$D52=\"\",\"\",MID(TEXT(入力用科目!$D52,\"???\"),3,1))","v":""},null,{"$f":"IF(入力用科目!$Q52=1,\"運送収入\",IF(入力用科目!$H52=\"\",\"\",入力用科目!$H52))","v":""},null,null,null,null,null,null,null,null,{"$f":"IF(入力用科目!$Q52=\"\",\"\",MID(TEXT(入力用科目!$Q52,\"???\"),1,1))","v":""},{"$f":"IF(入力用科目!$Q52=\"\",\"\",MID(TEXT(入力用科目!$Q52,\"???\"),2,1))","v":""},{"$f":"IF(入力用科目!$Q52=\"\",\"\",MID(TEXT(入力用科目!$Q52,\"???\"),3,1))","v":""},null,{"$f":"IF(入力用科目!$U52=\"\",\"\",MID(TEXT(入力用科目!$U52,\"????????\"),1,1))","v":""},{"$f":"IF(入力用科目!$U52=\"\",\"\",MID(TEXT(入力用科目!$U52,\"????????\"),2,1))","v":""},{"$f":"IF(入力用科目!$U52=\"\",\"\",MID(TEXT(入力用科目!$U52,\"????????\"),3,1))","v":""},{"$f":"IF(入力用科目!$U52=\"\",\"\",MID(TEXT(入力用科目!$U52,\"????????\"),4,1))","v":""},{"$f":"IF(入力用科目!$U52=\"\",\"\",MID(TEXT(入力用科目!$U52,\"????????\"),5,1))","v":""},{"$f":"IF(入力用科目!$U52=\"\",\"\",MID(TEXT(入力用科目!$U52,\"????????\"),6,1))","v":""},{"$f":"IF(入力用科目!$U52=\"\",\"\",MID(TEXT(入力用科目!$U52,\"????????\"),7,1))","v":""},{"$f":"IF(入力用科目!$U52=\"\",\"\",MID(TEXT(入力用科目!$U52,\"????????\"),8,1))","v":""},null,{"$f":"IF(入力用科目!$AD52=\"\",\"\",MID(TEXT(入力用科目!$AD52,\"????????\"),1,1))","v":""},{"$f":"IF(入力用科目!$AD52=\"\",\"\",MID(TEXT(入力用科目!$AD52,\"????????\"),2,1))","v":""},{"$f":"IF(入力用科目!$AD52=\"\",\"\",MID(TEXT(入力用科目!$AD52,\"????????\"),3,1))","v":""},{"$f":"IF(入力用科目!$AD52=\"\",\"\",MID(TEXT(入力用科目!$AD52,\"????????\"),4,1))","v":""},{"$f":"IF(入力用科目!$AD52=\"\",\"\",MID(TEXT(入力用科目!$AD52,\"????????\"),5,1))","v":""},{"$f":"IF(入力用科目!$AD52=\"\",\"\",MID(TEXT(入力用科目!$AD52,\"????????\"),6,1))","v":""},{"$f":"IF(入力用科目!$AD52=\"\",\"\",MID(TEXT(入力用科目!$AD52,\"????????\"),7,1))","v":""},{"$f":"IF(入力用科目!$AD52=\"\",\"\",MID(TEXT(入力用科目!$AD52,\"????????\"),8,1))","v":""},null,{"$f":"IF(入力用科目!$AM52=\"\",\"\",MID(TEXT(入力用科目!$AM52,\"????????\"),1,1))","v":" "},{"$f":"IF(入力用科目!$AM52=\"\",\"\",MID(TEXT(入力用科目!$AM52,\"????????\"),2,1))","v":" "},{"$f":"IF(入力用科目!$AM52=\"\",\"\",MID(TEXT(入力用科目!$AM52,\"????????\"),3,1))","v":" "},{"$f":"IF(入力用科目!$AM52=\"\",\"\",MID(TEXT(入力用科目!$AM52,\"????????\"),4,1))","v":" "},{"$f":"IF(入力用科目!$AM52=\"\",\"\",MID(TEXT(入力用科目!$AM52,\"????????\"),5,1))","v":" "},{"$f":"IF(入力用科目!$AM52=\"\",\"\",MID(TEXT(入力用科目!$AM52,\"????????\"),6,1))","v":" "},{"$f":"IF(入力用科目!$AM52=\"\",\"\",MID(TEXT(入力用科目!$AM52,\"????????\"),7,1))","v":" "},{"$f":"IF(入力用科目!$AM52=\"\",\"\",MID(TEXT(入力用科目!$AM52,\"????????\"),8,1))","v":" "}]
[{"$f":"IF(入力用科目!A53=\"\",\"\",MID(TEXT(入力用科目!$A53,\"??\"),COLUMN(),1))","v":""},{"$f":"IF(入力用科目!A53=\"\",\"\",MID(TEXT(入力用科目!$A53,\"??\"),COLUMN(),1))","v":""},null,{"$f":"IF(入力用科目!$D53=\"\",\"\",MID(TEXT(入力用科目!$D53,\"???\"),1,1))","v":""},{"$f":"IF(入力用科目!$D53=\"\",\"\",MID(TEXT(入力用科目!$D53,\"???\"),2,1))","v":""},{"$f":"IF(入力用科目!$D53=\"\",\"\",MID(TEXT(入力用科目!$D53,\"???\"),3,1))","v":""},null,{"$f":"IF(入力用科目!$Q53=1,\"運送収入\",IF(入力用科目!$H53=\"\",\"\",入力用科目!$H53))","v":""},null,null,null,null,null,null,null,null,{"$f":"IF(入力用科目!$Q53=\"\",\"\",MID(TEXT(入力用科目!$Q53,\"???\"),1,1))","v":""},{"$f":"IF(入力用科目!$Q53=\"\",\"\",MID(TEXT(入力用科目!$Q53,\"???\"),2,1))","v":""},{"$f":"IF(入力用科目!$Q53=\"\",\"\",MID(TEXT(入力用科目!$Q53,\"???\"),3,1))","v":""},null,{"$f":"IF(入力用科目!$U53=\"\",\"\",MID(TEXT(入力用科目!$U53,\"????????\"),1,1))","v":""},{"$f":"IF(入力用科目!$U53=\"\",\"\",MID(TEXT(入力用科目!$U53,\"????????\"),2,1))","v":""},{"$f":"IF(入力用科目!$U53=\"\",\"\",MID(TEXT(入力用科目!$U53,\"????????\"),3,1))","v":""},{"$f":"IF(入力用科目!$U53=\"\",\"\",MID(TEXT(入力用科目!$U53,\"????????\"),4,1))","v":""},{"$f":"IF(入力用科目!$U53=\"\",\"\",MID(TEXT(入力用科目!$U53,\"????????\"),5,1))","v":""},{"$f":"IF(入力用科目!$U53=\"\",\"\",MID(TEXT(入力用科目!$U53,\"????????\"),6,1))","v":""},{"$f":"IF(入力用科目!$U53=\"\",\"\",MID(TEXT(入力用科目!$U53,\"????????\"),7,1))","v":""},{"$f":"IF(入力用科目!$U53=\"\",\"\",MID(TEXT(入力用科目!$U53,\"????????\"),8,1))","v":""},null,{"$f":"IF(入力用科目!$AD53=\"\",\"\",MID(TEXT(入力用科目!$AD53,\"????????\"),1,1))","v":""},{"$f":"IF(入力用科目!$AD53=\"\",\"\",MID(TEXT(入力用科目!$AD53,\"????????\"),2,1))","v":""},{"$f":"IF(入力用科目!$AD53=\"\",\"\",MID(TEXT(入力用科目!$AD53,\"????????\"),3,1))","v":""},{"$f":"IF(入力用科目!$AD53=\"\",\"\",MID(TEXT(入力用科目!$AD53,\"????????\"),4,1))","v":""},{"$f":"IF(入力用科目!$AD53=\"\",\"\",MID(TEXT(入力用科目!$AD53,\"????????\"),5,1))","v":""},{"$f":"IF(入力用科目!$AD53=\"\",\"\",MID(TEXT(入力用科目!$AD53,\"????????\"),6,1))","v":""},{"$f":"IF(入力用科目!$AD53=\"\",\"\",MID(TEXT(入力用科目!$AD53,\"????????\"),7,1))","v":""},{"$f":"IF(入力用科目!$AD53=\"\",\"\",MID(TEXT(入力用科目!$AD53,\"????????\"),8,1))","v":""},null,{"$f":"IF(入力用科目!$AM53=\"\",\"\",MID(TEXT(入力用科目!$AM53,\"????????\"),1,1))","v":" "},{"$f":"IF(入力用科目!$AM53=\"\",\"\",MID(TEXT(入力用科目!$AM53,\"????????\"),2,1))","v":" "},{"$f":"IF(入力用科目!$AM53=\"\",\"\",MID(TEXT(入力用科目!$AM53,\"????????\"),3,1))","v":" "},{"$f":"IF(入力用科目!$AM53=\"\",\"\",MID(TEXT(入力用科目!$AM53,\"????????\"),4,1))","v":" "},{"$f":"IF(入力用科目!$AM53=\"\",\"\",MID(TEXT(入力用科目!$AM53,\"????????\"),5,1))","v":" "},{"$f":"IF(入力用科目!$AM53=\"\",\"\",MID(TEXT(入力用科目!$AM53,\"????????\"),6,1))","v":" "},{"$f":"IF(入力用科目!$AM53=\"\",\"\",MID(TEXT(入力用科目!$AM53,\"????????\"),7,1))","v":" "},{"$f":"IF(入力用科目!$AM53=\"\",\"\",MID(TEXT(入力用科目!$AM53,\"????????\"),8,1))","v":" "}]
[{"$f":"IF(入力用科目!A54=\"\",\"\",MID(TEXT(入力用科目!$A54,\"??\"),COLUMN(),1))","v":""},{"$f":"IF(入力用科目!A54=\"\",\"\",MID(TEXT(入力用科目!$A54,\"??\"),COLUMN(),1))","v":""},null,{"$f":"IF(入力用科目!$D54=\"\",\"\",MID(TEXT(入力用科目!$D54,\"???\"),1,1))","v":""},{"$f":"IF(入力用科目!$D54=\"\",\"\",MID(TEXT(入力用科目!$D54,\"???\"),2,1))","v":""},{"$f":"IF(入力用科目!$D54=\"\",\"\",MID(TEXT(入力用科目!$D54,\"???\"),3,1))","v":""},null,{"$f":"IF(入力用科目!$Q54=1,\"運送収入\",IF(入力用科目!$H54=\"\",\"\",入力用科目!$H54))","v":""},null,null,null,null,null,null,null,null,{"$f":"IF(入力用科目!$Q54=\"\",\"\",MID(TEXT(入力用科目!$Q54,\"???\"),1,1))","v":""},{"$f":"IF(入力用科目!$Q54=\"\",\"\",MID(TEXT(入力用科目!$Q54,\"???\"),2,1))","v":""},{"$f":"IF(入力用科目!$Q54=\"\",\"\",MID(TEXT(入力用科目!$Q54,\"???\"),3,1))","v":""},null,{"$f":"IF(入力用科目!$U54=\"\",\"\",MID(TEXT(入力用科目!$U54,\"????????\"),1,1))","v":""},{"$f":"IF(入力用科目!$U54=\"\",\"\",MID(TEXT(入力用科目!$U54,\"????????\"),2,1))","v":""},{"$f":"IF(入力用科目!$U54=\"\",\"\",MID(TEXT(入力用科目!$U54,\"????????\"),3,1))","v":""},{"$f":"IF(入力用科目!$U54=\"\",\"\",MID(TEXT(入力用科目!$U54,\"????????\"),4,1))","v":""},{"$f":"IF(入力用科目!$U54=\"\",\"\",MID(TEXT(入力用科目!$U54,\"????????\"),5,1))","v":""},{"$f":"IF(入力用科目!$U54=\"\",\"\",MID(TEXT(入力用科目!$U54,\"????????\"),6,1))","v":""},{"$f":"IF(入力用科目!$U54=\"\",\"\",MID(TEXT(入力用科目!$U54,\"????????\"),7,1))","v":""},{"$f":"IF(入力用科目!$U54=\"\",\"\",MID(TEXT(入力用科目!$U54,\"????????\"),8,1))","v":""},null,{"$f":"IF(入力用科目!$AD54=\"\",\"\",MID(TEXT(入力用科目!$AD54,\"????????\"),1,1))","v":""},{"$f":"IF(入力用科目!$AD54=\"\",\"\",MID(TEXT(入力用科目!$AD54,\"????????\"),2,1))","v":""},{"$f":"IF(入力用科目!$AD54=\"\",\"\",MID(TEXT(入力用科目!$AD54,\"????????\"),3,1))","v":""},{"$f":"IF(入力用科目!$AD54=\"\",\"\",MID(TEXT(入力用科目!$AD54,\"????????\"),4,1))","v":""},{"$f":"IF(入力用科目!$AD54=\"\",\"\",MID(TEXT(入力用科目!$AD54,\"????????\"),5,1))","v":""},{"$f":"IF(入力用科目!$AD54=\"\",\"\",MID(TEXT(入力用科目!$AD54,\"????????\"),6,1))","v":""},{"$f":"IF(入力用科目!$AD54=\"\",\"\",MID(TEXT(入力用科目!$AD54,\"????????\"),7,1))","v":""},{"$f":"IF(入力用科目!$AD54=\"\",\"\",MID(TEXT(入力用科目!$AD54,\"????????\"),8,1))","v":""},null,{"$f":"IF(入力用科目!$AM54=\"\",\"\",MID(TEXT(入力用科目!$AM54,\"????????\"),1,1))","v":" "},{"$f":"IF(入力用科目!$AM54=\"\",\"\",MID(TEXT(入力用科目!$AM54,\"????????\"),2,1))","v":" "},{"$f":"IF(入力用科目!$AM54=\"\",\"\",MID(TEXT(入力用科目!$AM54,\"????????\"),3,1))","v":" "},{"$f":"IF(入力用科目!$AM54=\"\",\"\",MID(TEXT(入力用科目!$AM54,\"????????\"),4,1))","v":" "},{"$f":"IF(入力用科目!$AM54=\"\",\"\",MID(TEXT(入力用科目!$AM54,\"????????\"),5,1))","v":" "},{"$f":"IF(入力用科目!$AM54=\"\",\"\",MID(TEXT(入力用科目!$AM54,\"????????\"),6,1))","v":" "},{"$f":"IF(入力用科目!$AM54=\"\",\"\",MID(TEXT(入力用科目!$AM54,\"????????\"),7,1))","v":" "},{"$f":"IF(入力用科目!$AM54=\"\",\"\",MID(TEXT(入力用科目!$AM54,\"????????\"),8,1))","v":" "}]
[{"$f":"IF(入力用科目!A55=\"\",\"\",MID(TEXT(入力用科目!$A55,\"??\"),COLUMN(),1))","v":""},{"$f":"IF(入力用科目!A55=\"\",\"\",MID(TEXT(入力用科目!$A55,\"??\"),COLUMN(),1))","v":""},null,{"$f":"IF(入力用科目!$D55=\"\",\"\",MID(TEXT(入力用科目!$D55,\"???\"),1,1))","v":""},{"$f":"IF(入力用科目!$D55=\"\",\"\",MID(TEXT(入力用科目!$D55,\"???\"),2,1))","v":""},{"$f":"IF(入力用科目!$D55=\"\",\"\",MID(TEXT(入力用科目!$D55,\"???\"),3,1))","v":""},null,{"$f":"IF(入力用科目!$Q55=1,\"運送収入\",IF(入力用科目!$H55=\"\",\"\",入力用科目!$H55))","v":""},null,null,null,null,null,null,null,null,{"$f":"IF(入力用科目!$Q55=\"\",\"\",MID(TEXT(入力用科目!$Q55,\"???\"),1,1))","v":""},{"$f":"IF(入力用科目!$Q55=\"\",\"\",MID(TEXT(入力用科目!$Q55,\"???\"),2,1))","v":""},{"$f":"IF(入力用科目!$Q55=\"\",\"\",MID(TEXT(入力用科目!$Q55,\"???\"),3,1))","v":""},null,{"$f":"IF(入力用科目!$U55=\"\",\"\",MID(TEXT(入力用科目!$U55,\"????????\"),1,1))","v":""},{"$f":"IF(入力用科目!$U55=\"\",\"\",MID(TEXT(入力用科目!$U55,\"????????\"),2,1))","v":""},{"$f":"IF(入力用科目!$U55=\"\",\"\",MID(TEXT(入力用科目!$U55,\"????????\"),3,1))","v":""},{"$f":"IF(入力用科目!$U55=\"\",\"\",MID(TEXT(入力用科目!$U55,\"????????\"),4,1))","v":""},{"$f":"IF(入力用科目!$U55=\"\",\"\",MID(TEXT(入力用科目!$U55,\"????????\"),5,1))","v":""},{"$f":"IF(入力用科目!$U55=\"\",\"\",MID(TEXT(入力用科目!$U55,\"????????\"),6,1))","v":""},{"$f":"IF(入力用科目!$U55=\"\",\"\",MID(TEXT(入力用科目!$U55,\"????????\"),7,1))","v":""},{"$f":"IF(入力用科目!$U55=\"\",\"\",MID(TEXT(入力用科目!$U55,\"????????\"),8,1))","v":""},null,{"$f":"IF(入力用科目!$AD55=\"\",\"\",MID(TEXT(入力用科目!$AD55,\"????????\"),1,1))","v":""},{"$f":"IF(入力用科目!$AD55=\"\",\"\",MID(TEXT(入力用科目!$AD55,\"????????\"),2,1))","v":""},{"$f":"IF(入力用科目!$AD55=\"\",\"\",MID(TEXT(入力用科目!$AD55,\"????????\"),3,1))","v":""},{"$f":"IF(入力用科目!$AD55=\"\",\"\",MID(TEXT(入力用科目!$AD55,\"????????\"),4,1))","v":""},{"$f":"IF(入力用科目!$AD55=\"\",\"\",MID(TEXT(入力用科目!$AD55,\"????????\"),5,1))","v":""},{"$f":"IF(入力用科目!$AD55=\"\",\"\",MID(TEXT(入力用科目!$AD55,\"????????\"),6,1))","v":""},{"$f":"IF(入力用科目!$AD55=\"\",\"\",MID(TEXT(入力用科目!$AD55,\"????????\"),7,1))","v":""},{"$f":"IF(入力用科目!$AD55=\"\",\"\",MID(TEXT(入力用科目!$AD55,\"????????\"),8,1))","v":""},null,{"$f":"IF(入力用科目!$AM55=\"\",\"\",MID(TEXT(入力用科目!$AM55,\"????????\"),1,1))","v":" "},{"$f":"IF(入力用科目!$AM55=\"\",\"\",MID(TEXT(入力用科目!$AM55,\"????????\"),2,1))","v":" "},{"$f":"IF(入力用科目!$AM55=\"\",\"\",MID(TEXT(入力用科目!$AM55,\"????????\"),3,1))","v":" "},{"$f":"IF(入力用科目!$AM55=\"\",\"\",MID(TEXT(入力用科目!$AM55,\"????????\"),4,1))","v":" "},{"$f":"IF(入力用科目!$AM55=\"\",\"\",MID(TEXT(入力用科目!$AM55,\"????????\"),5,1))","v":" "},{"$f":"IF(入力用科目!$AM55=\"\",\"\",MID(TEXT(入力用科目!$AM55,\"????????\"),6,1))","v":" "},{"$f":"IF(入力用科目!$AM55=\"\",\"\",MID(TEXT(入力用科目!$AM55,\"????????\"),7,1))","v":" "},{"$f":"IF(入力用科目!$AM55=\"\",\"\",MID(TEXT(入力用科目!$AM55,\"????????\"),8,1))","v":" "}]
[{"$f":"IF(入力用科目!A56=\"\",\"\",MID(TEXT(入力用科目!$A56,\"??\"),COLUMN(),1))","v":""},{"$f":"IF(入力用科目!A56=\"\",\"\",MID(TEXT(入力用科目!$A56,\"??\"),COLUMN(),1))","v":""},null,{"$f":"IF(入力用科目!$D56=\"\",\"\",MID(TEXT(入力用科目!$D56,\"???\"),1,1))","v":""},{"$f":"IF(入力用科目!$D56=\"\",\"\",MID(TEXT(入力用科目!$D56,\"???\"),2,1))","v":""},{"$f":"IF(入力用科目!$D56=\"\",\"\",MID(TEXT(入力用科目!$D56,\"???\"),3,1))","v":""},null,{"$f":"IF(入力用科目!$Q56=1,\"運送収入\",IF(入力用科目!$H56=\"\",\"\",入力用科目!$H56))","v":""},null,null,null,null,null,null,null,null,{"$f":"IF(入力用科目!$Q56=\"\",\"\",MID(TEXT(入力用科目!$Q56,\"???\"),1,1))","v":""},{"$f":"IF(入力用科目!$Q56=\"\",\"\",MID(TEXT(入力用科目!$Q56,\"???\"),2,1))","v":""},{"$f":"IF(入力用科目!$Q56=\"\",\"\",MID(TEXT(入力用科目!$Q56,\"???\"),3,1))","v":""},null,{"$f":"IF(入力用科目!$U56=\"\",\"\",MID(TEXT(入力用科目!$U56,\"????????\"),1,1))","v":""},{"$f":"IF(入力用科目!$U56=\"\",\"\",MID(TEXT(入力用科目!$U56,\"????????\"),2,1))","v":""},{"$f":"IF(入力用科目!$U56=\"\",\"\",MID(TEXT(入力用科目!$U56,\"????????\"),3,1))","v":""},{"$f":"IF(入力用科目!$U56=\"\",\"\",MID(TEXT(入力用科目!$U56,\"????????\"),4,1))","v":""},{"$f":"IF(入力用科目!$U56=\"\",\"\",MID(TEXT(入力用科目!$U56,\"????????\"),5,1))","v":""},{"$f":"IF(入力用科目!$U56=\"\",\"\",MID(TEXT(入力用科目!$U56,\"????????\"),6,1))","v":""},{"$f":"IF(入力用科目!$U56=\"\",\"\",MID(TEXT(入力用科目!$U56,\"????????\"),7,1))","v":""},{"$f":"IF(入力用科目!$U56=\"\",\"\",MID(TEXT(入力用科目!$U56,\"????????\"),8,1))","v":""},null,{"$f":"IF(入力用科目!$AD56=\"\",\"\",MID(TEXT(入力用科目!$AD56,\"????????\"),1,1))","v":""},{"$f":"IF(入力用科目!$AD56=\"\",\"\",MID(TEXT(入力用科目!$AD56,\"????????\"),2,1))","v":""},{"$f":"IF(入力用科目!$AD56=\"\",\"\",MID(TEXT(入力用科目!$AD56,\"????????\"),3,1))","v":""},{"$f":"IF(入力用科目!$AD56=\"\",\"\",MID(TEXT(入力用科目!$AD56,\"????????\"),4,1))","v":""},{"$f":"IF(入力用科目!$AD56=\"\",\"\",MID(TEXT(入力用科目!$AD56,\"????????\"),5,1))","v":""},{"$f":"IF(入力用科目!$AD56=\"\",\"\",MID(TEXT(入力用科目!$AD56,\"????????\"),6,1))","v":""},{"$f":"IF(入力用科目!$AD56=\"\",\"\",MID(TEXT(入力用科目!$AD56,\"????????\"),7,1))","v":""},{"$f":"IF(入力用科目!$AD56=\"\",\"\",MID(TEXT(入力用科目!$AD56,\"????????\"),8,1))","v":""},null,{"$f":"IF(入力用科目!$AM56=\"\",\"\",MID(TEXT(入力用科目!$AM56,\"????????\"),1,1))","v":" "},{"$f":"IF(入力用科目!$AM56=\"\",\"\",MID(TEXT(入力用科目!$AM56,\"????????\"),2,1))","v":" "},{"$f":"IF(入力用科目!$AM56=\"\",\"\",MID(TEXT(入力用科目!$AM56,\"????????\"),3,1))","v":" "},{"$f":"IF(入力用科目!$AM56=\"\",\"\",MID(TEXT(入力用科目!$AM56,\"????????\"),4,1))","v":" "},{"$f":"IF(入力用科目!$AM56=\"\",\"\",MID(TEXT(入力用科目!$AM56,\"????????\"),5,1))","v":" "},{"$f":"IF(入力用科目!$AM56=\"\",\"\",MID(TEXT(入力用科目!$AM56,\"????????\"),6,1))","v":" "},{"$f":"IF(入力用科目!$AM56=\"\",\"\",MID(TEXT(入力用科目!$AM56,\"????????\"),7,1))","v":" "},{"$f":"IF(入力用科目!$AM56=\"\",\"\",MID(TEXT(入力用科目!$AM56,\"????????\"),8,1))","v":" "}]
[{"$f":"IF(入力用科目!A57=\"\",\"\",MID(TEXT(入力用科目!$A57,\"??\"),COLUMN(),1))","v":""},{"$f":"IF(入力用科目!A57=\"\",\"\",MID(TEXT(入力用科目!$A57,\"??\"),COLUMN(),1))","v":""},null,{"$f":"IF(入力用科目!$D57=\"\",\"\",MID(TEXT(入力用科目!$D57,\"???\"),1,1))","v":""},{"$f":"IF(入力用科目!$D57=\"\",\"\",MID(TEXT(入力用科目!$D57,\"???\"),2,1))","v":""},{"$f":"IF(入力用科目!$D57=\"\",\"\",MID(TEXT(入力用科目!$D57,\"???\"),3,1))","v":""},null,{"$f":"IF(入力用科目!$Q57=1,\"運送収入\",IF(入力用科目!$H57=\"\",\"\",入力用科目!$H57))","v":""},null,null,null,null,null,null,null,null,{"$f":"IF(入力用科目!$Q57=\"\",\"\",MID(TEXT(入力用科目!$Q57,\"???\"),1,1))","v":""},{"$f":"IF(入力用科目!$Q57=\"\",\"\",MID(TEXT(入力用科目!$Q57,\"???\"),2,1))","v":""},{"$f":"IF(入力用科目!$Q57=\"\",\"\",MID(TEXT(入力用科目!$Q57,\"???\"),3,1))","v":""},null,{"$f":"IF(入力用科目!$U57=\"\",\"\",MID(TEXT(入力用科目!$U57,\"????????\"),1,1))","v":""},{"$f":"IF(入力用科目!$U57=\"\",\"\",MID(TEXT(入力用科目!$U57,\"????????\"),2,1))","v":""},{"$f":"IF(入力用科目!$U57=\"\",\"\",MID(TEXT(入力用科目!$U57,\"????????\"),3,1))","v":""},{"$f":"IF(入力用科目!$U57=\"\",\"\",MID(TEXT(入力用科目!$U57,\"????????\"),4,1))","v":""},{"$f":"IF(入力用科目!$U57=\"\",\"\",MID(TEXT(入力用科目!$U57,\"????????\"),5,1))","v":""},{"$f":"IF(入力用科目!$U57=\"\",\"\",MID(TEXT(入力用科目!$U57,\"????????\"),6,1))","v":""},{"$f":"IF(入力用科目!$U57=\"\",\"\",MID(TEXT(入力用科目!$U57,\"????????\"),7,1))","v":""},{"$f":"IF(入力用科目!$U57=\"\",\"\",MID(TEXT(入力用科目!$U57,\"????????\"),8,1))","v":""},null,{"$f":"IF(入力用科目!$AD57=\"\",\"\",MID(TEXT(入力用科目!$AD57,\"????????\"),1,1))","v":""},{"$f":"IF(入力用科目!$AD57=\"\",\"\",MID(TEXT(入力用科目!$AD57,\"????????\"),2,1))","v":""},{"$f":"IF(入力用科目!$AD57=\"\",\"\",MID(TEXT(入力用科目!$AD57,\"????????\"),3,1))","v":""},{"$f":"IF(入力用科目!$AD57=\"\",\"\",MID(TEXT(入力用科目!$AD57,\"????????\"),4,1))","v":""},{"$f":"IF(入力用科目!$AD57=\"\",\"\",MID(TEXT(入力用科目!$AD57,\"????????\"),5,1))","v":""},{"$f":"IF(入力用科目!$AD57=\"\",\"\",MID(TEXT(入力用科目!$AD57,\"????????\"),6,1))","v":""},{"$f":"IF(入力用科目!$AD57=\"\",\"\",MID(TEXT(入力用科目!$AD57,\"????????\"),7,1))","v":""},{"$f":"IF(入力用科目!$AD57=\"\",\"\",MID(TEXT(入力用科目!$AD57,\"????????\"),8,1))","v":""},null,{"$f":"IF(入力用科目!$AM57=\"\",\"\",MID(TEXT(入力用科目!$AM57,\"????????\"),1,1))","v":" "},{"$f":"IF(入力用科目!$AM57=\"\",\"\",MID(TEXT(入力用科目!$AM57,\"????????\"),2,1))","v":" "},{"$f":"IF(入力用科目!$AM57=\"\",\"\",MID(TEXT(入力用科目!$AM57,\"????????\"),3,1))","v":" "},{"$f":"IF(入力用科目!$AM57=\"\",\"\",MID(TEXT(入力用科目!$AM57,\"????????\"),4,1))","v":" "},{"$f":"IF(入力用科目!$AM57=\"\",\"\",MID(TEXT(入力用科目!$AM57,\"????????\"),5,1))","v":" "},{"$f":"IF(入力用科目!$AM57=\"\",\"\",MID(TEXT(入力用科目!$AM57,\"????????\"),6,1))","v":" "},{"$f":"IF(入力用科目!$AM57=\"\",\"\",MID(TEXT(入力用科目!$AM57,\"????????\"),7,1))","v":" "},{"$f":"IF(入力用科目!$AM57=\"\",\"\",MID(TEXT(入力用科目!$AM57,\"????????\"),8,1))","v":" "}]
[{"$f":"IF(入力用科目!A58=\"\",\"\",MID(TEXT(入力用科目!$A58,\"??\"),COLUMN(),1))","v":""},{"$f":"IF(入力用科目!A58=\"\",\"\",MID(TEXT(入力用科目!$A58,\"??\"),COLUMN(),1))","v":""},null,{"$f":"IF(入力用科目!$D58=\"\",\"\",MID(TEXT(入力用科目!$D58,\"???\"),1,1))","v":""},{"$f":"IF(入力用科目!$D58=\"\",\"\",MID(TEXT(入力用科目!$D58,\"???\"),2,1))","v":""},{"$f":"IF(入力用科目!$D58=\"\",\"\",MID(TEXT(入力用科目!$D58,\"???\"),3,1))","v":""},null,{"$f":"IF(入力用科目!$Q58=1,\"運送収入\",IF(入力用科目!$H58=\"\",\"\",入力用科目!$H58))","v":""},null,null,null,null,null,null,null,null,{"$f":"IF(入力用科目!$Q58=\"\",\"\",MID(TEXT(入力用科目!$Q58,\"???\"),1,1))","v":""},{"$f":"IF(入力用科目!$Q58=\"\",\"\",MID(TEXT(入力用科目!$Q58,\"???\"),2,1))","v":""},{"$f":"IF(入力用科目!$Q58=\"\",\"\",MID(TEXT(入力用科目!$Q58,\"???\"),3,1))","v":""},null,{"$f":"IF(入力用科目!$U58=\"\",\"\",MID(TEXT(入力用科目!$U58,\"????????\"),1,1))","v":""},{"$f":"IF(入力用科目!$U58=\"\",\"\",MID(TEXT(入力用科目!$U58,\"????????\"),2,1))","v":""},{"$f":"IF(入力用科目!$U58=\"\",\"\",MID(TEXT(入力用科目!$U58,\"????????\"),3,1))","v":""},{"$f":"IF(入力用科目!$U58=\"\",\"\",MID(TEXT(入力用科目!$U58,\"????????\"),4,1))","v":""},{"$f":"IF(入力用科目!$U58=\"\",\"\",MID(TEXT(入力用科目!$U58,\"????????\"),5,1))","v":""},{"$f":"IF(入力用科目!$U58=\"\",\"\",MID(TEXT(入力用科目!$U58,\"????????\"),6,1))","v":""},{"$f":"IF(入力用科目!$U58=\"\",\"\",MID(TEXT(入力用科目!$U58,\"????????\"),7,1))","v":""},{"$f":"IF(入力用科目!$U58=\"\",\"\",MID(TEXT(入力用科目!$U58,\"????????\"),8,1))","v":""},null,{"$f":"IF(入力用科目!$AD58=\"\",\"\",MID(TEXT(入力用科目!$AD58,\"????????\"),1,1))","v":""},{"$f":"IF(入力用科目!$AD58=\"\",\"\",MID(TEXT(入力用科目!$AD58,\"????????\"),2,1))","v":""},{"$f":"IF(入力用科目!$AD58=\"\",\"\",MID(TEXT(入力用科目!$AD58,\"????????\"),3,1))","v":""},{"$f":"IF(入力用科目!$AD58=\"\",\"\",MID(TEXT(入力用科目!$AD58,\"????????\"),4,1))","v":""},{"$f":"IF(入力用科目!$AD58=\"\",\"\",MID(TEXT(入力用科目!$AD58,\"????????\"),5,1))","v":""},{"$f":"IF(入力用科目!$AD58=\"\",\"\",MID(TEXT(入力用科目!$AD58,\"????????\"),6,1))","v":""},{"$f":"IF(入力用科目!$AD58=\"\",\"\",MID(TEXT(入力用科目!$AD58,\"????????\"),7,1))","v":""},{"$f":"IF(入力用科目!$AD58=\"\",\"\",MID(TEXT(入力用科目!$AD58,\"????????\"),8,1))","v":""},null,{"$f":"IF(入力用科目!$AM58=\"\",\"\",MID(TEXT(入力用科目!$AM58,\"????????\"),1,1))","v":" "},{"$f":"IF(入力用科目!$AM58=\"\",\"\",MID(TEXT(入力用科目!$AM58,\"????????\"),2,1))","v":" "},{"$f":"IF(入力用科目!$AM58=\"\",\"\",MID(TEXT(入力用科目!$AM58,\"????????\"),3,1))","v":" "},{"$f":"IF(入力用科目!$AM58=\"\",\"\",MID(TEXT(入力用科目!$AM58,\"????????\"),4,1))","v":" "},{"$f":"IF(入力用科目!$AM58=\"\",\"\",MID(TEXT(入力用科目!$AM58,\"????????\"),5,1))","v":" "},{"$f":"IF(入力用科目!$AM58=\"\",\"\",MID(TEXT(入力用科目!$AM58,\"????????\"),6,1))","v":" "},{"$f":"IF(入力用科目!$AM58=\"\",\"\",MID(TEXT(入力用科目!$AM58,\"????????\"),7,1))","v":" "},{"$f":"IF(入力用科目!$AM58=\"\",\"\",MID(TEXT(入力用科目!$AM58,\"????????\"),8,1))","v":" "}]
[{"$f":"IF(入力用科目!A59=\"\",\"\",MID(TEXT(入力用科目!$A59,\"??\"),COLUMN(),1))","v":""},{"$f":"IF(入力用科目!A59=\"\",\"\",MID(TEXT(入力用科目!$A59,\"??\"),COLUMN(),1))","v":""},null,{"$f":"IF(入力用科目!$D59=\"\",\"\",MID(TEXT(入力用科目!$D59,\"???\"),1,1))","v":""},{"$f":"IF(入力用科目!$D59=\"\",\"\",MID(TEXT(入力用科目!$D59,\"???\"),2,1))","v":""},{"$f":"IF(入力用科目!$D59=\"\",\"\",MID(TEXT(入力用科目!$D59,\"???\"),3,1))","v":""},null,{"$f":"IF(入力用科目!$Q59=1,\"運送収入\",IF(入力用科目!$H59=\"\",\"\",入力用科目!$H59))","v":""},null,null,null,null,null,null,null,null,{"$f":"IF(入力用科目!$Q59=\"\",\"\",MID(TEXT(入力用科目!$Q59,\"???\"),1,1))","v":""},{"$f":"IF(入力用科目!$Q59=\"\",\"\",MID(TEXT(入力用科目!$Q59,\"???\"),2,1))","v":""},{"$f":"IF(入力用科目!$Q59=\"\",\"\",MID(TEXT(入力用科目!$Q59,\"???\"),3,1))","v":""},null,{"$f":"IF(入力用科目!$U59=\"\",\"\",MID(TEXT(入力用科目!$U59,\"????????\"),1,1))","v":""},{"$f":"IF(入力用科目!$U59=\"\",\"\",MID(TEXT(入力用科目!$U59,\"????????\"),2,1))","v":""},{"$f":"IF(入力用科目!$U59=\"\",\"\",MID(TEXT(入力用科目!$U59,\"????????\"),3,1))","v":""},{"$f":"IF(入力用科目!$U59=\"\",\"\",MID(TEXT(入力用科目!$U59,\"????????\"),4,1))","v":""},{"$f":"IF(入力用科目!$U59=\"\",\"\",MID(TEXT(入力用科目!$U59,\"????????\"),5,1))","v":""},{"$f":"IF(入力用科目!$U59=\"\",\"\",MID(TEXT(入力用科目!$U59,\"????????\"),6,1))","v":""},{"$f":"IF(入力用科目!$U59=\"\",\"\",MID(TEXT(入力用科目!$U59,\"????????\"),7,1))","v":""},{"$f":"IF(入力用科目!$U59=\"\",\"\",MID(TEXT(入力用科目!$U59,\"????????\"),8,1))","v":""},null,{"$f":"IF(入力用科目!$AD59=\"\",\"\",MID(TEXT(入力用科目!$AD59,\"????????\"),1,1))","v":""},{"$f":"IF(入力用科目!$AD59=\"\",\"\",MID(TEXT(入力用科目!$AD59,\"????????\"),2,1))","v":""},{"$f":"IF(入力用科目!$AD59=\"\",\"\",MID(TEXT(入力用科目!$AD59,\"????????\"),3,1))","v":""},{"$f":"IF(入力用科目!$AD59=\"\",\"\",MID(TEXT(入力用科目!$AD59,\"????????\"),4,1))","v":""},{"$f":"IF(入力用科目!$AD59=\"\",\"\",MID(TEXT(入力用科目!$AD59,\"????????\"),5,1))","v":""},{"$f":"IF(入力用科目!$AD59=\"\",\"\",MID(TEXT(入力用科目!$AD59,\"????????\"),6,1))","v":""},{"$f":"IF(入力用科目!$AD59=\"\",\"\",MID(TEXT(入力用科目!$AD59,\"????????\"),7,1))","v":""},{"$f":"IF(入力用科目!$AD59=\"\",\"\",MID(TEXT(入力用科目!$AD59,\"????????\"),8,1))","v":""},null,{"$f":"IF(入力用科目!$AM59=\"\",\"\",MID(TEXT(入力用科目!$AM59,\"????????\"),1,1))","v":" "},{"$f":"IF(入力用科目!$AM59=\"\",\"\",MID(TEXT(入力用科目!$AM59,\"????????\"),2,1))","v":" "},{"$f":"IF(入力用科目!$AM59=\"\",\"\",MID(TEXT(入力用科目!$AM59,\"????????\"),3,1))","v":" "},{"$f":"IF(入力用科目!$AM59=\"\",\"\",MID(TEXT(入力用科目!$AM59,\"????????\"),4,1))","v":" "},{"$f":"IF(入力用科目!$AM59=\"\",\"\",MID(TEXT(入力用科目!$AM59,\"????????\"),5,1))","v":" "},{"$f":"IF(入力用科目!$AM59=\"\",\"\",MID(TEXT(入力用科目!$AM59,\"????????\"),6,1))","v":" "},{"$f":"IF(入力用科目!$AM59=\"\",\"\",MID(TEXT(入力用科目!$AM59,\"????????\"),7,1))","v":" "},{"$f":"IF(入力用科目!$AM59=\"\",\"\",MID(TEXT(入力用科目!$AM59,\"????????\"),8,1))","v":" "}]
[{"$f":"IF(入力用科目!A60=\"\",\"\",MID(TEXT(入力用科目!$A60,\"??\"),COLUMN(),1))","v":""},{"$f":"IF(入力用科目!A60=\"\",\"\",MID(TEXT(入力用科目!$A60,\"??\"),COLUMN(),1))","v":""},null,{"$f":"IF(入力用科目!$D60=\"\",\"\",MID(TEXT(入力用科目!$D60,\"???\"),1,1))","v":""},{"$f":"IF(入力用科目!$D60=\"\",\"\",MID(TEXT(入力用科目!$D60,\"???\"),2,1))","v":""},{"$f":"IF(入力用科目!$D60=\"\",\"\",MID(TEXT(入力用科目!$D60,\"???\"),3,1))","v":""},null,{"$f":"IF(入力用科目!$Q60=1,\"運送収入\",IF(入力用科目!$H60=\"\",\"\",入力用科目!$H60))","v":""},null,null,null,null,null,null,null,null,{"$f":"IF(入力用科目!$Q60=\"\",\"\",MID(TEXT(入力用科目!$Q60,\"???\"),1,1))","v":""},{"$f":"IF(入力用科目!$Q60=\"\",\"\",MID(TEXT(入力用科目!$Q60,\"???\"),2,1))","v":""},{"$f":"IF(入力用科目!$Q60=\"\",\"\",MID(TEXT(入力用科目!$Q60,\"???\"),3,1))","v":""},null,{"$f":"IF(入力用科目!$U60=\"\",\"\",MID(TEXT(入力用科目!$U60,\"????????\"),1,1))","v":""},{"$f":"IF(入力用科目!$U60=\"\",\"\",MID(TEXT(入力用科目!$U60,\"????????\"),2,1))","v":""},{"$f":"IF(入力用科目!$U60=\"\",\"\",MID(TEXT(入力用科目!$U60,\"????????\"),3,1))","v":""},{"$f":"IF(入力用科目!$U60=\"\",\"\",MID(TEXT(入力用科目!$U60,\"????????\"),4,1))","v":""},{"$f":"IF(入力用科目!$U60=\"\",\"\",MID(TEXT(入力用科目!$U60,\"????????\"),5,1))","v":""},{"$f":"IF(入力用科目!$U60=\"\",\"\",MID(TEXT(入力用科目!$U60,\"????????\"),6,1))","v":""},{"$f":"IF(入力用科目!$U60=\"\",\"\",MID(TEXT(入力用科目!$U60,\"????????\"),7,1))","v":""},{"$f":"IF(入力用科目!$U60=\"\",\"\",MID(TEXT(入力用科目!$U60,\"????????\"),8,1))","v":""},null,{"$f":"IF(入力用科目!$AD60=\"\",\"\",MID(TEXT(入力用科目!$AD60,\"????????\"),1,1))","v":""},{"$f":"IF(入力用科目!$AD60=\"\",\"\",MID(TEXT(入力用科目!$AD60,\"????????\"),2,1))","v":""},{"$f":"IF(入力用科目!$AD60=\"\",\"\",MID(TEXT(入力用科目!$AD60,\"????????\"),3,1))","v":""},{"$f":"IF(入力用科目!$AD60=\"\",\"\",MID(TEXT(入力用科目!$AD60,\"????????\"),4,1))","v":""},{"$f":"IF(入力用科目!$AD60=\"\",\"\",MID(TEXT(入力用科目!$AD60,\"????????\"),5,1))","v":""},{"$f":"IF(入力用科目!$AD60=\"\",\"\",MID(TEXT(入力用科目!$AD60,\"????????\"),6,1))","v":""},{"$f":"IF(入力用科目!$AD60=\"\",\"\",MID(TEXT(入力用科目!$AD60,\"????????\"),7,1))","v":""},{"$f":"IF(入力用科目!$AD60=\"\",\"\",MID(TEXT(入力用科目!$AD60,\"????????\"),8,1))","v":""},null,{"$f":"IF(入力用科目!$AM60=\"\",\"\",MID(TEXT(入力用科目!$AM60,\"????????\"),1,1))","v":" "},{"$f":"IF(入力用科目!$AM60=\"\",\"\",MID(TEXT(入力用科目!$AM60,\"????????\"),2,1))","v":" "},{"$f":"IF(入力用科目!$AM60=\"\",\"\",MID(TEXT(入力用科目!$AM60,\"????????\"),3,1))","v":" "},{"$f":"IF(入力用科目!$AM60=\"\",\"\",MID(TEXT(入力用科目!$AM60,\"????????\"),4,1))","v":" "},{"$f":"IF(入力用科目!$AM60=\"\",\"\",MID(TEXT(入力用科目!$AM60,\"????????\"),5,1))","v":" "},{"$f":"IF(入力用科目!$AM60=\"\",\"\",MID(TEXT(入力用科目!$AM60,\"????????\"),6,1))","v":" "},{"$f":"IF(入力用科目!$AM60=\"\",\"\",MID(TEXT(入力用科目!$AM60,\"????????\"),7,1))","v":" "},{"$f":"IF(入力用科目!$AM60=\"\",\"\",MID(TEXT(入力用科目!$AM60,\"????????\"),8,1))","v":" "}]
[{"$f":"IF(入力用科目!A61=\"\",\"\",MID(TEXT(入力用科目!$A61,\"??\"),COLUMN(),1))","v":""},{"$f":"IF(入力用科目!A61=\"\",\"\",MID(TEXT(入力用科目!$A61,\"??\"),COLUMN(),1))","v":""},null,{"$f":"IF(入力用科目!$D61=\"\",\"\",MID(TEXT(入力用科目!$D61,\"???\"),1,1))","v":""},{"$f":"IF(入力用科目!$D61=\"\",\"\",MID(TEXT(入力用科目!$D61,\"???\"),2,1))","v":""},{"$f":"IF(入力用科目!$D61=\"\",\"\",MID(TEXT(入力用科目!$D61,\"???\"),3,1))","v":""},null,{"$f":"IF(入力用科目!$Q61=1,\"運送収入\",IF(入力用科目!$H61=\"\",\"\",入力用科目!$H61))","v":""},null,null,null,null,null,null,null,null,{"$f":"IF(入力用科目!$Q61=\"\",\"\",MID(TEXT(入力用科目!$Q61,\"???\"),1,1))","v":""},{"$f":"IF(入力用科目!$Q61=\"\",\"\",MID(TEXT(入力用科目!$Q61,\"???\"),2,1))","v":""},{"$f":"IF(入力用科目!$Q61=\"\",\"\",MID(TEXT(入力用科目!$Q61,\"???\"),3,1))","v":""},null,{"$f":"IF(入力用科目!$U61=\"\",\"\",MID(TEXT(入力用科目!$U61,\"????????\"),1,1))","v":""},{"$f":"IF(入力用科目!$U61=\"\",\"\",MID(TEXT(入力用科目!$U61,\"????????\"),2,1))","v":""},{"$f":"IF(入力用科目!$U61=\"\",\"\",MID(TEXT(入力用科目!$U61,\"????????\"),3,1))","v":""},{"$f":"IF(入力用科目!$U61=\"\",\"\",MID(TEXT(入力用科目!$U61,\"????????\"),4,1))","v":""},{"$f":"IF(入力用科目!$U61=\"\",\"\",MID(TEXT(入力用科目!$U61,\"????????\"),5,1))","v":""},{"$f":"IF(入力用科目!$U61=\"\",\"\",MID(TEXT(入力用科目!$U61,\"????????\"),6,1))","v":""},{"$f":"IF(入力用科目!$U61=\"\",\"\",MID(TEXT(入力用科目!$U61,\"????????\"),7,1))","v":""},{"$f":"IF(入力用科目!$U61=\"\",\"\",MID(TEXT(入力用科目!$U61,\"????????\"),8,1))","v":""},null,{"$f":"IF(入力用科目!$AD61=\"\",\"\",MID(TEXT(入力用科目!$AD61,\"????????\"),1,1))","v":""},{"$f":"IF(入力用科目!$AD61=\"\",\"\",MID(TEXT(入力用科目!$AD61,\"????????\"),2,1))","v":""},{"$f":"IF(入力用科目!$AD61=\"\",\"\",MID(TEXT(入力用科目!$AD61,\"????????\"),3,1))","v":""},{"$f":"IF(入力用科目!$AD61=\"\",\"\",MID(TEXT(入力用科目!$AD61,\"????????\"),4,1))","v":""},{"$f":"IF(入力用科目!$AD61=\"\",\"\",MID(TEXT(入力用科目!$AD61,\"????????\"),5,1))","v":""},{"$f":"IF(入力用科目!$AD61=\"\",\"\",MID(TEXT(入力用科目!$AD61,\"????????\"),6,1))","v":""},{"$f":"IF(入力用科目!$AD61=\"\",\"\",MID(TEXT(入力用科目!$AD61,\"????????\"),7,1))","v":""},{"$f":"IF(入力用科目!$AD61=\"\",\"\",MID(TEXT(入力用科目!$AD61,\"????????\"),8,1))","v":""},null,{"$f":"IF(入力用科目!$AM61=\"\",\"\",MID(TEXT(入力用科目!$AM61,\"????????\"),1,1))","v":" "},{"$f":"IF(入力用科目!$AM61=\"\",\"\",MID(TEXT(入力用科目!$AM61,\"????????\"),2,1))","v":" "},{"$f":"IF(入力用科目!$AM61=\"\",\"\",MID(TEXT(入力用科目!$AM61,\"????????\"),3,1))","v":" "},{"$f":"IF(入力用科目!$AM61=\"\",\"\",MID(TEXT(入力用科目!$AM61,\"????????\"),4,1))","v":" "},{"$f":"IF(入力用科目!$AM61=\"\",\"\",MID(TEXT(入力用科目!$AM61,\"????????\"),5,1))","v":" "},{"$f":"IF(入力用科目!$AM61=\"\",\"\",MID(TEXT(入力用科目!$AM61,\"????????\"),6,1))","v":" "},{"$f":"IF(入力用科目!$AM61=\"\",\"\",MID(TEXT(入力用科目!$AM61,\"????????\"),7,1))","v":" "},{"$f":"IF(入力用科目!$AM61=\"\",\"\",MID(TEXT(入力用科目!$AM61,\"????????\"),8,1))","v":" "}]
[{"$f":"IF(入力用科目!A62=\"\",\"\",MID(TEXT(入力用科目!$A62,\"??\"),COLUMN(),1))","v":""},{"$f":"IF(入力用科目!A62=\"\",\"\",MID(TEXT(入力用科目!$A62,\"??\"),COLUMN(),1))","v":""},null,{"$f":"IF(入力用科目!$D62=\"\",\"\",MID(TEXT(入力用科目!$D62,\"???\"),1,1))","v":""},{"$f":"IF(入力用科目!$D62=\"\",\"\",MID(TEXT(入力用科目!$D62,\"???\"),2,1))","v":""},{"$f":"IF(入力用科目!$D62=\"\",\"\",MID(TEXT(入力用科目!$D62,\"???\"),3,1))","v":""},null,{"$f":"IF(入力用科目!$Q62=1,\"運送収入\",IF(入力用科目!$H62=\"\",\"\",入力用科目!$H62))","v":""},null,null,null,null,null,null,null,null,{"$f":"IF(入力用科目!$Q62=\"\",\"\",MID(TEXT(入力用科目!$Q62,\"???\"),1,1))","v":""},{"$f":"IF(入力用科目!$Q62=\"\",\"\",MID(TEXT(入力用科目!$Q62,\"???\"),2,1))","v":""},{"$f":"IF(入力用科目!$Q62=\"\",\"\",MID(TEXT(入力用科目!$Q62,\"???\"),3,1))","v":""},null,{"$f":"IF(入力用科目!$U62=\"\",\"\",MID(TEXT(入力用科目!$U62,\"????????\"),1,1))","v":""},{"$f":"IF(入力用科目!$U62=\"\",\"\",MID(TEXT(入力用科目!$U62,\"????????\"),2,1))","v":""},{"$f":"IF(入力用科目!$U62=\"\",\"\",MID(TEXT(入力用科目!$U62,\"????????\"),3,1))","v":""},{"$f":"IF(入力用科目!$U62=\"\",\"\",MID(TEXT(入力用科目!$U62,\"????????\"),4,1))","v":""},{"$f":"IF(入力用科目!$U62=\"\",\"\",MID(TEXT(入力用科目!$U62,\"????????\"),5,1))","v":""},{"$f":"IF(入力用科目!$U62=\"\",\"\",MID(TEXT(入力用科目!$U62,\"????????\"),6,1))","v":""},{"$f":"IF(入力用科目!$U62=\"\",\"\",MID(TEXT(入力用科目!$U62,\"????????\"),7,1))","v":""},{"$f":"IF(入力用科目!$U62=\"\",\"\",MID(TEXT(入力用科目!$U62,\"????????\"),8,1))","v":""},null,{"$f":"IF(入力用科目!$AD62=\"\",\"\",MID(TEXT(入力用科目!$AD62,\"????????\"),1,1))","v":""},{"$f":"IF(入力用科目!$AD62=\"\",\"\",MID(TEXT(入力用科目!$AD62,\"????????\"),2,1))","v":""},{"$f":"IF(入力用科目!$AD62=\"\",\"\",MID(TEXT(入力用科目!$AD62,\"????????\"),3,1))","v":""},{"$f":"IF(入力用科目!$AD62=\"\",\"\",MID(TEXT(入力用科目!$AD62,\"????????\"),4,1))","v":""},{"$f":"IF(入力用科目!$AD62=\"\",\"\",MID(TEXT(入力用科目!$AD62,\"????????\"),5,1))","v":""},{"$f":"IF(入力用科目!$AD62=\"\",\"\",MID(TEXT(入力用科目!$AD62,\"????????\"),6,1))","v":""},{"$f":"IF(入力用科目!$AD62=\"\",\"\",MID(TEXT(入力用科目!$AD62,\"????????\"),7,1))","v":""},{"$f":"IF(入力用科目!$AD62=\"\",\"\",MID(TEXT(入力用科目!$AD62,\"????????\"),8,1))","v":""},null,{"$f":"IF(入力用科目!$AM62=\"\",\"\",MID(TEXT(入力用科目!$AM62,\"????????\"),1,1))","v":" "},{"$f":"IF(入力用科目!$AM62=\"\",\"\",MID(TEXT(入力用科目!$AM62,\"????????\"),2,1))","v":" "},{"$f":"IF(入力用科目!$AM62=\"\",\"\",MID(TEXT(入力用科目!$AM62,\"????????\"),3,1))","v":" "},{"$f":"IF(入力用科目!$AM62=\"\",\"\",MID(TEXT(入力用科目!$AM62,\"????????\"),4,1))","v":" "},{"$f":"IF(入力用科目!$AM62=\"\",\"\",MID(TEXT(入力用科目!$AM62,\"????????\"),5,1))","v":" "},{"$f":"IF(入力用科目!$AM62=\"\",\"\",MID(TEXT(入力用科目!$AM62,\"????????\"),6,1))","v":" "},{"$f":"IF(入力用科目!$AM62=\"\",\"\",MID(TEXT(入力用科目!$AM62,\"????????\"),7,1))","v":" "},{"$f":"IF(入力用科目!$AM62=\"\",\"\",MID(TEXT(入力用科目!$AM62,\"????????\"),8,1))","v":" "}]
[{"$f":"IF(入力用科目!A63=\"\",\"\",MID(TEXT(入力用科目!$A63,\"??\"),COLUMN(),1))","v":""},{"$f":"IF(入力用科目!A63=\"\",\"\",MID(TEXT(入力用科目!$A63,\"??\"),COLUMN(),1))","v":""},null,{"$f":"IF(入力用科目!$D63=\"\",\"\",MID(TEXT(入力用科目!$D63,\"???\"),1,1))","v":""},{"$f":"IF(入力用科目!$D63=\"\",\"\",MID(TEXT(入力用科目!$D63,\"???\"),2,1))","v":""},{"$f":"IF(入力用科目!$D63=\"\",\"\",MID(TEXT(入力用科目!$D63,\"???\"),3,1))","v":""},null,{"$f":"IF(入力用科目!$Q63=1,\"運送収入\",IF(入力用科目!$H63=\"\",\"\",入力用科目!$H63))","v":""},null,null,null,null,null,null,null,null,{"$f":"IF(入力用科目!$Q63=\"\",\"\",MID(TEXT(入力用科目!$Q63,\"???\"),1,1))","v":""},{"$f":"IF(入力用科目!$Q63=\"\",\"\",MID(TEXT(入力用科目!$Q63,\"???\"),2,1))","v":""},{"$f":"IF(入力用科目!$Q63=\"\",\"\",MID(TEXT(入力用科目!$Q63,\"???\"),3,1))","v":""},null,{"$f":"IF(入力用科目!$U63=\"\",\"\",MID(TEXT(入力用科目!$U63,\"????????\"),1,1))","v":""},{"$f":"IF(入力用科目!$U63=\"\",\"\",MID(TEXT(入力用科目!$U63,\"????????\"),2,1))","v":""},{"$f":"IF(入力用科目!$U63=\"\",\"\",MID(TEXT(入力用科目!$U63,\"????????\"),3,1))","v":""},{"$f":"IF(入力用科目!$U63=\"\",\"\",MID(TEXT(入力用科目!$U63,\"????????\"),4,1))","v":""},{"$f":"IF(入力用科目!$U63=\"\",\"\",MID(TEXT(入力用科目!$U63,\"????????\"),5,1))","v":""},{"$f":"IF(入力用科目!$U63=\"\",\"\",MID(TEXT(入力用科目!$U63,\"????????\"),6,1))","v":""},{"$f":"IF(入力用科目!$U63=\"\",\"\",MID(TEXT(入力用科目!$U63,\"????????\"),7,1))","v":""},{"$f":"IF(入力用科目!$U63=\"\",\"\",MID(TEXT(入力用科目!$U63,\"????????\"),8,1))","v":""},null,{"$f":"IF(入力用科目!$AD63=\"\",\"\",MID(TEXT(入力用科目!$AD63,\"????????\"),1,1))","v":""},{"$f":"IF(入力用科目!$AD63=\"\",\"\",MID(TEXT(入力用科目!$AD63,\"????????\"),2,1))","v":""},{"$f":"IF(入力用科目!$AD63=\"\",\"\",MID(TEXT(入力用科目!$AD63,\"????????\"),3,1))","v":""},{"$f":"IF(入力用科目!$AD63=\"\",\"\",MID(TEXT(入力用科目!$AD63,\"????????\"),4,1))","v":""},{"$f":"IF(入力用科目!$AD63=\"\",\"\",MID(TEXT(入力用科目!$AD63,\"????????\"),5,1))","v":""},{"$f":"IF(入力用科目!$AD63=\"\",\"\",MID(TEXT(入力用科目!$AD63,\"????????\"),6,1))","v":""},{"$f":"IF(入力用科目!$AD63=\"\",\"\",MID(TEXT(入力用科目!$AD63,\"????????\"),7,1))","v":""},{"$f":"IF(入力用科目!$AD63=\"\",\"\",MID(TEXT(入力用科目!$AD63,\"????????\"),8,1))","v":""},null,{"$f":"IF(入力用科目!$AM63=\"\",\"\",MID(TEXT(入力用科目!$AM63,\"????????\"),1,1))","v":" "},{"$f":"IF(入力用科目!$AM63=\"\",\"\",MID(TEXT(入力用科目!$AM63,\"????????\"),2,1))","v":" "},{"$f":"IF(入力用科目!$AM63=\"\",\"\",MID(TEXT(入力用科目!$AM63,\"????????\"),3,1))","v":" "},{"$f":"IF(入力用科目!$AM63=\"\",\"\",MID(TEXT(入力用科目!$AM63,\"????????\"),4,1))","v":" "},{"$f":"IF(入力用科目!$AM63=\"\",\"\",MID(TEXT(入力用科目!$AM63,\"????????\"),5,1))","v":" "},{"$f":"IF(入力用科目!$AM63=\"\",\"\",MID(TEXT(入力用科目!$AM63,\"????????\"),6,1))","v":" "},{"$f":"IF(入力用科目!$AM63=\"\",\"\",MID(TEXT(入力用科目!$AM63,\"????????\"),7,1))","v":" "},{"$f":"IF(入力用科目!$AM63=\"\",\"\",MID(TEXT(入力用科目!$AM63,\"????????\"),8,1))","v":" "}]
[{"$f":"IF(入力用科目!A64=\"\",\"\",MID(TEXT(入力用科目!$A64,\"??\"),COLUMN(),1))","v":""},{"$f":"IF(入力用科目!A64=\"\",\"\",MID(TEXT(入力用科目!$A64,\"??\"),COLUMN(),1))","v":""},null,{"$f":"IF(入力用科目!$D64=\"\",\"\",MID(TEXT(入力用科目!$D64,\"???\"),1,1))","v":""},{"$f":"IF(入力用科目!$D64=\"\",\"\",MID(TEXT(入力用科目!$D64,\"???\"),2,1))","v":""},{"$f":"IF(入力用科目!$D64=\"\",\"\",MID(TEXT(入力用科目!$D64,\"???\"),3,1))","v":""},null,{"$f":"IF(入力用科目!$Q64=1,\"運送収入\",IF(入力用科目!$H64=\"\",\"\",入力用科目!$H64))","v":""},null,null,null,null,null,null,null,null,{"$f":"IF(入力用科目!$Q64=\"\",\"\",MID(TEXT(入力用科目!$Q64,\"???\"),1,1))","v":""},{"$f":"IF(入力用科目!$Q64=\"\",\"\",MID(TEXT(入力用科目!$Q64,\"???\"),2,1))","v":""},{"$f":"IF(入力用科目!$Q64=\"\",\"\",MID(TEXT(入力用科目!$Q64,\"???\"),3,1))","v":""},null,{"$f":"IF(入力用科目!$U64=\"\",\"\",MID(TEXT(入力用科目!$U64,\"????????\"),1,1))","v":""},{"$f":"IF(入力用科目!$U64=\"\",\"\",MID(TEXT(入力用科目!$U64,\"????????\"),2,1))","v":""},{"$f":"IF(入力用科目!$U64=\"\",\"\",MID(TEXT(入力用科目!$U64,\"????????\"),3,1))","v":""},{"$f":"IF(入力用科目!$U64=\"\",\"\",MID(TEXT(入力用科目!$U64,\"????????\"),4,1))","v":""},{"$f":"IF(入力用科目!$U64=\"\",\"\",MID(TEXT(入力用科目!$U64,\"????????\"),5,1))","v":""},{"$f":"IF(入力用科目!$U64=\"\",\"\",MID(TEXT(入力用科目!$U64,\"????????\"),6,1))","v":""},{"$f":"IF(入力用科目!$U64=\"\",\"\",MID(TEXT(入力用科目!$U64,\"????????\"),7,1))","v":""},{"$f":"IF(入力用科目!$U64=\"\",\"\",MID(TEXT(入力用科目!$U64,\"????????\"),8,1))","v":""},null,{"$f":"IF(入力用科目!$AD64=\"\",\"\",MID(TEXT(入力用科目!$AD64,\"????????\"),1,1))","v":""},{"$f":"IF(入力用科目!$AD64=\"\",\"\",MID(TEXT(入力用科目!$AD64,\"????????\"),2,1))","v":""},{"$f":"IF(入力用科目!$AD64=\"\",\"\",MID(TEXT(入力用科目!$AD64,\"????????\"),3,1))","v":""},{"$f":"IF(入力用科目!$AD64=\"\",\"\",MID(TEXT(入力用科目!$AD64,\"????????\"),4,1))","v":""},{"$f":"IF(入力用科目!$AD64=\"\",\"\",MID(TEXT(入力用科目!$AD64,\"????????\"),5,1))","v":""},{"$f":"IF(入力用科目!$AD64=\"\",\"\",MID(TEXT(入力用科目!$AD64,\"????????\"),6,1))","v":""},{"$f":"IF(入力用科目!$AD64=\"\",\"\",MID(TEXT(入力用科目!$AD64,\"????????\"),7,1))","v":""},{"$f":"IF(入力用科目!$AD64=\"\",\"\",MID(TEXT(入力用科目!$AD64,\"????????\"),8,1))","v":""},null,{"$f":"IF(入力用科目!$AM64=\"\",\"\",MID(TEXT(入力用科目!$AM64,\"????????\"),1,1))","v":" "},{"$f":"IF(入力用科目!$AM64=\"\",\"\",MID(TEXT(入力用科目!$AM64,\"????????\"),2,1))","v":" "},{"$f":"IF(入力用科目!$AM64=\"\",\"\",MID(TEXT(入力用科目!$AM64,\"????????\"),3,1))","v":" "},{"$f":"IF(入力用科目!$AM64=\"\",\"\",MID(TEXT(入力用科目!$AM64,\"????????\"),4,1))","v":" "},{"$f":"IF(入力用科目!$AM64=\"\",\"\",MID(TEXT(入力用科目!$AM64,\"????????\"),5,1))","v":" "},{"$f":"IF(入力用科目!$AM64=\"\",\"\",MID(TEXT(入力用科目!$AM64,\"????????\"),6,1))","v":" "},{"$f":"IF(入力用科目!$AM64=\"\",\"\",MID(TEXT(入力用科目!$AM64,\"????????\"),7,1))","v":" "},{"$f":"IF(入力用科目!$AM64=\"\",\"\",MID(TEXT(入力用科目!$AM64,\"????????\"),8,1))","v":" "}]
[{"$f":"IF(入力用科目!A65=\"\",\"\",MID(TEXT(入力用科目!$A65,\"??\"),COLUMN(),1))","v":""},{"$f":"IF(入力用科目!A65=\"\",\"\",MID(TEXT(入力用科目!$A65,\"??\"),COLUMN(),1))","v":""},null,{"$f":"IF(入力用科目!$D65=\"\",\"\",MID(TEXT(入力用科目!$D65,\"???\"),1,1))","v":""},{"$f":"IF(入力用科目!$D65=\"\",\"\",MID(TEXT(入力用科目!$D65,\"???\"),2,1))","v":""},{"$f":"IF(入力用科目!$D65=\"\",\"\",MID(TEXT(入力用科目!$D65,\"???\"),3,1))","v":""},null,{"$f":"IF(入力用科目!$Q65=1,\"運送収入\",IF(入力用科目!$H65=\"\",\"\",入力用科目!$H65))","v":""},null,null,null,null,null,null,null,null,{"$f":"IF(入力用科目!$Q65=\"\",\"\",MID(TEXT(入力用科目!$Q65,\"???\"),1,1))","v":""},{"$f":"IF(入力用科目!$Q65=\"\",\"\",MID(TEXT(入力用科目!$Q65,\"???\"),2,1))","v":""},{"$f":"IF(入力用科目!$Q65=\"\",\"\",MID(TEXT(入力用科目!$Q65,\"???\"),3,1))","v":""},null,{"$f":"IF(入力用科目!$U65=\"\",\"\",MID(TEXT(入力用科目!$U65,\"????????\"),1,1))","v":""},{"$f":"IF(入力用科目!$U65=\"\",\"\",MID(TEXT(入力用科目!$U65,\"????????\"),2,1))","v":""},{"$f":"IF(入力用科目!$U65=\"\",\"\",MID(TEXT(入力用科目!$U65,\"????????\"),3,1))","v":""},{"$f":"IF(入力用科目!$U65=\"\",\"\",MID(TEXT(入力用科目!$U65,\"????????\"),4,1))","v":""},{"$f":"IF(入力用科目!$U65=\"\",\"\",MID(TEXT(入力用科目!$U65,\"????????\"),5,1))","v":""},{"$f":"IF(入力用科目!$U65=\"\",\"\",MID(TEXT(入力用科目!$U65,\"????????\"),6,1))","v":""},{"$f":"IF(入力用科目!$U65=\"\",\"\",MID(TEXT(入力用科目!$U65,\"????????\"),7,1))","v":""},{"$f":"IF(入力用科目!$U65=\"\",\"\",MID(TEXT(入力用科目!$U65,\"????????\"),8,1))","v":""},null,{"$f":"IF(入力用科目!$AD65=\"\",\"\",MID(TEXT(入力用科目!$AD65,\"????????\"),1,1))","v":""},{"$f":"IF(入力用科目!$AD65=\"\",\"\",MID(TEXT(入力用科目!$AD65,\"????????\"),2,1))","v":""},{"$f":"IF(入力用科目!$AD65=\"\",\"\",MID(TEXT(入力用科目!$AD65,\"????????\"),3,1))","v":""},{"$f":"IF(入力用科目!$AD65=\"\",\"\",MID(TEXT(入力用科目!$AD65,\"????????\"),4,1))","v":""},{"$f":"IF(入力用科目!$AD65=\"\",\"\",MID(TEXT(入力用科目!$AD65,\"????????\"),5,1))","v":""},{"$f":"IF(入力用科目!$AD65=\"\",\"\",MID(TEXT(入力用科目!$AD65,\"????????\"),6,1))","v":""},{"$f":"IF(入力用科目!$AD65=\"\",\"\",MID(TEXT(入力用科目!$AD65,\"????????\"),7,1))","v":""},{"$f":"IF(入力用科目!$AD65=\"\",\"\",MID(TEXT(入力用科目!$AD65,\"????????\"),8,1))","v":""},null,{"$f":"IF(入力用科目!$AM65=\"\",\"\",MID(TEXT(入力用科目!$AM65,\"????????\"),1,1))","v":" "},{"$f":"IF(入力用科目!$AM65=\"\",\"\",MID(TEXT(入力用科目!$AM65,\"????????\"),2,1))","v":" "},{"$f":"IF(入力用科目!$AM65=\"\",\"\",MID(TEXT(入力用科目!$AM65,\"????????\"),3,1))","v":" "},{"$f":"IF(入力用科目!$AM65=\"\",\"\",MID(TEXT(入力用科目!$AM65,\"????????\"),4,1))","v":" "},{"$f":"IF(入力用科目!$AM65=\"\",\"\",MID(TEXT(入力用科目!$AM65,\"????????\"),5,1))","v":" "},{"$f":"IF(入力用科目!$AM65=\"\",\"\",MID(TEXT(入力用科目!$AM65,\"????????\"),6,1))","v":" "},{"$f":"IF(入力用科目!$AM65=\"\",\"\",MID(TEXT(入力用科目!$AM65,\"????????\"),7,1))","v":" "},{"$f":"IF(入力用科目!$AM65=\"\",\"\",MID(TEXT(入力用科目!$AM65,\"????????\"),8,1))","v":" "}]
[{"$f":"IF(入力用科目!A66=\"\",\"\",MID(TEXT(入力用科目!$A66,\"??\"),COLUMN(),1))","v":""},{"$f":"IF(入力用科目!A66=\"\",\"\",MID(TEXT(入力用科目!$A66,\"??\"),COLUMN(),1))","v":""},null,{"$f":"IF(入力用科目!$D66=\"\",\"\",MID(TEXT(入力用科目!$D66,\"???\"),1,1))","v":""},{"$f":"IF(入力用科目!$D66=\"\",\"\",MID(TEXT(入力用科目!$D66,\"???\"),2,1))","v":""},{"$f":"IF(入力用科目!$D66=\"\",\"\",MID(TEXT(入力用科目!$D66,\"???\"),3,1))","v":""},null,{"$f":"IF(入力用科目!$Q66=1,\"運送収入\",IF(入力用科目!$H66=\"\",\"\",入力用科目!$H66))","v":""},null,null,null,null,null,null,null,null,{"$f":"IF(入力用科目!$Q66=\"\",\"\",MID(TEXT(入力用科目!$Q66,\"???\"),1,1))","v":""},{"$f":"IF(入力用科目!$Q66=\"\",\"\",MID(TEXT(入力用科目!$Q66,\"???\"),2,1))","v":""},{"$f":"IF(入力用科目!$Q66=\"\",\"\",MID(TEXT(入力用科目!$Q66,\"???\"),3,1))","v":""},null,{"$f":"IF(入力用科目!$U66=\"\",\"\",MID(TEXT(入力用科目!$U66,\"????????\"),1,1))","v":""},{"$f":"IF(入力用科目!$U66=\"\",\"\",MID(TEXT(入力用科目!$U66,\"????????\"),2,1))","v":""},{"$f":"IF(入力用科目!$U66=\"\",\"\",MID(TEXT(入力用科目!$U66,\"????????\"),3,1))","v":""},{"$f":"IF(入力用科目!$U66=\"\",\"\",MID(TEXT(入力用科目!$U66,\"????????\"),4,1))","v":""},{"$f":"IF(入力用科目!$U66=\"\",\"\",MID(TEXT(入力用科目!$U66,\"????????\"),5,1))","v":""},{"$f":"IF(入力用科目!$U66=\"\",\"\",MID(TEXT(入力用科目!$U66,\"????????\"),6,1))","v":""},{"$f":"IF(入力用科目!$U66=\"\",\"\",MID(TEXT(入力用科目!$U66,\"????????\"),7,1))","v":""},{"$f":"IF(入力用科目!$U66=\"\",\"\",MID(TEXT(入力用科目!$U66,\"????????\"),8,1))","v":""},null,{"$f":"IF(入力用科目!$AD66=\"\",\"\",MID(TEXT(入力用科目!$AD66,\"????????\"),1,1))","v":""},{"$f":"IF(入力用科目!$AD66=\"\",\"\",MID(TEXT(入力用科目!$AD66,\"????????\"),2,1))","v":""},{"$f":"IF(入力用科目!$AD66=\"\",\"\",MID(TEXT(入力用科目!$AD66,\"????????\"),3,1))","v":""},{"$f":"IF(入力用科目!$AD66=\"\",\"\",MID(TEXT(入力用科目!$AD66,\"????????\"),4,1))","v":""},{"$f":"IF(入力用科目!$AD66=\"\",\"\",MID(TEXT(入力用科目!$AD66,\"????????\"),5,1))","v":""},{"$f":"IF(入力用科目!$AD66=\"\",\"\",MID(TEXT(入力用科目!$AD66,\"????????\"),6,1))","v":""},{"$f":"IF(入力用科目!$AD66=\"\",\"\",MID(TEXT(入力用科目!$AD66,\"????????\"),7,1))","v":""},{"$f":"IF(入力用科目!$AD66=\"\",\"\",MID(TEXT(入力用科目!$AD66,\"????????\"),8,1))","v":""},null,{"$f":"IF(入力用科目!$AM66=\"\",\"\",MID(TEXT(入力用科目!$AM66,\"????????\"),1,1))","v":" "},{"$f":"IF(入力用科目!$AM66=\"\",\"\",MID(TEXT(入力用科目!$AM66,\"????????\"),2,1))","v":" "},{"$f":"IF(入力用科目!$AM66=\"\",\"\",MID(TEXT(入力用科目!$AM66,\"????????\"),3,1))","v":" "},{"$f":"IF(入力用科目!$AM66=\"\",\"\",MID(TEXT(入力用科目!$AM66,\"????????\"),4,1))","v":" "},{"$f":"IF(入力用科目!$AM66=\"\",\"\",MID(TEXT(入力用科目!$AM66,\"????????\"),5,1))","v":" "},{"$f":"IF(入力用科目!$AM66=\"\",\"\",MID(TEXT(入力用科目!$AM66,\"????????\"),6,1))","v":" "},{"$f":"IF(入力用科目!$AM66=\"\",\"\",MID(TEXT(入力用科目!$AM66,\"????????\"),7,1))","v":" "},{"$f":"IF(入力用科目!$AM66=\"\",\"\",MID(TEXT(入力用科目!$AM66,\"????????\"),8,1))","v":" "}]
[{"$f":"IF(入力用科目!A67=\"\",\"\",MID(TEXT(入力用科目!$A67,\"??\"),COLUMN(),1))","v":""},{"$f":"IF(入力用科目!A67=\"\",\"\",MID(TEXT(入力用科目!$A67,\"??\"),COLUMN(),1))","v":""},null,{"$f":"IF(入力用科目!$D67=\"\",\"\",MID(TEXT(入力用科目!$D67,\"???\"),1,1))","v":""},{"$f":"IF(入力用科目!$D67=\"\",\"\",MID(TEXT(入力用科目!$D67,\"???\"),2,1))","v":""},{"$f":"IF(入力用科目!$D67=\"\",\"\",MID(TEXT(入力用科目!$D67,\"???\"),3,1))","v":""},null,{"$f":"IF(入力用科目!$Q67=1,\"運送収入\",IF(入力用科目!$H67=\"\",\"\",入力用科目!$H67))","v":""},null,null,null,null,null,null,null,null,{"$f":"IF(入力用科目!$Q67=\"\",\"\",MID(TEXT(入力用科目!$Q67,\"???\"),1,1))","v":""},{"$f":"IF(入力用科目!$Q67=\"\",\"\",MID(TEXT(入力用科目!$Q67,\"???\"),2,1))","v":""},{"$f":"IF(入力用科目!$Q67=\"\",\"\",MID(TEXT(入力用科目!$Q67,\"???\"),3,1))","v":""},null,{"$f":"IF(入力用科目!$U67=\"\",\"\",MID(TEXT(入力用科目!$U67,\"????????\"),1,1))","v":""},{"$f":"IF(入力用科目!$U67=\"\",\"\",MID(TEXT(入力用科目!$U67,\"????????\"),2,1))","v":""},{"$f":"IF(入力用科目!$U67=\"\",\"\",MID(TEXT(入力用科目!$U67,\"????????\"),3,1))","v":""},{"$f":"IF(入力用科目!$U67=\"\",\"\",MID(TEXT(入力用科目!$U67,\"????????\"),4,1))","v":""},{"$f":"IF(入力用科目!$U67=\"\",\"\",MID(TEXT(入力用科目!$U67,\"????????\"),5,1))","v":""},{"$f":"IF(入力用科目!$U67=\"\",\"\",MID(TEXT(入力用科目!$U67,\"????????\"),6,1))","v":""},{"$f":"IF(入力用科目!$U67=\"\",\"\",MID(TEXT(入力用科目!$U67,\"????????\"),7,1))","v":""},{"$f":"IF(入力用科目!$U67=\"\",\"\",MID(TEXT(入力用科目!$U67,\"????????\"),8,1))","v":""},null,{"$f":"IF(入力用科目!$AD67=\"\",\"\",MID(TEXT(入力用科目!$AD67,\"????????\"),1,1))","v":""},{"$f":"IF(入力用科目!$AD67=\"\",\"\",MID(TEXT(入力用科目!$AD67,\"????????\"),2,1))","v":""},{"$f":"IF(入力用科目!$AD67=\"\",\"\",MID(TEXT(入力用科目!$AD67,\"????????\"),3,1))","v":""},{"$f":"IF(入力用科目!$AD67=\"\",\"\",MID(TEXT(入力用科目!$AD67,\"????????\"),4,1))","v":""},{"$f":"IF(入力用科目!$AD67=\"\",\"\",MID(TEXT(入力用科目!$AD67,\"????????\"),5,1))","v":""},{"$f":"IF(入力用科目!$AD67=\"\",\"\",MID(TEXT(入力用科目!$AD67,\"????????\"),6,1))","v":""},{"$f":"IF(入力用科目!$AD67=\"\",\"\",MID(TEXT(入力用科目!$AD67,\"????????\"),7,1))","v":""},{"$f":"IF(入力用科目!$AD67=\"\",\"\",MID(TEXT(入力用科目!$AD67,\"????????\"),8,1))","v":""},null,{"$f":"IF(入力用科目!$AM67=\"\",\"\",MID(TEXT(入力用科目!$AM67,\"????????\"),1,1))","v":" "},{"$f":"IF(入力用科目!$AM67=\"\",\"\",MID(TEXT(入力用科目!$AM67,\"????????\"),2,1))","v":" "},{"$f":"IF(入力用科目!$AM67=\"\",\"\",MID(TEXT(入力用科目!$AM67,\"????????\"),3,1))","v":" "},{"$f":"IF(入力用科目!$AM67=\"\",\"\",MID(TEXT(入力用科目!$AM67,\"????????\"),4,1))","v":" "},{"$f":"IF(入力用科目!$AM67=\"\",\"\",MID(TEXT(入力用科目!$AM67,\"????????\"),5,1))","v":" "},{"$f":"IF(入力用科目!$AM67=\"\",\"\",MID(TEXT(入力用科目!$AM67,\"????????\"),6,1))","v":" "},{"$f":"IF(入力用科目!$AM67=\"\",\"\",MID(TEXT(入力用科目!$AM67,\"????????\"),7,1))","v":" "},{"$f":"IF(入力用科目!$AM67=\"\",\"\",MID(TEXT(入力用科目!$AM67,\"????????\"),8,1))","v":" "}]
[{"$f":"IF(入力用科目!A68=\"\",\"\",MID(TEXT(入力用科目!$A68,\"??\"),COLUMN(),1))","v":""},{"$f":"IF(入力用科目!A68=\"\",\"\",MID(TEXT(入力用科目!$A68,\"??\"),COLUMN(),1))","v":""},null,{"$f":"IF(入力用科目!$D68=\"\",\"\",MID(TEXT(入力用科目!$D68,\"???\"),1,1))","v":""},{"$f":"IF(入力用科目!$D68=\"\",\"\",MID(TEXT(入力用科目!$D68,\"???\"),2,1))","v":""},{"$f":"IF(入力用科目!$D68=\"\",\"\",MID(TEXT(入力用科目!$D68,\"???\"),3,1))","v":""},null,{"$f":"IF(入力用科目!$Q68=1,\"運送収入\",IF(入力用科目!$H68=\"\",\"\",入力用科目!$H68))","v":""},null,null,null,null,null,null,null,null,{"$f":"IF(入力用科目!$Q68=\"\",\"\",MID(TEXT(入力用科目!$Q68,\"???\"),1,1))","v":""},{"$f":"IF(入力用科目!$Q68=\"\",\"\",MID(TEXT(入力用科目!$Q68,\"???\"),2,1))","v":""},{"$f":"IF(入力用科目!$Q68=\"\",\"\",MID(TEXT(入力用科目!$Q68,\"???\"),3,1))","v":""},null,{"$f":"IF(入力用科目!$U68=\"\",\"\",MID(TEXT(入力用科目!$U68,\"????????\"),1,1))","v":""},{"$f":"IF(入力用科目!$U68=\"\",\"\",MID(TEXT(入力用科目!$U68,\"????????\"),2,1))","v":""},{"$f":"IF(入力用科目!$U68=\"\",\"\",MID(TEXT(入力用科目!$U68,\"????????\"),3,1))","v":""},{"$f":"IF(入力用科目!$U68=\"\",\"\",MID(TEXT(入力用科目!$U68,\"????????\"),4,1))","v":""},{"$f":"IF(入力用科目!$U68=\"\",\"\",MID(TEXT(入力用科目!$U68,\"????????\"),5,1))","v":""},{"$f":"IF(入力用科目!$U68=\"\",\"\",MID(TEXT(入力用科目!$U68,\"????????\"),6,1))","v":""},{"$f":"IF(入力用科目!$U68=\"\",\"\",MID(TEXT(入力用科目!$U68,\"????????\"),7,1))","v":""},{"$f":"IF(入力用科目!$U68=\"\",\"\",MID(TEXT(入力用科目!$U68,\"????????\"),8,1))","v":""},null,{"$f":"IF(入力用科目!$AD68=\"\",\"\",MID(TEXT(入力用科目!$AD68,\"????????\"),1,1))","v":""},{"$f":"IF(入力用科目!$AD68=\"\",\"\",MID(TEXT(入力用科目!$AD68,\"????????\"),2,1))","v":""},{"$f":"IF(入力用科目!$AD68=\"\",\"\",MID(TEXT(入力用科目!$AD68,\"????????\"),3,1))","v":""},{"$f":"IF(入力用科目!$AD68=\"\",\"\",MID(TEXT(入力用科目!$AD68,\"????????\"),4,1))","v":""},{"$f":"IF(入力用科目!$AD68=\"\",\"\",MID(TEXT(入力用科目!$AD68,\"????????\"),5,1))","v":""},{"$f":"IF(入力用科目!$AD68=\"\",\"\",MID(TEXT(入力用科目!$AD68,\"????????\"),6,1))","v":""},{"$f":"IF(入力用科目!$AD68=\"\",\"\",MID(TEXT(入力用科目!$AD68,\"????????\"),7,1))","v":""},{"$f":"IF(入力用科目!$AD68=\"\",\"\",MID(TEXT(入力用科目!$AD68,\"????????\"),8,1))","v":""},null,{"$f":"IF(入力用科目!$AM68=\"\",\"\",MID(TEXT(入力用科目!$AM68,\"????????\"),1,1))","v":" "},{"$f":"IF(入力用科目!$AM68=\"\",\"\",MID(TEXT(入力用科目!$AM68,\"????????\"),2,1))","v":" "},{"$f":"IF(入力用科目!$AM68=\"\",\"\",MID(TEXT(入力用科目!$AM68,\"????????\"),3,1))","v":" "},{"$f":"IF(入力用科目!$AM68=\"\",\"\",MID(TEXT(入力用科目!$AM68,\"????????\"),4,1))","v":" "},{"$f":"IF(入力用科目!$AM68=\"\",\"\",MID(TEXT(入力用科目!$AM68,\"????????\"),5,1))","v":" "},{"$f":"IF(入力用科目!$AM68=\"\",\"\",MID(TEXT(入力用科目!$AM68,\"????????\"),6,1))","v":" "},{"$f":"IF(入力用科目!$AM68=\"\",\"\",MID(TEXT(入力用科目!$AM68,\"????????\"),7,1))","v":" "},{"$f":"IF(入力用科目!$AM68=\"\",\"\",MID(TEXT(入力用科目!$AM68,\"????????\"),8,1))","v":" "}]
[{"$f":"IF(入力用科目!A69=\"\",\"\",MID(TEXT(入力用科目!$A69,\"??\"),COLUMN(),1))","v":""},{"$f":"IF(入力用科目!A69=\"\",\"\",MID(TEXT(入力用科目!$A69,\"??\"),COLUMN(),1))","v":""},null,{"$f":"IF(入力用科目!$D69=\"\",\"\",MID(TEXT(入力用科目!$D69,\"???\"),1,1))","v":""},{"$f":"IF(入力用科目!$D69=\"\",\"\",MID(TEXT(入力用科目!$D69,\"???\"),2,1))","v":""},{"$f":"IF(入力用科目!$D69=\"\",\"\",MID(TEXT(入力用科目!$D69,\"???\"),3,1))","v":""},null,{"$f":"IF(入力用科目!$Q69=1,\"運送収入\",IF(入力用科目!$H69=\"\",\"\",入力用科目!$H69))","v":""},null,null,null,null,null,null,null,null,{"$f":"IF(入力用科目!$Q69=\"\",\"\",MID(TEXT(入力用科目!$Q69,\"???\"),1,1))","v":""},{"$f":"IF(入力用科目!$Q69=\"\",\"\",MID(TEXT(入力用科目!$Q69,\"???\"),2,1))","v":""},{"$f":"IF(入力用科目!$Q69=\"\",\"\",MID(TEXT(入力用科目!$Q69,\"???\"),3,1))","v":""},null,{"$f":"IF(入力用科目!$U69=\"\",\"\",MID(TEXT(入力用科目!$U69,\"????????\"),1,1))","v":""},{"$f":"IF(入力用科目!$U69=\"\",\"\",MID(TEXT(入力用科目!$U69,\"????????\"),2,1))","v":""},{"$f":"IF(入力用科目!$U69=\"\",\"\",MID(TEXT(入力用科目!$U69,\"????????\"),3,1))","v":""},{"$f":"IF(入力用科目!$U69=\"\",\"\",MID(TEXT(入力用科目!$U69,\"????????\"),4,1))","v":""},{"$f":"IF(入力用科目!$U69=\"\",\"\",MID(TEXT(入力用科目!$U69,\"????????\"),5,1))","v":""},{"$f":"IF(入力用科目!$U69=\"\",\"\",MID(TEXT(入力用科目!$U69,\"????????\"),6,1))","v":""},{"$f":"IF(入力用科目!$U69=\"\",\"\",MID(TEXT(入力用科目!$U69,\"????????\"),7,1))","v":""},{"$f":"IF(入力用科目!$U69=\"\",\"\",MID(TEXT(入力用科目!$U69,\"????????\"),8,1))","v":""},null,{"$f":"IF(入力用科目!$AD69=\"\",\"\",MID(TEXT(入力用科目!$AD69,\"????????\"),1,1))","v":""},{"$f":"IF(入力用科目!$AD69=\"\",\"\",MID(TEXT(入力用科目!$AD69,\"????????\"),2,1))","v":""},{"$f":"IF(入力用科目!$AD69=\"\",\"\",MID(TEXT(入力用科目!$AD69,\"????????\"),3,1))","v":""},{"$f":"IF(入力用科目!$AD69=\"\",\"\",MID(TEXT(入力用科目!$AD69,\"????????\"),4,1))","v":""},{"$f":"IF(入力用科目!$AD69=\"\",\"\",MID(TEXT(入力用科目!$AD69,\"????????\"),5,1))","v":""},{"$f":"IF(入力用科目!$AD69=\"\",\"\",MID(TEXT(入力用科目!$AD69,\"????????\"),6,1))","v":""},{"$f":"IF(入力用科目!$AD69=\"\",\"\",MID(TEXT(入力用科目!$AD69,\"????????\"),7,1))","v":""},{"$f":"IF(入力用科目!$AD69=\"\",\"\",MID(TEXT(入力用科目!$AD69,\"????????\"),8,1))","v":""},null,{"$f":"IF(入力用科目!$AM69=\"\",\"\",MID(TEXT(入力用科目!$AM69,\"????????\"),1,1))","v":" "},{"$f":"IF(入力用科目!$AM69=\"\",\"\",MID(TEXT(入力用科目!$AM69,\"????????\"),2,1))","v":" "},{"$f":"IF(入力用科目!$AM69=\"\",\"\",MID(TEXT(入力用科目!$AM69,\"????????\"),3,1))","v":" "},{"$f":"IF(入力用科目!$AM69=\"\",\"\",MID(TEXT(入力用科目!$AM69,\"????????\"),4,1))","v":" "},{"$f":"IF(入力用科目!$AM69=\"\",\"\",MID(TEXT(入力用科目!$AM69,\"????????\"),5,1))","v":" "},{"$f":"IF(入力用科目!$AM69=\"\",\"\",MID(TEXT(入力用科目!$AM69,\"????????\"),6,1))","v":" "},{"$f":"IF(入力用科目!$AM69=\"\",\"\",MID(TEXT(入力用科目!$AM69,\"????????\"),7,1))","v":" "},{"$f":"IF(入力用科目!$AM69=\"\",\"\",MID(TEXT(入力用科目!$AM69,\"????????\"),8,1))","v":" "}]
[{"$f":"IF(入力用科目!A70=\"\",\"\",MID(TEXT(入力用科目!$A70,\"??\"),COLUMN(),1))","v":""},{"$f":"IF(入力用科目!A70=\"\",\"\",MID(TEXT(入力用科目!$A70,\"??\"),COLUMN(),1))","v":""},null,{"$f":"IF(入力用科目!$D70=\"\",\"\",MID(TEXT(入力用科目!$D70,\"???\"),1,1))","v":""},{"$f":"IF(入力用科目!$D70=\"\",\"\",MID(TEXT(入力用科目!$D70,\"???\"),2,1))","v":""},{"$f":"IF(入力用科目!$D70=\"\",\"\",MID(TEXT(入力用科目!$D70,\"???\"),3,1))","v":""},null,{"$f":"IF(入力用科目!$Q70=1,\"運送収入\",IF(入力用科目!$H70=\"\",\"\",入力用科目!$H70))","v":""},null,null,null,null,null,null,null,null,{"$f":"IF(入力用科目!$Q70=\"\",\"\",MID(TEXT(入力用科目!$Q70,\"???\"),1,1))","v":""},{"$f":"IF(入力用科目!$Q70=\"\",\"\",MID(TEXT(入力用科目!$Q70,\"???\"),2,1))","v":""},{"$f":"IF(入力用科目!$Q70=\"\",\"\",MID(TEXT(入力用科目!$Q70,\"???\"),3,1))","v":""},null,{"$f":"IF(入力用科目!$U70=\"\",\"\",MID(TEXT(入力用科目!$U70,\"????????\"),1,1))","v":""},{"$f":"IF(入力用科目!$U70=\"\",\"\",MID(TEXT(入力用科目!$U70,\"????????\"),2,1))","v":""},{"$f":"IF(入力用科目!$U70=\"\",\"\",MID(TEXT(入力用科目!$U70,\"????????\"),3,1))","v":""},{"$f":"IF(入力用科目!$U70=\"\",\"\",MID(TEXT(入力用科目!$U70,\"????????\"),4,1))","v":""},{"$f":"IF(入力用科目!$U70=\"\",\"\",MID(TEXT(入力用科目!$U70,\"????????\"),5,1))","v":""},{"$f":"IF(入力用科目!$U70=\"\",\"\",MID(TEXT(入力用科目!$U70,\"????????\"),6,1))","v":""},{"$f":"IF(入力用科目!$U70=\"\",\"\",MID(TEXT(入力用科目!$U70,\"????????\"),7,1))","v":""},{"$f":"IF(入力用科目!$U70=\"\",\"\",MID(TEXT(入力用科目!$U70,\"????????\"),8,1))","v":""},null,{"$f":"IF(入力用科目!$AD70=\"\",\"\",MID(TEXT(入力用科目!$AD70,\"????????\"),1,1))","v":""},{"$f":"IF(入力用科目!$AD70=\"\",\"\",MID(TEXT(入力用科目!$AD70,\"????????\"),2,1))","v":""},{"$f":"IF(入力用科目!$AD70=\"\",\"\",MID(TEXT(入力用科目!$AD70,\"????????\"),3,1))","v":""},{"$f":"IF(入力用科目!$AD70=\"\",\"\",MID(TEXT(入力用科目!$AD70,\"????????\"),4,1))","v":""},{"$f":"IF(入力用科目!$AD70=\"\",\"\",MID(TEXT(入力用科目!$AD70,\"????????\"),5,1))","v":""},{"$f":"IF(入力用科目!$AD70=\"\",\"\",MID(TEXT(入力用科目!$AD70,\"????????\"),6,1))","v":""},{"$f":"IF(入力用科目!$AD70=\"\",\"\",MID(TEXT(入力用科目!$AD70,\"????????\"),7,1))","v":""},{"$f":"IF(入力用科目!$AD70=\"\",\"\",MID(TEXT(入力用科目!$AD70,\"????????\"),8,1))","v":""},null,{"$f":"IF(入力用科目!$AM70=\"\",\"\",MID(TEXT(入力用科目!$AM70,\"????????\"),1,1))","v":" "},{"$f":"IF(入力用科目!$AM70=\"\",\"\",MID(TEXT(入力用科目!$AM70,\"????????\"),2,1))","v":" "},{"$f":"IF(入力用科目!$AM70=\"\",\"\",MID(TEXT(入力用科目!$AM70,\"????????\"),3,1))","v":" "},{"$f":"IF(入力用科目!$AM70=\"\",\"\",MID(TEXT(入力用科目!$AM70,\"????????\"),4,1))","v":" "},{"$f":"IF(入力用科目!$AM70=\"\",\"\",MID(TEXT(入力用科目!$AM70,\"????????\"),5,1))","v":" "},{"$f":"IF(入力用科目!$AM70=\"\",\"\",MID(TEXT(入力用科目!$AM70,\"????????\"),6,1))","v":" "},{"$f":"IF(入力用科目!$AM70=\"\",\"\",MID(TEXT(入力用科目!$AM70,\"????????\"),7,1))","v":" "},{"$f":"IF(入力用科目!$AM70=\"\",\"\",MID(TEXT(入力用科目!$AM70,\"????????\"),8,1))","v":" "}]
[{"$f":"IF(入力用科目!A71=\"\",\"\",MID(TEXT(入力用科目!$A71,\"??\"),COLUMN(),1))","v":""},{"$f":"IF(入力用科目!A71=\"\",\"\",MID(TEXT(入力用科目!$A71,\"??\"),COLUMN(),1))","v":""},null,{"$f":"IF(入力用科目!$D71=\"\",\"\",MID(TEXT(入力用科目!$D71,\"???\"),1,1))","v":""},{"$f":"IF(入力用科目!$D71=\"\",\"\",MID(TEXT(入力用科目!$D71,\"???\"),2,1))","v":""},{"$f":"IF(入力用科目!$D71=\"\",\"\",MID(TEXT(入力用科目!$D71,\"???\"),3,1))","v":""},null,{"$f":"IF(入力用科目!$Q71=1,\"運送収入\",IF(入力用科目!$H71=\"\",\"\",入力用科目!$H71))","v":""},null,null,null,null,null,null,null,null,{"$f":"IF(入力用科目!$Q71=\"\",\"\",MID(TEXT(入力用科目!$Q71,\"???\"),1,1))","v":""},{"$f":"IF(入力用科目!$Q71=\"\",\"\",MID(TEXT(入力用科目!$Q71,\"???\"),2,1))","v":""},{"$f":"IF(入力用科目!$Q71=\"\",\"\",MID(TEXT(入力用科目!$Q71,\"???\"),3,1))","v":""},null,{"$f":"IF(入力用科目!$U71=\"\",\"\",MID(TEXT(入力用科目!$U71,\"????????\"),1,1))","v":""},{"$f":"IF(入力用科目!$U71=\"\",\"\",MID(TEXT(入力用科目!$U71,\"????????\"),2,1))","v":""},{"$f":"IF(入力用科目!$U71=\"\",\"\",MID(TEXT(入力用科目!$U71,\"????????\"),3,1))","v":""},{"$f":"IF(入力用科目!$U71=\"\",\"\",MID(TEXT(入力用科目!$U71,\"????????\"),4,1))","v":""},{"$f":"IF(入力用科目!$U71=\"\",\"\",MID(TEXT(入力用科目!$U71,\"????????\"),5,1))","v":""},{"$f":"IF(入力用科目!$U71=\"\",\"\",MID(TEXT(入力用科目!$U71,\"????????\"),6,1))","v":""},{"$f":"IF(入力用科目!$U71=\"\",\"\",MID(TEXT(入力用科目!$U71,\"????????\"),7,1))","v":""},{"$f":"IF(入力用科目!$U71=\"\",\"\",MID(TEXT(入力用科目!$U71,\"????????\"),8,1))","v":""},null,{"$f":"IF(入力用科目!$AD71=\"\",\"\",MID(TEXT(入力用科目!$AD71,\"????????\"),1,1))","v":""},{"$f":"IF(入力用科目!$AD71=\"\",\"\",MID(TEXT(入力用科目!$AD71,\"????????\"),2,1))","v":""},{"$f":"IF(入力用科目!$AD71=\"\",\"\",MID(TEXT(入力用科目!$AD71,\"????????\"),3,1))","v":""},{"$f":"IF(入力用科目!$AD71=\"\",\"\",MID(TEXT(入力用科目!$AD71,\"????????\"),4,1))","v":""},{"$f":"IF(入力用科目!$AD71=\"\",\"\",MID(TEXT(入力用科目!$AD71,\"????????\"),5,1))","v":""},{"$f":"IF(入力用科目!$AD71=\"\",\"\",MID(TEXT(入力用科目!$AD71,\"????????\"),6,1))","v":""},{"$f":"IF(入力用科目!$AD71=\"\",\"\",MID(TEXT(入力用科目!$AD71,\"????????\"),7,1))","v":""},{"$f":"IF(入力用科目!$AD71=\"\",\"\",MID(TEXT(入力用科目!$AD71,\"????????\"),8,1))","v":""},null,{"$f":"IF(入力用科目!$AM71=\"\",\"\",MID(TEXT(入力用科目!$AM71,\"????????\"),1,1))","v":" "},{"$f":"IF(入力用科目!$AM71=\"\",\"\",MID(TEXT(入力用科目!$AM71,\"????????\"),2,1))","v":" "},{"$f":"IF(入力用科目!$AM71=\"\",\"\",MID(TEXT(入力用科目!$AM71,\"????????\"),3,1))","v":" "},{"$f":"IF(入力用科目!$AM71=\"\",\"\",MID(TEXT(入力用科目!$AM71,\"????????\"),4,1))","v":" "},{"$f":"IF(入力用科目!$AM71=\"\",\"\",MID(TEXT(入力用科目!$AM71,\"????????\"),5,1))","v":" "},{"$f":"IF(入力用科目!$AM71=\"\",\"\",MID(TEXT(入力用科目!$AM71,\"????????\"),6,1))","v":" "},{"$f":"IF(入力用科目!$AM71=\"\",\"\",MID(TEXT(入力用科目!$AM71,\"????????\"),7,1))","v":" "},{"$f":"IF(入力用科目!$AM71=\"\",\"\",MID(TEXT(入力用科目!$AM71,\"????????\"),8,1))","v":" "}]
[{"$f":"IF(入力用科目!A72=\"\",\"\",MID(TEXT(入力用科目!$A72,\"??\"),COLUMN(),1))","v":""},{"$f":"IF(入力用科目!A72=\"\",\"\",MID(TEXT(入力用科目!$A72,\"??\"),COLUMN(),1))","v":""},null,{"$f":"IF(入力用科目!$D72=\"\",\"\",MID(TEXT(入力用科目!$D72,\"???\"),1,1))","v":""},{"$f":"IF(入力用科目!$D72=\"\",\"\",MID(TEXT(入力用科目!$D72,\"???\"),2,1))","v":""},{"$f":"IF(入力用科目!$D72=\"\",\"\",MID(TEXT(入力用科目!$D72,\"???\"),3,1))","v":""},null,{"$f":"IF(入力用科目!$Q72=1,\"運送収入\",IF(入力用科目!$H72=\"\",\"\",入力用科目!$H72))","v":""},null,null,null,null,null,null,null,null,{"$f":"IF(入力用科目!$Q72=\"\",\"\",MID(TEXT(入力用科目!$Q72,\"???\"),1,1))","v":""},{"$f":"IF(入力用科目!$Q72=\"\",\"\",MID(TEXT(入力用科目!$Q72,\"???\"),2,1))","v":""},{"$f":"IF(入力用科目!$Q72=\"\",\"\",MID(TEXT(入力用科目!$Q72,\"???\"),3,1))","v":""},null,{"$f":"IF(入力用科目!$U72=\"\",\"\",MID(TEXT(入力用科目!$U72,\"????????\"),1,1))","v":""},{"$f":"IF(入力用科目!$U72=\"\",\"\",MID(TEXT(入力用科目!$U72,\"????????\"),2,1))","v":""},{"$f":"IF(入力用科目!$U72=\"\",\"\",MID(TEXT(入力用科目!$U72,\"????????\"),3,1))","v":""},{"$f":"IF(入力用科目!$U72=\"\",\"\",MID(TEXT(入力用科目!$U72,\"????????\"),4,1))","v":""},{"$f":"IF(入力用科目!$U72=\"\",\"\",MID(TEXT(入力用科目!$U72,\"????????\"),5,1))","v":""},{"$f":"IF(入力用科目!$U72=\"\",\"\",MID(TEXT(入力用科目!$U72,\"????????\"),6,1))","v":""},{"$f":"IF(入力用科目!$U72=\"\",\"\",MID(TEXT(入力用科目!$U72,\"????????\"),7,1))","v":""},{"$f":"IF(入力用科目!$U72=\"\",\"\",MID(TEXT(入力用科目!$U72,\"????????\"),8,1))","v":""},null,{"$f":"IF(入力用科目!$AD72=\"\",\"\",MID(TEXT(入力用科目!$AD72,\"????????\"),1,1))","v":""},{"$f":"IF(入力用科目!$AD72=\"\",\"\",MID(TEXT(入力用科目!$AD72,\"????????\"),2,1))","v":""},{"$f":"IF(入力用科目!$AD72=\"\",\"\",MID(TEXT(入力用科目!$AD72,\"????????\"),3,1))","v":""},{"$f":"IF(入力用科目!$AD72=\"\",\"\",MID(TEXT(入力用科目!$AD72,\"????????\"),4,1))","v":""},{"$f":"IF(入力用科目!$AD72=\"\",\"\",MID(TEXT(入力用科目!$AD72,\"????????\"),5,1))","v":""},{"$f":"IF(入力用科目!$AD72=\"\",\"\",MID(TEXT(入力用科目!$AD72,\"????????\"),6,1))","v":""},{"$f":"IF(入力用科目!$AD72=\"\",\"\",MID(TEXT(入力用科目!$AD72,\"????????\"),7,1))","v":""},{"$f":"IF(入力用科目!$AD72=\"\",\"\",MID(TEXT(入力用科目!$AD72,\"????????\"),8,1))","v":""},null,{"$f":"IF(入力用科目!$AM72=\"\",\"\",MID(TEXT(入力用科目!$AM72,\"????????\"),1,1))","v":" "},{"$f":"IF(入力用科目!$AM72=\"\",\"\",MID(TEXT(入力用科目!$AM72,\"????????\"),2,1))","v":" "},{"$f":"IF(入力用科目!$AM72=\"\",\"\",MID(TEXT(入力用科目!$AM72,\"????????\"),3,1))","v":" "},{"$f":"IF(入力用科目!$AM72=\"\",\"\",MID(TEXT(入力用科目!$AM72,\"????????\"),4,1))","v":" "},{"$f":"IF(入力用科目!$AM72=\"\",\"\",MID(TEXT(入力用科目!$AM72,\"????????\"),5,1))","v":" "},{"$f":"IF(入力用科目!$AM72=\"\",\"\",MID(TEXT(入力用科目!$AM72,\"????????\"),6,1))","v":" "},{"$f":"IF(入力用科目!$AM72=\"\",\"\",MID(TEXT(入力用科目!$AM72,\"????????\"),7,1))","v":" "},{"$f":"IF(入力用科目!$AM72=\"\",\"\",MID(TEXT(入力用科目!$AM72,\"????????\"),8,1))","v":" "}]
[{"$f":"IF(入力用科目!A73=\"\",\"\",MID(TEXT(入力用科目!$A73,\"??\"),COLUMN(),1))","v":""},{"$f":"IF(入力用科目!A73=\"\",\"\",MID(TEXT(入力用科目!$A73,\"??\"),COLUMN(),1))","v":""},null,{"$f":"IF(入力用科目!$D73=\"\",\"\",MID(TEXT(入力用科目!$D73,\"???\"),1,1))","v":""},{"$f":"IF(入力用科目!$D73=\"\",\"\",MID(TEXT(入力用科目!$D73,\"???\"),2,1))","v":""},{"$f":"IF(入力用科目!$D73=\"\",\"\",MID(TEXT(入力用科目!$D73,\"???\"),3,1))","v":""},null,{"$f":"IF(入力用科目!$Q73=1,\"運送収入\",IF(入力用科目!$H73=\"\",\"\",入力用科目!$H73))","v":""},null,null,null,null,null,null,null,null,{"$f":"IF(入力用科目!$Q73=\"\",\"\",MID(TEXT(入力用科目!$Q73,\"???\"),1,1))","v":""},{"$f":"IF(入力用科目!$Q73=\"\",\"\",MID(TEXT(入力用科目!$Q73,\"???\"),2,1))","v":""},{"$f":"IF(入力用科目!$Q73=\"\",\"\",MID(TEXT(入力用科目!$Q73,\"???\"),3,1))","v":""},null,{"$f":"IF(入力用科目!$U73=\"\",\"\",MID(TEXT(入力用科目!$U73,\"????????\"),1,1))","v":""},{"$f":"IF(入力用科目!$U73=\"\",\"\",MID(TEXT(入力用科目!$U73,\"????????\"),2,1))","v":""},{"$f":"IF(入力用科目!$U73=\"\",\"\",MID(TEXT(入力用科目!$U73,\"????????\"),3,1))","v":""},{"$f":"IF(入力用科目!$U73=\"\",\"\",MID(TEXT(入力用科目!$U73,\"????????\"),4,1))","v":""},{"$f":"IF(入力用科目!$U73=\"\",\"\",MID(TEXT(入力用科目!$U73,\"????????\"),5,1))","v":""},{"$f":"IF(入力用科目!$U73=\"\",\"\",MID(TEXT(入力用科目!$U73,\"????????\"),6,1))","v":""},{"$f":"IF(入力用科目!$U73=\"\",\"\",MID(TEXT(入力用科目!$U73,\"????????\"),7,1))","v":""},{"$f":"IF(入力用科目!$U73=\"\",\"\",MID(TEXT(入力用科目!$U73,\"????????\"),8,1))","v":""},null,{"$f":"IF(入力用科目!$AD73=\"\",\"\",MID(TEXT(入力用科目!$AD73,\"????????\"),1,1))","v":""},{"$f":"IF(入力用科目!$AD73=\"\",\"\",MID(TEXT(入力用科目!$AD73,\"????????\"),2,1))","v":""},{"$f":"IF(入力用科目!$AD73=\"\",\"\",MID(TEXT(入力用科目!$AD73,\"????????\"),3,1))","v":""},{"$f":"IF(入力用科目!$AD73=\"\",\"\",MID(TEXT(入力用科目!$AD73,\"????????\"),4,1))","v":""},{"$f":"IF(入力用科目!$AD73=\"\",\"\",MID(TEXT(入力用科目!$AD73,\"????????\"),5,1))","v":""},{"$f":"IF(入力用科目!$AD73=\"\",\"\",MID(TEXT(入力用科目!$AD73,\"????????\"),6,1))","v":""},{"$f":"IF(入力用科目!$AD73=\"\",\"\",MID(TEXT(入力用科目!$AD73,\"????????\"),7,1))","v":""},{"$f":"IF(入力用科目!$AD73=\"\",\"\",MID(TEXT(入力用科目!$AD73,\"????????\"),8,1))","v":""},null,{"$f":"IF(入力用科目!$AM73=\"\",\"\",MID(TEXT(入力用科目!$AM73,\"????????\"),1,1))","v":" "},{"$f":"IF(入力用科目!$AM73=\"\",\"\",MID(TEXT(入力用科目!$AM73,\"????????\"),2,1))","v":" "},{"$f":"IF(入力用科目!$AM73=\"\",\"\",MID(TEXT(入力用科目!$AM73,\"????????\"),3,1))","v":" "},{"$f":"IF(入力用科目!$AM73=\"\",\"\",MID(TEXT(入力用科目!$AM73,\"????????\"),4,1))","v":" "},{"$f":"IF(入力用科目!$AM73=\"\",\"\",MID(TEXT(入力用科目!$AM73,\"????????\"),5,1))","v":" "},{"$f":"IF(入力用科目!$AM73=\"\",\"\",MID(TEXT(入力用科目!$AM73,\"????????\"),6,1))","v":" "},{"$f":"IF(入力用科目!$AM73=\"\",\"\",MID(TEXT(入力用科目!$AM73,\"????????\"),7,1))","v":" "},{"$f":"IF(入力用科目!$AM73=\"\",\"\",MID(TEXT(入力用科目!$AM73,\"????????\"),8,1))","v":" "}]
[{"$f":"IF(入力用科目!A74=\"\",\"\",MID(TEXT(入力用科目!$A74,\"??\"),COLUMN(),1))","v":""},{"$f":"IF(入力用科目!A74=\"\",\"\",MID(TEXT(入力用科目!$A74,\"??\"),COLUMN(),1))","v":""},null,{"$f":"IF(入力用科目!$D74=\"\",\"\",MID(TEXT(入力用科目!$D74,\"???\"),1,1))","v":""},{"$f":"IF(入力用科目!$D74=\"\",\"\",MID(TEXT(入力用科目!$D74,\"???\"),2,1))","v":""},{"$f":"IF(入力用科目!$D74=\"\",\"\",MID(TEXT(入力用科目!$D74,\"???\"),3,1))","v":""},null,{"$f":"IF(入力用科目!$Q74=1,\"運送収入\",IF(入力用科目!$H74=\"\",\"\",入力用科目!$H74))","v":""},null,null,null,null,null,null,null,null,{"$f":"IF(入力用科目!$Q74=\"\",\"\",MID(TEXT(入力用科目!$Q74,\"???\"),1,1))","v":""},{"$f":"IF(入力用科目!$Q74=\"\",\"\",MID(TEXT(入力用科目!$Q74,\"???\"),2,1))","v":""},{"$f":"IF(入力用科目!$Q74=\"\",\"\",MID(TEXT(入力用科目!$Q74,\"???\"),3,1))","v":""},null,{"$f":"IF(入力用科目!$U74=\"\",\"\",MID(TEXT(入力用科目!$U74,\"????????\"),1,1))","v":""},{"$f":"IF(入力用科目!$U74=\"\",\"\",MID(TEXT(入力用科目!$U74,\"????????\"),2,1))","v":""},{"$f":"IF(入力用科目!$U74=\"\",\"\",MID(TEXT(入力用科目!$U74,\"????????\"),3,1))","v":""},{"$f":"IF(入力用科目!$U74=\"\",\"\",MID(TEXT(入力用科目!$U74,\"????????\"),4,1))","v":""},{"$f":"IF(入力用科目!$U74=\"\",\"\",MID(TEXT(入力用科目!$U74,\"????????\"),5,1))","v":""},{"$f":"IF(入力用科目!$U74=\"\",\"\",MID(TEXT(入力用科目!$U74,\"????????\"),6,1))","v":""},{"$f":"IF(入力用科目!$U74=\"\",\"\",MID(TEXT(入力用科目!$U74,\"????????\"),7,1))","v":""},{"$f":"IF(入力用科目!$U74=\"\",\"\",MID(TEXT(入力用科目!$U74,\"????????\"),8,1))","v":""},null,{"$f":"IF(入力用科目!$AD74=\"\",\"\",MID(TEXT(入力用科目!$AD74,\"????????\"),1,1))","v":""},{"$f":"IF(入力用科目!$AD74=\"\",\"\",MID(TEXT(入力用科目!$AD74,\"????????\"),2,1))","v":""},{"$f":"IF(入力用科目!$AD74=\"\",\"\",MID(TEXT(入力用科目!$AD74,\"????????\"),3,1))","v":""},{"$f":"IF(入力用科目!$AD74=\"\",\"\",MID(TEXT(入力用科目!$AD74,\"????????\"),4,1))","v":""},{"$f":"IF(入力用科目!$AD74=\"\",\"\",MID(TEXT(入力用科目!$AD74,\"????????\"),5,1))","v":""},{"$f":"IF(入力用科目!$AD74=\"\",\"\",MID(TEXT(入力用科目!$AD74,\"????????\"),6,1))","v":""},{"$f":"IF(入力用科目!$AD74=\"\",\"\",MID(TEXT(入力用科目!$AD74,\"????????\"),7,1))","v":""},{"$f":"IF(入力用科目!$AD74=\"\",\"\",MID(TEXT(入力用科目!$AD74,\"????????\"),8,1))","v":""},null,{"$f":"IF(入力用科目!$AM74=\"\",\"\",MID(TEXT(入力用科目!$AM74,\"????????\"),1,1))","v":" "},{"$f":"IF(入力用科目!$AM74=\"\",\"\",MID(TEXT(入力用科目!$AM74,\"????????\"),2,1))","v":" "},{"$f":"IF(入力用科目!$AM74=\"\",\"\",MID(TEXT(入力用科目!$AM74,\"????????\"),3,1))","v":" "},{"$f":"IF(入力用科目!$AM74=\"\",\"\",MID(TEXT(入力用科目!$AM74,\"????????\"),4,1))","v":" "},{"$f":"IF(入力用科目!$AM74=\"\",\"\",MID(TEXT(入力用科目!$AM74,\"????????\"),5,1))","v":" "},{"$f":"IF(入力用科目!$AM74=\"\",\"\",MID(TEXT(入力用科目!$AM74,\"????????\"),6,1))","v":" "},{"$f":"IF(入力用科目!$AM74=\"\",\"\",MID(TEXT(入力用科目!$AM74,\"????????\"),7,1))","v":" "},{"$f":"IF(入力用科目!$AM74=\"\",\"\",MID(TEXT(入力用科目!$AM74,\"????????\"),8,1))","v":" "}]
[{"$f":"IF(入力用科目!A75=\"\",\"\",MID(TEXT(入力用科目!$A75,\"??\"),COLUMN(),1))","v":""},{"$f":"IF(入力用科目!A75=\"\",\"\",MID(TEXT(入力用科目!$A75,\"??\"),COLUMN(),1))","v":""},null,{"$f":"IF(入力用科目!$D75=\"\",\"\",MID(TEXT(入力用科目!$D75,\"???\"),1,1))","v":""},{"$f":"IF(入力用科目!$D75=\"\",\"\",MID(TEXT(入力用科目!$D75,\"???\"),2,1))","v":""},{"$f":"IF(入力用科目!$D75=\"\",\"\",MID(TEXT(入力用科目!$D75,\"???\"),3,1))","v":""},null,{"$f":"IF(入力用科目!$Q75=1,\"運送収入\",IF(入力用科目!$H75=\"\",\"\",入力用科目!$H75))","v":""},null,null,null,null,null,null,null,null,{"$f":"IF(入力用科目!$Q75=\"\",\"\",MID(TEXT(入力用科目!$Q75,\"???\"),1,1))","v":""},{"$f":"IF(入力用科目!$Q75=\"\",\"\",MID(TEXT(入力用科目!$Q75,\"???\"),2,1))","v":""},{"$f":"IF(入力用科目!$Q75=\"\",\"\",MID(TEXT(入力用科目!$Q75,\"???\"),3,1))","v":""},null,{"$f":"IF(入力用科目!$U75=\"\",\"\",MID(TEXT(入力用科目!$U75,\"????????\"),1,1))","v":""},{"$f":"IF(入力用科目!$U75=\"\",\"\",MID(TEXT(入力用科目!$U75,\"????????\"),2,1))","v":""},{"$f":"IF(入力用科目!$U75=\"\",\"\",MID(TEXT(入力用科目!$U75,\"????????\"),3,1))","v":""},{"$f":"IF(入力用科目!$U75=\"\",\"\",MID(TEXT(入力用科目!$U75,\"????????\"),4,1))","v":""},{"$f":"IF(入力用科目!$U75=\"\",\"\",MID(TEXT(入力用科目!$U75,\"????????\"),5,1))","v":""},{"$f":"IF(入力用科目!$U75=\"\",\"\",MID(TEXT(入力用科目!$U75,\"????????\"),6,1))","v":""},{"$f":"IF(入力用科目!$U75=\"\",\"\",MID(TEXT(入力用科目!$U75,\"????????\"),7,1))","v":""},{"$f":"IF(入力用科目!$U75=\"\",\"\",MID(TEXT(入力用科目!$U75,\"????????\"),8,1))","v":""},null,{"$f":"IF(入力用科目!$AD75=\"\",\"\",MID(TEXT(入力用科目!$AD75,\"????????\"),1,1))","v":""},{"$f":"IF(入力用科目!$AD75=\"\",\"\",MID(TEXT(入力用科目!$AD75,\"????????\"),2,1))","v":""},{"$f":"IF(入力用科目!$AD75=\"\",\"\",MID(TEXT(入力用科目!$AD75,\"????????\"),3,1))","v":""},{"$f":"IF(入力用科目!$AD75=\"\",\"\",MID(TEXT(入力用科目!$AD75,\"????????\"),4,1))","v":""},{"$f":"IF(入力用科目!$AD75=\"\",\"\",MID(TEXT(入力用科目!$AD75,\"????????\"),5,1))","v":""},{"$f":"IF(入力用科目!$AD75=\"\",\"\",MID(TEXT(入力用科目!$AD75,\"????????\"),6,1))","v":""},{"$f":"IF(入力用科目!$AD75=\"\",\"\",MID(TEXT(入力用科目!$AD75,\"????????\"),7,1))","v":""},{"$f":"IF(入力用科目!$AD75=\"\",\"\",MID(TEXT(入力用科目!$AD75,\"????????\"),8,1))","v":""},null,{"$f":"IF(入力用科目!$AM75=\"\",\"\",MID(TEXT(入力用科目!$AM75,\"????????\"),1,1))","v":" "},{"$f":"IF(入力用科目!$AM75=\"\",\"\",MID(TEXT(入力用科目!$AM75,\"????????\"),2,1))","v":" "},{"$f":"IF(入力用科目!$AM75=\"\",\"\",MID(TEXT(入力用科目!$AM75,\"????????\"),3,1))","v":" "},{"$f":"IF(入力用科目!$AM75=\"\",\"\",MID(TEXT(入力用科目!$AM75,\"????????\"),4,1))","v":" "},{"$f":"IF(入力用科目!$AM75=\"\",\"\",MID(TEXT(入力用科目!$AM75,\"????????\"),5,1))","v":" "},{"$f":"IF(入力用科目!$AM75=\"\",\"\",MID(TEXT(入力用科目!$AM75,\"????????\"),6,1))","v":" "},{"$f":"IF(入力用科目!$AM75=\"\",\"\",MID(TEXT(入力用科目!$AM75,\"????????\"),7,1))","v":" "},{"$f":"IF(入力用科目!$AM75=\"\",\"\",MID(TEXT(入力用科目!$AM75,\"????????\"),8,1))","v":" "}]
[{"$f":"IF(入力用科目!A76=\"\",\"\",MID(TEXT(入力用科目!$A76,\"??\"),COLUMN(),1))","v":""},{"$f":"IF(入力用科目!A76=\"\",\"\",MID(TEXT(入力用科目!$A76,\"??\"),COLUMN(),1))","v":""},null,{"$f":"IF(入力用科目!$D76=\"\",\"\",MID(TEXT(入力用科目!$D76,\"???\"),1,1))","v":""},{"$f":"IF(入力用科目!$D76=\"\",\"\",MID(TEXT(入力用科目!$D76,\"???\"),2,1))","v":""},{"$f":"IF(入力用科目!$D76=\"\",\"\",MID(TEXT(入力用科目!$D76,\"???\"),3,1))","v":""},null,{"$f":"IF(入力用科目!$Q76=1,\"運送収入\",IF(入力用科目!$H76=\"\",\"\",入力用科目!$H76))","v":""},null,null,null,null,null,null,null,null,{"$f":"IF(入力用科目!$Q76=\"\",\"\",MID(TEXT(入力用科目!$Q76,\"???\"),1,1))","v":""},{"$f":"IF(入力用科目!$Q76=\"\",\"\",MID(TEXT(入力用科目!$Q76,\"???\"),2,1))","v":""},{"$f":"IF(入力用科目!$Q76=\"\",\"\",MID(TEXT(入力用科目!$Q76,\"???\"),3,1))","v":""},null,{"$f":"IF(入力用科目!$U76=\"\",\"\",MID(TEXT(入力用科目!$U76,\"????????\"),1,1))","v":""},{"$f":"IF(入力用科目!$U76=\"\",\"\",MID(TEXT(入力用科目!$U76,\"????????\"),2,1))","v":""},{"$f":"IF(入力用科目!$U76=\"\",\"\",MID(TEXT(入力用科目!$U76,\"????????\"),3,1))","v":""},{"$f":"IF(入力用科目!$U76=\"\",\"\",MID(TEXT(入力用科目!$U76,\"????????\"),4,1))","v":""},{"$f":"IF(入力用科目!$U76=\"\",\"\",MID(TEXT(入力用科目!$U76,\"????????\"),5,1))","v":""},{"$f":"IF(入力用科目!$U76=\"\",\"\",MID(TEXT(入力用科目!$U76,\"????????\"),6,1))","v":""},{"$f":"IF(入力用科目!$U76=\"\",\"\",MID(TEXT(入力用科目!$U76,\"????????\"),7,1))","v":""},{"$f":"IF(入力用科目!$U76=\"\",\"\",MID(TEXT(入力用科目!$U76,\"????????\"),8,1))","v":""},null,{"$f":"IF(入力用科目!$AD76=\"\",\"\",MID(TEXT(入力用科目!$AD76,\"????????\"),1,1))","v":""},{"$f":"IF(入力用科目!$AD76=\"\",\"\",MID(TEXT(入力用科目!$AD76,\"????????\"),2,1))","v":""},{"$f":"IF(入力用科目!$AD76=\"\",\"\",MID(TEXT(入力用科目!$AD76,\"????????\"),3,1))","v":""},{"$f":"IF(入力用科目!$AD76=\"\",\"\",MID(TEXT(入力用科目!$AD76,\"????????\"),4,1))","v":""},{"$f":"IF(入力用科目!$AD76=\"\",\"\",MID(TEXT(入力用科目!$AD76,\"????????\"),5,1))","v":""},{"$f":"IF(入力用科目!$AD76=\"\",\"\",MID(TEXT(入力用科目!$AD76,\"????????\"),6,1))","v":""},{"$f":"IF(入力用科目!$AD76=\"\",\"\",MID(TEXT(入力用科目!$AD76,\"????????\"),7,1))","v":""},{"$f":"IF(入力用科目!$AD76=\"\",\"\",MID(TEXT(入力用科目!$AD76,\"????????\"),8,1))","v":""},null,{"$f":"IF(入力用科目!$AM76=\"\",\"\",MID(TEXT(入力用科目!$AM76,\"????????\"),1,1))","v":" "},{"$f":"IF(入力用科目!$AM76=\"\",\"\",MID(TEXT(入力用科目!$AM76,\"????????\"),2,1))","v":" "},{"$f":"IF(入力用科目!$AM76=\"\",\"\",MID(TEXT(入力用科目!$AM76,\"????????\"),3,1))","v":" "},{"$f":"IF(入力用科目!$AM76=\"\",\"\",MID(TEXT(入力用科目!$AM76,\"????????\"),4,1))","v":" "},{"$f":"IF(入力用科目!$AM76=\"\",\"\",MID(TEXT(入力用科目!$AM76,\"????????\"),5,1))","v":" "},{"$f":"IF(入力用科目!$AM76=\"\",\"\",MID(TEXT(入力用科目!$AM76,\"????????\"),6,1))","v":" "},{"$f":"IF(入力用科目!$AM76=\"\",\"\",MID(TEXT(入力用科目!$AM76,\"????????\"),7,1))","v":" "},{"$f":"IF(入力用科目!$AM76=\"\",\"\",MID(TEXT(入力用科目!$AM76,\"????????\"),8,1))","v":" "}]
[{"$f":"IF(入力用科目!A77=\"\",\"\",MID(TEXT(入力用科目!$A77,\"??\"),COLUMN(),1))","v":""},{"$f":"IF(入力用科目!A77=\"\",\"\",MID(TEXT(入力用科目!$A77,\"??\"),COLUMN(),1))","v":""},null,{"$f":"IF(入力用科目!$D77=\"\",\"\",MID(TEXT(入力用科目!$D77,\"???\"),1,1))","v":""},{"$f":"IF(入力用科目!$D77=\"\",\"\",MID(TEXT(入力用科目!$D77,\"???\"),2,1))","v":""},{"$f":"IF(入力用科目!$D77=\"\",\"\",MID(TEXT(入力用科目!$D77,\"???\"),3,1))","v":""},null,{"$f":"IF(入力用科目!$Q77=1,\"運送収入\",IF(入力用科目!$H77=\"\",\"\",入力用科目!$H77))","v":""},null,null,null,null,null,null,null,null,{"$f":"IF(入力用科目!$Q77=\"\",\"\",MID(TEXT(入力用科目!$Q77,\"???\"),1,1))","v":""},{"$f":"IF(入力用科目!$Q77=\"\",\"\",MID(TEXT(入力用科目!$Q77,\"???\"),2,1))","v":""},{"$f":"IF(入力用科目!$Q77=\"\",\"\",MID(TEXT(入力用科目!$Q77,\"???\"),3,1))","v":""},null,{"$f":"IF(入力用科目!$U77=\"\",\"\",MID(TEXT(入力用科目!$U77,\"????????\"),1,1))","v":""},{"$f":"IF(入力用科目!$U77=\"\",\"\",MID(TEXT(入力用科目!$U77,\"????????\"),2,1))","v":""},{"$f":"IF(入力用科目!$U77=\"\",\"\",MID(TEXT(入力用科目!$U77,\"????????\"),3,1))","v":""},{"$f":"IF(入力用科目!$U77=\"\",\"\",MID(TEXT(入力用科目!$U77,\"????????\"),4,1))","v":""},{"$f":"IF(入力用科目!$U77=\"\",\"\",MID(TEXT(入力用科目!$U77,\"????????\"),5,1))","v":""},{"$f":"IF(入力用科目!$U77=\"\",\"\",MID(TEXT(入力用科目!$U77,\"????????\"),6,1))","v":""},{"$f":"IF(入力用科目!$U77=\"\",\"\",MID(TEXT(入力用科目!$U77,\"????????\"),7,1))","v":""},{"$f":"IF(入力用科目!$U77=\"\",\"\",MID(TEXT(入力用科目!$U77,\"????????\"),8,1))","v":""},null,{"$f":"IF(入力用科目!$AD77=\"\",\"\",MID(TEXT(入力用科目!$AD77,\"????????\"),1,1))","v":""},{"$f":"IF(入力用科目!$AD77=\"\",\"\",MID(TEXT(入力用科目!$AD77,\"????????\"),2,1))","v":""},{"$f":"IF(入力用科目!$AD77=\"\",\"\",MID(TEXT(入力用科目!$AD77,\"????????\"),3,1))","v":""},{"$f":"IF(入力用科目!$AD77=\"\",\"\",MID(TEXT(入力用科目!$AD77,\"????????\"),4,1))","v":""},{"$f":"IF(入力用科目!$AD77=\"\",\"\",MID(TEXT(入力用科目!$AD77,\"????????\"),5,1))","v":""},{"$f":"IF(入力用科目!$AD77=\"\",\"\",MID(TEXT(入力用科目!$AD77,\"????????\"),6,1))","v":""},{"$f":"IF(入力用科目!$AD77=\"\",\"\",MID(TEXT(入力用科目!$AD77,\"????????\"),7,1))","v":""},{"$f":"IF(入力用科目!$AD77=\"\",\"\",MID(TEXT(入力用科目!$AD77,\"????????\"),8,1))","v":""},null,{"$f":"IF(入力用科目!$AM77=\"\",\"\",MID(TEXT(入力用科目!$AM77,\"????????\"),1,1))","v":" "},{"$f":"IF(入力用科目!$AM77=\"\",\"\",MID(TEXT(入力用科目!$AM77,\"????????\"),2,1))","v":" "},{"$f":"IF(入力用科目!$AM77=\"\",\"\",MID(TEXT(入力用科目!$AM77,\"????????\"),3,1))","v":" "},{"$f":"IF(入力用科目!$AM77=\"\",\"\",MID(TEXT(入力用科目!$AM77,\"????????\"),4,1))","v":" "},{"$f":"IF(入力用科目!$AM77=\"\",\"\",MID(TEXT(入力用科目!$AM77,\"????????\"),5,1))","v":" "},{"$f":"IF(入力用科目!$AM77=\"\",\"\",MID(TEXT(入力用科目!$AM77,\"????????\"),6,1))","v":" "},{"$f":"IF(入力用科目!$AM77=\"\",\"\",MID(TEXT(入力用科目!$AM77,\"????????\"),7,1))","v":" "},{"$f":"IF(入力用科目!$AM77=\"\",\"\",MID(TEXT(入力用科目!$AM77,\"????????\"),8,1))","v":" "}]
[{"$f":"IF(入力用科目!A78=\"\",\"\",MID(TEXT(入力用科目!$A78,\"??\"),COLUMN(),1))","v":""},{"$f":"IF(入力用科目!A78=\"\",\"\",MID(TEXT(入力用科目!$A78,\"??\"),COLUMN(),1))","v":""},null,{"$f":"IF(入力用科目!$D78=\"\",\"\",MID(TEXT(入力用科目!$D78,\"???\"),1,1))","v":""},{"$f":"IF(入力用科目!$D78=\"\",\"\",MID(TEXT(入力用科目!$D78,\"???\"),2,1))","v":""},{"$f":"IF(入力用科目!$D78=\"\",\"\",MID(TEXT(入力用科目!$D78,\"???\"),3,1))","v":""},null,{"$f":"IF(入力用科目!H78=\"\",\"\",入力用科目!H78)","v":""},null,null,null,null,null,null,null,null,{"$f":"IF(入力用科目!$Q78=\"\",\"\",MID(TEXT(入力用科目!$Q78,\"???\"),1,1))","v":""},{"$f":"IF(入力用科目!$Q78=\"\",\"\",MID(TEXT(入力用科目!$Q78,\"???\"),2,1))","v":""},{"$f":"IF(入力用科目!$Q78=\"\",\"\",MID(TEXT(入力用科目!$Q78,\"???\"),3,1))","v":""},null,{"$f":"IF(入力用科目!$U78=\"\",\"\",MID(TEXT(入力用科目!$U78,\"????????\"),1,1))","v":""},{"$f":"IF(入力用科目!$U78=\"\",\"\",MID(TEXT(入力用科目!$U78,\"????????\"),2,1))","v":""},{"$f":"IF(入力用科目!$U78=\"\",\"\",MID(TEXT(入力用科目!$U78,\"????????\"),3,1))","v":""},{"$f":"IF(入力用科目!$U78=\"\",\"\",MID(TEXT(入力用科目!$U78,\"????????\"),4,1))","v":""},{"$f":"IF(入力用科目!$U78=\"\",\"\",MID(TEXT(入力用科目!$U78,\"????????\"),5,1))","v":""},{"$f":"IF(入力用科目!$U78=\"\",\"\",MID(TEXT(入力用科目!$U78,\"????????\"),6,1))","v":""},{"$f":"IF(入力用科目!$U78=\"\",\"\",MID(TEXT(入力用科目!$U78,\"????????\"),7,1))","v":""},{"$f":"IF(入力用科目!$U78=\"\",\"\",MID(TEXT(入力用科目!$U78,\"????????\"),8,1))","v":""},null,{"$f":"IF(入力用科目!$AD78=\"\",\"\",MID(TEXT(入力用科目!$AD78,\"????????\"),1,1))","v":""},{"$f":"IF(入力用科目!$AD78=\"\",\"\",MID(TEXT(入力用科目!$AD78,\"????????\"),2,1))","v":""},{"$f":"IF(入力用科目!$AD78=\"\",\"\",MID(TEXT(入力用科目!$AD78,\"????????\"),3,1))","v":""},{"$f":"IF(入力用科目!$AD78=\"\",\"\",MID(TEXT(入力用科目!$AD78,\"????????\"),4,1))","v":""},{"$f":"IF(入力用科目!$AD78=\"\",\"\",MID(TEXT(入力用科目!$AD78,\"????????\"),5,1))","v":""},{"$f":"IF(入力用科目!$AD78=\"\",\"\",MID(TEXT(入力用科目!$AD78,\"????????\"),6,1))","v":""},{"$f":"IF(入力用科目!$AD78=\"\",\"\",MID(TEXT(入力用科目!$AD78,\"????????\"),7,1))","v":""},{"$f":"IF(入力用科目!$AD78=\"\",\"\",MID(TEXT(入力用科目!$AD78,\"????????\"),8,1))","v":""},null,{"$f":"IF(入力用科目!$AM78=\"\",\"\",MID(TEXT(入力用科目!$AM78,\"????????\"),1,1))","v":" "},{"$f":"IF(入力用科目!$AM78=\"\",\"\",MID(TEXT(入力用科目!$AM78,\"????????\"),2,1))","v":" "},{"$f":"IF(入力用科目!$AM78=\"\",\"\",MID(TEXT(入力用科目!$AM78,\"????????\"),3,1))","v":" "},{"$f":"IF(入力用科目!$AM78=\"\",\"\",MID(TEXT(入力用科目!$AM78,\"????????\"),4,1))","v":" "},{"$f":"IF(入力用科目!$AM78=\"\",\"\",MID(TEXT(入力用科目!$AM78,\"????????\"),5,1))","v":" "},{"$f":"IF(入力用科目!$AM78=\"\",\"\",MID(TEXT(入力用科目!$AM78,\"????????\"),6,1))","v":" "},{"$f":"IF(入力用科目!$AM78=\"\",\"\",MID(TEXT(入力用科目!$AM78,\"????????\"),7,1))","v":" "},{"$f":"IF(入力用科目!$AM78=\"\",\"\",MID(TEXT(入力用科目!$AM78,\"????????\"),8,1))","v":" "}]
[{"$f":"IF(入力用科目!A79=\"\",\"\",MID(TEXT(入力用科目!$A79,\"??\"),COLUMN(),1))","v":""},{"$f":"IF(入力用科目!A79=\"\",\"\",MID(TEXT(入力用科目!$A79,\"??\"),COLUMN(),1))","v":""},null,{"$f":"IF(入力用科目!$D79=\"\",\"\",MID(TEXT(入力用科目!$D79,\"???\"),1,1))","v":""},{"$f":"IF(入力用科目!$D79=\"\",\"\",MID(TEXT(入力用科目!$D79,\"???\"),2,1))","v":""},{"$f":"IF(入力用科目!$D79=\"\",\"\",MID(TEXT(入力用科目!$D79,\"???\"),3,1))","v":""},null,{"$f":"IF(入力用科目!H79=\"\",\"\",入力用科目!H79)","v":""},null,null,null,null,null,null,null,null,{"$f":"IF(入力用科目!$Q79=\"\",\"\",MID(TEXT(入力用科目!$Q79,\"???\"),1,1))","v":""},{"$f":"IF(入力用科目!$Q79=\"\",\"\",MID(TEXT(入力用科目!$Q79,\"???\"),2,1))","v":""},{"$f":"IF(入力用科目!$Q79=\"\",\"\",MID(TEXT(入力用科目!$Q79,\"???\"),3,1))","v":""},null,{"$f":"IF(入力用科目!$U79=\"\",\"\",MID(TEXT(入力用科目!$U79,\"????????\"),1,1))","v":""},{"$f":"IF(入力用科目!$U79=\"\",\"\",MID(TEXT(入力用科目!$U79,\"????????\"),2,1))","v":""},{"$f":"IF(入力用科目!$U79=\"\",\"\",MID(TEXT(入力用科目!$U79,\"????????\"),3,1))","v":""},{"$f":"IF(入力用科目!$U79=\"\",\"\",MID(TEXT(入力用科目!$U79,\"????????\"),4,1))","v":""},{"$f":"IF(入力用科目!$U79=\"\",\"\",MID(TEXT(入力用科目!$U79,\"????????\"),5,1))","v":""},{"$f":"IF(入力用科目!$U79=\"\",\"\",MID(TEXT(入力用科目!$U79,\"????????\"),6,1))","v":""},{"$f":"IF(入力用科目!$U79=\"\",\"\",MID(TEXT(入力用科目!$U79,\"????????\"),7,1))","v":""},{"$f":"IF(入力用科目!$U79=\"\",\"\",MID(TEXT(入力用科目!$U79,\"????????\"),8,1))","v":""},null,{"$f":"IF(入力用科目!$AD79=\"\",\"\",MID(TEXT(入力用科目!$AD79,\"????????\"),1,1))","v":""},{"$f":"IF(入力用科目!$AD79=\"\",\"\",MID(TEXT(入力用科目!$AD79,\"????????\"),2,1))","v":""},{"$f":"IF(入力用科目!$AD79=\"\",\"\",MID(TEXT(入力用科目!$AD79,\"????????\"),3,1))","v":""},{"$f":"IF(入力用科目!$AD79=\"\",\"\",MID(TEXT(入力用科目!$AD79,\"????????\"),4,1))","v":""},{"$f":"IF(入力用科目!$AD79=\"\",\"\",MID(TEXT(入力用科目!$AD79,\"????????\"),5,1))","v":""},{"$f":"IF(入力用科目!$AD79=\"\",\"\",MID(TEXT(入力用科目!$AD79,\"????????\"),6,1))","v":""},{"$f":"IF(入力用科目!$AD79=\"\",\"\",MID(TEXT(入力用科目!$AD79,\"????????\"),7,1))","v":""},{"$f":"IF(入力用科目!$AD79=\"\",\"\",MID(TEXT(入力用科目!$AD79,\"????????\"),8,1))","v":""},null,{"$f":"IF(入力用科目!$AM79=\"\",\"\",MID(TEXT(入力用科目!$AM79,\"????????\"),1,1))","v":" "},{"$f":"IF(入力用科目!$AM79=\"\",\"\",MID(TEXT(入力用科目!$AM79,\"????????\"),2,1))","v":" "},{"$f":"IF(入力用科目!$AM79=\"\",\"\",MID(TEXT(入力用科目!$AM79,\"????????\"),3,1))","v":" "},{"$f":"IF(入力用科目!$AM79=\"\",\"\",MID(TEXT(入力用科目!$AM79,\"????????\"),4,1))","v":" "},{"$f":"IF(入力用科目!$AM79=\"\",\"\",MID(TEXT(入力用科目!$AM79,\"????????\"),5,1))","v":" "},{"$f":"IF(入力用科目!$AM79=\"\",\"\",MID(TEXT(入力用科目!$AM79,\"????????\"),6,1))","v":" "},{"$f":"IF(入力用科目!$AM79=\"\",\"\",MID(TEXT(入力用科目!$AM79,\"????????\"),7,1))","v":" "},{"$f":"IF(入力用科目!$AM79=\"\",\"\",MID(TEXT(入力用科目!$AM79,\"????????\"),8,1))","v":" "}]
[{"$f":"IF(入力用科目!A80=\"\",\"\",MID(TEXT(入力用科目!$A80,\"??\"),COLUMN(),1))","v":""},{"$f":"IF(入力用科目!A80=\"\",\"\",MID(TEXT(入力用科目!$A80,\"??\"),COLUMN(),1))","v":""},null,{"$f":"IF(入力用科目!$D80=\"\",\"\",MID(TEXT(入力用科目!$D80,\"???\"),1,1))","v":""},{"$f":"IF(入力用科目!$D80=\"\",\"\",MID(TEXT(入力用科目!$D80,\"???\"),2,1))","v":""},{"$f":"IF(入力用科目!$D80=\"\",\"\",MID(TEXT(入力用科目!$D80,\"???\"),3,1))","v":""},null,{"$f":"IF(入力用科目!H80=\"\",\"\",入力用科目!H80)","v":""},null,null,null,null,null,null,null,null,{"$f":"IF(入力用科目!$Q80=\"\",\"\",MID(TEXT(入力用科目!$Q80,\"???\"),1,1))","v":""},{"$f":"IF(入力用科目!$Q80=\"\",\"\",MID(TEXT(入力用科目!$Q80,\"???\"),2,1))","v":""},{"$f":"IF(入力用科目!$Q80=\"\",\"\",MID(TEXT(入力用科目!$Q80,\"???\"),3,1))","v":""},null,{"$f":"IF(入力用科目!$U80=\"\",\"\",MID(TEXT(入力用科目!$U80,\"????????\"),1,1))","v":""},{"$f":"IF(入力用科目!$U80=\"\",\"\",MID(TEXT(入力用科目!$U80,\"????????\"),2,1))","v":""},{"$f":"IF(入力用科目!$U80=\"\",\"\",MID(TEXT(入力用科目!$U80,\"????????\"),3,1))","v":""},{"$f":"IF(入力用科目!$U80=\"\",\"\",MID(TEXT(入力用科目!$U80,\"????????\"),4,1))","v":""},{"$f":"IF(入力用科目!$U80=\"\",\"\",MID(TEXT(入力用科目!$U80,\"????????\"),5,1))","v":""},{"$f":"IF(入力用科目!$U80=\"\",\"\",MID(TEXT(入力用科目!$U80,\"????????\"),6,1))","v":""},{"$f":"IF(入力用科目!$U80=\"\",\"\",MID(TEXT(入力用科目!$U80,\"????????\"),7,1))","v":""},{"$f":"IF(入力用科目!$U80=\"\",\"\",MID(TEXT(入力用科目!$U80,\"????????\"),8,1))","v":""},null,{"$f":"IF(入力用科目!$AD80=\"\",\"\",MID(TEXT(入力用科目!$AD80,\"????????\"),1,1))","v":""},{"$f":"IF(入力用科目!$AD80=\"\",\"\",MID(TEXT(入力用科目!$AD80,\"????????\"),2,1))","v":""},{"$f":"IF(入力用科目!$AD80=\"\",\"\",MID(TEXT(入力用科目!$AD80,\"????????\"),3,1))","v":""},{"$f":"IF(入力用科目!$AD80=\"\",\"\",MID(TEXT(入力用科目!$AD80,\"????????\"),4,1))","v":""},{"$f":"IF(入力用科目!$AD80=\"\",\"\",MID(TEXT(入力用科目!$AD80,\"????????\"),5,1))","v":""},{"$f":"IF(入力用科目!$AD80=\"\",\"\",MID(TEXT(入力用科目!$AD80,\"????????\"),6,1))","v":""},{"$f":"IF(入力用科目!$AD80=\"\",\"\",MID(TEXT(入力用科目!$AD80,\"????????\"),7,1))","v":""},{"$f":"IF(入力用科目!$AD80=\"\",\"\",MID(TEXT(入力用科目!$AD80,\"????????\"),8,1))","v":""},null,{"$f":"IF(入力用科目!$AM80=\"\",\"\",MID(TEXT(入力用科目!$AM80,\"????????\"),1,1))","v":" "},{"$f":"IF(入力用科目!$AM80=\"\",\"\",MID(TEXT(入力用科目!$AM80,\"????????\"),2,1))","v":" "},{"$f":"IF(入力用科目!$AM80=\"\",\"\",MID(TEXT(入力用科目!$AM80,\"????????\"),3,1))","v":" "},{"$f":"IF(入力用科目!$AM80=\"\",\"\",MID(TEXT(入力用科目!$AM80,\"????????\"),4,1))","v":" "},{"$f":"IF(入力用科目!$AM80=\"\",\"\",MID(TEXT(入力用科目!$AM80,\"????????\"),5,1))","v":" "},{"$f":"IF(入力用科目!$AM80=\"\",\"\",MID(TEXT(入力用科目!$AM80,\"????????\"),6,1))","v":" "},{"$f":"IF(入力用科目!$AM80=\"\",\"\",MID(TEXT(入力用科目!$AM80,\"????????\"),7,1))","v":" "},{"$f":"IF(入力用科目!$AM80=\"\",\"\",MID(TEXT(入力用科目!$AM80,\"????????\"),8,1))","v":" "}]
[{"$f":"IF(入力用科目!A81=\"\",\"\",MID(TEXT(入力用科目!$A81,\"??\"),COLUMN(),1))","v":""},{"$f":"IF(入力用科目!A81=\"\",\"\",MID(TEXT(入力用科目!$A81,\"??\"),COLUMN(),1))","v":""},null,{"$f":"IF(入力用科目!$D81=\"\",\"\",MID(TEXT(入力用科目!$D81,\"???\"),1,1))","v":""},{"$f":"IF(入力用科目!$D81=\"\",\"\",MID(TEXT(入力用科目!$D81,\"???\"),2,1))","v":""},{"$f":"IF(入力用科目!$D81=\"\",\"\",MID(TEXT(入力用科目!$D81,\"???\"),3,1))","v":""},null,{"$f":"IF(入力用科目!H81=\"\",\"\",入力用科目!H81)","v":"小　　　計"},null,null,null,null,null,null,null,null,{"$f":"IF(入力用科目!$Q81=\"\",\"\",MID(TEXT(入力用科目!$Q81,\"???\"),1,1))","v":""},{"$f":"IF(入力用科目!$Q81=\"\",\"\",MID(TEXT(入力用科目!$Q81,\"???\"),2,1))","v":""},{"$f":"IF(入力用科目!$Q81=\"\",\"\",MID(TEXT(入力用科目!$Q81,\"???\"),3,1))","v":""},null,{"$f":"IF(入力用科目!$U81=\"\",\"\",MID(TEXT(入力用科目!$U81,\"????????\"),1,1))","v":" "},{"$f":"IF(入力用科目!$U81=\"\",\"\",MID(TEXT(入力用科目!$U81,\"????????\"),2,1))","v":" "},{"$f":"IF(入力用科目!$U81=\"\",\"\",MID(TEXT(入力用科目!$U81,\"????????\"),3,1))","v":" "},{"$f":"IF(入力用科目!$U81=\"\",\"\",MID(TEXT(入力用科目!$U81,\"????????\"),4,1))","v":" "},{"$f":"IF(入力用科目!$U81=\"\",\"\",MID(TEXT(入力用科目!$U81,\"????????\"),5,1))","v":" "},{"$f":"IF(入力用科目!$U81=\"\",\"\",MID(TEXT(入力用科目!$U81,\"????????\"),6,1))","v":" "},{"$f":"IF(入力用科目!$U81=\"\",\"\",MID(TEXT(入力用科目!$U81,\"????????\"),7,1))","v":" "},{"$f":"IF(入力用科目!$U81=\"\",\"\",MID(TEXT(入力用科目!$U81,\"????????\"),8,1))","v":" "},null,{"$f":"IF(入力用科目!$AD81=\"\",\"\",MID(TEXT(入力用科目!$AD81,\"????????\"),1,1))","v":" "},{"$f":"IF(入力用科目!$AD81=\"\",\"\",MID(TEXT(入力用科目!$AD81,\"????????\"),2,1))","v":" "},{"$f":"IF(入力用科目!$AD81=\"\",\"\",MID(TEXT(入力用科目!$AD81,\"????????\"),3,1))","v":" "},{"$f":"IF(入力用科目!$AD81=\"\",\"\",MID(TEXT(入力用科目!$AD81,\"????????\"),4,1))","v":" "},{"$f":"IF(入力用科目!$AD81=\"\",\"\",MID(TEXT(入力用科目!$AD81,\"????????\"),5,1))","v":" "},{"$f":"IF(入力用科目!$AD81=\"\",\"\",MID(TEXT(入力用科目!$AD81,\"????????\"),6,1))","v":" "},{"$f":"IF(入力用科目!$AD81=\"\",\"\",MID(TEXT(入力用科目!$AD81,\"????????\"),7,1))","v":" "},{"$f":"IF(入力用科目!$AD81=\"\",\"\",MID(TEXT(入力用科目!$AD81,\"????????\"),8,1))","v":" "},null,{"$f":"IF(入力用科目!$AM81=\"\",\"\",MID(TEXT(入力用科目!$AM81,\"????????\"),1,1))","v":" "},{"$f":"IF(入力用科目!$AM81=\"\",\"\",MID(TEXT(入力用科目!$AM81,\"????????\"),2,1))","v":" "},{"$f":"IF(入力用科目!$AM81=\"\",\"\",MID(TEXT(入力用科目!$AM81,\"????????\"),3,1))","v":" "},{"$f":"IF(入力用科目!$AM81=\"\",\"\",MID(TEXT(入力用科目!$AM81,\"????????\"),4,1))","v":" "},{"$f":"IF(入力用科目!$AM81=\"\",\"\",MID(TEXT(入力用科目!$AM81,\"????????\"),5,1))","v":" "},{"$f":"IF(入力用科目!$AM81=\"\",\"\",MID(TEXT(入力用科目!$AM81,\"????????\"),6,1))","v":" "},{"$f":"IF(入力用科目!$AM81=\"\",\"\",MID(TEXT(入力用科目!$AM81,\"????????\"),7,1))","v":" "},{"$f":"IF(入力用科目!$AM81=\"\",\"\",MID(TEXT(入力用科目!$AM81,\"????????\"),8,1))","v":" "}]
[]
[null,{"$f":"IF(入力用科目!B83=\"\",\"\",入力用科目!B83)","v":""}]
[null,null,null,null,null,null,null,null,null,null,null,null,null,null,null,null,null,null,null,null,null,null,null,null,null,null,null,null,null,null,null,{"$f":"IF(入力用科目!$AF84=\"\",\"\",MID(TEXT(入力用科目!$AF84,\"???????\"),1,1))","v":""},{"$f":"IF(入力用科目!$AF84=\"\",\"\",MID(TEXT(入力用科目!$AF84,\"???????\"),2,1))","v":""},{"$f":"IF(入力用科目!$AF84=\"\",\"\",MID(TEXT(入力用科目!$AF84,\"???????\"),3,1))","v":""},{"$f":"IF(入力用科目!$AF84=\"\",\"\",MID(TEXT(入力用科目!$AF84,\"???????\"),4,1))","v":""},{"$f":"IF(入力用科目!$AF84=\"\",\"\",MID(TEXT(入力用科目!$AF84,\"???????\"),5,1))","v":""},{"$f":"IF(入力用科目!$AF84=\"\",\"\",MID(TEXT(入力用科目!$AF84,\"???????\"),6,1))","v":""},{"$f":"IF(入力用科目!$AF84=\"\",\"\",MID(TEXT(入力用科目!$AF84,\"???????\"),7,1))","v":""},null,{"$f":"IF(入力用科目!$AN84=\"\",\"\",MID(TEXT(入力用科目!$AN84,\"???????\"),1,1))","v":" "},{"$f":"IF(入力用科目!$AN84=\"\",\"\",MID(TEXT(入力用科目!$AN84,\"???????\"),2,1))","v":" "},{"$f":"IF(入力用科目!$AN84=\"\",\"\",MID(TEXT(入力用科目!$AN84,\"???????\"),3,1))","v":" "},{"$f":"IF(入力用科目!$AN84=\"\",\"\",MID(TEXT(入力用科目!$AN84,\"???????\"),4,1))","v":" "},{"$f":"IF(入力用科目!$AN84=\"\",\"\",MID(TEXT(入力用科目!$AN84,\"???????\"),5,1))","v":" "},{"$f":"IF(入力用科目!$AN84=\"\",\"\",MID(TEXT(入力用科目!$AN84,\"???????\"),6,1))","v":" "},{"$f":"IF(入力用科目!$AN84=\"\",\"\",MID(TEXT(入力用科目!$AN84,\"???????\"),7,1))","v":" "}]
[]
[]
[]
[]
[]
[{"$f":"IF(入力用科目!A90=\"\",\"\",入力用科目!A90)","v":0},{"$f":"IF(入力用科目!B90=\"\",\"\",入力用科目!B90)","v":6},null,{"$f":"IF(入力用科目!D90=\"\",\"\",入力用科目!D90)","v":""},{"$f":"IF(入力用科目!E90=\"\",\"\",入力用科目!E90)","v":""},null,null,null,null,null,null,null,null,null,null,null,null,null,null,null,null,null,null,null,null,null,null,null,null,null,null,null,{"$f":"IF(入力用科目!AG90=\"\",\"\",入力用科目!AG90)","v":""},null,null,null,null,null,null,null,null,{"$f":"IF(入力用科目!AP90=\"\",\"\",入力用科目!AP90)","v":""},null,{"$f":"IF(入力用科目!AR90=\"\",\"\",入力用科目!AR90)","v":""}]
[]
[]
[null,null,null,null,null,null,null,null,null,null,null,null,null,null,null,null,null,null,null,null,null,null,null,null,null,null,null,null,null,null,null,null,null,null,null,null,null,null,{"$f":"IF(入力用科目!$AM93=\"\",\"\",MID(TEXT(入力用科目!$AM93,\"????????\"),1,1))","v":" "},{"$f":"IF(入力用科目!$AM93=\"\",\"\",MID(TEXT(入力用科目!$AM93,\"????????\"),2,1))","v":" "},{"$f":"IF(入力用科目!$AM93=\"\",\"\",MID(TEXT(入力用科目!$AM93,\"????????\"),3,1))","v":" "},{"$f":"IF(入力用科目!$AM93=\"\",\"\",MID(TEXT(入力用科目!$AM93,\"????????\"),4,1))","v":" "},{"$f":"IF(入力用科目!$AM93=\"\",\"\",MID(TEXT(入力用科目!$AM93,\"????????\"),5,1))","v":" "},{"$f":"IF(入力用科目!$AM93=\"\",\"\",MID(TEXT(入力用科目!$AM93,\"????????\"),6,1))","v":" "},{"$f":"IF(入力用科目!$AM93=\"\",\"\",MID(TEXT(入力用科目!$AM93,\"????????\"),7,1))","v":" "},{"$f":"IF(入力用科目!$AM93=\"\",\"\",MID(TEXT(入力用科目!$AM93,\"????????\"),8,1))","v":" "}]
[{"$f":"IF(入力用科目!A94=\"\",\"\",MID(TEXT(入力用科目!$A94,\"??\"),COLUMN(),1))","v":""},{"$f":"IF(入力用科目!A94=\"\",\"\",MID(TEXT(入力用科目!$A94,\"??\"),COLUMN(),1))","v":""},null,{"$f":"IF(入力用科目!$D94=\"\",\"\",MID(TEXT(入力用科目!$D94,\"???\"),1,1))","v":""},{"$f":"IF(入力用科目!$D94=\"\",\"\",MID(TEXT(入力用科目!$D94,\"???\"),2,1))","v":""},{"$f":"IF(入力用科目!$D94=\"\",\"\",MID(TEXT(入力用科目!$D94,\"???\"),3,1))","v":""},null,{"$f":"IF(入力用科目!$Q94=1,\"運送収入\",IF(入力用科目!$H94=\"\",\"\",入力用科目!$H94))","v":""},null,null,null,null,null,null,null,null,{"$f":"IF(入力用科目!$Q94=\"\",\"\",MID(TEXT(入力用科目!$Q94,\"???\"),1,1))","v":""},{"$f":"IF(入力用科目!$Q94=\"\",\"\",MID(TEXT(入力用科目!$Q94,\"???\"),2,1))","v":""},{"$f":"IF(入力用科目!$Q94=\"\",\"\",MID(TEXT(入力用科目!$Q94,\"???\"),3,1))","v":""},null,{"$f":"IF(入力用科目!$U94=\"\",\"\",MID(TEXT(入力用科目!$U94,\"????????\"),1,1))","v":""},{"$f":"IF(入力用科目!$U94=\"\",\"\",MID(TEXT(入力用科目!$U94,\"????????\"),2,1))","v":""},{"$f":"IF(入力用科目!$U94=\"\",\"\",MID(TEXT(入力用科目!$U94,\"????????\"),3,1))","v":""},{"$f":"IF(入力用科目!$U94=\"\",\"\",MID(TEXT(入力用科目!$U94,\"????????\"),4,1))","v":""},{"$f":"IF(入力用科目!$U94=\"\",\"\",MID(TEXT(入力用科目!$U94,\"????????\"),5,1))","v":""},{"$f":"IF(入力用科目!$U94=\"\",\"\",MID(TEXT(入力用科目!$U94,\"????????\"),6,1))","v":""},{"$f":"IF(入力用科目!$U94=\"\",\"\",MID(TEXT(入力用科目!$U94,\"????????\"),7,1))","v":""},{"$f":"IF(入力用科目!$U94=\"\",\"\",MID(TEXT(入力用科目!$U94,\"????????\"),8,1))","v":""},null,{"$f":"IF(入力用科目!$AD94=\"\",\"\",MID(TEXT(入力用科目!$AD94,\"????????\"),1,1))","v":""},{"$f":"IF(入力用科目!$AD94=\"\",\"\",MID(TEXT(入力用科目!$AD94,\"????????\"),2,1))","v":""},{"$f":"IF(入力用科目!$AD94=\"\",\"\",MID(TEXT(入力用科目!$AD94,\"????????\"),3,1))","v":""},{"$f":"IF(入力用科目!$AD94=\"\",\"\",MID(TEXT(入力用科目!$AD94,\"????????\"),4,1))","v":""},{"$f":"IF(入力用科目!$AD94=\"\",\"\",MID(TEXT(入力用科目!$AD94,\"????????\"),5,1))","v":""},{"$f":"IF(入力用科目!$AD94=\"\",\"\",MID(TEXT(入力用科目!$AD94,\"????????\"),6,1))","v":""},{"$f":"IF(入力用科目!$AD94=\"\",\"\",MID(TEXT(入力用科目!$AD94,\"????????\"),7,1))","v":""},{"$f":"IF(入力用科目!$AD94=\"\",\"\",MID(TEXT(入力用科目!$AD94,\"????????\"),8,1))","v":""},null,{"$f":"IF(入力用科目!$AM94=\"\",\"\",MID(TEXT(入力用科目!$AM94,\"????????\"),1,1))","v":" "},{"$f":"IF(入力用科目!$AM94=\"\",\"\",MID(TEXT(入力用科目!$AM94,\"????????\"),2,1))","v":" "},{"$f":"IF(入力用科目!$AM94=\"\",\"\",MID(TEXT(入力用科目!$AM94,\"????????\"),3,1))","v":" "},{"$f":"IF(入力用科目!$AM94=\"\",\"\",MID(TEXT(入力用科目!$AM94,\"????????\"),4,1))","v":" "},{"$f":"IF(入力用科目!$AM94=\"\",\"\",MID(TEXT(入力用科目!$AM94,\"????????\"),5,1))","v":" "},{"$f":"IF(入力用科目!$AM94=\"\",\"\",MID(TEXT(入力用科目!$AM94,\"????????\"),6,1))","v":" "},{"$f":"IF(入力用科目!$AM94=\"\",\"\",MID(TEXT(入力用科目!$AM94,\"????????\"),7,1))","v":" "},{"$f":"IF(入力用科目!$AM94=\"\",\"\",MID(TEXT(入力用科目!$AM94,\"????????\"),8,1))","v":" "}]
[{"$f":"IF(入力用科目!A95=\"\",\"\",MID(TEXT(入力用科目!$A95,\"??\"),COLUMN(),1))","v":""},{"$f":"IF(入力用科目!A95=\"\",\"\",MID(TEXT(入力用科目!$A95,\"??\"),COLUMN(),1))","v":""},null,{"$f":"IF(入力用科目!$D95=\"\",\"\",MID(TEXT(入力用科目!$D95,\"???\"),1,1))","v":""},{"$f":"IF(入力用科目!$D95=\"\",\"\",MID(TEXT(入力用科目!$D95,\"???\"),2,1))","v":""},{"$f":"IF(入力用科目!$D95=\"\",\"\",MID(TEXT(入力用科目!$D95,\"???\"),3,1))","v":""},null,{"$f":"IF(入力用科目!$Q95=1,\"運送収入\",IF(入力用科目!$H95=\"\",\"\",入力用科目!$H95))","v":""},null,null,null,null,null,null,null,null,{"$f":"IF(入力用科目!$Q95=\"\",\"\",MID(TEXT(入力用科目!$Q95,\"???\"),1,1))","v":""},{"$f":"IF(入力用科目!$Q95=\"\",\"\",MID(TEXT(入力用科目!$Q95,\"???\"),2,1))","v":""},{"$f":"IF(入力用科目!$Q95=\"\",\"\",MID(TEXT(入力用科目!$Q95,\"???\"),3,1))","v":""},null,{"$f":"IF(入力用科目!$U95=\"\",\"\",MID(TEXT(入力用科目!$U95,\"????????\"),1,1))","v":""},{"$f":"IF(入力用科目!$U95=\"\",\"\",MID(TEXT(入力用科目!$U95,\"????????\"),2,1))","v":""},{"$f":"IF(入力用科目!$U95=\"\",\"\",MID(TEXT(入力用科目!$U95,\"????????\"),3,1))","v":""},{"$f":"IF(入力用科目!$U95=\"\",\"\",MID(TEXT(入力用科目!$U95,\"????????\"),4,1))","v":""},{"$f":"IF(入力用科目!$U95=\"\",\"\",MID(TEXT(入力用科目!$U95,\"????????\"),5,1))","v":""},{"$f":"IF(入力用科目!$U95=\"\",\"\",MID(TEXT(入力用科目!$U95,\"????????\"),6,1))","v":""},{"$f":"IF(入力用科目!$U95=\"\",\"\",MID(TEXT(入力用科目!$U95,\"????????\"),7,1))","v":""},{"$f":"IF(入力用科目!$U95=\"\",\"\",MID(TEXT(入力用科目!$U95,\"????????\"),8,1))","v":""},null,{"$f":"IF(入力用科目!$AD95=\"\",\"\",MID(TEXT(入力用科目!$AD95,\"????????\"),1,1))","v":""},{"$f":"IF(入力用科目!$AD95=\"\",\"\",MID(TEXT(入力用科目!$AD95,\"????????\"),2,1))","v":""},{"$f":"IF(入力用科目!$AD95=\"\",\"\",MID(TEXT(入力用科目!$AD95,\"????????\"),3,1))","v":""},{"$f":"IF(入力用科目!$AD95=\"\",\"\",MID(TEXT(入力用科目!$AD95,\"????????\"),4,1))","v":""},{"$f":"IF(入力用科目!$AD95=\"\",\"\",MID(TEXT(入力用科目!$AD95,\"????????\"),5,1))","v":""},{"$f":"IF(入力用科目!$AD95=\"\",\"\",MID(TEXT(入力用科目!$AD95,\"????????\"),6,1))","v":""},{"$f":"IF(入力用科目!$AD95=\"\",\"\",MID(TEXT(入力用科目!$AD95,\"????????\"),7,1))","v":""},{"$f":"IF(入力用科目!$AD95=\"\",\"\",MID(TEXT(入力用科目!$AD95,\"????????\"),8,1))","v":""},null,{"$f":"IF(入力用科目!$AM95=\"\",\"\",MID(TEXT(入力用科目!$AM95,\"????????\"),1,1))","v":" "},{"$f":"IF(入力用科目!$AM95=\"\",\"\",MID(TEXT(入力用科目!$AM95,\"????????\"),2,1))","v":" "},{"$f":"IF(入力用科目!$AM95=\"\",\"\",MID(TEXT(入力用科目!$AM95,\"????????\"),3,1))","v":" "},{"$f":"IF(入力用科目!$AM95=\"\",\"\",MID(TEXT(入力用科目!$AM95,\"????????\"),4,1))","v":" "},{"$f":"IF(入力用科目!$AM95=\"\",\"\",MID(TEXT(入力用科目!$AM95,\"????????\"),5,1))","v":" "},{"$f":"IF(入力用科目!$AM95=\"\",\"\",MID(TEXT(入力用科目!$AM95,\"????????\"),6,1))","v":" "},{"$f":"IF(入力用科目!$AM95=\"\",\"\",MID(TEXT(入力用科目!$AM95,\"????????\"),7,1))","v":" "},{"$f":"IF(入力用科目!$AM95=\"\",\"\",MID(TEXT(入力用科目!$AM95,\"????????\"),8,1))","v":" "}]
[{"$f":"IF(入力用科目!A96=\"\",\"\",MID(TEXT(入力用科目!$A96,\"??\"),COLUMN(),1))","v":""},{"$f":"IF(入力用科目!A96=\"\",\"\",MID(TEXT(入力用科目!$A96,\"??\"),COLUMN(),1))","v":""},null,{"$f":"IF(入力用科目!$D96=\"\",\"\",MID(TEXT(入力用科目!$D96,\"???\"),1,1))","v":""},{"$f":"IF(入力用科目!$D96=\"\",\"\",MID(TEXT(入力用科目!$D96,\"???\"),2,1))","v":""},{"$f":"IF(入力用科目!$D96=\"\",\"\",MID(TEXT(入力用科目!$D96,\"???\"),3,1))","v":""},null,{"$f":"IF(入力用科目!$Q96=1,\"運送収入\",IF(入力用科目!$H96=\"\",\"\",入力用科目!$H96))","v":""},null,null,null,null,null,null,null,null,{"$f":"IF(入力用科目!$Q96=\"\",\"\",MID(TEXT(入力用科目!$Q96,\"???\"),1,1))","v":""},{"$f":"IF(入力用科目!$Q96=\"\",\"\",MID(TEXT(入力用科目!$Q96,\"???\"),2,1))","v":""},{"$f":"IF(入力用科目!$Q96=\"\",\"\",MID(TEXT(入力用科目!$Q96,\"???\"),3,1))","v":""},null,{"$f":"IF(入力用科目!$U96=\"\",\"\",MID(TEXT(入力用科目!$U96,\"????????\"),1,1))","v":""},{"$f":"IF(入力用科目!$U96=\"\",\"\",MID(TEXT(入力用科目!$U96,\"????????\"),2,1))","v":""},{"$f":"IF(入力用科目!$U96=\"\",\"\",MID(TEXT(入力用科目!$U96,\"????????\"),3,1))","v":""},{"$f":"IF(入力用科目!$U96=\"\",\"\",MID(TEXT(入力用科目!$U96,\"????????\"),4,1))","v":""},{"$f":"IF(入力用科目!$U96=\"\",\"\",MID(TEXT(入力用科目!$U96,\"????????\"),5,1))","v":""},{"$f":"IF(入力用科目!$U96=\"\",\"\",MID(TEXT(入力用科目!$U96,\"????????\"),6,1))","v":""},{"$f":"IF(入力用科目!$U96=\"\",\"\",MID(TEXT(入力用科目!$U96,\"????????\"),7,1))","v":""},{"$f":"IF(入力用科目!$U96=\"\",\"\",MID(TEXT(入力用科目!$U96,\"????????\"),8,1))","v":""},null,{"$f":"IF(入力用科目!$AD96=\"\",\"\",MID(TEXT(入力用科目!$AD96,\"????????\"),1,1))","v":""},{"$f":"IF(入力用科目!$AD96=\"\",\"\",MID(TEXT(入力用科目!$AD96,\"????????\"),2,1))","v":""},{"$f":"IF(入力用科目!$AD96=\"\",\"\",MID(TEXT(入力用科目!$AD96,\"????????\"),3,1))","v":""},{"$f":"IF(入力用科目!$AD96=\"\",\"\",MID(TEXT(入力用科目!$AD96,\"????????\"),4,1))","v":""},{"$f":"IF(入力用科目!$AD96=\"\",\"\",MID(TEXT(入力用科目!$AD96,\"????????\"),5,1))","v":""},{"$f":"IF(入力用科目!$AD96=\"\",\"\",MID(TEXT(入力用科目!$AD96,\"????????\"),6,1))","v":""},{"$f":"IF(入力用科目!$AD96=\"\",\"\",MID(TEXT(入力用科目!$AD96,\"????????\"),7,1))","v":""},{"$f":"IF(入力用科目!$AD96=\"\",\"\",MID(TEXT(入力用科目!$AD96,\"????????\"),8,1))","v":""},null,{"$f":"IF(入力用科目!$AM96=\"\",\"\",MID(TEXT(入力用科目!$AM96,\"????????\"),1,1))","v":" "},{"$f":"IF(入力用科目!$AM96=\"\",\"\",MID(TEXT(入力用科目!$AM96,\"????????\"),2,1))","v":" "},{"$f":"IF(入力用科目!$AM96=\"\",\"\",MID(TEXT(入力用科目!$AM96,\"????????\"),3,1))","v":" "},{"$f":"IF(入力用科目!$AM96=\"\",\"\",MID(TEXT(入力用科目!$AM96,\"????????\"),4,1))","v":" "},{"$f":"IF(入力用科目!$AM96=\"\",\"\",MID(TEXT(入力用科目!$AM96,\"????????\"),5,1))","v":" "},{"$f":"IF(入力用科目!$AM96=\"\",\"\",MID(TEXT(入力用科目!$AM96,\"????????\"),6,1))","v":" "},{"$f":"IF(入力用科目!$AM96=\"\",\"\",MID(TEXT(入力用科目!$AM96,\"????????\"),7,1))","v":" "},{"$f":"IF(入力用科目!$AM96=\"\",\"\",MID(TEXT(入力用科目!$AM96,\"????????\"),8,1))","v":" "}]
[{"$f":"IF(入力用科目!A97=\"\",\"\",MID(TEXT(入力用科目!$A97,\"??\"),COLUMN(),1))","v":""},{"$f":"IF(入力用科目!A97=\"\",\"\",MID(TEXT(入力用科目!$A97,\"??\"),COLUMN(),1))","v":""},null,{"$f":"IF(入力用科目!$D97=\"\",\"\",MID(TEXT(入力用科目!$D97,\"???\"),1,1))","v":""},{"$f":"IF(入力用科目!$D97=\"\",\"\",MID(TEXT(入力用科目!$D97,\"???\"),2,1))","v":""},{"$f":"IF(入力用科目!$D97=\"\",\"\",MID(TEXT(入力用科目!$D97,\"???\"),3,1))","v":""},null,{"$f":"IF(入力用科目!$Q97=1,\"運送収入\",IF(入力用科目!$H97=\"\",\"\",入力用科目!$H97))","v":""},null,null,null,null,null,null,null,null,{"$f":"IF(入力用科目!$Q97=\"\",\"\",MID(TEXT(入力用科目!$Q97,\"???\"),1,1))","v":""},{"$f":"IF(入力用科目!$Q97=\"\",\"\",MID(TEXT(入力用科目!$Q97,\"???\"),2,1))","v":""},{"$f":"IF(入力用科目!$Q97=\"\",\"\",MID(TEXT(入力用科目!$Q97,\"???\"),3,1))","v":""},null,{"$f":"IF(入力用科目!$U97=\"\",\"\",MID(TEXT(入力用科目!$U97,\"????????\"),1,1))","v":""},{"$f":"IF(入力用科目!$U97=\"\",\"\",MID(TEXT(入力用科目!$U97,\"????????\"),2,1))","v":""},{"$f":"IF(入力用科目!$U97=\"\",\"\",MID(TEXT(入力用科目!$U97,\"????????\"),3,1))","v":""},{"$f":"IF(入力用科目!$U97=\"\",\"\",MID(TEXT(入力用科目!$U97,\"????????\"),4,1))","v":""},{"$f":"IF(入力用科目!$U97=\"\",\"\",MID(TEXT(入力用科目!$U97,\"????????\"),5,1))","v":""},{"$f":"IF(入力用科目!$U97=\"\",\"\",MID(TEXT(入力用科目!$U97,\"????????\"),6,1))","v":""},{"$f":"IF(入力用科目!$U97=\"\",\"\",MID(TEXT(入力用科目!$U97,\"????????\"),7,1))","v":""},{"$f":"IF(入力用科目!$U97=\"\",\"\",MID(TEXT(入力用科目!$U97,\"????????\"),8,1))","v":""},null,{"$f":"IF(入力用科目!$AD97=\"\",\"\",MID(TEXT(入力用科目!$AD97,\"????????\"),1,1))","v":""},{"$f":"IF(入力用科目!$AD97=\"\",\"\",MID(TEXT(入力用科目!$AD97,\"????????\"),2,1))","v":""},{"$f":"IF(入力用科目!$AD97=\"\",\"\",MID(TEXT(入力用科目!$AD97,\"????????\"),3,1))","v":""},{"$f":"IF(入力用科目!$AD97=\"\",\"\",MID(TEXT(入力用科目!$AD97,\"????????\"),4,1))","v":""},{"$f":"IF(入力用科目!$AD97=\"\",\"\",MID(TEXT(入力用科目!$AD97,\"????????\"),5,1))","v":""},{"$f":"IF(入力用科目!$AD97=\"\",\"\",MID(TEXT(入力用科目!$AD97,\"????????\"),6,1))","v":""},{"$f":"IF(入力用科目!$AD97=\"\",\"\",MID(TEXT(入力用科目!$AD97,\"????????\"),7,1))","v":""},{"$f":"IF(入力用科目!$AD97=\"\",\"\",MID(TEXT(入力用科目!$AD97,\"????????\"),8,1))","v":""},null,{"$f":"IF(入力用科目!$AM97=\"\",\"\",MID(TEXT(入力用科目!$AM97,\"????????\"),1,1))","v":" "},{"$f":"IF(入力用科目!$AM97=\"\",\"\",MID(TEXT(入力用科目!$AM97,\"????????\"),2,1))","v":" "},{"$f":"IF(入力用科目!$AM97=\"\",\"\",MID(TEXT(入力用科目!$AM97,\"????????\"),3,1))","v":" "},{"$f":"IF(入力用科目!$AM97=\"\",\"\",MID(TEXT(入力用科目!$AM97,\"????????\"),4,1))","v":" "},{"$f":"IF(入力用科目!$AM97=\"\",\"\",MID(TEXT(入力用科目!$AM97,\"????????\"),5,1))","v":" "},{"$f":"IF(入力用科目!$AM97=\"\",\"\",MID(TEXT(入力用科目!$AM97,\"????????\"),6,1))","v":" "},{"$f":"IF(入力用科目!$AM97=\"\",\"\",MID(TEXT(入力用科目!$AM97,\"????????\"),7,1))","v":" "},{"$f":"IF(入力用科目!$AM97=\"\",\"\",MID(TEXT(入力用科目!$AM97,\"????????\"),8,1))","v":" "}]
[{"$f":"IF(入力用科目!A98=\"\",\"\",MID(TEXT(入力用科目!$A98,\"??\"),COLUMN(),1))","v":""},{"$f":"IF(入力用科目!A98=\"\",\"\",MID(TEXT(入力用科目!$A98,\"??\"),COLUMN(),1))","v":""},null,{"$f":"IF(入力用科目!$D98=\"\",\"\",MID(TEXT(入力用科目!$D98,\"???\"),1,1))","v":""},{"$f":"IF(入力用科目!$D98=\"\",\"\",MID(TEXT(入力用科目!$D98,\"???\"),2,1))","v":""},{"$f":"IF(入力用科目!$D98=\"\",\"\",MID(TEXT(入力用科目!$D98,\"???\"),3,1))","v":""},null,{"$f":"IF(入力用科目!$Q98=1,\"運送収入\",IF(入力用科目!$H98=\"\",\"\",入力用科目!$H98))","v":""},null,null,null,null,null,null,null,null,{"$f":"IF(入力用科目!$Q98=\"\",\"\",MID(TEXT(入力用科目!$Q98,\"???\"),1,1))","v":""},{"$f":"IF(入力用科目!$Q98=\"\",\"\",MID(TEXT(入力用科目!$Q98,\"???\"),2,1))","v":""},{"$f":"IF(入力用科目!$Q98=\"\",\"\",MID(TEXT(入力用科目!$Q98,\"???\"),3,1))","v":""},null,{"$f":"IF(入力用科目!$U98=\"\",\"\",MID(TEXT(入力用科目!$U98,\"????????\"),1,1))","v":""},{"$f":"IF(入力用科目!$U98=\"\",\"\",MID(TEXT(入力用科目!$U98,\"????????\"),2,1))","v":""},{"$f":"IF(入力用科目!$U98=\"\",\"\",MID(TEXT(入力用科目!$U98,\"????????\"),3,1))","v":""},{"$f":"IF(入力用科目!$U98=\"\",\"\",MID(TEXT(入力用科目!$U98,\"????????\"),4,1))","v":""},{"$f":"IF(入力用科目!$U98=\"\",\"\",MID(TEXT(入力用科目!$U98,\"????????\"),5,1))","v":""},{"$f":"IF(入力用科目!$U98=\"\",\"\",MID(TEXT(入力用科目!$U98,\"????????\"),6,1))","v":""},{"$f":"IF(入力用科目!$U98=\"\",\"\",MID(TEXT(入力用科目!$U98,\"????????\"),7,1))","v":""},{"$f":"IF(入力用科目!$U98=\"\",\"\",MID(TEXT(入力用科目!$U98,\"????????\"),8,1))","v":""},null,{"$f":"IF(入力用科目!$AD98=\"\",\"\",MID(TEXT(入力用科目!$AD98,\"????????\"),1,1))","v":""},{"$f":"IF(入力用科目!$AD98=\"\",\"\",MID(TEXT(入力用科目!$AD98,\"????????\"),2,1))","v":""},{"$f":"IF(入力用科目!$AD98=\"\",\"\",MID(TEXT(入力用科目!$AD98,\"????????\"),3,1))","v":""},{"$f":"IF(入力用科目!$AD98=\"\",\"\",MID(TEXT(入力用科目!$AD98,\"????????\"),4,1))","v":""},{"$f":"IF(入力用科目!$AD98=\"\",\"\",MID(TEXT(入力用科目!$AD98,\"????????\"),5,1))","v":""},{"$f":"IF(入力用科目!$AD98=\"\",\"\",MID(TEXT(入力用科目!$AD98,\"????????\"),6,1))","v":""},{"$f":"IF(入力用科目!$AD98=\"\",\"\",MID(TEXT(入力用科目!$AD98,\"????????\"),7,1))","v":""},{"$f":"IF(入力用科目!$AD98=\"\",\"\",MID(TEXT(入力用科目!$AD98,\"????????\"),8,1))","v":""},null,{"$f":"IF(入力用科目!$AM98=\"\",\"\",MID(TEXT(入力用科目!$AM98,\"????????\"),1,1))","v":" "},{"$f":"IF(入力用科目!$AM98=\"\",\"\",MID(TEXT(入力用科目!$AM98,\"????????\"),2,1))","v":" "},{"$f":"IF(入力用科目!$AM98=\"\",\"\",MID(TEXT(入力用科目!$AM98,\"????????\"),3,1))","v":" "},{"$f":"IF(入力用科目!$AM98=\"\",\"\",MID(TEXT(入力用科目!$AM98,\"????????\"),4,1))","v":" "},{"$f":"IF(入力用科目!$AM98=\"\",\"\",MID(TEXT(入力用科目!$AM98,\"????????\"),5,1))","v":" "},{"$f":"IF(入力用科目!$AM98=\"\",\"\",MID(TEXT(入力用科目!$AM98,\"????????\"),6,1))","v":" "},{"$f":"IF(入力用科目!$AM98=\"\",\"\",MID(TEXT(入力用科目!$AM98,\"????????\"),7,1))","v":" "},{"$f":"IF(入力用科目!$AM98=\"\",\"\",MID(TEXT(入力用科目!$AM98,\"????????\"),8,1))","v":" "}]
[{"$f":"IF(入力用科目!A99=\"\",\"\",MID(TEXT(入力用科目!$A99,\"??\"),COLUMN(),1))","v":""},{"$f":"IF(入力用科目!A99=\"\",\"\",MID(TEXT(入力用科目!$A99,\"??\"),COLUMN(),1))","v":""},null,{"$f":"IF(入力用科目!$D99=\"\",\"\",MID(TEXT(入力用科目!$D99,\"???\"),1,1))","v":""},{"$f":"IF(入力用科目!$D99=\"\",\"\",MID(TEXT(入力用科目!$D99,\"???\"),2,1))","v":""},{"$f":"IF(入力用科目!$D99=\"\",\"\",MID(TEXT(入力用科目!$D99,\"???\"),3,1))","v":""},null,{"$f":"IF(入力用科目!$Q99=1,\"運送収入\",IF(入力用科目!$H99=\"\",\"\",入力用科目!$H99))","v":""},null,null,null,null,null,null,null,null,{"$f":"IF(入力用科目!$Q99=\"\",\"\",MID(TEXT(入力用科目!$Q99,\"???\"),1,1))","v":""},{"$f":"IF(入力用科目!$Q99=\"\",\"\",MID(TEXT(入力用科目!$Q99,\"???\"),2,1))","v":""},{"$f":"IF(入力用科目!$Q99=\"\",\"\",MID(TEXT(入力用科目!$Q99,\"???\"),3,1))","v":""},null,{"$f":"IF(入力用科目!$U99=\"\",\"\",MID(TEXT(入力用科目!$U99,\"????????\"),1,1))","v":""},{"$f":"IF(入力用科目!$U99=\"\",\"\",MID(TEXT(入力用科目!$U99,\"????????\"),2,1))","v":""},{"$f":"IF(入力用科目!$U99=\"\",\"\",MID(TEXT(入力用科目!$U99,\"????????\"),3,1))","v":""},{"$f":"IF(入力用科目!$U99=\"\",\"\",MID(TEXT(入力用科目!$U99,\"????????\"),4,1))","v":""},{"$f":"IF(入力用科目!$U99=\"\",\"\",MID(TEXT(入力用科目!$U99,\"????????\"),5,1))","v":""},{"$f":"IF(入力用科目!$U99=\"\",\"\",MID(TEXT(入力用科目!$U99,\"????????\"),6,1))","v":""},{"$f":"IF(入力用科目!$U99=\"\",\"\",MID(TEXT(入力用科目!$U99,\"????????\"),7,1))","v":""},{"$f":"IF(入力用科目!$U99=\"\",\"\",MID(TEXT(入力用科目!$U99,\"????????\"),8,1))","v":""},null,{"$f":"IF(入力用科目!$AD99=\"\",\"\",MID(TEXT(入力用科目!$AD99,\"????????\"),1,1))","v":""},{"$f":"IF(入力用科目!$AD99=\"\",\"\",MID(TEXT(入力用科目!$AD99,\"????????\"),2,1))","v":""},{"$f":"IF(入力用科目!$AD99=\"\",\"\",MID(TEXT(入力用科目!$AD99,\"????????\"),3,1))","v":""},{"$f":"IF(入力用科目!$AD99=\"\",\"\",MID(TEXT(入力用科目!$AD99,\"????????\"),4,1))","v":""},{"$f":"IF(入力用科目!$AD99=\"\",\"\",MID(TEXT(入力用科目!$AD99,\"????????\"),5,1))","v":""},{"$f":"IF(入力用科目!$AD99=\"\",\"\",MID(TEXT(入力用科目!$AD99,\"????????\"),6,1))","v":""},{"$f":"IF(入力用科目!$AD99=\"\",\"\",MID(TEXT(入力用科目!$AD99,\"????????\"),7,1))","v":""},{"$f":"IF(入力用科目!$AD99=\"\",\"\",MID(TEXT(入力用科目!$AD99,\"????????\"),8,1))","v":""},null,{"$f":"IF(入力用科目!$AM99=\"\",\"\",MID(TEXT(入力用科目!$AM99,\"????????\"),1,1))","v":" "},{"$f":"IF(入力用科目!$AM99=\"\",\"\",MID(TEXT(入力用科目!$AM99,\"????????\"),2,1))","v":" "},{"$f":"IF(入力用科目!$AM99=\"\",\"\",MID(TEXT(入力用科目!$AM99,\"????????\"),3,1))","v":" "},{"$f":"IF(入力用科目!$AM99=\"\",\"\",MID(TEXT(入力用科目!$AM99,\"????????\"),4,1))","v":" "},{"$f":"IF(入力用科目!$AM99=\"\",\"\",MID(TEXT(入力用科目!$AM99,\"????????\"),5,1))","v":" "},{"$f":"IF(入力用科目!$AM99=\"\",\"\",MID(TEXT(入力用科目!$AM99,\"????????\"),6,1))","v":" "},{"$f":"IF(入力用科目!$AM99=\"\",\"\",MID(TEXT(入力用科目!$AM99,\"????????\"),7,1))","v":" "},{"$f":"IF(入力用科目!$AM99=\"\",\"\",MID(TEXT(入力用科目!$AM99,\"????????\"),8,1))","v":" "}]
[{"$f":"IF(入力用科目!A100=\"\",\"\",MID(TEXT(入力用科目!$A100,\"??\"),COLUMN(),1))","v":""},{"$f":"IF(入力用科目!A100=\"\",\"\",MID(TEXT(入力用科目!$A100,\"??\"),COLUMN(),1))","v":""},null,{"$f":"IF(入力用科目!$D100=\"\",\"\",MID(TEXT(入力用科目!$D100,\"???\"),1,1))","v":""},{"$f":"IF(入力用科目!$D100=\"\",\"\",MID(TEXT(入力用科目!$D100,\"???\"),2,1))","v":""},{"$f":"IF(入力用科目!$D100=\"\",\"\",MID(TEXT(入力用科目!$D100,\"???\"),3,1))","v":""},null,{"$f":"IF(入力用科目!$Q100=1,\"運送収入\",IF(入力用科目!$H100=\"\",\"\",入力用科目!$H100))","v":""},null,null,null,null,null,null,null,null,{"$f":"IF(入力用科目!$Q100=\"\",\"\",MID(TEXT(入力用科目!$Q100,\"???\"),1,1))","v":""},{"$f":"IF(入力用科目!$Q100=\"\",\"\",MID(TEXT(入力用科目!$Q100,\"???\"),2,1))","v":""},{"$f":"IF(入力用科目!$Q100=\"\",\"\",MID(TEXT(入力用科目!$Q100,\"???\"),3,1))","v":""},null,{"$f":"IF(入力用科目!$U100=\"\",\"\",MID(TEXT(入力用科目!$U100,\"????????\"),1,1))","v":""},{"$f":"IF(入力用科目!$U100=\"\",\"\",MID(TEXT(入力用科目!$U100,\"????????\"),2,1))","v":""},{"$f":"IF(入力用科目!$U100=\"\",\"\",MID(TEXT(入力用科目!$U100,\"????????\"),3,1))","v":""},{"$f":"IF(入力用科目!$U100=\"\",\"\",MID(TEXT(入力用科目!$U100,\"????????\"),4,1))","v":""},{"$f":"IF(入力用科目!$U100=\"\",\"\",MID(TEXT(入力用科目!$U100,\"????????\"),5,1))","v":""},{"$f":"IF(入力用科目!$U100=\"\",\"\",MID(TEXT(入力用科目!$U100,\"????????\"),6,1))","v":""},{"$f":"IF(入力用科目!$U100=\"\",\"\",MID(TEXT(入力用科目!$U100,\"????????\"),7,1))","v":""},{"$f":"IF(入力用科目!$U100=\"\",\"\",MID(TEXT(入力用科目!$U100,\"????????\"),8,1))","v":""},null,{"$f":"IF(入力用科目!$AD100=\"\",\"\",MID(TEXT(入力用科目!$AD100,\"????????\"),1,1))","v":""},{"$f":"IF(入力用科目!$AD100=\"\",\"\",MID(TEXT(入力用科目!$AD100,\"????????\"),2,1))","v":""},{"$f":"IF(入力用科目!$AD100=\"\",\"\",MID(TEXT(入力用科目!$AD100,\"????????\"),3,1))","v":""},{"$f":"IF(入力用科目!$AD100=\"\",\"\",MID(TEXT(入力用科目!$AD100,\"????????\"),4,1))","v":""},{"$f":"IF(入力用科目!$AD100=\"\",\"\",MID(TEXT(入力用科目!$AD100,\"????????\"),5,1))","v":""},{"$f":"IF(入力用科目!$AD100=\"\",\"\",MID(TEXT(入力用科目!$AD100,\"????????\"),6,1))","v":""},{"$f":"IF(入力用科目!$AD100=\"\",\"\",MID(TEXT(入力用科目!$AD100,\"????????\"),7,1))","v":""},{"$f":"IF(入力用科目!$AD100=\"\",\"\",MID(TEXT(入力用科目!$AD100,\"????????\"),8,1))","v":""},null,{"$f":"IF(入力用科目!$AM100=\"\",\"\",MID(TEXT(入力用科目!$AM100,\"????????\"),1,1))","v":" "},{"$f":"IF(入力用科目!$AM100=\"\",\"\",MID(TEXT(入力用科目!$AM100,\"????????\"),2,1))","v":" "},{"$f":"IF(入力用科目!$AM100=\"\",\"\",MID(TEXT(入力用科目!$AM100,\"????????\"),3,1))","v":" "},{"$f":"IF(入力用科目!$AM100=\"\",\"\",MID(TEXT(入力用科目!$AM100,\"????????\"),4,1))","v":" "},{"$f":"IF(入力用科目!$AM100=\"\",\"\",MID(TEXT(入力用科目!$AM100,\"????????\"),5,1))","v":" "},{"$f":"IF(入力用科目!$AM100=\"\",\"\",MID(TEXT(入力用科目!$AM100,\"????????\"),6,1))","v":" "},{"$f":"IF(入力用科目!$AM100=\"\",\"\",MID(TEXT(入力用科目!$AM100,\"????????\"),7,1))","v":" "},{"$f":"IF(入力用科目!$AM100=\"\",\"\",MID(TEXT(入力用科目!$AM100,\"????????\"),8,1))","v":" "}]
[{"$f":"IF(入力用科目!A101=\"\",\"\",MID(TEXT(入力用科目!$A101,\"??\"),COLUMN(),1))","v":""},{"$f":"IF(入力用科目!A101=\"\",\"\",MID(TEXT(入力用科目!$A101,\"??\"),COLUMN(),1))","v":""},null,{"$f":"IF(入力用科目!$D101=\"\",\"\",MID(TEXT(入力用科目!$D101,\"???\"),1,1))","v":""},{"$f":"IF(入力用科目!$D101=\"\",\"\",MID(TEXT(入力用科目!$D101,\"???\"),2,1))","v":""},{"$f":"IF(入力用科目!$D101=\"\",\"\",MID(TEXT(入力用科目!$D101,\"???\"),3,1))","v":""},null,{"$f":"IF(入力用科目!$Q101=1,\"運送収入\",IF(入力用科目!$H101=\"\",\"\",入力用科目!$H101))","v":""},null,null,null,null,null,null,null,null,{"$f":"IF(入力用科目!$Q101=\"\",\"\",MID(TEXT(入力用科目!$Q101,\"???\"),1,1))","v":""},{"$f":"IF(入力用科目!$Q101=\"\",\"\",MID(TEXT(入力用科目!$Q101,\"???\"),2,1))","v":""},{"$f":"IF(入力用科目!$Q101=\"\",\"\",MID(TEXT(入力用科目!$Q101,\"???\"),3,1))","v":""},null,{"$f":"IF(入力用科目!$U101=\"\",\"\",MID(TEXT(入力用科目!$U101,\"????????\"),1,1))","v":""},{"$f":"IF(入力用科目!$U101=\"\",\"\",MID(TEXT(入力用科目!$U101,\"????????\"),2,1))","v":""},{"$f":"IF(入力用科目!$U101=\"\",\"\",MID(TEXT(入力用科目!$U101,\"????????\"),3,1))","v":""},{"$f":"IF(入力用科目!$U101=\"\",\"\",MID(TEXT(入力用科目!$U101,\"????????\"),4,1))","v":""},{"$f":"IF(入力用科目!$U101=\"\",\"\",MID(TEXT(入力用科目!$U101,\"????????\"),5,1))","v":""},{"$f":"IF(入力用科目!$U101=\"\",\"\",MID(TEXT(入力用科目!$U101,\"????????\"),6,1))","v":""},{"$f":"IF(入力用科目!$U101=\"\",\"\",MID(TEXT(入力用科目!$U101,\"????????\"),7,1))","v":""},{"$f":"IF(入力用科目!$U101=\"\",\"\",MID(TEXT(入力用科目!$U101,\"????????\"),8,1))","v":""},null,{"$f":"IF(入力用科目!$AD101=\"\",\"\",MID(TEXT(入力用科目!$AD101,\"????????\"),1,1))","v":""},{"$f":"IF(入力用科目!$AD101=\"\",\"\",MID(TEXT(入力用科目!$AD101,\"????????\"),2,1))","v":""},{"$f":"IF(入力用科目!$AD101=\"\",\"\",MID(TEXT(入力用科目!$AD101,\"????????\"),3,1))","v":""},{"$f":"IF(入力用科目!$AD101=\"\",\"\",MID(TEXT(入力用科目!$AD101,\"????????\"),4,1))","v":""},{"$f":"IF(入力用科目!$AD101=\"\",\"\",MID(TEXT(入力用科目!$AD101,\"????????\"),5,1))","v":""},{"$f":"IF(入力用科目!$AD101=\"\",\"\",MID(TEXT(入力用科目!$AD101,\"????????\"),6,1))","v":""},{"$f":"IF(入力用科目!$AD101=\"\",\"\",MID(TEXT(入力用科目!$AD101,\"????????\"),7,1))","v":""},{"$f":"IF(入力用科目!$AD101=\"\",\"\",MID(TEXT(入力用科目!$AD101,\"????????\"),8,1))","v":""},null,{"$f":"IF(入力用科目!$AM101=\"\",\"\",MID(TEXT(入力用科目!$AM101,\"????????\"),1,1))","v":" "},{"$f":"IF(入力用科目!$AM101=\"\",\"\",MID(TEXT(入力用科目!$AM101,\"????????\"),2,1))","v":" "},{"$f":"IF(入力用科目!$AM101=\"\",\"\",MID(TEXT(入力用科目!$AM101,\"????????\"),3,1))","v":" "},{"$f":"IF(入力用科目!$AM101=\"\",\"\",MID(TEXT(入力用科目!$AM101,\"????????\"),4,1))","v":" "},{"$f":"IF(入力用科目!$AM101=\"\",\"\",MID(TEXT(入力用科目!$AM101,\"????????\"),5,1))","v":" "},{"$f":"IF(入力用科目!$AM101=\"\",\"\",MID(TEXT(入力用科目!$AM101,\"????????\"),6,1))","v":" "},{"$f":"IF(入力用科目!$AM101=\"\",\"\",MID(TEXT(入力用科目!$AM101,\"????????\"),7,1))","v":" "},{"$f":"IF(入力用科目!$AM101=\"\",\"\",MID(TEXT(入力用科目!$AM101,\"????????\"),8,1))","v":" "}]
[{"$f":"IF(入力用科目!A102=\"\",\"\",MID(TEXT(入力用科目!$A102,\"??\"),COLUMN(),1))","v":""},{"$f":"IF(入力用科目!A102=\"\",\"\",MID(TEXT(入力用科目!$A102,\"??\"),COLUMN(),1))","v":""},null,{"$f":"IF(入力用科目!$D102=\"\",\"\",MID(TEXT(入力用科目!$D102,\"???\"),1,1))","v":""},{"$f":"IF(入力用科目!$D102=\"\",\"\",MID(TEXT(入力用科目!$D102,\"???\"),2,1))","v":""},{"$f":"IF(入力用科目!$D102=\"\",\"\",MID(TEXT(入力用科目!$D102,\"???\"),3,1))","v":""},null,{"$f":"IF(入力用科目!$Q102=1,\"運送収入\",IF(入力用科目!$H102=\"\",\"\",入力用科目!$H102))","v":""},null,null,null,null,null,null,null,null,{"$f":"IF(入力用科目!$Q102=\"\",\"\",MID(TEXT(入力用科目!$Q102,\"???\"),1,1))","v":""},{"$f":"IF(入力用科目!$Q102=\"\",\"\",MID(TEXT(入力用科目!$Q102,\"???\"),2,1))","v":""},{"$f":"IF(入力用科目!$Q102=\"\",\"\",MID(TEXT(入力用科目!$Q102,\"???\"),3,1))","v":""},null,{"$f":"IF(入力用科目!$U102=\"\",\"\",MID(TEXT(入力用科目!$U102,\"????????\"),1,1))","v":""},{"$f":"IF(入力用科目!$U102=\"\",\"\",MID(TEXT(入力用科目!$U102,\"????????\"),2,1))","v":""},{"$f":"IF(入力用科目!$U102=\"\",\"\",MID(TEXT(入力用科目!$U102,\"????????\"),3,1))","v":""},{"$f":"IF(入力用科目!$U102=\"\",\"\",MID(TEXT(入力用科目!$U102,\"????????\"),4,1))","v":""},{"$f":"IF(入力用科目!$U102=\"\",\"\",MID(TEXT(入力用科目!$U102,\"????????\"),5,1))","v":""},{"$f":"IF(入力用科目!$U102=\"\",\"\",MID(TEXT(入力用科目!$U102,\"????????\"),6,1))","v":""},{"$f":"IF(入力用科目!$U102=\"\",\"\",MID(TEXT(入力用科目!$U102,\"????????\"),7,1))","v":""},{"$f":"IF(入力用科目!$U102=\"\",\"\",MID(TEXT(入力用科目!$U102,\"????????\"),8,1))","v":""},null,{"$f":"IF(入力用科目!$AD102=\"\",\"\",MID(TEXT(入力用科目!$AD102,\"????????\"),1,1))","v":""},{"$f":"IF(入力用科目!$AD102=\"\",\"\",MID(TEXT(入力用科目!$AD102,\"????????\"),2,1))","v":""},{"$f":"IF(入力用科目!$AD102=\"\",\"\",MID(TEXT(入力用科目!$AD102,\"????????\"),3,1))","v":""},{"$f":"IF(入力用科目!$AD102=\"\",\"\",MID(TEXT(入力用科目!$AD102,\"????????\"),4,1))","v":""},{"$f":"IF(入力用科目!$AD102=\"\",\"\",MID(TEXT(入力用科目!$AD102,\"????????\"),5,1))","v":""},{"$f":"IF(入力用科目!$AD102=\"\",\"\",MID(TEXT(入力用科目!$AD102,\"????????\"),6,1))","v":""},{"$f":"IF(入力用科目!$AD102=\"\",\"\",MID(TEXT(入力用科目!$AD102,\"????????\"),7,1))","v":""},{"$f":"IF(入力用科目!$AD102=\"\",\"\",MID(TEXT(入力用科目!$AD102,\"????????\"),8,1))","v":""},null,{"$f":"IF(入力用科目!$AM102=\"\",\"\",MID(TEXT(入力用科目!$AM102,\"????????\"),1,1))","v":" "},{"$f":"IF(入力用科目!$AM102=\"\",\"\",MID(TEXT(入力用科目!$AM102,\"????????\"),2,1))","v":" "},{"$f":"IF(入力用科目!$AM102=\"\",\"\",MID(TEXT(入力用科目!$AM102,\"????????\"),3,1))","v":" "},{"$f":"IF(入力用科目!$AM102=\"\",\"\",MID(TEXT(入力用科目!$AM102,\"????????\"),4,1))","v":" "},{"$f":"IF(入力用科目!$AM102=\"\",\"\",MID(TEXT(入力用科目!$AM102,\"????????\"),5,1))","v":" "},{"$f":"IF(入力用科目!$AM102=\"\",\"\",MID(TEXT(入力用科目!$AM102,\"????????\"),6,1))","v":" "},{"$f":"IF(入力用科目!$AM102=\"\",\"\",MID(TEXT(入力用科目!$AM102,\"????????\"),7,1))","v":" "},{"$f":"IF(入力用科目!$AM102=\"\",\"\",MID(TEXT(入力用科目!$AM102,\"????????\"),8,1))","v":" "}]
[{"$f":"IF(入力用科目!A103=\"\",\"\",MID(TEXT(入力用科目!$A103,\"??\"),COLUMN(),1))","v":""},{"$f":"IF(入力用科目!A103=\"\",\"\",MID(TEXT(入力用科目!$A103,\"??\"),COLUMN(),1))","v":""},null,{"$f":"IF(入力用科目!$D103=\"\",\"\",MID(TEXT(入力用科目!$D103,\"???\"),1,1))","v":""},{"$f":"IF(入力用科目!$D103=\"\",\"\",MID(TEXT(入力用科目!$D103,\"???\"),2,1))","v":""},{"$f":"IF(入力用科目!$D103=\"\",\"\",MID(TEXT(入力用科目!$D103,\"???\"),3,1))","v":""},null,{"$f":"IF(入力用科目!$Q103=1,\"運送収入\",IF(入力用科目!$H103=\"\",\"\",入力用科目!$H103))","v":""},null,null,null,null,null,null,null,null,{"$f":"IF(入力用科目!$Q103=\"\",\"\",MID(TEXT(入力用科目!$Q103,\"???\"),1,1))","v":""},{"$f":"IF(入力用科目!$Q103=\"\",\"\",MID(TEXT(入力用科目!$Q103,\"???\"),2,1))","v":""},{"$f":"IF(入力用科目!$Q103=\"\",\"\",MID(TEXT(入力用科目!$Q103,\"???\"),3,1))","v":""},null,{"$f":"IF(入力用科目!$U103=\"\",\"\",MID(TEXT(入力用科目!$U103,\"????????\"),1,1))","v":""},{"$f":"IF(入力用科目!$U103=\"\",\"\",MID(TEXT(入力用科目!$U103,\"????????\"),2,1))","v":""},{"$f":"IF(入力用科目!$U103=\"\",\"\",MID(TEXT(入力用科目!$U103,\"????????\"),3,1))","v":""},{"$f":"IF(入力用科目!$U103=\"\",\"\",MID(TEXT(入力用科目!$U103,\"????????\"),4,1))","v":""},{"$f":"IF(入力用科目!$U103=\"\",\"\",MID(TEXT(入力用科目!$U103,\"????????\"),5,1))","v":""},{"$f":"IF(入力用科目!$U103=\"\",\"\",MID(TEXT(入力用科目!$U103,\"????????\"),6,1))","v":""},{"$f":"IF(入力用科目!$U103=\"\",\"\",MID(TEXT(入力用科目!$U103,\"????????\"),7,1))","v":""},{"$f":"IF(入力用科目!$U103=\"\",\"\",MID(TEXT(入力用科目!$U103,\"????????\"),8,1))","v":""},null,{"$f":"IF(入力用科目!$AD103=\"\",\"\",MID(TEXT(入力用科目!$AD103,\"????????\"),1,1))","v":""},{"$f":"IF(入力用科目!$AD103=\"\",\"\",MID(TEXT(入力用科目!$AD103,\"????????\"),2,1))","v":""},{"$f":"IF(入力用科目!$AD103=\"\",\"\",MID(TEXT(入力用科目!$AD103,\"????????\"),3,1))","v":""},{"$f":"IF(入力用科目!$AD103=\"\",\"\",MID(TEXT(入力用科目!$AD103,\"????????\"),4,1))","v":""},{"$f":"IF(入力用科目!$AD103=\"\",\"\",MID(TEXT(入力用科目!$AD103,\"????????\"),5,1))","v":""},{"$f":"IF(入力用科目!$AD103=\"\",\"\",MID(TEXT(入力用科目!$AD103,\"????????\"),6,1))","v":""},{"$f":"IF(入力用科目!$AD103=\"\",\"\",MID(TEXT(入力用科目!$AD103,\"????????\"),7,1))","v":""},{"$f":"IF(入力用科目!$AD103=\"\",\"\",MID(TEXT(入力用科目!$AD103,\"????????\"),8,1))","v":""},null,{"$f":"IF(入力用科目!$AM103=\"\",\"\",MID(TEXT(入力用科目!$AM103,\"????????\"),1,1))","v":" "},{"$f":"IF(入力用科目!$AM103=\"\",\"\",MID(TEXT(入力用科目!$AM103,\"????????\"),2,1))","v":" "},{"$f":"IF(入力用科目!$AM103=\"\",\"\",MID(TEXT(入力用科目!$AM103,\"????????\"),3,1))","v":" "},{"$f":"IF(入力用科目!$AM103=\"\",\"\",MID(TEXT(入力用科目!$AM103,\"????????\"),4,1))","v":" "},{"$f":"IF(入力用科目!$AM103=\"\",\"\",MID(TEXT(入力用科目!$AM103,\"????????\"),5,1))","v":" "},{"$f":"IF(入力用科目!$AM103=\"\",\"\",MID(TEXT(入力用科目!$AM103,\"????????\"),6,1))","v":" "},{"$f":"IF(入力用科目!$AM103=\"\",\"\",MID(TEXT(入力用科目!$AM103,\"????????\"),7,1))","v":" "},{"$f":"IF(入力用科目!$AM103=\"\",\"\",MID(TEXT(入力用科目!$AM103,\"????????\"),8,1))","v":" "}]
[{"$f":"IF(入力用科目!A104=\"\",\"\",MID(TEXT(入力用科目!$A104,\"??\"),COLUMN(),1))","v":""},{"$f":"IF(入力用科目!A104=\"\",\"\",MID(TEXT(入力用科目!$A104,\"??\"),COLUMN(),1))","v":""},null,{"$f":"IF(入力用科目!$D104=\"\",\"\",MID(TEXT(入力用科目!$D104,\"???\"),1,1))","v":""},{"$f":"IF(入力用科目!$D104=\"\",\"\",MID(TEXT(入力用科目!$D104,\"???\"),2,1))","v":""},{"$f":"IF(入力用科目!$D104=\"\",\"\",MID(TEXT(入力用科目!$D104,\"???\"),3,1))","v":""},null,{"$f":"IF(入力用科目!$Q104=1,\"運送収入\",IF(入力用科目!$H104=\"\",\"\",入力用科目!$H104))","v":""},null,null,null,null,null,null,null,null,{"$f":"IF(入力用科目!$Q104=\"\",\"\",MID(TEXT(入力用科目!$Q104,\"???\"),1,1))","v":""},{"$f":"IF(入力用科目!$Q104=\"\",\"\",MID(TEXT(入力用科目!$Q104,\"???\"),2,1))","v":""},{"$f":"IF(入力用科目!$Q104=\"\",\"\",MID(TEXT(入力用科目!$Q104,\"???\"),3,1))","v":""},null,{"$f":"IF(入力用科目!$U104=\"\",\"\",MID(TEXT(入力用科目!$U104,\"????????\"),1,1))","v":""},{"$f":"IF(入力用科目!$U104=\"\",\"\",MID(TEXT(入力用科目!$U104,\"????????\"),2,1))","v":""},{"$f":"IF(入力用科目!$U104=\"\",\"\",MID(TEXT(入力用科目!$U104,\"????????\"),3,1))","v":""},{"$f":"IF(入力用科目!$U104=\"\",\"\",MID(TEXT(入力用科目!$U104,\"????????\"),4,1))","v":""},{"$f":"IF(入力用科目!$U104=\"\",\"\",MID(TEXT(入力用科目!$U104,\"????????\"),5,1))","v":""},{"$f":"IF(入力用科目!$U104=\"\",\"\",MID(TEXT(入力用科目!$U104,\"????????\"),6,1))","v":""},{"$f":"IF(入力用科目!$U104=\"\",\"\",MID(TEXT(入力用科目!$U104,\"????????\"),7,1))","v":""},{"$f":"IF(入力用科目!$U104=\"\",\"\",MID(TEXT(入力用科目!$U104,\"????????\"),8,1))","v":""},null,{"$f":"IF(入力用科目!$AD104=\"\",\"\",MID(TEXT(入力用科目!$AD104,\"????????\"),1,1))","v":""},{"$f":"IF(入力用科目!$AD104=\"\",\"\",MID(TEXT(入力用科目!$AD104,\"????????\"),2,1))","v":""},{"$f":"IF(入力用科目!$AD104=\"\",\"\",MID(TEXT(入力用科目!$AD104,\"????????\"),3,1))","v":""},{"$f":"IF(入力用科目!$AD104=\"\",\"\",MID(TEXT(入力用科目!$AD104,\"????????\"),4,1))","v":""},{"$f":"IF(入力用科目!$AD104=\"\",\"\",MID(TEXT(入力用科目!$AD104,\"????????\"),5,1))","v":""},{"$f":"IF(入力用科目!$AD104=\"\",\"\",MID(TEXT(入力用科目!$AD104,\"????????\"),6,1))","v":""},{"$f":"IF(入力用科目!$AD104=\"\",\"\",MID(TEXT(入力用科目!$AD104,\"????????\"),7,1))","v":""},{"$f":"IF(入力用科目!$AD104=\"\",\"\",MID(TEXT(入力用科目!$AD104,\"????????\"),8,1))","v":""},null,{"$f":"IF(入力用科目!$AM104=\"\",\"\",MID(TEXT(入力用科目!$AM104,\"????????\"),1,1))","v":" "},{"$f":"IF(入力用科目!$AM104=\"\",\"\",MID(TEXT(入力用科目!$AM104,\"????????\"),2,1))","v":" "},{"$f":"IF(入力用科目!$AM104=\"\",\"\",MID(TEXT(入力用科目!$AM104,\"????????\"),3,1))","v":" "},{"$f":"IF(入力用科目!$AM104=\"\",\"\",MID(TEXT(入力用科目!$AM104,\"????????\"),4,1))","v":" "},{"$f":"IF(入力用科目!$AM104=\"\",\"\",MID(TEXT(入力用科目!$AM104,\"????????\"),5,1))","v":" "},{"$f":"IF(入力用科目!$AM104=\"\",\"\",MID(TEXT(入力用科目!$AM104,\"????????\"),6,1))","v":" "},{"$f":"IF(入力用科目!$AM104=\"\",\"\",MID(TEXT(入力用科目!$AM104,\"????????\"),7,1))","v":" "},{"$f":"IF(入力用科目!$AM104=\"\",\"\",MID(TEXT(入力用科目!$AM104,\"????????\"),8,1))","v":" "}]
[{"$f":"IF(入力用科目!A105=\"\",\"\",MID(TEXT(入力用科目!$A105,\"??\"),COLUMN(),1))","v":""},{"$f":"IF(入力用科目!A105=\"\",\"\",MID(TEXT(入力用科目!$A105,\"??\"),COLUMN(),1))","v":""},null,{"$f":"IF(入力用科目!$D105=\"\",\"\",MID(TEXT(入力用科目!$D105,\"???\"),1,1))","v":""},{"$f":"IF(入力用科目!$D105=\"\",\"\",MID(TEXT(入力用科目!$D105,\"???\"),2,1))","v":""},{"$f":"IF(入力用科目!$D105=\"\",\"\",MID(TEXT(入力用科目!$D105,\"???\"),3,1))","v":""},null,{"$f":"IF(入力用科目!$Q105=1,\"運送収入\",IF(入力用科目!$H105=\"\",\"\",入力用科目!$H105))","v":""},null,null,null,null,null,null,null,null,{"$f":"IF(入力用科目!$Q105=\"\",\"\",MID(TEXT(入力用科目!$Q105,\"???\"),1,1))","v":""},{"$f":"IF(入力用科目!$Q105=\"\",\"\",MID(TEXT(入力用科目!$Q105,\"???\"),2,1))","v":""},{"$f":"IF(入力用科目!$Q105=\"\",\"\",MID(TEXT(入力用科目!$Q105,\"???\"),3,1))","v":""},null,{"$f":"IF(入力用科目!$U105=\"\",\"\",MID(TEXT(入力用科目!$U105,\"????????\"),1,1))","v":""},{"$f":"IF(入力用科目!$U105=\"\",\"\",MID(TEXT(入力用科目!$U105,\"????????\"),2,1))","v":""},{"$f":"IF(入力用科目!$U105=\"\",\"\",MID(TEXT(入力用科目!$U105,\"????????\"),3,1))","v":""},{"$f":"IF(入力用科目!$U105=\"\",\"\",MID(TEXT(入力用科目!$U105,\"????????\"),4,1))","v":""},{"$f":"IF(入力用科目!$U105=\"\",\"\",MID(TEXT(入力用科目!$U105,\"????????\"),5,1))","v":""},{"$f":"IF(入力用科目!$U105=\"\",\"\",MID(TEXT(入力用科目!$U105,\"????????\"),6,1))","v":""},{"$f":"IF(入力用科目!$U105=\"\",\"\",MID(TEXT(入力用科目!$U105,\"????????\"),7,1))","v":""},{"$f":"IF(入力用科目!$U105=\"\",\"\",MID(TEXT(入力用科目!$U105,\"????????\"),8,1))","v":""},null,{"$f":"IF(入力用科目!$AD105=\"\",\"\",MID(TEXT(入力用科目!$AD105,\"????????\"),1,1))","v":""},{"$f":"IF(入力用科目!$AD105=\"\",\"\",MID(TEXT(入力用科目!$AD105,\"????????\"),2,1))","v":""},{"$f":"IF(入力用科目!$AD105=\"\",\"\",MID(TEXT(入力用科目!$AD105,\"????????\"),3,1))","v":""},{"$f":"IF(入力用科目!$AD105=\"\",\"\",MID(TEXT(入力用科目!$AD105,\"????????\"),4,1))","v":""},{"$f":"IF(入力用科目!$AD105=\"\",\"\",MID(TEXT(入力用科目!$AD105,\"????????\"),5,1))","v":""},{"$f":"IF(入力用科目!$AD105=\"\",\"\",MID(TEXT(入力用科目!$AD105,\"????????\"),6,1))","v":""},{"$f":"IF(入力用科目!$AD105=\"\",\"\",MID(TEXT(入力用科目!$AD105,\"????????\"),7,1))","v":""},{"$f":"IF(入力用科目!$AD105=\"\",\"\",MID(TEXT(入力用科目!$AD105,\"????????\"),8,1))","v":""},null,{"$f":"IF(入力用科目!$AM105=\"\",\"\",MID(TEXT(入力用科目!$AM105,\"????????\"),1,1))","v":" "},{"$f":"IF(入力用科目!$AM105=\"\",\"\",MID(TEXT(入力用科目!$AM105,\"????????\"),2,1))","v":" "},{"$f":"IF(入力用科目!$AM105=\"\",\"\",MID(TEXT(入力用科目!$AM105,\"????????\"),3,1))","v":" "},{"$f":"IF(入力用科目!$AM105=\"\",\"\",MID(TEXT(入力用科目!$AM105,\"????????\"),4,1))","v":" "},{"$f":"IF(入力用科目!$AM105=\"\",\"\",MID(TEXT(入力用科目!$AM105,\"????????\"),5,1))","v":" "},{"$f":"IF(入力用科目!$AM105=\"\",\"\",MID(TEXT(入力用科目!$AM105,\"????????\"),6,1))","v":" "},{"$f":"IF(入力用科目!$AM105=\"\",\"\",MID(TEXT(入力用科目!$AM105,\"????????\"),7,1))","v":" "},{"$f":"IF(入力用科目!$AM105=\"\",\"\",MID(TEXT(入力用科目!$AM105,\"????????\"),8,1))","v":" "}]
[{"$f":"IF(入力用科目!A106=\"\",\"\",MID(TEXT(入力用科目!$A106,\"??\"),COLUMN(),1))","v":""},{"$f":"IF(入力用科目!A106=\"\",\"\",MID(TEXT(入力用科目!$A106,\"??\"),COLUMN(),1))","v":""},null,{"$f":"IF(入力用科目!$D106=\"\",\"\",MID(TEXT(入力用科目!$D106,\"???\"),1,1))","v":""},{"$f":"IF(入力用科目!$D106=\"\",\"\",MID(TEXT(入力用科目!$D106,\"???\"),2,1))","v":""},{"$f":"IF(入力用科目!$D106=\"\",\"\",MID(TEXT(入力用科目!$D106,\"???\"),3,1))","v":""},null,{"$f":"IF(入力用科目!$Q106=1,\"運送収入\",IF(入力用科目!$H106=\"\",\"\",入力用科目!$H106))","v":""},null,null,null,null,null,null,null,null,{"$f":"IF(入力用科目!$Q106=\"\",\"\",MID(TEXT(入力用科目!$Q106,\"???\"),1,1))","v":""},{"$f":"IF(入力用科目!$Q106=\"\",\"\",MID(TEXT(入力用科目!$Q106,\"???\"),2,1))","v":""},{"$f":"IF(入力用科目!$Q106=\"\",\"\",MID(TEXT(入力用科目!$Q106,\"???\"),3,1))","v":""},null,{"$f":"IF(入力用科目!$U106=\"\",\"\",MID(TEXT(入力用科目!$U106,\"????????\"),1,1))","v":""},{"$f":"IF(入力用科目!$U106=\"\",\"\",MID(TEXT(入力用科目!$U106,\"????????\"),2,1))","v":""},{"$f":"IF(入力用科目!$U106=\"\",\"\",MID(TEXT(入力用科目!$U106,\"????????\"),3,1))","v":""},{"$f":"IF(入力用科目!$U106=\"\",\"\",MID(TEXT(入力用科目!$U106,\"????????\"),4,1))","v":""},{"$f":"IF(入力用科目!$U106=\"\",\"\",MID(TEXT(入力用科目!$U106,\"????????\"),5,1))","v":""},{"$f":"IF(入力用科目!$U106=\"\",\"\",MID(TEXT(入力用科目!$U106,\"????????\"),6,1))","v":""},{"$f":"IF(入力用科目!$U106=\"\",\"\",MID(TEXT(入力用科目!$U106,\"????????\"),7,1))","v":""},{"$f":"IF(入力用科目!$U106=\"\",\"\",MID(TEXT(入力用科目!$U106,\"????????\"),8,1))","v":""},null,{"$f":"IF(入力用科目!$AD106=\"\",\"\",MID(TEXT(入力用科目!$AD106,\"????????\"),1,1))","v":""},{"$f":"IF(入力用科目!$AD106=\"\",\"\",MID(TEXT(入力用科目!$AD106,\"????????\"),2,1))","v":""},{"$f":"IF(入力用科目!$AD106=\"\",\"\",MID(TEXT(入力用科目!$AD106,\"????????\"),3,1))","v":""},{"$f":"IF(入力用科目!$AD106=\"\",\"\",MID(TEXT(入力用科目!$AD106,\"????????\"),4,1))","v":""},{"$f":"IF(入力用科目!$AD106=\"\",\"\",MID(TEXT(入力用科目!$AD106,\"????????\"),5,1))","v":""},{"$f":"IF(入力用科目!$AD106=\"\",\"\",MID(TEXT(入力用科目!$AD106,\"????????\"),6,1))","v":""},{"$f":"IF(入力用科目!$AD106=\"\",\"\",MID(TEXT(入力用科目!$AD106,\"????????\"),7,1))","v":""},{"$f":"IF(入力用科目!$AD106=\"\",\"\",MID(TEXT(入力用科目!$AD106,\"????????\"),8,1))","v":""},null,{"$f":"IF(入力用科目!$AM106=\"\",\"\",MID(TEXT(入力用科目!$AM106,\"????????\"),1,1))","v":" "},{"$f":"IF(入力用科目!$AM106=\"\",\"\",MID(TEXT(入力用科目!$AM106,\"????????\"),2,1))","v":" "},{"$f":"IF(入力用科目!$AM106=\"\",\"\",MID(TEXT(入力用科目!$AM106,\"????????\"),3,1))","v":" "},{"$f":"IF(入力用科目!$AM106=\"\",\"\",MID(TEXT(入力用科目!$AM106,\"????????\"),4,1))","v":" "},{"$f":"IF(入力用科目!$AM106=\"\",\"\",MID(TEXT(入力用科目!$AM106,\"????????\"),5,1))","v":" "},{"$f":"IF(入力用科目!$AM106=\"\",\"\",MID(TEXT(入力用科目!$AM106,\"????????\"),6,1))","v":" "},{"$f":"IF(入力用科目!$AM106=\"\",\"\",MID(TEXT(入力用科目!$AM106,\"????????\"),7,1))","v":" "},{"$f":"IF(入力用科目!$AM106=\"\",\"\",MID(TEXT(入力用科目!$AM106,\"????????\"),8,1))","v":" "}]
[{"$f":"IF(入力用科目!A107=\"\",\"\",MID(TEXT(入力用科目!$A107,\"??\"),COLUMN(),1))","v":""},{"$f":"IF(入力用科目!A107=\"\",\"\",MID(TEXT(入力用科目!$A107,\"??\"),COLUMN(),1))","v":""},null,{"$f":"IF(入力用科目!$D107=\"\",\"\",MID(TEXT(入力用科目!$D107,\"???\"),1,1))","v":""},{"$f":"IF(入力用科目!$D107=\"\",\"\",MID(TEXT(入力用科目!$D107,\"???\"),2,1))","v":""},{"$f":"IF(入力用科目!$D107=\"\",\"\",MID(TEXT(入力用科目!$D107,\"???\"),3,1))","v":""},null,{"$f":"IF(入力用科目!$Q107=1,\"運送収入\",IF(入力用科目!$H107=\"\",\"\",入力用科目!$H107))","v":""},null,null,null,null,null,null,null,null,{"$f":"IF(入力用科目!$Q107=\"\",\"\",MID(TEXT(入力用科目!$Q107,\"???\"),1,1))","v":""},{"$f":"IF(入力用科目!$Q107=\"\",\"\",MID(TEXT(入力用科目!$Q107,\"???\"),2,1))","v":""},{"$f":"IF(入力用科目!$Q107=\"\",\"\",MID(TEXT(入力用科目!$Q107,\"???\"),3,1))","v":""},null,{"$f":"IF(入力用科目!$U107=\"\",\"\",MID(TEXT(入力用科目!$U107,\"????????\"),1,1))","v":""},{"$f":"IF(入力用科目!$U107=\"\",\"\",MID(TEXT(入力用科目!$U107,\"????????\"),2,1))","v":""},{"$f":"IF(入力用科目!$U107=\"\",\"\",MID(TEXT(入力用科目!$U107,\"????????\"),3,1))","v":""},{"$f":"IF(入力用科目!$U107=\"\",\"\",MID(TEXT(入力用科目!$U107,\"????????\"),4,1))","v":""},{"$f":"IF(入力用科目!$U107=\"\",\"\",MID(TEXT(入力用科目!$U107,\"????????\"),5,1))","v":""},{"$f":"IF(入力用科目!$U107=\"\",\"\",MID(TEXT(入力用科目!$U107,\"????????\"),6,1))","v":""},{"$f":"IF(入力用科目!$U107=\"\",\"\",MID(TEXT(入力用科目!$U107,\"????????\"),7,1))","v":""},{"$f":"IF(入力用科目!$U107=\"\",\"\",MID(TEXT(入力用科目!$U107,\"????????\"),8,1))","v":""},null,{"$f":"IF(入力用科目!$AD107=\"\",\"\",MID(TEXT(入力用科目!$AD107,\"????????\"),1,1))","v":""},{"$f":"IF(入力用科目!$AD107=\"\",\"\",MID(TEXT(入力用科目!$AD107,\"????????\"),2,1))","v":""},{"$f":"IF(入力用科目!$AD107=\"\",\"\",MID(TEXT(入力用科目!$AD107,\"????????\"),3,1))","v":""},{"$f":"IF(入力用科目!$AD107=\"\",\"\",MID(TEXT(入力用科目!$AD107,\"????????\"),4,1))","v":""},{"$f":"IF(入力用科目!$AD107=\"\",\"\",MID(TEXT(入力用科目!$AD107,\"????????\"),5,1))","v":""},{"$f":"IF(入力用科目!$AD107=\"\",\"\",MID(TEXT(入力用科目!$AD107,\"????????\"),6,1))","v":""},{"$f":"IF(入力用科目!$AD107=\"\",\"\",MID(TEXT(入力用科目!$AD107,\"????????\"),7,1))","v":""},{"$f":"IF(入力用科目!$AD107=\"\",\"\",MID(TEXT(入力用科目!$AD107,\"????????\"),8,1))","v":""},null,{"$f":"IF(入力用科目!$AM107=\"\",\"\",MID(TEXT(入力用科目!$AM107,\"????????\"),1,1))","v":" "},{"$f":"IF(入力用科目!$AM107=\"\",\"\",MID(TEXT(入力用科目!$AM107,\"????????\"),2,1))","v":" "},{"$f":"IF(入力用科目!$AM107=\"\",\"\",MID(TEXT(入力用科目!$AM107,\"????????\"),3,1))","v":" "},{"$f":"IF(入力用科目!$AM107=\"\",\"\",MID(TEXT(入力用科目!$AM107,\"????????\"),4,1))","v":" "},{"$f":"IF(入力用科目!$AM107=\"\",\"\",MID(TEXT(入力用科目!$AM107,\"????????\"),5,1))","v":" "},{"$f":"IF(入力用科目!$AM107=\"\",\"\",MID(TEXT(入力用科目!$AM107,\"????????\"),6,1))","v":" "},{"$f":"IF(入力用科目!$AM107=\"\",\"\",MID(TEXT(入力用科目!$AM107,\"????????\"),7,1))","v":" "},{"$f":"IF(入力用科目!$AM107=\"\",\"\",MID(TEXT(入力用科目!$AM107,\"????????\"),8,1))","v":" "}]
[{"$f":"IF(入力用科目!A108=\"\",\"\",MID(TEXT(入力用科目!$A108,\"??\"),COLUMN(),1))","v":""},{"$f":"IF(入力用科目!A108=\"\",\"\",MID(TEXT(入力用科目!$A108,\"??\"),COLUMN(),1))","v":""},null,{"$f":"IF(入力用科目!$D108=\"\",\"\",MID(TEXT(入力用科目!$D108,\"???\"),1,1))","v":""},{"$f":"IF(入力用科目!$D108=\"\",\"\",MID(TEXT(入力用科目!$D108,\"???\"),2,1))","v":""},{"$f":"IF(入力用科目!$D108=\"\",\"\",MID(TEXT(入力用科目!$D108,\"???\"),3,1))","v":""},null,{"$f":"IF(入力用科目!$Q108=1,\"運送収入\",IF(入力用科目!$H108=\"\",\"\",入力用科目!$H108))","v":""},null,null,null,null,null,null,null,null,{"$f":"IF(入力用科目!$Q108=\"\",\"\",MID(TEXT(入力用科目!$Q108,\"???\"),1,1))","v":""},{"$f":"IF(入力用科目!$Q108=\"\",\"\",MID(TEXT(入力用科目!$Q108,\"???\"),2,1))","v":""},{"$f":"IF(入力用科目!$Q108=\"\",\"\",MID(TEXT(入力用科目!$Q108,\"???\"),3,1))","v":""},null,{"$f":"IF(入力用科目!$U108=\"\",\"\",MID(TEXT(入力用科目!$U108,\"????????\"),1,1))","v":""},{"$f":"IF(入力用科目!$U108=\"\",\"\",MID(TEXT(入力用科目!$U108,\"????????\"),2,1))","v":""},{"$f":"IF(入力用科目!$U108=\"\",\"\",MID(TEXT(入力用科目!$U108,\"????????\"),3,1))","v":""},{"$f":"IF(入力用科目!$U108=\"\",\"\",MID(TEXT(入力用科目!$U108,\"????????\"),4,1))","v":""},{"$f":"IF(入力用科目!$U108=\"\",\"\",MID(TEXT(入力用科目!$U108,\"????????\"),5,1))","v":""},{"$f":"IF(入力用科目!$U108=\"\",\"\",MID(TEXT(入力用科目!$U108,\"????????\"),6,1))","v":""},{"$f":"IF(入力用科目!$U108=\"\",\"\",MID(TEXT(入力用科目!$U108,\"????????\"),7,1))","v":""},{"$f":"IF(入力用科目!$U108=\"\",\"\",MID(TEXT(入力用科目!$U108,\"????????\"),8,1))","v":""},null,{"$f":"IF(入力用科目!$AD108=\"\",\"\",MID(TEXT(入力用科目!$AD108,\"????????\"),1,1))","v":""},{"$f":"IF(入力用科目!$AD108=\"\",\"\",MID(TEXT(入力用科目!$AD108,\"????????\"),2,1))","v":""},{"$f":"IF(入力用科目!$AD108=\"\",\"\",MID(TEXT(入力用科目!$AD108,\"????????\"),3,1))","v":""},{"$f":"IF(入力用科目!$AD108=\"\",\"\",MID(TEXT(入力用科目!$AD108,\"????????\"),4,1))","v":""},{"$f":"IF(入力用科目!$AD108=\"\",\"\",MID(TEXT(入力用科目!$AD108,\"????????\"),5,1))","v":""},{"$f":"IF(入力用科目!$AD108=\"\",\"\",MID(TEXT(入力用科目!$AD108,\"????????\"),6,1))","v":""},{"$f":"IF(入力用科目!$AD108=\"\",\"\",MID(TEXT(入力用科目!$AD108,\"????????\"),7,1))","v":""},{"$f":"IF(入力用科目!$AD108=\"\",\"\",MID(TEXT(入力用科目!$AD108,\"????????\"),8,1))","v":""},null,{"$f":"IF(入力用科目!$AM108=\"\",\"\",MID(TEXT(入力用科目!$AM108,\"????????\"),1,1))","v":" "},{"$f":"IF(入力用科目!$AM108=\"\",\"\",MID(TEXT(入力用科目!$AM108,\"????????\"),2,1))","v":" "},{"$f":"IF(入力用科目!$AM108=\"\",\"\",MID(TEXT(入力用科目!$AM108,\"????????\"),3,1))","v":" "},{"$f":"IF(入力用科目!$AM108=\"\",\"\",MID(TEXT(入力用科目!$AM108,\"????????\"),4,1))","v":" "},{"$f":"IF(入力用科目!$AM108=\"\",\"\",MID(TEXT(入力用科目!$AM108,\"????????\"),5,1))","v":" "},{"$f":"IF(入力用科目!$AM108=\"\",\"\",MID(TEXT(入力用科目!$AM108,\"????????\"),6,1))","v":" "},{"$f":"IF(入力用科目!$AM108=\"\",\"\",MID(TEXT(入力用科目!$AM108,\"????????\"),7,1))","v":" "},{"$f":"IF(入力用科目!$AM108=\"\",\"\",MID(TEXT(入力用科目!$AM108,\"????????\"),8,1))","v":" "}]
[{"$f":"IF(入力用科目!A109=\"\",\"\",MID(TEXT(入力用科目!$A109,\"??\"),COLUMN(),1))","v":""},{"$f":"IF(入力用科目!A109=\"\",\"\",MID(TEXT(入力用科目!$A109,\"??\"),COLUMN(),1))","v":""},null,{"$f":"IF(入力用科目!$D109=\"\",\"\",MID(TEXT(入力用科目!$D109,\"???\"),1,1))","v":""},{"$f":"IF(入力用科目!$D109=\"\",\"\",MID(TEXT(入力用科目!$D109,\"???\"),2,1))","v":""},{"$f":"IF(入力用科目!$D109=\"\",\"\",MID(TEXT(入力用科目!$D109,\"???\"),3,1))","v":""},null,{"$f":"IF(入力用科目!$Q109=1,\"運送収入\",IF(入力用科目!$H109=\"\",\"\",入力用科目!$H109))","v":""},null,null,null,null,null,null,null,null,{"$f":"IF(入力用科目!$Q109=\"\",\"\",MID(TEXT(入力用科目!$Q109,\"???\"),1,1))","v":""},{"$f":"IF(入力用科目!$Q109=\"\",\"\",MID(TEXT(入力用科目!$Q109,\"???\"),2,1))","v":""},{"$f":"IF(入力用科目!$Q109=\"\",\"\",MID(TEXT(入力用科目!$Q109,\"???\"),3,1))","v":""},null,{"$f":"IF(入力用科目!$U109=\"\",\"\",MID(TEXT(入力用科目!$U109,\"????????\"),1,1))","v":""},{"$f":"IF(入力用科目!$U109=\"\",\"\",MID(TEXT(入力用科目!$U109,\"????????\"),2,1))","v":""},{"$f":"IF(入力用科目!$U109=\"\",\"\",MID(TEXT(入力用科目!$U109,\"????????\"),3,1))","v":""},{"$f":"IF(入力用科目!$U109=\"\",\"\",MID(TEXT(入力用科目!$U109,\"????????\"),4,1))","v":""},{"$f":"IF(入力用科目!$U109=\"\",\"\",MID(TEXT(入力用科目!$U109,\"????????\"),5,1))","v":""},{"$f":"IF(入力用科目!$U109=\"\",\"\",MID(TEXT(入力用科目!$U109,\"????????\"),6,1))","v":""},{"$f":"IF(入力用科目!$U109=\"\",\"\",MID(TEXT(入力用科目!$U109,\"????????\"),7,1))","v":""},{"$f":"IF(入力用科目!$U109=\"\",\"\",MID(TEXT(入力用科目!$U109,\"????????\"),8,1))","v":""},null,{"$f":"IF(入力用科目!$AD109=\"\",\"\",MID(TEXT(入力用科目!$AD109,\"????????\"),1,1))","v":""},{"$f":"IF(入力用科目!$AD109=\"\",\"\",MID(TEXT(入力用科目!$AD109,\"????????\"),2,1))","v":""},{"$f":"IF(入力用科目!$AD109=\"\",\"\",MID(TEXT(入力用科目!$AD109,\"????????\"),3,1))","v":""},{"$f":"IF(入力用科目!$AD109=\"\",\"\",MID(TEXT(入力用科目!$AD109,\"????????\"),4,1))","v":""},{"$f":"IF(入力用科目!$AD109=\"\",\"\",MID(TEXT(入力用科目!$AD109,\"????????\"),5,1))","v":""},{"$f":"IF(入力用科目!$AD109=\"\",\"\",MID(TEXT(入力用科目!$AD109,\"????????\"),6,1))","v":""},{"$f":"IF(入力用科目!$AD109=\"\",\"\",MID(TEXT(入力用科目!$AD109,\"????????\"),7,1))","v":""},{"$f":"IF(入力用科目!$AD109=\"\",\"\",MID(TEXT(入力用科目!$AD109,\"????????\"),8,1))","v":""},null,{"$f":"IF(入力用科目!$AM109=\"\",\"\",MID(TEXT(入力用科目!$AM109,\"????????\"),1,1))","v":" "},{"$f":"IF(入力用科目!$AM109=\"\",\"\",MID(TEXT(入力用科目!$AM109,\"????????\"),2,1))","v":" "},{"$f":"IF(入力用科目!$AM109=\"\",\"\",MID(TEXT(入力用科目!$AM109,\"????????\"),3,1))","v":" "},{"$f":"IF(入力用科目!$AM109=\"\",\"\",MID(TEXT(入力用科目!$AM109,\"????????\"),4,1))","v":" "},{"$f":"IF(入力用科目!$AM109=\"\",\"\",MID(TEXT(入力用科目!$AM109,\"????????\"),5,1))","v":" "},{"$f":"IF(入力用科目!$AM109=\"\",\"\",MID(TEXT(入力用科目!$AM109,\"????????\"),6,1))","v":" "},{"$f":"IF(入力用科目!$AM109=\"\",\"\",MID(TEXT(入力用科目!$AM109,\"????????\"),7,1))","v":" "},{"$f":"IF(入力用科目!$AM109=\"\",\"\",MID(TEXT(入力用科目!$AM109,\"????????\"),8,1))","v":" "}]
[{"$f":"IF(入力用科目!A110=\"\",\"\",MID(TEXT(入力用科目!$A110,\"??\"),COLUMN(),1))","v":""},{"$f":"IF(入力用科目!A110=\"\",\"\",MID(TEXT(入力用科目!$A110,\"??\"),COLUMN(),1))","v":""},null,{"$f":"IF(入力用科目!$D110=\"\",\"\",MID(TEXT(入力用科目!$D110,\"???\"),1,1))","v":""},{"$f":"IF(入力用科目!$D110=\"\",\"\",MID(TEXT(入力用科目!$D110,\"???\"),2,1))","v":""},{"$f":"IF(入力用科目!$D110=\"\",\"\",MID(TEXT(入力用科目!$D110,\"???\"),3,1))","v":""},null,{"$f":"IF(入力用科目!$Q110=1,\"運送収入\",IF(入力用科目!$H110=\"\",\"\",入力用科目!$H110))","v":""},null,null,null,null,null,null,null,null,{"$f":"IF(入力用科目!$Q110=\"\",\"\",MID(TEXT(入力用科目!$Q110,\"???\"),1,1))","v":""},{"$f":"IF(入力用科目!$Q110=\"\",\"\",MID(TEXT(入力用科目!$Q110,\"???\"),2,1))","v":""},{"$f":"IF(入力用科目!$Q110=\"\",\"\",MID(TEXT(入力用科目!$Q110,\"???\"),3,1))","v":""},null,{"$f":"IF(入力用科目!$U110=\"\",\"\",MID(TEXT(入力用科目!$U110,\"????????\"),1,1))","v":""},{"$f":"IF(入力用科目!$U110=\"\",\"\",MID(TEXT(入力用科目!$U110,\"????????\"),2,1))","v":""},{"$f":"IF(入力用科目!$U110=\"\",\"\",MID(TEXT(入力用科目!$U110,\"????????\"),3,1))","v":""},{"$f":"IF(入力用科目!$U110=\"\",\"\",MID(TEXT(入力用科目!$U110,\"????????\"),4,1))","v":""},{"$f":"IF(入力用科目!$U110=\"\",\"\",MID(TEXT(入力用科目!$U110,\"????????\"),5,1))","v":""},{"$f":"IF(入力用科目!$U110=\"\",\"\",MID(TEXT(入力用科目!$U110,\"????????\"),6,1))","v":""},{"$f":"IF(入力用科目!$U110=\"\",\"\",MID(TEXT(入力用科目!$U110,\"????????\"),7,1))","v":""},{"$f":"IF(入力用科目!$U110=\"\",\"\",MID(TEXT(入力用科目!$U110,\"????????\"),8,1))","v":""},null,{"$f":"IF(入力用科目!$AD110=\"\",\"\",MID(TEXT(入力用科目!$AD110,\"????????\"),1,1))","v":""},{"$f":"IF(入力用科目!$AD110=\"\",\"\",MID(TEXT(入力用科目!$AD110,\"????????\"),2,1))","v":""},{"$f":"IF(入力用科目!$AD110=\"\",\"\",MID(TEXT(入力用科目!$AD110,\"????????\"),3,1))","v":""},{"$f":"IF(入力用科目!$AD110=\"\",\"\",MID(TEXT(入力用科目!$AD110,\"????????\"),4,1))","v":""},{"$f":"IF(入力用科目!$AD110=\"\",\"\",MID(TEXT(入力用科目!$AD110,\"????????\"),5,1))","v":""},{"$f":"IF(入力用科目!$AD110=\"\",\"\",MID(TEXT(入力用科目!$AD110,\"????????\"),6,1))","v":""},{"$f":"IF(入力用科目!$AD110=\"\",\"\",MID(TEXT(入力用科目!$AD110,\"????????\"),7,1))","v":""},{"$f":"IF(入力用科目!$AD110=\"\",\"\",MID(TEXT(入力用科目!$AD110,\"????????\"),8,1))","v":""},null,{"$f":"IF(入力用科目!$AM110=\"\",\"\",MID(TEXT(入力用科目!$AM110,\"????????\"),1,1))","v":" "},{"$f":"IF(入力用科目!$AM110=\"\",\"\",MID(TEXT(入力用科目!$AM110,\"????????\"),2,1))","v":" "},{"$f":"IF(入力用科目!$AM110=\"\",\"\",MID(TEXT(入力用科目!$AM110,\"????????\"),3,1))","v":" "},{"$f":"IF(入力用科目!$AM110=\"\",\"\",MID(TEXT(入力用科目!$AM110,\"????????\"),4,1))","v":" "},{"$f":"IF(入力用科目!$AM110=\"\",\"\",MID(TEXT(入力用科目!$AM110,\"????????\"),5,1))","v":" "},{"$f":"IF(入力用科目!$AM110=\"\",\"\",MID(TEXT(入力用科目!$AM110,\"????????\"),6,1))","v":" "},{"$f":"IF(入力用科目!$AM110=\"\",\"\",MID(TEXT(入力用科目!$AM110,\"????????\"),7,1))","v":" "},{"$f":"IF(入力用科目!$AM110=\"\",\"\",MID(TEXT(入力用科目!$AM110,\"????????\"),8,1))","v":" "}]
[{"$f":"IF(入力用科目!A111=\"\",\"\",MID(TEXT(入力用科目!$A111,\"??\"),COLUMN(),1))","v":""},{"$f":"IF(入力用科目!A111=\"\",\"\",MID(TEXT(入力用科目!$A111,\"??\"),COLUMN(),1))","v":""},null,{"$f":"IF(入力用科目!$D111=\"\",\"\",MID(TEXT(入力用科目!$D111,\"???\"),1,1))","v":""},{"$f":"IF(入力用科目!$D111=\"\",\"\",MID(TEXT(入力用科目!$D111,\"???\"),2,1))","v":""},{"$f":"IF(入力用科目!$D111=\"\",\"\",MID(TEXT(入力用科目!$D111,\"???\"),3,1))","v":""},null,{"$f":"IF(入力用科目!$Q111=1,\"運送収入\",IF(入力用科目!$H111=\"\",\"\",入力用科目!$H111))","v":""},null,null,null,null,null,null,null,null,{"$f":"IF(入力用科目!$Q111=\"\",\"\",MID(TEXT(入力用科目!$Q111,\"???\"),1,1))","v":""},{"$f":"IF(入力用科目!$Q111=\"\",\"\",MID(TEXT(入力用科目!$Q111,\"???\"),2,1))","v":""},{"$f":"IF(入力用科目!$Q111=\"\",\"\",MID(TEXT(入力用科目!$Q111,\"???\"),3,1))","v":""},null,{"$f":"IF(入力用科目!$U111=\"\",\"\",MID(TEXT(入力用科目!$U111,\"????????\"),1,1))","v":""},{"$f":"IF(入力用科目!$U111=\"\",\"\",MID(TEXT(入力用科目!$U111,\"????????\"),2,1))","v":""},{"$f":"IF(入力用科目!$U111=\"\",\"\",MID(TEXT(入力用科目!$U111,\"????????\"),3,1))","v":""},{"$f":"IF(入力用科目!$U111=\"\",\"\",MID(TEXT(入力用科目!$U111,\"????????\"),4,1))","v":""},{"$f":"IF(入力用科目!$U111=\"\",\"\",MID(TEXT(入力用科目!$U111,\"????????\"),5,1))","v":""},{"$f":"IF(入力用科目!$U111=\"\",\"\",MID(TEXT(入力用科目!$U111,\"????????\"),6,1))","v":""},{"$f":"IF(入力用科目!$U111=\"\",\"\",MID(TEXT(入力用科目!$U111,\"????????\"),7,1))","v":""},{"$f":"IF(入力用科目!$U111=\"\",\"\",MID(TEXT(入力用科目!$U111,\"????????\"),8,1))","v":""},null,{"$f":"IF(入力用科目!$AD111=\"\",\"\",MID(TEXT(入力用科目!$AD111,\"????????\"),1,1))","v":""},{"$f":"IF(入力用科目!$AD111=\"\",\"\",MID(TEXT(入力用科目!$AD111,\"????????\"),2,1))","v":""},{"$f":"IF(入力用科目!$AD111=\"\",\"\",MID(TEXT(入力用科目!$AD111,\"????????\"),3,1))","v":""},{"$f":"IF(入力用科目!$AD111=\"\",\"\",MID(TEXT(入力用科目!$AD111,\"????????\"),4,1))","v":""},{"$f":"IF(入力用科目!$AD111=\"\",\"\",MID(TEXT(入力用科目!$AD111,\"????????\"),5,1))","v":""},{"$f":"IF(入力用科目!$AD111=\"\",\"\",MID(TEXT(入力用科目!$AD111,\"????????\"),6,1))","v":""},{"$f":"IF(入力用科目!$AD111=\"\",\"\",MID(TEXT(入力用科目!$AD111,\"????????\"),7,1))","v":""},{"$f":"IF(入力用科目!$AD111=\"\",\"\",MID(TEXT(入力用科目!$AD111,\"????????\"),8,1))","v":""},null,{"$f":"IF(入力用科目!$AM111=\"\",\"\",MID(TEXT(入力用科目!$AM111,\"????????\"),1,1))","v":" "},{"$f":"IF(入力用科目!$AM111=\"\",\"\",MID(TEXT(入力用科目!$AM111,\"????????\"),2,1))","v":" "},{"$f":"IF(入力用科目!$AM111=\"\",\"\",MID(TEXT(入力用科目!$AM111,\"????????\"),3,1))","v":" "},{"$f":"IF(入力用科目!$AM111=\"\",\"\",MID(TEXT(入力用科目!$AM111,\"????????\"),4,1))","v":" "},{"$f":"IF(入力用科目!$AM111=\"\",\"\",MID(TEXT(入力用科目!$AM111,\"????????\"),5,1))","v":" "},{"$f":"IF(入力用科目!$AM111=\"\",\"\",MID(TEXT(入力用科目!$AM111,\"????????\"),6,1))","v":" "},{"$f":"IF(入力用科目!$AM111=\"\",\"\",MID(TEXT(入力用科目!$AM111,\"????????\"),7,1))","v":" "},{"$f":"IF(入力用科目!$AM111=\"\",\"\",MID(TEXT(入力用科目!$AM111,\"????????\"),8,1))","v":" "}]
[{"$f":"IF(入力用科目!A112=\"\",\"\",MID(TEXT(入力用科目!$A112,\"??\"),COLUMN(),1))","v":""},{"$f":"IF(入力用科目!A112=\"\",\"\",MID(TEXT(入力用科目!$A112,\"??\"),COLUMN(),1))","v":""},null,{"$f":"IF(入力用科目!$D112=\"\",\"\",MID(TEXT(入力用科目!$D112,\"???\"),1,1))","v":""},{"$f":"IF(入力用科目!$D112=\"\",\"\",MID(TEXT(入力用科目!$D112,\"???\"),2,1))","v":""},{"$f":"IF(入力用科目!$D112=\"\",\"\",MID(TEXT(入力用科目!$D112,\"???\"),3,1))","v":""},null,{"$f":"IF(入力用科目!$Q112=1,\"運送収入\",IF(入力用科目!$H112=\"\",\"\",入力用科目!$H112))","v":""},null,null,null,null,null,null,null,null,{"$f":"IF(入力用科目!$Q112=\"\",\"\",MID(TEXT(入力用科目!$Q112,\"???\"),1,1))","v":""},{"$f":"IF(入力用科目!$Q112=\"\",\"\",MID(TEXT(入力用科目!$Q112,\"???\"),2,1))","v":""},{"$f":"IF(入力用科目!$Q112=\"\",\"\",MID(TEXT(入力用科目!$Q112,\"???\"),3,1))","v":""},null,{"$f":"IF(入力用科目!$U112=\"\",\"\",MID(TEXT(入力用科目!$U112,\"????????\"),1,1))","v":""},{"$f":"IF(入力用科目!$U112=\"\",\"\",MID(TEXT(入力用科目!$U112,\"????????\"),2,1))","v":""},{"$f":"IF(入力用科目!$U112=\"\",\"\",MID(TEXT(入力用科目!$U112,\"????????\"),3,1))","v":""},{"$f":"IF(入力用科目!$U112=\"\",\"\",MID(TEXT(入力用科目!$U112,\"????????\"),4,1))","v":""},{"$f":"IF(入力用科目!$U112=\"\",\"\",MID(TEXT(入力用科目!$U112,\"????????\"),5,1))","v":""},{"$f":"IF(入力用科目!$U112=\"\",\"\",MID(TEXT(入力用科目!$U112,\"????????\"),6,1))","v":""},{"$f":"IF(入力用科目!$U112=\"\",\"\",MID(TEXT(入力用科目!$U112,\"????????\"),7,1))","v":""},{"$f":"IF(入力用科目!$U112=\"\",\"\",MID(TEXT(入力用科目!$U112,\"????????\"),8,1))","v":""},null,{"$f":"IF(入力用科目!$AD112=\"\",\"\",MID(TEXT(入力用科目!$AD112,\"????????\"),1,1))","v":""},{"$f":"IF(入力用科目!$AD112=\"\",\"\",MID(TEXT(入力用科目!$AD112,\"????????\"),2,1))","v":""},{"$f":"IF(入力用科目!$AD112=\"\",\"\",MID(TEXT(入力用科目!$AD112,\"????????\"),3,1))","v":""},{"$f":"IF(入力用科目!$AD112=\"\",\"\",MID(TEXT(入力用科目!$AD112,\"????????\"),4,1))","v":""},{"$f":"IF(入力用科目!$AD112=\"\",\"\",MID(TEXT(入力用科目!$AD112,\"????????\"),5,1))","v":""},{"$f":"IF(入力用科目!$AD112=\"\",\"\",MID(TEXT(入力用科目!$AD112,\"????????\"),6,1))","v":""},{"$f":"IF(入力用科目!$AD112=\"\",\"\",MID(TEXT(入力用科目!$AD112,\"????????\"),7,1))","v":""},{"$f":"IF(入力用科目!$AD112=\"\",\"\",MID(TEXT(入力用科目!$AD112,\"????????\"),8,1))","v":""},null,{"$f":"IF(入力用科目!$AM112=\"\",\"\",MID(TEXT(入力用科目!$AM112,\"????????\"),1,1))","v":" "},{"$f":"IF(入力用科目!$AM112=\"\",\"\",MID(TEXT(入力用科目!$AM112,\"????????\"),2,1))","v":" "},{"$f":"IF(入力用科目!$AM112=\"\",\"\",MID(TEXT(入力用科目!$AM112,\"????????\"),3,1))","v":" "},{"$f":"IF(入力用科目!$AM112=\"\",\"\",MID(TEXT(入力用科目!$AM112,\"????????\"),4,1))","v":" "},{"$f":"IF(入力用科目!$AM112=\"\",\"\",MID(TEXT(入力用科目!$AM112,\"????????\"),5,1))","v":" "},{"$f":"IF(入力用科目!$AM112=\"\",\"\",MID(TEXT(入力用科目!$AM112,\"????????\"),6,1))","v":" "},{"$f":"IF(入力用科目!$AM112=\"\",\"\",MID(TEXT(入力用科目!$AM112,\"????????\"),7,1))","v":" "},{"$f":"IF(入力用科目!$AM112=\"\",\"\",MID(TEXT(入力用科目!$AM112,\"????????\"),8,1))","v":" "}]
[{"$f":"IF(入力用科目!A113=\"\",\"\",MID(TEXT(入力用科目!$A113,\"??\"),COLUMN(),1))","v":""},{"$f":"IF(入力用科目!A113=\"\",\"\",MID(TEXT(入力用科目!$A113,\"??\"),COLUMN(),1))","v":""},null,{"$f":"IF(入力用科目!$D113=\"\",\"\",MID(TEXT(入力用科目!$D113,\"???\"),1,1))","v":""},{"$f":"IF(入力用科目!$D113=\"\",\"\",MID(TEXT(入力用科目!$D113,\"???\"),2,1))","v":""},{"$f":"IF(入力用科目!$D113=\"\",\"\",MID(TEXT(入力用科目!$D113,\"???\"),3,1))","v":""},null,{"$f":"IF(入力用科目!$Q113=1,\"運送収入\",IF(入力用科目!$H113=\"\",\"\",入力用科目!$H113))","v":""},null,null,null,null,null,null,null,null,{"$f":"IF(入力用科目!$Q113=\"\",\"\",MID(TEXT(入力用科目!$Q113,\"???\"),1,1))","v":""},{"$f":"IF(入力用科目!$Q113=\"\",\"\",MID(TEXT(入力用科目!$Q113,\"???\"),2,1))","v":""},{"$f":"IF(入力用科目!$Q113=\"\",\"\",MID(TEXT(入力用科目!$Q113,\"???\"),3,1))","v":""},null,{"$f":"IF(入力用科目!$U113=\"\",\"\",MID(TEXT(入力用科目!$U113,\"????????\"),1,1))","v":""},{"$f":"IF(入力用科目!$U113=\"\",\"\",MID(TEXT(入力用科目!$U113,\"????????\"),2,1))","v":""},{"$f":"IF(入力用科目!$U113=\"\",\"\",MID(TEXT(入力用科目!$U113,\"????????\"),3,1))","v":""},{"$f":"IF(入力用科目!$U113=\"\",\"\",MID(TEXT(入力用科目!$U113,\"????????\"),4,1))","v":""},{"$f":"IF(入力用科目!$U113=\"\",\"\",MID(TEXT(入力用科目!$U113,\"????????\"),5,1))","v":""},{"$f":"IF(入力用科目!$U113=\"\",\"\",MID(TEXT(入力用科目!$U113,\"????????\"),6,1))","v":""},{"$f":"IF(入力用科目!$U113=\"\",\"\",MID(TEXT(入力用科目!$U113,\"????????\"),7,1))","v":""},{"$f":"IF(入力用科目!$U113=\"\",\"\",MID(TEXT(入力用科目!$U113,\"????????\"),8,1))","v":""},null,{"$f":"IF(入力用科目!$AD113=\"\",\"\",MID(TEXT(入力用科目!$AD113,\"????????\"),1,1))","v":""},{"$f":"IF(入力用科目!$AD113=\"\",\"\",MID(TEXT(入力用科目!$AD113,\"????????\"),2,1))","v":""},{"$f":"IF(入力用科目!$AD113=\"\",\"\",MID(TEXT(入力用科目!$AD113,\"????????\"),3,1))","v":""},{"$f":"IF(入力用科目!$AD113=\"\",\"\",MID(TEXT(入力用科目!$AD113,\"????????\"),4,1))","v":""},{"$f":"IF(入力用科目!$AD113=\"\",\"\",MID(TEXT(入力用科目!$AD113,\"????????\"),5,1))","v":""},{"$f":"IF(入力用科目!$AD113=\"\",\"\",MID(TEXT(入力用科目!$AD113,\"????????\"),6,1))","v":""},{"$f":"IF(入力用科目!$AD113=\"\",\"\",MID(TEXT(入力用科目!$AD113,\"????????\"),7,1))","v":""},{"$f":"IF(入力用科目!$AD113=\"\",\"\",MID(TEXT(入力用科目!$AD113,\"????????\"),8,1))","v":""},null,{"$f":"IF(入力用科目!$AM113=\"\",\"\",MID(TEXT(入力用科目!$AM113,\"????????\"),1,1))","v":" "},{"$f":"IF(入力用科目!$AM113=\"\",\"\",MID(TEXT(入力用科目!$AM113,\"????????\"),2,1))","v":" "},{"$f":"IF(入力用科目!$AM113=\"\",\"\",MID(TEXT(入力用科目!$AM113,\"????????\"),3,1))","v":" "},{"$f":"IF(入力用科目!$AM113=\"\",\"\",MID(TEXT(入力用科目!$AM113,\"????????\"),4,1))","v":" "},{"$f":"IF(入力用科目!$AM113=\"\",\"\",MID(TEXT(入力用科目!$AM113,\"????????\"),5,1))","v":" "},{"$f":"IF(入力用科目!$AM113=\"\",\"\",MID(TEXT(入力用科目!$AM113,\"????????\"),6,1))","v":" "},{"$f":"IF(入力用科目!$AM113=\"\",\"\",MID(TEXT(入力用科目!$AM113,\"????????\"),7,1))","v":" "},{"$f":"IF(入力用科目!$AM113=\"\",\"\",MID(TEXT(入力用科目!$AM113,\"????????\"),8,1))","v":" "}]
[{"$f":"IF(入力用科目!A114=\"\",\"\",MID(TEXT(入力用科目!$A114,\"??\"),COLUMN(),1))","v":""},{"$f":"IF(入力用科目!A114=\"\",\"\",MID(TEXT(入力用科目!$A114,\"??\"),COLUMN(),1))","v":""},null,{"$f":"IF(入力用科目!$D114=\"\",\"\",MID(TEXT(入力用科目!$D114,\"???\"),1,1))","v":""},{"$f":"IF(入力用科目!$D114=\"\",\"\",MID(TEXT(入力用科目!$D114,\"???\"),2,1))","v":""},{"$f":"IF(入力用科目!$D114=\"\",\"\",MID(TEXT(入力用科目!$D114,\"???\"),3,1))","v":""},null,{"$f":"IF(入力用科目!$Q114=1,\"運送収入\",IF(入力用科目!$H114=\"\",\"\",入力用科目!$H114))","v":""},null,null,null,null,null,null,null,null,{"$f":"IF(入力用科目!$Q114=\"\",\"\",MID(TEXT(入力用科目!$Q114,\"???\"),1,1))","v":""},{"$f":"IF(入力用科目!$Q114=\"\",\"\",MID(TEXT(入力用科目!$Q114,\"???\"),2,1))","v":""},{"$f":"IF(入力用科目!$Q114=\"\",\"\",MID(TEXT(入力用科目!$Q114,\"???\"),3,1))","v":""},null,{"$f":"IF(入力用科目!$U114=\"\",\"\",MID(TEXT(入力用科目!$U114,\"????????\"),1,1))","v":""},{"$f":"IF(入力用科目!$U114=\"\",\"\",MID(TEXT(入力用科目!$U114,\"????????\"),2,1))","v":""},{"$f":"IF(入力用科目!$U114=\"\",\"\",MID(TEXT(入力用科目!$U114,\"????????\"),3,1))","v":""},{"$f":"IF(入力用科目!$U114=\"\",\"\",MID(TEXT(入力用科目!$U114,\"????????\"),4,1))","v":""},{"$f":"IF(入力用科目!$U114=\"\",\"\",MID(TEXT(入力用科目!$U114,\"????????\"),5,1))","v":""},{"$f":"IF(入力用科目!$U114=\"\",\"\",MID(TEXT(入力用科目!$U114,\"????????\"),6,1))","v":""},{"$f":"IF(入力用科目!$U114=\"\",\"\",MID(TEXT(入力用科目!$U114,\"????????\"),7,1))","v":""},{"$f":"IF(入力用科目!$U114=\"\",\"\",MID(TEXT(入力用科目!$U114,\"????????\"),8,1))","v":""},null,{"$f":"IF(入力用科目!$AD114=\"\",\"\",MID(TEXT(入力用科目!$AD114,\"????????\"),1,1))","v":""},{"$f":"IF(入力用科目!$AD114=\"\",\"\",MID(TEXT(入力用科目!$AD114,\"????????\"),2,1))","v":""},{"$f":"IF(入力用科目!$AD114=\"\",\"\",MID(TEXT(入力用科目!$AD114,\"????????\"),3,1))","v":""},{"$f":"IF(入力用科目!$AD114=\"\",\"\",MID(TEXT(入力用科目!$AD114,\"????????\"),4,1))","v":""},{"$f":"IF(入力用科目!$AD114=\"\",\"\",MID(TEXT(入力用科目!$AD114,\"????????\"),5,1))","v":""},{"$f":"IF(入力用科目!$AD114=\"\",\"\",MID(TEXT(入力用科目!$AD114,\"????????\"),6,1))","v":""},{"$f":"IF(入力用科目!$AD114=\"\",\"\",MID(TEXT(入力用科目!$AD114,\"????????\"),7,1))","v":""},{"$f":"IF(入力用科目!$AD114=\"\",\"\",MID(TEXT(入力用科目!$AD114,\"????????\"),8,1))","v":""},null,{"$f":"IF(入力用科目!$AM114=\"\",\"\",MID(TEXT(入力用科目!$AM114,\"????????\"),1,1))","v":" "},{"$f":"IF(入力用科目!$AM114=\"\",\"\",MID(TEXT(入力用科目!$AM114,\"????????\"),2,1))","v":" "},{"$f":"IF(入力用科目!$AM114=\"\",\"\",MID(TEXT(入力用科目!$AM114,\"????????\"),3,1))","v":" "},{"$f":"IF(入力用科目!$AM114=\"\",\"\",MID(TEXT(入力用科目!$AM114,\"????????\"),4,1))","v":" "},{"$f":"IF(入力用科目!$AM114=\"\",\"\",MID(TEXT(入力用科目!$AM114,\"????????\"),5,1))","v":" "},{"$f":"IF(入力用科目!$AM114=\"\",\"\",MID(TEXT(入力用科目!$AM114,\"????????\"),6,1))","v":" "},{"$f":"IF(入力用科目!$AM114=\"\",\"\",MID(TEXT(入力用科目!$AM114,\"????????\"),7,1))","v":" "},{"$f":"IF(入力用科目!$AM114=\"\",\"\",MID(TEXT(入力用科目!$AM114,\"????????\"),8,1))","v":" "}]
[{"$f":"IF(入力用科目!A115=\"\",\"\",MID(TEXT(入力用科目!$A115,\"??\"),COLUMN(),1))","v":""},{"$f":"IF(入力用科目!A115=\"\",\"\",MID(TEXT(入力用科目!$A115,\"??\"),COLUMN(),1))","v":""},null,{"$f":"IF(入力用科目!$D115=\"\",\"\",MID(TEXT(入力用科目!$D115,\"???\"),1,1))","v":""},{"$f":"IF(入力用科目!$D115=\"\",\"\",MID(TEXT(入力用科目!$D115,\"???\"),2,1))","v":""},{"$f":"IF(入力用科目!$D115=\"\",\"\",MID(TEXT(入力用科目!$D115,\"???\"),3,1))","v":""},null,{"$f":"IF(入力用科目!$Q115=1,\"運送収入\",IF(入力用科目!$H115=\"\",\"\",入力用科目!$H115))","v":""},null,null,null,null,null,null,null,null,{"$f":"IF(入力用科目!$Q115=\"\",\"\",MID(TEXT(入力用科目!$Q115,\"???\"),1,1))","v":""},{"$f":"IF(入力用科目!$Q115=\"\",\"\",MID(TEXT(入力用科目!$Q115,\"???\"),2,1))","v":""},{"$f":"IF(入力用科目!$Q115=\"\",\"\",MID(TEXT(入力用科目!$Q115,\"???\"),3,1))","v":""},null,{"$f":"IF(入力用科目!$U115=\"\",\"\",MID(TEXT(入力用科目!$U115,\"????????\"),1,1))","v":""},{"$f":"IF(入力用科目!$U115=\"\",\"\",MID(TEXT(入力用科目!$U115,\"????????\"),2,1))","v":""},{"$f":"IF(入力用科目!$U115=\"\",\"\",MID(TEXT(入力用科目!$U115,\"????????\"),3,1))","v":""},{"$f":"IF(入力用科目!$U115=\"\",\"\",MID(TEXT(入力用科目!$U115,\"????????\"),4,1))","v":""},{"$f":"IF(入力用科目!$U115=\"\",\"\",MID(TEXT(入力用科目!$U115,\"????????\"),5,1))","v":""},{"$f":"IF(入力用科目!$U115=\"\",\"\",MID(TEXT(入力用科目!$U115,\"????????\"),6,1))","v":""},{"$f":"IF(入力用科目!$U115=\"\",\"\",MID(TEXT(入力用科目!$U115,\"????????\"),7,1))","v":""},{"$f":"IF(入力用科目!$U115=\"\",\"\",MID(TEXT(入力用科目!$U115,\"????????\"),8,1))","v":""},null,{"$f":"IF(入力用科目!$AD115=\"\",\"\",MID(TEXT(入力用科目!$AD115,\"????????\"),1,1))","v":""},{"$f":"IF(入力用科目!$AD115=\"\",\"\",MID(TEXT(入力用科目!$AD115,\"????????\"),2,1))","v":""},{"$f":"IF(入力用科目!$AD115=\"\",\"\",MID(TEXT(入力用科目!$AD115,\"????????\"),3,1))","v":""},{"$f":"IF(入力用科目!$AD115=\"\",\"\",MID(TEXT(入力用科目!$AD115,\"????????\"),4,1))","v":""},{"$f":"IF(入力用科目!$AD115=\"\",\"\",MID(TEXT(入力用科目!$AD115,\"????????\"),5,1))","v":""},{"$f":"IF(入力用科目!$AD115=\"\",\"\",MID(TEXT(入力用科目!$AD115,\"????????\"),6,1))","v":""},{"$f":"IF(入力用科目!$AD115=\"\",\"\",MID(TEXT(入力用科目!$AD115,\"????????\"),7,1))","v":""},{"$f":"IF(入力用科目!$AD115=\"\",\"\",MID(TEXT(入力用科目!$AD115,\"????????\"),8,1))","v":""},null,{"$f":"IF(入力用科目!$AM115=\"\",\"\",MID(TEXT(入力用科目!$AM115,\"????????\"),1,1))","v":" "},{"$f":"IF(入力用科目!$AM115=\"\",\"\",MID(TEXT(入力用科目!$AM115,\"????????\"),2,1))","v":" "},{"$f":"IF(入力用科目!$AM115=\"\",\"\",MID(TEXT(入力用科目!$AM115,\"????????\"),3,1))","v":" "},{"$f":"IF(入力用科目!$AM115=\"\",\"\",MID(TEXT(入力用科目!$AM115,\"????????\"),4,1))","v":" "},{"$f":"IF(入力用科目!$AM115=\"\",\"\",MID(TEXT(入力用科目!$AM115,\"????????\"),5,1))","v":" "},{"$f":"IF(入力用科目!$AM115=\"\",\"\",MID(TEXT(入力用科目!$AM115,\"????????\"),6,1))","v":" "},{"$f":"IF(入力用科目!$AM115=\"\",\"\",MID(TEXT(入力用科目!$AM115,\"????????\"),7,1))","v":" "},{"$f":"IF(入力用科目!$AM115=\"\",\"\",MID(TEXT(入力用科目!$AM115,\"????????\"),8,1))","v":" "}]
[{"$f":"IF(入力用科目!A116=\"\",\"\",MID(TEXT(入力用科目!$A116,\"??\"),COLUMN(),1))","v":""},{"$f":"IF(入力用科目!A116=\"\",\"\",MID(TEXT(入力用科目!$A116,\"??\"),COLUMN(),1))","v":""},null,{"$f":"IF(入力用科目!$D116=\"\",\"\",MID(TEXT(入力用科目!$D116,\"???\"),1,1))","v":""},{"$f":"IF(入力用科目!$D116=\"\",\"\",MID(TEXT(入力用科目!$D116,\"???\"),2,1))","v":""},{"$f":"IF(入力用科目!$D116=\"\",\"\",MID(TEXT(入力用科目!$D116,\"???\"),3,1))","v":""},null,{"$f":"IF(入力用科目!$Q116=1,\"運送収入\",IF(入力用科目!$H116=\"\",\"\",入力用科目!$H116))","v":""},null,null,null,null,null,null,null,null,{"$f":"IF(入力用科目!$Q116=\"\",\"\",MID(TEXT(入力用科目!$Q116,\"???\"),1,1))","v":""},{"$f":"IF(入力用科目!$Q116=\"\",\"\",MID(TEXT(入力用科目!$Q116,\"???\"),2,1))","v":""},{"$f":"IF(入力用科目!$Q116=\"\",\"\",MID(TEXT(入力用科目!$Q116,\"???\"),3,1))","v":""},null,{"$f":"IF(入力用科目!$U116=\"\",\"\",MID(TEXT(入力用科目!$U116,\"????????\"),1,1))","v":""},{"$f":"IF(入力用科目!$U116=\"\",\"\",MID(TEXT(入力用科目!$U116,\"????????\"),2,1))","v":""},{"$f":"IF(入力用科目!$U116=\"\",\"\",MID(TEXT(入力用科目!$U116,\"????????\"),3,1))","v":""},{"$f":"IF(入力用科目!$U116=\"\",\"\",MID(TEXT(入力用科目!$U116,\"????????\"),4,1))","v":""},{"$f":"IF(入力用科目!$U116=\"\",\"\",MID(TEXT(入力用科目!$U116,\"????????\"),5,1))","v":""},{"$f":"IF(入力用科目!$U116=\"\",\"\",MID(TEXT(入力用科目!$U116,\"????????\"),6,1))","v":""},{"$f":"IF(入力用科目!$U116=\"\",\"\",MID(TEXT(入力用科目!$U116,\"????????\"),7,1))","v":""},{"$f":"IF(入力用科目!$U116=\"\",\"\",MID(TEXT(入力用科目!$U116,\"????????\"),8,1))","v":""},null,{"$f":"IF(入力用科目!$AD116=\"\",\"\",MID(TEXT(入力用科目!$AD116,\"????????\"),1,1))","v":""},{"$f":"IF(入力用科目!$AD116=\"\",\"\",MID(TEXT(入力用科目!$AD116,\"????????\"),2,1))","v":""},{"$f":"IF(入力用科目!$AD116=\"\",\"\",MID(TEXT(入力用科目!$AD116,\"????????\"),3,1))","v":""},{"$f":"IF(入力用科目!$AD116=\"\",\"\",MID(TEXT(入力用科目!$AD116,\"????????\"),4,1))","v":""},{"$f":"IF(入力用科目!$AD116=\"\",\"\",MID(TEXT(入力用科目!$AD116,\"????????\"),5,1))","v":""},{"$f":"IF(入力用科目!$AD116=\"\",\"\",MID(TEXT(入力用科目!$AD116,\"????????\"),6,1))","v":""},{"$f":"IF(入力用科目!$AD116=\"\",\"\",MID(TEXT(入力用科目!$AD116,\"????????\"),7,1))","v":""},{"$f":"IF(入力用科目!$AD116=\"\",\"\",MID(TEXT(入力用科目!$AD116,\"????????\"),8,1))","v":""},null,{"$f":"IF(入力用科目!$AM116=\"\",\"\",MID(TEXT(入力用科目!$AM116,\"????????\"),1,1))","v":" "},{"$f":"IF(入力用科目!$AM116=\"\",\"\",MID(TEXT(入力用科目!$AM116,\"????????\"),2,1))","v":" "},{"$f":"IF(入力用科目!$AM116=\"\",\"\",MID(TEXT(入力用科目!$AM116,\"????????\"),3,1))","v":" "},{"$f":"IF(入力用科目!$AM116=\"\",\"\",MID(TEXT(入力用科目!$AM116,\"????????\"),4,1))","v":" "},{"$f":"IF(入力用科目!$AM116=\"\",\"\",MID(TEXT(入力用科目!$AM116,\"????????\"),5,1))","v":" "},{"$f":"IF(入力用科目!$AM116=\"\",\"\",MID(TEXT(入力用科目!$AM116,\"????????\"),6,1))","v":" "},{"$f":"IF(入力用科目!$AM116=\"\",\"\",MID(TEXT(入力用科目!$AM116,\"????????\"),7,1))","v":" "},{"$f":"IF(入力用科目!$AM116=\"\",\"\",MID(TEXT(入力用科目!$AM116,\"????????\"),8,1))","v":" "}]
[{"$f":"IF(入力用科目!A117=\"\",\"\",MID(TEXT(入力用科目!$A117,\"??\"),COLUMN(),1))","v":""},{"$f":"IF(入力用科目!A117=\"\",\"\",MID(TEXT(入力用科目!$A117,\"??\"),COLUMN(),1))","v":""},null,{"$f":"IF(入力用科目!$D117=\"\",\"\",MID(TEXT(入力用科目!$D117,\"???\"),1,1))","v":""},{"$f":"IF(入力用科目!$D117=\"\",\"\",MID(TEXT(入力用科目!$D117,\"???\"),2,1))","v":""},{"$f":"IF(入力用科目!$D117=\"\",\"\",MID(TEXT(入力用科目!$D117,\"???\"),3,1))","v":""},null,{"$f":"IF(入力用科目!$Q117=1,\"運送収入\",IF(入力用科目!$H117=\"\",\"\",入力用科目!$H117))","v":""},null,null,null,null,null,null,null,null,{"$f":"IF(入力用科目!$Q117=\"\",\"\",MID(TEXT(入力用科目!$Q117,\"???\"),1,1))","v":""},{"$f":"IF(入力用科目!$Q117=\"\",\"\",MID(TEXT(入力用科目!$Q117,\"???\"),2,1))","v":""},{"$f":"IF(入力用科目!$Q117=\"\",\"\",MID(TEXT(入力用科目!$Q117,\"???\"),3,1))","v":""},null,{"$f":"IF(入力用科目!$U117=\"\",\"\",MID(TEXT(入力用科目!$U117,\"????????\"),1,1))","v":""},{"$f":"IF(入力用科目!$U117=\"\",\"\",MID(TEXT(入力用科目!$U117,\"????????\"),2,1))","v":""},{"$f":"IF(入力用科目!$U117=\"\",\"\",MID(TEXT(入力用科目!$U117,\"????????\"),3,1))","v":""},{"$f":"IF(入力用科目!$U117=\"\",\"\",MID(TEXT(入力用科目!$U117,\"????????\"),4,1))","v":""},{"$f":"IF(入力用科目!$U117=\"\",\"\",MID(TEXT(入力用科目!$U117,\"????????\"),5,1))","v":""},{"$f":"IF(入力用科目!$U117=\"\",\"\",MID(TEXT(入力用科目!$U117,\"????????\"),6,1))","v":""},{"$f":"IF(入力用科目!$U117=\"\",\"\",MID(TEXT(入力用科目!$U117,\"????????\"),7,1))","v":""},{"$f":"IF(入力用科目!$U117=\"\",\"\",MID(TEXT(入力用科目!$U117,\"????????\"),8,1))","v":""},null,{"$f":"IF(入力用科目!$AD117=\"\",\"\",MID(TEXT(入力用科目!$AD117,\"????????\"),1,1))","v":""},{"$f":"IF(入力用科目!$AD117=\"\",\"\",MID(TEXT(入力用科目!$AD117,\"????????\"),2,1))","v":""},{"$f":"IF(入力用科目!$AD117=\"\",\"\",MID(TEXT(入力用科目!$AD117,\"????????\"),3,1))","v":""},{"$f":"IF(入力用科目!$AD117=\"\",\"\",MID(TEXT(入力用科目!$AD117,\"????????\"),4,1))","v":""},{"$f":"IF(入力用科目!$AD117=\"\",\"\",MID(TEXT(入力用科目!$AD117,\"????????\"),5,1))","v":""},{"$f":"IF(入力用科目!$AD117=\"\",\"\",MID(TEXT(入力用科目!$AD117,\"????????\"),6,1))","v":""},{"$f":"IF(入力用科目!$AD117=\"\",\"\",MID(TEXT(入力用科目!$AD117,\"????????\"),7,1))","v":""},{"$f":"IF(入力用科目!$AD117=\"\",\"\",MID(TEXT(入力用科目!$AD117,\"????????\"),8,1))","v":""},null,{"$f":"IF(入力用科目!$AM117=\"\",\"\",MID(TEXT(入力用科目!$AM117,\"????????\"),1,1))","v":" "},{"$f":"IF(入力用科目!$AM117=\"\",\"\",MID(TEXT(入力用科目!$AM117,\"????????\"),2,1))","v":" "},{"$f":"IF(入力用科目!$AM117=\"\",\"\",MID(TEXT(入力用科目!$AM117,\"????????\"),3,1))","v":" "},{"$f":"IF(入力用科目!$AM117=\"\",\"\",MID(TEXT(入力用科目!$AM117,\"????????\"),4,1))","v":" "},{"$f":"IF(入力用科目!$AM117=\"\",\"\",MID(TEXT(入力用科目!$AM117,\"????????\"),5,1))","v":" "},{"$f":"IF(入力用科目!$AM117=\"\",\"\",MID(TEXT(入力用科目!$AM117,\"????????\"),6,1))","v":" "},{"$f":"IF(入力用科目!$AM117=\"\",\"\",MID(TEXT(入力用科目!$AM117,\"????????\"),7,1))","v":" "},{"$f":"IF(入力用科目!$AM117=\"\",\"\",MID(TEXT(入力用科目!$AM117,\"????????\"),8,1))","v":" "}]
[{"$f":"IF(入力用科目!A118=\"\",\"\",MID(TEXT(入力用科目!$A118,\"??\"),COLUMN(),1))","v":""},{"$f":"IF(入力用科目!A118=\"\",\"\",MID(TEXT(入力用科目!$A118,\"??\"),COLUMN(),1))","v":""},null,{"$f":"IF(入力用科目!$D118=\"\",\"\",MID(TEXT(入力用科目!$D118,\"???\"),1,1))","v":""},{"$f":"IF(入力用科目!$D118=\"\",\"\",MID(TEXT(入力用科目!$D118,\"???\"),2,1))","v":""},{"$f":"IF(入力用科目!$D118=\"\",\"\",MID(TEXT(入力用科目!$D118,\"???\"),3,1))","v":""},null,{"$f":"IF(入力用科目!$Q118=1,\"運送収入\",IF(入力用科目!$H118=\"\",\"\",入力用科目!$H118))","v":""},null,null,null,null,null,null,null,null,{"$f":"IF(入力用科目!$Q118=\"\",\"\",MID(TEXT(入力用科目!$Q118,\"???\"),1,1))","v":""},{"$f":"IF(入力用科目!$Q118=\"\",\"\",MID(TEXT(入力用科目!$Q118,\"???\"),2,1))","v":""},{"$f":"IF(入力用科目!$Q118=\"\",\"\",MID(TEXT(入力用科目!$Q118,\"???\"),3,1))","v":""},null,{"$f":"IF(入力用科目!$U118=\"\",\"\",MID(TEXT(入力用科目!$U118,\"????????\"),1,1))","v":""},{"$f":"IF(入力用科目!$U118=\"\",\"\",MID(TEXT(入力用科目!$U118,\"????????\"),2,1))","v":""},{"$f":"IF(入力用科目!$U118=\"\",\"\",MID(TEXT(入力用科目!$U118,\"????????\"),3,1))","v":""},{"$f":"IF(入力用科目!$U118=\"\",\"\",MID(TEXT(入力用科目!$U118,\"????????\"),4,1))","v":""},{"$f":"IF(入力用科目!$U118=\"\",\"\",MID(TEXT(入力用科目!$U118,\"????????\"),5,1))","v":""},{"$f":"IF(入力用科目!$U118=\"\",\"\",MID(TEXT(入力用科目!$U118,\"????????\"),6,1))","v":""},{"$f":"IF(入力用科目!$U118=\"\",\"\",MID(TEXT(入力用科目!$U118,\"????????\"),7,1))","v":""},{"$f":"IF(入力用科目!$U118=\"\",\"\",MID(TEXT(入力用科目!$U118,\"????????\"),8,1))","v":""},null,{"$f":"IF(入力用科目!$AD118=\"\",\"\",MID(TEXT(入力用科目!$AD118,\"????????\"),1,1))","v":""},{"$f":"IF(入力用科目!$AD118=\"\",\"\",MID(TEXT(入力用科目!$AD118,\"????????\"),2,1))","v":""},{"$f":"IF(入力用科目!$AD118=\"\",\"\",MID(TEXT(入力用科目!$AD118,\"????????\"),3,1))","v":""},{"$f":"IF(入力用科目!$AD118=\"\",\"\",MID(TEXT(入力用科目!$AD118,\"????????\"),4,1))","v":""},{"$f":"IF(入力用科目!$AD118=\"\",\"\",MID(TEXT(入力用科目!$AD118,\"????????\"),5,1))","v":""},{"$f":"IF(入力用科目!$AD118=\"\",\"\",MID(TEXT(入力用科目!$AD118,\"????????\"),6,1))","v":""},{"$f":"IF(入力用科目!$AD118=\"\",\"\",MID(TEXT(入力用科目!$AD118,\"????????\"),7,1))","v":""},{"$f":"IF(入力用科目!$AD118=\"\",\"\",MID(TEXT(入力用科目!$AD118,\"????????\"),8,1))","v":""},null,{"$f":"IF(入力用科目!$AM118=\"\",\"\",MID(TEXT(入力用科目!$AM118,\"????????\"),1,1))","v":" "},{"$f":"IF(入力用科目!$AM118=\"\",\"\",MID(TEXT(入力用科目!$AM118,\"????????\"),2,1))","v":" "},{"$f":"IF(入力用科目!$AM118=\"\",\"\",MID(TEXT(入力用科目!$AM118,\"????????\"),3,1))","v":" "},{"$f":"IF(入力用科目!$AM118=\"\",\"\",MID(TEXT(入力用科目!$AM118,\"????????\"),4,1))","v":" "},{"$f":"IF(入力用科目!$AM118=\"\",\"\",MID(TEXT(入力用科目!$AM118,\"????????\"),5,1))","v":" "},{"$f":"IF(入力用科目!$AM118=\"\",\"\",MID(TEXT(入力用科目!$AM118,\"????????\"),6,1))","v":" "},{"$f":"IF(入力用科目!$AM118=\"\",\"\",MID(TEXT(入力用科目!$AM118,\"????????\"),7,1))","v":" "},{"$f":"IF(入力用科目!$AM118=\"\",\"\",MID(TEXT(入力用科目!$AM118,\"????????\"),8,1))","v":" "}]
[{"$f":"IF(入力用科目!A119=\"\",\"\",MID(TEXT(入力用科目!$A119,\"??\"),COLUMN(),1))","v":""},{"$f":"IF(入力用科目!A119=\"\",\"\",MID(TEXT(入力用科目!$A119,\"??\"),COLUMN(),1))","v":""},null,{"$f":"IF(入力用科目!$D119=\"\",\"\",MID(TEXT(入力用科目!$D119,\"???\"),1,1))","v":""},{"$f":"IF(入力用科目!$D119=\"\",\"\",MID(TEXT(入力用科目!$D119,\"???\"),2,1))","v":""},{"$f":"IF(入力用科目!$D119=\"\",\"\",MID(TEXT(入力用科目!$D119,\"???\"),3,1))","v":""},null,{"$f":"IF(入力用科目!$Q119=1,\"運送収入\",IF(入力用科目!$H119=\"\",\"\",入力用科目!$H119))","v":""},null,null,null,null,null,null,null,null,{"$f":"IF(入力用科目!$Q119=\"\",\"\",MID(TEXT(入力用科目!$Q119,\"???\"),1,1))","v":""},{"$f":"IF(入力用科目!$Q119=\"\",\"\",MID(TEXT(入力用科目!$Q119,\"???\"),2,1))","v":""},{"$f":"IF(入力用科目!$Q119=\"\",\"\",MID(TEXT(入力用科目!$Q119,\"???\"),3,1))","v":""},null,{"$f":"IF(入力用科目!$U119=\"\",\"\",MID(TEXT(入力用科目!$U119,\"????????\"),1,1))","v":""},{"$f":"IF(入力用科目!$U119=\"\",\"\",MID(TEXT(入力用科目!$U119,\"????????\"),2,1))","v":""},{"$f":"IF(入力用科目!$U119=\"\",\"\",MID(TEXT(入力用科目!$U119,\"????????\"),3,1))","v":""},{"$f":"IF(入力用科目!$U119=\"\",\"\",MID(TEXT(入力用科目!$U119,\"????????\"),4,1))","v":""},{"$f":"IF(入力用科目!$U119=\"\",\"\",MID(TEXT(入力用科目!$U119,\"????????\"),5,1))","v":""},{"$f":"IF(入力用科目!$U119=\"\",\"\",MID(TEXT(入力用科目!$U119,\"????????\"),6,1))","v":""},{"$f":"IF(入力用科目!$U119=\"\",\"\",MID(TEXT(入力用科目!$U119,\"????????\"),7,1))","v":""},{"$f":"IF(入力用科目!$U119=\"\",\"\",MID(TEXT(入力用科目!$U119,\"????????\"),8,1))","v":""},null,{"$f":"IF(入力用科目!$AD119=\"\",\"\",MID(TEXT(入力用科目!$AD119,\"????????\"),1,1))","v":""},{"$f":"IF(入力用科目!$AD119=\"\",\"\",MID(TEXT(入力用科目!$AD119,\"????????\"),2,1))","v":""},{"$f":"IF(入力用科目!$AD119=\"\",\"\",MID(TEXT(入力用科目!$AD119,\"????????\"),3,1))","v":""},{"$f":"IF(入力用科目!$AD119=\"\",\"\",MID(TEXT(入力用科目!$AD119,\"????????\"),4,1))","v":""},{"$f":"IF(入力用科目!$AD119=\"\",\"\",MID(TEXT(入力用科目!$AD119,\"????????\"),5,1))","v":""},{"$f":"IF(入力用科目!$AD119=\"\",\"\",MID(TEXT(入力用科目!$AD119,\"????????\"),6,1))","v":""},{"$f":"IF(入力用科目!$AD119=\"\",\"\",MID(TEXT(入力用科目!$AD119,\"????????\"),7,1))","v":""},{"$f":"IF(入力用科目!$AD119=\"\",\"\",MID(TEXT(入力用科目!$AD119,\"????????\"),8,1))","v":""},null,{"$f":"IF(入力用科目!$AM119=\"\",\"\",MID(TEXT(入力用科目!$AM119,\"????????\"),1,1))","v":" "},{"$f":"IF(入力用科目!$AM119=\"\",\"\",MID(TEXT(入力用科目!$AM119,\"????????\"),2,1))","v":" "},{"$f":"IF(入力用科目!$AM119=\"\",\"\",MID(TEXT(入力用科目!$AM119,\"????????\"),3,1))","v":" "},{"$f":"IF(入力用科目!$AM119=\"\",\"\",MID(TEXT(入力用科目!$AM119,\"????????\"),4,1))","v":" "},{"$f":"IF(入力用科目!$AM119=\"\",\"\",MID(TEXT(入力用科目!$AM119,\"????????\"),5,1))","v":" "},{"$f":"IF(入力用科目!$AM119=\"\",\"\",MID(TEXT(入力用科目!$AM119,\"????????\"),6,1))","v":" "},{"$f":"IF(入力用科目!$AM119=\"\",\"\",MID(TEXT(入力用科目!$AM119,\"????????\"),7,1))","v":" "},{"$f":"IF(入力用科目!$AM119=\"\",\"\",MID(TEXT(入力用科目!$AM119,\"????????\"),8,1))","v":" "}]
[{"$f":"IF(入力用科目!A120=\"\",\"\",MID(TEXT(入力用科目!$A120,\"??\"),COLUMN(),1))","v":""},{"$f":"IF(入力用科目!A120=\"\",\"\",MID(TEXT(入力用科目!$A120,\"??\"),COLUMN(),1))","v":""},null,{"$f":"IF(入力用科目!$D120=\"\",\"\",MID(TEXT(入力用科目!$D120,\"???\"),1,1))","v":""},{"$f":"IF(入力用科目!$D120=\"\",\"\",MID(TEXT(入力用科目!$D120,\"???\"),2,1))","v":""},{"$f":"IF(入力用科目!$D120=\"\",\"\",MID(TEXT(入力用科目!$D120,\"???\"),3,1))","v":""},null,{"$f":"IF(入力用科目!$Q120=1,\"運送収入\",IF(入力用科目!$H120=\"\",\"\",入力用科目!$H120))","v":""},null,null,null,null,null,null,null,null,{"$f":"IF(入力用科目!$Q120=\"\",\"\",MID(TEXT(入力用科目!$Q120,\"???\"),1,1))","v":""},{"$f":"IF(入力用科目!$Q120=\"\",\"\",MID(TEXT(入力用科目!$Q120,\"???\"),2,1))","v":""},{"$f":"IF(入力用科目!$Q120=\"\",\"\",MID(TEXT(入力用科目!$Q120,\"???\"),3,1))","v":""},null,{"$f":"IF(入力用科目!$U120=\"\",\"\",MID(TEXT(入力用科目!$U120,\"????????\"),1,1))","v":""},{"$f":"IF(入力用科目!$U120=\"\",\"\",MID(TEXT(入力用科目!$U120,\"????????\"),2,1))","v":""},{"$f":"IF(入力用科目!$U120=\"\",\"\",MID(TEXT(入力用科目!$U120,\"????????\"),3,1))","v":""},{"$f":"IF(入力用科目!$U120=\"\",\"\",MID(TEXT(入力用科目!$U120,\"????????\"),4,1))","v":""},{"$f":"IF(入力用科目!$U120=\"\",\"\",MID(TEXT(入力用科目!$U120,\"????????\"),5,1))","v":""},{"$f":"IF(入力用科目!$U120=\"\",\"\",MID(TEXT(入力用科目!$U120,\"????????\"),6,1))","v":""},{"$f":"IF(入力用科目!$U120=\"\",\"\",MID(TEXT(入力用科目!$U120,\"????????\"),7,1))","v":""},{"$f":"IF(入力用科目!$U120=\"\",\"\",MID(TEXT(入力用科目!$U120,\"????????\"),8,1))","v":""},null,{"$f":"IF(入力用科目!$AD120=\"\",\"\",MID(TEXT(入力用科目!$AD120,\"????????\"),1,1))","v":""},{"$f":"IF(入力用科目!$AD120=\"\",\"\",MID(TEXT(入力用科目!$AD120,\"????????\"),2,1))","v":""},{"$f":"IF(入力用科目!$AD120=\"\",\"\",MID(TEXT(入力用科目!$AD120,\"????????\"),3,1))","v":""},{"$f":"IF(入力用科目!$AD120=\"\",\"\",MID(TEXT(入力用科目!$AD120,\"????????\"),4,1))","v":""},{"$f":"IF(入力用科目!$AD120=\"\",\"\",MID(TEXT(入力用科目!$AD120,\"????????\"),5,1))","v":""},{"$f":"IF(入力用科目!$AD120=\"\",\"\",MID(TEXT(入力用科目!$AD120,\"????????\"),6,1))","v":""},{"$f":"IF(入力用科目!$AD120=\"\",\"\",MID(TEXT(入力用科目!$AD120,\"????????\"),7,1))","v":""},{"$f":"IF(入力用科目!$AD120=\"\",\"\",MID(TEXT(入力用科目!$AD120,\"????????\"),8,1))","v":""},null,{"$f":"IF(入力用科目!$AM120=\"\",\"\",MID(TEXT(入力用科目!$AM120,\"????????\"),1,1))","v":" "},{"$f":"IF(入力用科目!$AM120=\"\",\"\",MID(TEXT(入力用科目!$AM120,\"????????\"),2,1))","v":" "},{"$f":"IF(入力用科目!$AM120=\"\",\"\",MID(TEXT(入力用科目!$AM120,\"????????\"),3,1))","v":" "},{"$f":"IF(入力用科目!$AM120=\"\",\"\",MID(TEXT(入力用科目!$AM120,\"????????\"),4,1))","v":" "},{"$f":"IF(入力用科目!$AM120=\"\",\"\",MID(TEXT(入力用科目!$AM120,\"????????\"),5,1))","v":" "},{"$f":"IF(入力用科目!$AM120=\"\",\"\",MID(TEXT(入力用科目!$AM120,\"????????\"),6,1))","v":" "},{"$f":"IF(入力用科目!$AM120=\"\",\"\",MID(TEXT(入力用科目!$AM120,\"????????\"),7,1))","v":" "},{"$f":"IF(入力用科目!$AM120=\"\",\"\",MID(TEXT(入力用科目!$AM120,\"????????\"),8,1))","v":" "}]
[{"$f":"IF(入力用科目!A121=\"\",\"\",MID(TEXT(入力用科目!$A121,\"??\"),COLUMN(),1))","v":""},{"$f":"IF(入力用科目!A121=\"\",\"\",MID(TEXT(入力用科目!$A121,\"??\"),COLUMN(),1))","v":""},null,{"$f":"IF(入力用科目!$D121=\"\",\"\",MID(TEXT(入力用科目!$D121,\"???\"),1,1))","v":""},{"$f":"IF(入力用科目!$D121=\"\",\"\",MID(TEXT(入力用科目!$D121,\"???\"),2,1))","v":""},{"$f":"IF(入力用科目!$D121=\"\",\"\",MID(TEXT(入力用科目!$D121,\"???\"),3,1))","v":""},null,{"$f":"IF(入力用科目!$Q121=1,\"運送収入\",IF(入力用科目!$H121=\"\",\"\",入力用科目!$H121))","v":""},null,null,null,null,null,null,null,null,{"$f":"IF(入力用科目!$Q121=\"\",\"\",MID(TEXT(入力用科目!$Q121,\"???\"),1,1))","v":""},{"$f":"IF(入力用科目!$Q121=\"\",\"\",MID(TEXT(入力用科目!$Q121,\"???\"),2,1))","v":""},{"$f":"IF(入力用科目!$Q121=\"\",\"\",MID(TEXT(入力用科目!$Q121,\"???\"),3,1))","v":""},null,{"$f":"IF(入力用科目!$U121=\"\",\"\",MID(TEXT(入力用科目!$U121,\"????????\"),1,1))","v":""},{"$f":"IF(入力用科目!$U121=\"\",\"\",MID(TEXT(入力用科目!$U121,\"????????\"),2,1))","v":""},{"$f":"IF(入力用科目!$U121=\"\",\"\",MID(TEXT(入力用科目!$U121,\"????????\"),3,1))","v":""},{"$f":"IF(入力用科目!$U121=\"\",\"\",MID(TEXT(入力用科目!$U121,\"????????\"),4,1))","v":""},{"$f":"IF(入力用科目!$U121=\"\",\"\",MID(TEXT(入力用科目!$U121,\"????????\"),5,1))","v":""},{"$f":"IF(入力用科目!$U121=\"\",\"\",MID(TEXT(入力用科目!$U121,\"????????\"),6,1))","v":""},{"$f":"IF(入力用科目!$U121=\"\",\"\",MID(TEXT(入力用科目!$U121,\"????????\"),7,1))","v":""},{"$f":"IF(入力用科目!$U121=\"\",\"\",MID(TEXT(入力用科目!$U121,\"????????\"),8,1))","v":""},null,{"$f":"IF(入力用科目!$AD121=\"\",\"\",MID(TEXT(入力用科目!$AD121,\"????????\"),1,1))","v":""},{"$f":"IF(入力用科目!$AD121=\"\",\"\",MID(TEXT(入力用科目!$AD121,\"????????\"),2,1))","v":""},{"$f":"IF(入力用科目!$AD121=\"\",\"\",MID(TEXT(入力用科目!$AD121,\"????????\"),3,1))","v":""},{"$f":"IF(入力用科目!$AD121=\"\",\"\",MID(TEXT(入力用科目!$AD121,\"????????\"),4,1))","v":""},{"$f":"IF(入力用科目!$AD121=\"\",\"\",MID(TEXT(入力用科目!$AD121,\"????????\"),5,1))","v":""},{"$f":"IF(入力用科目!$AD121=\"\",\"\",MID(TEXT(入力用科目!$AD121,\"????????\"),6,1))","v":""},{"$f":"IF(入力用科目!$AD121=\"\",\"\",MID(TEXT(入力用科目!$AD121,\"????????\"),7,1))","v":""},{"$f":"IF(入力用科目!$AD121=\"\",\"\",MID(TEXT(入力用科目!$AD121,\"????????\"),8,1))","v":""},null,{"$f":"IF(入力用科目!$AM121=\"\",\"\",MID(TEXT(入力用科目!$AM121,\"????????\"),1,1))","v":" "},{"$f":"IF(入力用科目!$AM121=\"\",\"\",MID(TEXT(入力用科目!$AM121,\"????????\"),2,1))","v":" "},{"$f":"IF(入力用科目!$AM121=\"\",\"\",MID(TEXT(入力用科目!$AM121,\"????????\"),3,1))","v":" "},{"$f":"IF(入力用科目!$AM121=\"\",\"\",MID(TEXT(入力用科目!$AM121,\"????????\"),4,1))","v":" "},{"$f":"IF(入力用科目!$AM121=\"\",\"\",MID(TEXT(入力用科目!$AM121,\"????????\"),5,1))","v":" "},{"$f":"IF(入力用科目!$AM121=\"\",\"\",MID(TEXT(入力用科目!$AM121,\"????????\"),6,1))","v":" "},{"$f":"IF(入力用科目!$AM121=\"\",\"\",MID(TEXT(入力用科目!$AM121,\"????????\"),7,1))","v":" "},{"$f":"IF(入力用科目!$AM121=\"\",\"\",MID(TEXT(入力用科目!$AM121,\"????????\"),8,1))","v":" "}]
[{"$f":"IF(入力用科目!A122=\"\",\"\",MID(TEXT(入力用科目!$A122,\"??\"),COLUMN(),1))","v":""},{"$f":"IF(入力用科目!A122=\"\",\"\",MID(TEXT(入力用科目!$A122,\"??\"),COLUMN(),1))","v":""},null,{"$f":"IF(入力用科目!$D122=\"\",\"\",MID(TEXT(入力用科目!$D122,\"???\"),1,1))","v":""},{"$f":"IF(入力用科目!$D122=\"\",\"\",MID(TEXT(入力用科目!$D122,\"???\"),2,1))","v":""},{"$f":"IF(入力用科目!$D122=\"\",\"\",MID(TEXT(入力用科目!$D122,\"???\"),3,1))","v":""},null,{"$f":"IF(入力用科目!H122=\"\",\"\",入力用科目!H122)","v":""},null,null,null,null,null,null,null,null,{"$f":"IF(入力用科目!$Q122=\"\",\"\",MID(TEXT(入力用科目!$Q122,\"???\"),1,1))","v":""},{"$f":"IF(入力用科目!$Q122=\"\",\"\",MID(TEXT(入力用科目!$Q122,\"???\"),2,1))","v":""},{"$f":"IF(入力用科目!$Q122=\"\",\"\",MID(TEXT(入力用科目!$Q122,\"???\"),3,1))","v":""},null,{"$f":"IF(入力用科目!$U122=\"\",\"\",MID(TEXT(入力用科目!$U122,\"????????\"),1,1))","v":""},{"$f":"IF(入力用科目!$U122=\"\",\"\",MID(TEXT(入力用科目!$U122,\"????????\"),2,1))","v":""},{"$f":"IF(入力用科目!$U122=\"\",\"\",MID(TEXT(入力用科目!$U122,\"????????\"),3,1))","v":""},{"$f":"IF(入力用科目!$U122=\"\",\"\",MID(TEXT(入力用科目!$U122,\"????????\"),4,1))","v":""},{"$f":"IF(入力用科目!$U122=\"\",\"\",MID(TEXT(入力用科目!$U122,\"????????\"),5,1))","v":""},{"$f":"IF(入力用科目!$U122=\"\",\"\",MID(TEXT(入力用科目!$U122,\"????????\"),6,1))","v":""},{"$f":"IF(入力用科目!$U122=\"\",\"\",MID(TEXT(入力用科目!$U122,\"????????\"),7,1))","v":""},{"$f":"IF(入力用科目!$U122=\"\",\"\",MID(TEXT(入力用科目!$U122,\"????????\"),8,1))","v":""},null,{"$f":"IF(入力用科目!$AD122=\"\",\"\",MID(TEXT(入力用科目!$AD122,\"????????\"),1,1))","v":""},{"$f":"IF(入力用科目!$AD122=\"\",\"\",MID(TEXT(入力用科目!$AD122,\"????????\"),2,1))","v":""},{"$f":"IF(入力用科目!$AD122=\"\",\"\",MID(TEXT(入力用科目!$AD122,\"????????\"),3,1))","v":""},{"$f":"IF(入力用科目!$AD122=\"\",\"\",MID(TEXT(入力用科目!$AD122,\"????????\"),4,1))","v":""},{"$f":"IF(入力用科目!$AD122=\"\",\"\",MID(TEXT(入力用科目!$AD122,\"????????\"),5,1))","v":""},{"$f":"IF(入力用科目!$AD122=\"\",\"\",MID(TEXT(入力用科目!$AD122,\"????????\"),6,1))","v":""},{"$f":"IF(入力用科目!$AD122=\"\",\"\",MID(TEXT(入力用科目!$AD122,\"????????\"),7,1))","v":""},{"$f":"IF(入力用科目!$AD122=\"\",\"\",MID(TEXT(入力用科目!$AD122,\"????????\"),8,1))","v":""},null,{"$f":"IF(入力用科目!$AM122=\"\",\"\",MID(TEXT(入力用科目!$AM122,\"????????\"),1,1))","v":" "},{"$f":"IF(入力用科目!$AM122=\"\",\"\",MID(TEXT(入力用科目!$AM122,\"????????\"),2,1))","v":" "},{"$f":"IF(入力用科目!$AM122=\"\",\"\",MID(TEXT(入力用科目!$AM122,\"????????\"),3,1))","v":" "},{"$f":"IF(入力用科目!$AM122=\"\",\"\",MID(TEXT(入力用科目!$AM122,\"????????\"),4,1))","v":" "},{"$f":"IF(入力用科目!$AM122=\"\",\"\",MID(TEXT(入力用科目!$AM122,\"????????\"),5,1))","v":" "},{"$f":"IF(入力用科目!$AM122=\"\",\"\",MID(TEXT(入力用科目!$AM122,\"????????\"),6,1))","v":" "},{"$f":"IF(入力用科目!$AM122=\"\",\"\",MID(TEXT(入力用科目!$AM122,\"????????\"),7,1))","v":" "},{"$f":"IF(入力用科目!$AM122=\"\",\"\",MID(TEXT(入力用科目!$AM122,\"????????\"),8,1))","v":" "}]
[{"$f":"IF(入力用科目!A123=\"\",\"\",MID(TEXT(入力用科目!$A123,\"??\"),COLUMN(),1))","v":""},{"$f":"IF(入力用科目!A123=\"\",\"\",MID(TEXT(入力用科目!$A123,\"??\"),COLUMN(),1))","v":""},null,{"$f":"IF(入力用科目!$D123=\"\",\"\",MID(TEXT(入力用科目!$D123,\"???\"),1,1))","v":""},{"$f":"IF(入力用科目!$D123=\"\",\"\",MID(TEXT(入力用科目!$D123,\"???\"),2,1))","v":""},{"$f":"IF(入力用科目!$D123=\"\",\"\",MID(TEXT(入力用科目!$D123,\"???\"),3,1))","v":""},null,{"$f":"IF(入力用科目!H123=\"\",\"\",入力用科目!H123)","v":""},null,null,null,null,null,null,null,null,{"$f":"IF(入力用科目!$Q123=\"\",\"\",MID(TEXT(入力用科目!$Q123,\"???\"),1,1))","v":""},{"$f":"IF(入力用科目!$Q123=\"\",\"\",MID(TEXT(入力用科目!$Q123,\"???\"),2,1))","v":""},{"$f":"IF(入力用科目!$Q123=\"\",\"\",MID(TEXT(入力用科目!$Q123,\"???\"),3,1))","v":""},null,{"$f":"IF(入力用科目!$U123=\"\",\"\",MID(TEXT(入力用科目!$U123,\"????????\"),1,1))","v":""},{"$f":"IF(入力用科目!$U123=\"\",\"\",MID(TEXT(入力用科目!$U123,\"????????\"),2,1))","v":""},{"$f":"IF(入力用科目!$U123=\"\",\"\",MID(TEXT(入力用科目!$U123,\"????????\"),3,1))","v":""},{"$f":"IF(入力用科目!$U123=\"\",\"\",MID(TEXT(入力用科目!$U123,\"????????\"),4,1))","v":""},{"$f":"IF(入力用科目!$U123=\"\",\"\",MID(TEXT(入力用科目!$U123,\"????????\"),5,1))","v":""},{"$f":"IF(入力用科目!$U123=\"\",\"\",MID(TEXT(入力用科目!$U123,\"????????\"),6,1))","v":""},{"$f":"IF(入力用科目!$U123=\"\",\"\",MID(TEXT(入力用科目!$U123,\"????????\"),7,1))","v":""},{"$f":"IF(入力用科目!$U123=\"\",\"\",MID(TEXT(入力用科目!$U123,\"????????\"),8,1))","v":""},null,{"$f":"IF(入力用科目!$AD123=\"\",\"\",MID(TEXT(入力用科目!$AD123,\"????????\"),1,1))","v":""},{"$f":"IF(入力用科目!$AD123=\"\",\"\",MID(TEXT(入力用科目!$AD123,\"????????\"),2,1))","v":""},{"$f":"IF(入力用科目!$AD123=\"\",\"\",MID(TEXT(入力用科目!$AD123,\"????????\"),3,1))","v":""},{"$f":"IF(入力用科目!$AD123=\"\",\"\",MID(TEXT(入力用科目!$AD123,\"????????\"),4,1))","v":""},{"$f":"IF(入力用科目!$AD123=\"\",\"\",MID(TEXT(入力用科目!$AD123,\"????????\"),5,1))","v":""},{"$f":"IF(入力用科目!$AD123=\"\",\"\",MID(TEXT(入力用科目!$AD123,\"????????\"),6,1))","v":""},{"$f":"IF(入力用科目!$AD123=\"\",\"\",MID(TEXT(入力用科目!$AD123,\"????????\"),7,1))","v":""},{"$f":"IF(入力用科目!$AD123=\"\",\"\",MID(TEXT(入力用科目!$AD123,\"????????\"),8,1))","v":""},null,{"$f":"IF(入力用科目!$AM123=\"\",\"\",MID(TEXT(入力用科目!$AM123,\"????????\"),1,1))","v":" "},{"$f":"IF(入力用科目!$AM123=\"\",\"\",MID(TEXT(入力用科目!$AM123,\"????????\"),2,1))","v":" "},{"$f":"IF(入力用科目!$AM123=\"\",\"\",MID(TEXT(入力用科目!$AM123,\"????????\"),3,1))","v":" "},{"$f":"IF(入力用科目!$AM123=\"\",\"\",MID(TEXT(入力用科目!$AM123,\"????????\"),4,1))","v":" "},{"$f":"IF(入力用科目!$AM123=\"\",\"\",MID(TEXT(入力用科目!$AM123,\"????????\"),5,1))","v":" "},{"$f":"IF(入力用科目!$AM123=\"\",\"\",MID(TEXT(入力用科目!$AM123,\"????????\"),6,1))","v":" "},{"$f":"IF(入力用科目!$AM123=\"\",\"\",MID(TEXT(入力用科目!$AM123,\"????????\"),7,1))","v":" "},{"$f":"IF(入力用科目!$AM123=\"\",\"\",MID(TEXT(入力用科目!$AM123,\"????????\"),8,1))","v":" "}]
[{"$f":"IF(入力用科目!A124=\"\",\"\",MID(TEXT(入力用科目!$A124,\"??\"),COLUMN(),1))","v":""},{"$f":"IF(入力用科目!A124=\"\",\"\",MID(TEXT(入力用科目!$A124,\"??\"),COLUMN(),1))","v":""},null,{"$f":"IF(入力用科目!$D124=\"\",\"\",MID(TEXT(入力用科目!$D124,\"???\"),1,1))","v":""},{"$f":"IF(入力用科目!$D124=\"\",\"\",MID(TEXT(入力用科目!$D124,\"???\"),2,1))","v":""},{"$f":"IF(入力用科目!$D124=\"\",\"\",MID(TEXT(入力用科目!$D124,\"???\"),3,1))","v":""},null,{"$f":"IF(入力用科目!H124=\"\",\"\",入力用科目!H124)","v":""},null,null,null,null,null,null,null,null,{"$f":"IF(入力用科目!$Q124=\"\",\"\",MID(TEXT(入力用科目!$Q124,\"???\"),1,1))","v":""},{"$f":"IF(入力用科目!$Q124=\"\",\"\",MID(TEXT(入力用科目!$Q124,\"???\"),2,1))","v":""},{"$f":"IF(入力用科目!$Q124=\"\",\"\",MID(TEXT(入力用科目!$Q124,\"???\"),3,1))","v":""},null,{"$f":"IF(入力用科目!$U124=\"\",\"\",MID(TEXT(入力用科目!$U124,\"????????\"),1,1))","v":""},{"$f":"IF(入力用科目!$U124=\"\",\"\",MID(TEXT(入力用科目!$U124,\"????????\"),2,1))","v":""},{"$f":"IF(入力用科目!$U124=\"\",\"\",MID(TEXT(入力用科目!$U124,\"????????\"),3,1))","v":""},{"$f":"IF(入力用科目!$U124=\"\",\"\",MID(TEXT(入力用科目!$U124,\"????????\"),4,1))","v":""},{"$f":"IF(入力用科目!$U124=\"\",\"\",MID(TEXT(入力用科目!$U124,\"????????\"),5,1))","v":""},{"$f":"IF(入力用科目!$U124=\"\",\"\",MID(TEXT(入力用科目!$U124,\"????????\"),6,1))","v":""},{"$f":"IF(入力用科目!$U124=\"\",\"\",MID(TEXT(入力用科目!$U124,\"????????\"),7,1))","v":""},{"$f":"IF(入力用科目!$U124=\"\",\"\",MID(TEXT(入力用科目!$U124,\"????????\"),8,1))","v":""},null,{"$f":"IF(入力用科目!$AD124=\"\",\"\",MID(TEXT(入力用科目!$AD124,\"????????\"),1,1))","v":""},{"$f":"IF(入力用科目!$AD124=\"\",\"\",MID(TEXT(入力用科目!$AD124,\"????????\"),2,1))","v":""},{"$f":"IF(入力用科目!$AD124=\"\",\"\",MID(TEXT(入力用科目!$AD124,\"????????\"),3,1))","v":""},{"$f":"IF(入力用科目!$AD124=\"\",\"\",MID(TEXT(入力用科目!$AD124,\"????????\"),4,1))","v":""},{"$f":"IF(入力用科目!$AD124=\"\",\"\",MID(TEXT(入力用科目!$AD124,\"????????\"),5,1))","v":""},{"$f":"IF(入力用科目!$AD124=\"\",\"\",MID(TEXT(入力用科目!$AD124,\"????????\"),6,1))","v":""},{"$f":"IF(入力用科目!$AD124=\"\",\"\",MID(TEXT(入力用科目!$AD124,\"????????\"),7,1))","v":""},{"$f":"IF(入力用科目!$AD124=\"\",\"\",MID(TEXT(入力用科目!$AD124,\"????????\"),8,1))","v":""},null,{"$f":"IF(入力用科目!$AM124=\"\",\"\",MID(TEXT(入力用科目!$AM124,\"????????\"),1,1))","v":" "},{"$f":"IF(入力用科目!$AM124=\"\",\"\",MID(TEXT(入力用科目!$AM124,\"????????\"),2,1))","v":" "},{"$f":"IF(入力用科目!$AM124=\"\",\"\",MID(TEXT(入力用科目!$AM124,\"????????\"),3,1))","v":" "},{"$f":"IF(入力用科目!$AM124=\"\",\"\",MID(TEXT(入力用科目!$AM124,\"????????\"),4,1))","v":" "},{"$f":"IF(入力用科目!$AM124=\"\",\"\",MID(TEXT(入力用科目!$AM124,\"????????\"),5,1))","v":" "},{"$f":"IF(入力用科目!$AM124=\"\",\"\",MID(TEXT(入力用科目!$AM124,\"????????\"),6,1))","v":" "},{"$f":"IF(入力用科目!$AM124=\"\",\"\",MID(TEXT(入力用科目!$AM124,\"????????\"),7,1))","v":" "},{"$f":"IF(入力用科目!$AM124=\"\",\"\",MID(TEXT(入力用科目!$AM124,\"????????\"),8,1))","v":" "}]
[{"$f":"IF(入力用科目!A125=\"\",\"\",MID(TEXT(入力用科目!$A125,\"??\"),COLUMN(),1))","v":""},{"$f":"IF(入力用科目!A125=\"\",\"\",MID(TEXT(入力用科目!$A125,\"??\"),COLUMN(),1))","v":""},null,{"$f":"IF(入力用科目!$D125=\"\",\"\",MID(TEXT(入力用科目!$D125,\"???\"),1,1))","v":""},{"$f":"IF(入力用科目!$D125=\"\",\"\",MID(TEXT(入力用科目!$D125,\"???\"),2,1))","v":""},{"$f":"IF(入力用科目!$D125=\"\",\"\",MID(TEXT(入力用科目!$D125,\"???\"),3,1))","v":""},null,{"$f":"IF(入力用科目!H125=\"\",\"\",入力用科目!H125)","v":"小　　　計"},null,null,null,null,null,null,null,null,{"$f":"IF(入力用科目!$Q125=\"\",\"\",MID(TEXT(入力用科目!$Q125,\"???\"),1,1))","v":""},{"$f":"IF(入力用科目!$Q125=\"\",\"\",MID(TEXT(入力用科目!$Q125,\"???\"),2,1))","v":""},{"$f":"IF(入力用科目!$Q125=\"\",\"\",MID(TEXT(入力用科目!$Q125,\"???\"),3,1))","v":""},null,{"$f":"IF(入力用科目!$U125=\"\",\"\",MID(TEXT(入力用科目!$U125,\"????????\"),1,1))","v":" "},{"$f":"IF(入力用科目!$U125=\"\",\"\",MID(TEXT(入力用科目!$U125,\"????????\"),2,1))","v":" "},{"$f":"IF(入力用科目!$U125=\"\",\"\",MID(TEXT(入力用科目!$U125,\"????????\"),3,1))","v":" "},{"$f":"IF(入力用科目!$U125=\"\",\"\",MID(TEXT(入力用科目!$U125,\"????????\"),4,1))","v":" "},{"$f":"IF(入力用科目!$U125=\"\",\"\",MID(TEXT(入力用科目!$U125,\"????????\"),5,1))","v":" "},{"$f":"IF(入力用科目!$U125=\"\",\"\",MID(TEXT(入力用科目!$U125,\"????????\"),6,1))","v":" "},{"$f":"IF(入力用科目!$U125=\"\",\"\",MID(TEXT(入力用科目!$U125,\"????????\"),7,1))","v":" "},{"$f":"IF(入力用科目!$U125=\"\",\"\",MID(TEXT(入力用科目!$U125,\"????????\"),8,1))","v":" "},null,{"$f":"IF(入力用科目!$AD125=\"\",\"\",MID(TEXT(入力用科目!$AD125,\"????????\"),1,1))","v":" "},{"$f":"IF(入力用科目!$AD125=\"\",\"\",MID(TEXT(入力用科目!$AD125,\"????????\"),2,1))","v":" "},{"$f":"IF(入力用科目!$AD125=\"\",\"\",MID(TEXT(入力用科目!$AD125,\"????????\"),3,1))","v":" "},{"$f":"IF(入力用科目!$AD125=\"\",\"\",MID(TEXT(入力用科目!$AD125,\"????????\"),4,1))","v":" "},{"$f":"IF(入力用科目!$AD125=\"\",\"\",MID(TEXT(入力用科目!$AD125,\"????????\"),5,1))","v":" "},{"$f":"IF(入力用科目!$AD125=\"\",\"\",MID(TEXT(入力用科目!$AD125,\"????????\"),6,1))","v":" "},{"$f":"IF(入力用科目!$AD125=\"\",\"\",MID(TEXT(入力用科目!$AD125,\"????????\"),7,1))","v":" "},{"$f":"IF(入力用科目!$AD125=\"\",\"\",MID(TEXT(入力用科目!$AD125,\"????????\"),8,1))","v":" "},null,{"$f":"IF(入力用科目!$AM125=\"\",\"\",MID(TEXT(入力用科目!$AM125,\"????????\"),1,1))","v":" "},{"$f":"IF(入力用科目!$AM125=\"\",\"\",MID(TEXT(入力用科目!$AM125,\"????????\"),2,1))","v":" "},{"$f":"IF(入力用科目!$AM125=\"\",\"\",MID(TEXT(入力用科目!$AM125,\"????????\"),3,1))","v":" "},{"$f":"IF(入力用科目!$AM125=\"\",\"\",MID(TEXT(入力用科目!$AM125,\"????????\"),4,1))","v":" "},{"$f":"IF(入力用科目!$AM125=\"\",\"\",MID(TEXT(入力用科目!$AM125,\"????????\"),5,1))","v":" "},{"$f":"IF(入力用科目!$AM125=\"\",\"\",MID(TEXT(入力用科目!$AM125,\"????????\"),6,1))","v":" "},{"$f":"IF(入力用科目!$AM125=\"\",\"\",MID(TEXT(入力用科目!$AM125,\"????????\"),7,1))","v":" "},{"$f":"IF(入力用科目!$AM125=\"\",\"\",MID(TEXT(入力用科目!$AM125,\"????????\"),8,1))","v":" "}]
[]
[null,{"$f":"IF(入力用科目!B127=\"\",\"\",入力用科目!B127)","v":""}]
[null,null,null,null,null,null,null,null,null,null,null,null,null,null,null,null,null,null,null,null,null,null,null,null,null,null,null,null,null,null,null,{"$f":"IF(入力用科目!$AF128=\"\",\"\",MID(TEXT(入力用科目!$AF128,\"???????\"),1,1))","v":""},{"$f":"IF(入力用科目!$AF128=\"\",\"\",MID(TEXT(入力用科目!$AF128,\"???????\"),2,1))","v":""},{"$f":"IF(入力用科目!$AF128=\"\",\"\",MID(TEXT(入力用科目!$AF128,\"???????\"),3,1))","v":""},{"$f":"IF(入力用科目!$AF128=\"\",\"\",MID(TEXT(入力用科目!$AF128,\"???????\"),4,1))","v":""},{"$f":"IF(入力用科目!$AF128=\"\",\"\",MID(TEXT(入力用科目!$AF128,\"???????\"),5,1))","v":""},{"$f":"IF(入力用科目!$AF128=\"\",\"\",MID(TEXT(入力用科目!$AF128,\"???????\"),6,1))","v":""},{"$f":"IF(入力用科目!$AF128=\"\",\"\",MID(TEXT(入力用科目!$AF128,\"???????\"),7,1))","v":""},null,{"$f":"IF(入力用科目!$AN128=\"\",\"\",MID(TEXT(入力用科目!$AN128,\"???????\"),1,1))","v":" "},{"$f":"IF(入力用科目!$AN128=\"\",\"\",MID(TEXT(入力用科目!$AN128,\"???????\"),2,1))","v":" "},{"$f":"IF(入力用科目!$AN128=\"\",\"\",MID(TEXT(入力用科目!$AN128,\"???????\"),3,1))","v":" "},{"$f":"IF(入力用科目!$AN128=\"\",\"\",MID(TEXT(入力用科目!$AN128,\"???????\"),4,1))","v":" "},{"$f":"IF(入力用科目!$AN128=\"\",\"\",MID(TEXT(入力用科目!$AN128,\"???????\"),5,1))","v":" "},{"$f":"IF(入力用科目!$AN128=\"\",\"\",MID(TEXT(入力用科目!$AN128,\"???????\"),6,1))","v":" "},{"$f":"IF(入力用科目!$AN128=\"\",\"\",MID(TEXT(入力用科目!$AN128,\"???????\"),7,1))","v":" "}]
[]
[]
[]
[]
[]
[{"$f":"IF(入力用科目!A134=\"\",\"\",入力用科目!A134)","v":0},{"$f":"IF(入力用科目!B134=\"\",\"\",入力用科目!B134)","v":6},null,{"$f":"IF(入力用科目!D134=\"\",\"\",入力用科目!D134)","v":""},{"$f":"IF(入力用科目!E134=\"\",\"\",入力用科目!E134)","v":""},null,null,null,null,null,null,null,null,null,null,null,null,null,null,null,null,null,null,null,null,null,null,null,null,null,null,null,{"$f":"IF(入力用科目!AG134=\"\",\"\",入力用科目!AG134)","v":""},null,null,null,null,null,null,null,null,{"$f":"IF(入力用科目!AP134=\"\",\"\",入力用科目!AP134)","v":""},null,{"$f":"IF(入力用科目!AR134=\"\",\"\",入力用科目!AR134)","v":""}]
[]
[]
[null,null,null,null,null,null,null,null,null,null,null,null,null,null,null,null,null,null,null,null,null,null,null,null,null,null,null,null,null,null,null,null,null,null,null,null,null,null,{"$f":"IF(入力用科目!$AM137=\"\",\"\",MID(TEXT(入力用科目!$AM137,\"????????\"),1,1))","v":" "},{"$f":"IF(入力用科目!$AM137=\"\",\"\",MID(TEXT(入力用科目!$AM137,\"????????\"),2,1))","v":" "},{"$f":"IF(入力用科目!$AM137=\"\",\"\",MID(TEXT(入力用科目!$AM137,\"????????\"),3,1))","v":" "},{"$f":"IF(入力用科目!$AM137=\"\",\"\",MID(TEXT(入力用科目!$AM137,\"????????\"),4,1))","v":" "},{"$f":"IF(入力用科目!$AM137=\"\",\"\",MID(TEXT(入力用科目!$AM137,\"????????\"),5,1))","v":" "},{"$f":"IF(入力用科目!$AM137=\"\",\"\",MID(TEXT(入力用科目!$AM137,\"????????\"),6,1))","v":" "},{"$f":"IF(入力用科目!$AM137=\"\",\"\",MID(TEXT(入力用科目!$AM137,\"????????\"),7,1))","v":" "},{"$f":"IF(入力用科目!$AM137=\"\",\"\",MID(TEXT(入力用科目!$AM137,\"????????\"),8,1))","v":" "}]
[{"$f":"IF(入力用科目!A138=\"\",\"\",MID(TEXT(入力用科目!$A138,\"??\"),COLUMN(),1))","v":""},{"$f":"IF(入力用科目!A138=\"\",\"\",MID(TEXT(入力用科目!$A138,\"??\"),COLUMN(),1))","v":""},null,{"$f":"IF(入力用科目!$D138=\"\",\"\",MID(TEXT(入力用科目!$D138,\"???\"),1,1))","v":""},{"$f":"IF(入力用科目!$D138=\"\",\"\",MID(TEXT(入力用科目!$D138,\"???\"),2,1))","v":""},{"$f":"IF(入力用科目!$D138=\"\",\"\",MID(TEXT(入力用科目!$D138,\"???\"),3,1))","v":""},null,{"$f":"IF(入力用科目!$Q138=1,\"運送収入\",IF(入力用科目!$H138=\"\",\"\",入力用科目!$H138))","v":""},null,null,null,null,null,null,null,null,{"$f":"IF(入力用科目!$Q138=\"\",\"\",MID(TEXT(入力用科目!$Q138,\"???\"),1,1))","v":""},{"$f":"IF(入力用科目!$Q138=\"\",\"\",MID(TEXT(入力用科目!$Q138,\"???\"),2,1))","v":""},{"$f":"IF(入力用科目!$Q138=\"\",\"\",MID(TEXT(入力用科目!$Q138,\"???\"),3,1))","v":""},null,{"$f":"IF(入力用科目!$U138=\"\",\"\",MID(TEXT(入力用科目!$U138,\"????????\"),1,1))","v":""},{"$f":"IF(入力用科目!$U138=\"\",\"\",MID(TEXT(入力用科目!$U138,\"????????\"),2,1))","v":""},{"$f":"IF(入力用科目!$U138=\"\",\"\",MID(TEXT(入力用科目!$U138,\"????????\"),3,1))","v":""},{"$f":"IF(入力用科目!$U138=\"\",\"\",MID(TEXT(入力用科目!$U138,\"????????\"),4,1))","v":""},{"$f":"IF(入力用科目!$U138=\"\",\"\",MID(TEXT(入力用科目!$U138,\"????????\"),5,1))","v":""},{"$f":"IF(入力用科目!$U138=\"\",\"\",MID(TEXT(入力用科目!$U138,\"????????\"),6,1))","v":""},{"$f":"IF(入力用科目!$U138=\"\",\"\",MID(TEXT(入力用科目!$U138,\"????????\"),7,1))","v":""},{"$f":"IF(入力用科目!$U138=\"\",\"\",MID(TEXT(入力用科目!$U138,\"????????\"),8,1))","v":""},null,{"$f":"IF(入力用科目!$AD138=\"\",\"\",MID(TEXT(入力用科目!$AD138,\"????????\"),1,1))","v":""},{"$f":"IF(入力用科目!$AD138=\"\",\"\",MID(TEXT(入力用科目!$AD138,\"????????\"),2,1))","v":""},{"$f":"IF(入力用科目!$AD138=\"\",\"\",MID(TEXT(入力用科目!$AD138,\"????????\"),3,1))","v":""},{"$f":"IF(入力用科目!$AD138=\"\",\"\",MID(TEXT(入力用科目!$AD138,\"????????\"),4,1))","v":""},{"$f":"IF(入力用科目!$AD138=\"\",\"\",MID(TEXT(入力用科目!$AD138,\"????????\"),5,1))","v":""},{"$f":"IF(入力用科目!$AD138=\"\",\"\",MID(TEXT(入力用科目!$AD138,\"????????\"),6,1))","v":""},{"$f":"IF(入力用科目!$AD138=\"\",\"\",MID(TEXT(入力用科目!$AD138,\"????????\"),7,1))","v":""},{"$f":"IF(入力用科目!$AD138=\"\",\"\",MID(TEXT(入力用科目!$AD138,\"????????\"),8,1))","v":""},null,{"$f":"IF(入力用科目!$AM138=\"\",\"\",MID(TEXT(入力用科目!$AM138,\"????????\"),1,1))","v":" "},{"$f":"IF(入力用科目!$AM138=\"\",\"\",MID(TEXT(入力用科目!$AM138,\"????????\"),2,1))","v":" "},{"$f":"IF(入力用科目!$AM138=\"\",\"\",MID(TEXT(入力用科目!$AM138,\"????????\"),3,1))","v":" "},{"$f":"IF(入力用科目!$AM138=\"\",\"\",MID(TEXT(入力用科目!$AM138,\"????????\"),4,1))","v":" "},{"$f":"IF(入力用科目!$AM138=\"\",\"\",MID(TEXT(入力用科目!$AM138,\"????????\"),5,1))","v":" "},{"$f":"IF(入力用科目!$AM138=\"\",\"\",MID(TEXT(入力用科目!$AM138,\"????????\"),6,1))","v":" "},{"$f":"IF(入力用科目!$AM138=\"\",\"\",MID(TEXT(入力用科目!$AM138,\"????????\"),7,1))","v":" "},{"$f":"IF(入力用科目!$AM138=\"\",\"\",MID(TEXT(入力用科目!$AM138,\"????????\"),8,1))","v":" "}]
[{"$f":"IF(入力用科目!A139=\"\",\"\",MID(TEXT(入力用科目!$A139,\"??\"),COLUMN(),1))","v":""},{"$f":"IF(入力用科目!A139=\"\",\"\",MID(TEXT(入力用科目!$A139,\"??\"),COLUMN(),1))","v":""},null,{"$f":"IF(入力用科目!$D139=\"\",\"\",MID(TEXT(入力用科目!$D139,\"???\"),1,1))","v":""},{"$f":"IF(入力用科目!$D139=\"\",\"\",MID(TEXT(入力用科目!$D139,\"???\"),2,1))","v":""},{"$f":"IF(入力用科目!$D139=\"\",\"\",MID(TEXT(入力用科目!$D139,\"???\"),3,1))","v":""},null,{"$f":"IF(入力用科目!$Q139=1,\"運送収入\",IF(入力用科目!$H139=\"\",\"\",入力用科目!$H139))","v":""},null,null,null,null,null,null,null,null,{"$f":"IF(入力用科目!$Q139=\"\",\"\",MID(TEXT(入力用科目!$Q139,\"???\"),1,1))","v":""},{"$f":"IF(入力用科目!$Q139=\"\",\"\",MID(TEXT(入力用科目!$Q139,\"???\"),2,1))","v":""},{"$f":"IF(入力用科目!$Q139=\"\",\"\",MID(TEXT(入力用科目!$Q139,\"???\"),3,1))","v":""},null,{"$f":"IF(入力用科目!$U139=\"\",\"\",MID(TEXT(入力用科目!$U139,\"????????\"),1,1))","v":""},{"$f":"IF(入力用科目!$U139=\"\",\"\",MID(TEXT(入力用科目!$U139,\"????????\"),2,1))","v":""},{"$f":"IF(入力用科目!$U139=\"\",\"\",MID(TEXT(入力用科目!$U139,\"????????\"),3,1))","v":""},{"$f":"IF(入力用科目!$U139=\"\",\"\",MID(TEXT(入力用科目!$U139,\"????????\"),4,1))","v":""},{"$f":"IF(入力用科目!$U139=\"\",\"\",MID(TEXT(入力用科目!$U139,\"????????\"),5,1))","v":""},{"$f":"IF(入力用科目!$U139=\"\",\"\",MID(TEXT(入力用科目!$U139,\"????????\"),6,1))","v":""},{"$f":"IF(入力用科目!$U139=\"\",\"\",MID(TEXT(入力用科目!$U139,\"????????\"),7,1))","v":""},{"$f":"IF(入力用科目!$U139=\"\",\"\",MID(TEXT(入力用科目!$U139,\"????????\"),8,1))","v":""},null,{"$f":"IF(入力用科目!$AD139=\"\",\"\",MID(TEXT(入力用科目!$AD139,\"????????\"),1,1))","v":""},{"$f":"IF(入力用科目!$AD139=\"\",\"\",MID(TEXT(入力用科目!$AD139,\"????????\"),2,1))","v":""},{"$f":"IF(入力用科目!$AD139=\"\",\"\",MID(TEXT(入力用科目!$AD139,\"????????\"),3,1))","v":""},{"$f":"IF(入力用科目!$AD139=\"\",\"\",MID(TEXT(入力用科目!$AD139,\"????????\"),4,1))","v":""},{"$f":"IF(入力用科目!$AD139=\"\",\"\",MID(TEXT(入力用科目!$AD139,\"????????\"),5,1))","v":""},{"$f":"IF(入力用科目!$AD139=\"\",\"\",MID(TEXT(入力用科目!$AD139,\"????????\"),6,1))","v":""},{"$f":"IF(入力用科目!$AD139=\"\",\"\",MID(TEXT(入力用科目!$AD139,\"????????\"),7,1))","v":""},{"$f":"IF(入力用科目!$AD139=\"\",\"\",MID(TEXT(入力用科目!$AD139,\"????????\"),8,1))","v":""},null,{"$f":"IF(入力用科目!$AM139=\"\",\"\",MID(TEXT(入力用科目!$AM139,\"????????\"),1,1))","v":" "},{"$f":"IF(入力用科目!$AM139=\"\",\"\",MID(TEXT(入力用科目!$AM139,\"????????\"),2,1))","v":" "},{"$f":"IF(入力用科目!$AM139=\"\",\"\",MID(TEXT(入力用科目!$AM139,\"????????\"),3,1))","v":" "},{"$f":"IF(入力用科目!$AM139=\"\",\"\",MID(TEXT(入力用科目!$AM139,\"????????\"),4,1))","v":" "},{"$f":"IF(入力用科目!$AM139=\"\",\"\",MID(TEXT(入力用科目!$AM139,\"????????\"),5,1))","v":" "},{"$f":"IF(入力用科目!$AM139=\"\",\"\",MID(TEXT(入力用科目!$AM139,\"????????\"),6,1))","v":" "},{"$f":"IF(入力用科目!$AM139=\"\",\"\",MID(TEXT(入力用科目!$AM139,\"????????\"),7,1))","v":" "},{"$f":"IF(入力用科目!$AM139=\"\",\"\",MID(TEXT(入力用科目!$AM139,\"????????\"),8,1))","v":" "}]
[{"$f":"IF(入力用科目!A140=\"\",\"\",MID(TEXT(入力用科目!$A140,\"??\"),COLUMN(),1))","v":""},{"$f":"IF(入力用科目!A140=\"\",\"\",MID(TEXT(入力用科目!$A140,\"??\"),COLUMN(),1))","v":""},null,{"$f":"IF(入力用科目!$D140=\"\",\"\",MID(TEXT(入力用科目!$D140,\"???\"),1,1))","v":""},{"$f":"IF(入力用科目!$D140=\"\",\"\",MID(TEXT(入力用科目!$D140,\"???\"),2,1))","v":""},{"$f":"IF(入力用科目!$D140=\"\",\"\",MID(TEXT(入力用科目!$D140,\"???\"),3,1))","v":""},null,{"$f":"IF(入力用科目!$Q140=1,\"運送収入\",IF(入力用科目!$H140=\"\",\"\",入力用科目!$H140))","v":""},null,null,null,null,null,null,null,null,{"$f":"IF(入力用科目!$Q140=\"\",\"\",MID(TEXT(入力用科目!$Q140,\"???\"),1,1))","v":""},{"$f":"IF(入力用科目!$Q140=\"\",\"\",MID(TEXT(入力用科目!$Q140,\"???\"),2,1))","v":""},{"$f":"IF(入力用科目!$Q140=\"\",\"\",MID(TEXT(入力用科目!$Q140,\"???\"),3,1))","v":""},null,{"$f":"IF(入力用科目!$U140=\"\",\"\",MID(TEXT(入力用科目!$U140,\"????????\"),1,1))","v":""},{"$f":"IF(入力用科目!$U140=\"\",\"\",MID(TEXT(入力用科目!$U140,\"????????\"),2,1))","v":""},{"$f":"IF(入力用科目!$U140=\"\",\"\",MID(TEXT(入力用科目!$U140,\"????????\"),3,1))","v":""},{"$f":"IF(入力用科目!$U140=\"\",\"\",MID(TEXT(入力用科目!$U140,\"????????\"),4,1))","v":""},{"$f":"IF(入力用科目!$U140=\"\",\"\",MID(TEXT(入力用科目!$U140,\"????????\"),5,1))","v":""},{"$f":"IF(入力用科目!$U140=\"\",\"\",MID(TEXT(入力用科目!$U140,\"????????\"),6,1))","v":""},{"$f":"IF(入力用科目!$U140=\"\",\"\",MID(TEXT(入力用科目!$U140,\"????????\"),7,1))","v":""},{"$f":"IF(入力用科目!$U140=\"\",\"\",MID(TEXT(入力用科目!$U140,\"????????\"),8,1))","v":""},null,{"$f":"IF(入力用科目!$AD140=\"\",\"\",MID(TEXT(入力用科目!$AD140,\"????????\"),1,1))","v":""},{"$f":"IF(入力用科目!$AD140=\"\",\"\",MID(TEXT(入力用科目!$AD140,\"????????\"),2,1))","v":""},{"$f":"IF(入力用科目!$AD140=\"\",\"\",MID(TEXT(入力用科目!$AD140,\"????????\"),3,1))","v":""},{"$f":"IF(入力用科目!$AD140=\"\",\"\",MID(TEXT(入力用科目!$AD140,\"????????\"),4,1))","v":""},{"$f":"IF(入力用科目!$AD140=\"\",\"\",MID(TEXT(入力用科目!$AD140,\"????????\"),5,1))","v":""},{"$f":"IF(入力用科目!$AD140=\"\",\"\",MID(TEXT(入力用科目!$AD140,\"????????\"),6,1))","v":""},{"$f":"IF(入力用科目!$AD140=\"\",\"\",MID(TEXT(入力用科目!$AD140,\"????????\"),7,1))","v":""},{"$f":"IF(入力用科目!$AD140=\"\",\"\",MID(TEXT(入力用科目!$AD140,\"????????\"),8,1))","v":""},null,{"$f":"IF(入力用科目!$AM140=\"\",\"\",MID(TEXT(入力用科目!$AM140,\"????????\"),1,1))","v":" "},{"$f":"IF(入力用科目!$AM140=\"\",\"\",MID(TEXT(入力用科目!$AM140,\"????????\"),2,1))","v":" "},{"$f":"IF(入力用科目!$AM140=\"\",\"\",MID(TEXT(入力用科目!$AM140,\"????????\"),3,1))","v":" "},{"$f":"IF(入力用科目!$AM140=\"\",\"\",MID(TEXT(入力用科目!$AM140,\"????????\"),4,1))","v":" "},{"$f":"IF(入力用科目!$AM140=\"\",\"\",MID(TEXT(入力用科目!$AM140,\"????????\"),5,1))","v":" "},{"$f":"IF(入力用科目!$AM140=\"\",\"\",MID(TEXT(入力用科目!$AM140,\"????????\"),6,1))","v":" "},{"$f":"IF(入力用科目!$AM140=\"\",\"\",MID(TEXT(入力用科目!$AM140,\"????????\"),7,1))","v":" "},{"$f":"IF(入力用科目!$AM140=\"\",\"\",MID(TEXT(入力用科目!$AM140,\"????????\"),8,1))","v":" "}]
[{"$f":"IF(入力用科目!A141=\"\",\"\",MID(TEXT(入力用科目!$A141,\"??\"),COLUMN(),1))","v":""},{"$f":"IF(入力用科目!A141=\"\",\"\",MID(TEXT(入力用科目!$A141,\"??\"),COLUMN(),1))","v":""},null,{"$f":"IF(入力用科目!$D141=\"\",\"\",MID(TEXT(入力用科目!$D141,\"???\"),1,1))","v":""},{"$f":"IF(入力用科目!$D141=\"\",\"\",MID(TEXT(入力用科目!$D141,\"???\"),2,1))","v":""},{"$f":"IF(入力用科目!$D141=\"\",\"\",MID(TEXT(入力用科目!$D141,\"???\"),3,1))","v":""},null,{"$f":"IF(入力用科目!$Q141=1,\"運送収入\",IF(入力用科目!$H141=\"\",\"\",入力用科目!$H141))","v":""},null,null,null,null,null,null,null,null,{"$f":"IF(入力用科目!$Q141=\"\",\"\",MID(TEXT(入力用科目!$Q141,\"???\"),1,1))","v":""},{"$f":"IF(入力用科目!$Q141=\"\",\"\",MID(TEXT(入力用科目!$Q141,\"???\"),2,1))","v":""},{"$f":"IF(入力用科目!$Q141=\"\",\"\",MID(TEXT(入力用科目!$Q141,\"???\"),3,1))","v":""},null,{"$f":"IF(入力用科目!$U141=\"\",\"\",MID(TEXT(入力用科目!$U141,\"????????\"),1,1))","v":""},{"$f":"IF(入力用科目!$U141=\"\",\"\",MID(TEXT(入力用科目!$U141,\"????????\"),2,1))","v":""},{"$f":"IF(入力用科目!$U141=\"\",\"\",MID(TEXT(入力用科目!$U141,\"????????\"),3,1))","v":""},{"$f":"IF(入力用科目!$U141=\"\",\"\",MID(TEXT(入力用科目!$U141,\"????????\"),4,1))","v":""},{"$f":"IF(入力用科目!$U141=\"\",\"\",MID(TEXT(入力用科目!$U141,\"????????\"),5,1))","v":""},{"$f":"IF(入力用科目!$U141=\"\",\"\",MID(TEXT(入力用科目!$U141,\"????????\"),6,1))","v":""},{"$f":"IF(入力用科目!$U141=\"\",\"\",MID(TEXT(入力用科目!$U141,\"????????\"),7,1))","v":""},{"$f":"IF(入力用科目!$U141=\"\",\"\",MID(TEXT(入力用科目!$U141,\"????????\"),8,1))","v":""},null,{"$f":"IF(入力用科目!$AD141=\"\",\"\",MID(TEXT(入力用科目!$AD141,\"????????\"),1,1))","v":""},{"$f":"IF(入力用科目!$AD141=\"\",\"\",MID(TEXT(入力用科目!$AD141,\"????????\"),2,1))","v":""},{"$f":"IF(入力用科目!$AD141=\"\",\"\",MID(TEXT(入力用科目!$AD141,\"????????\"),3,1))","v":""},{"$f":"IF(入力用科目!$AD141=\"\",\"\",MID(TEXT(入力用科目!$AD141,\"????????\"),4,1))","v":""},{"$f":"IF(入力用科目!$AD141=\"\",\"\",MID(TEXT(入力用科目!$AD141,\"????????\"),5,1))","v":""},{"$f":"IF(入力用科目!$AD141=\"\",\"\",MID(TEXT(入力用科目!$AD141,\"????????\"),6,1))","v":""},{"$f":"IF(入力用科目!$AD141=\"\",\"\",MID(TEXT(入力用科目!$AD141,\"????????\"),7,1))","v":""},{"$f":"IF(入力用科目!$AD141=\"\",\"\",MID(TEXT(入力用科目!$AD141,\"????????\"),8,1))","v":""},null,{"$f":"IF(入力用科目!$AM141=\"\",\"\",MID(TEXT(入力用科目!$AM141,\"????????\"),1,1))","v":" "},{"$f":"IF(入力用科目!$AM141=\"\",\"\",MID(TEXT(入力用科目!$AM141,\"????????\"),2,1))","v":" "},{"$f":"IF(入力用科目!$AM141=\"\",\"\",MID(TEXT(入力用科目!$AM141,\"????????\"),3,1))","v":" "},{"$f":"IF(入力用科目!$AM141=\"\",\"\",MID(TEXT(入力用科目!$AM141,\"????????\"),4,1))","v":" "},{"$f":"IF(入力用科目!$AM141=\"\",\"\",MID(TEXT(入力用科目!$AM141,\"????????\"),5,1))","v":" "},{"$f":"IF(入力用科目!$AM141=\"\",\"\",MID(TEXT(入力用科目!$AM141,\"????????\"),6,1))","v":" "},{"$f":"IF(入力用科目!$AM141=\"\",\"\",MID(TEXT(入力用科目!$AM141,\"????????\"),7,1))","v":" "},{"$f":"IF(入力用科目!$AM141=\"\",\"\",MID(TEXT(入力用科目!$AM141,\"????????\"),8,1))","v":" "}]
[{"$f":"IF(入力用科目!A142=\"\",\"\",MID(TEXT(入力用科目!$A142,\"??\"),COLUMN(),1))","v":""},{"$f":"IF(入力用科目!A142=\"\",\"\",MID(TEXT(入力用科目!$A142,\"??\"),COLUMN(),1))","v":""},null,{"$f":"IF(入力用科目!$D142=\"\",\"\",MID(TEXT(入力用科目!$D142,\"???\"),1,1))","v":""},{"$f":"IF(入力用科目!$D142=\"\",\"\",MID(TEXT(入力用科目!$D142,\"???\"),2,1))","v":""},{"$f":"IF(入力用科目!$D142=\"\",\"\",MID(TEXT(入力用科目!$D142,\"???\"),3,1))","v":""},null,{"$f":"IF(入力用科目!$Q142=1,\"運送収入\",IF(入力用科目!$H142=\"\",\"\",入力用科目!$H142))","v":""},null,null,null,null,null,null,null,null,{"$f":"IF(入力用科目!$Q142=\"\",\"\",MID(TEXT(入力用科目!$Q142,\"???\"),1,1))","v":""},{"$f":"IF(入力用科目!$Q142=\"\",\"\",MID(TEXT(入力用科目!$Q142,\"???\"),2,1))","v":""},{"$f":"IF(入力用科目!$Q142=\"\",\"\",MID(TEXT(入力用科目!$Q142,\"???\"),3,1))","v":""},null,{"$f":"IF(入力用科目!$U142=\"\",\"\",MID(TEXT(入力用科目!$U142,\"????????\"),1,1))","v":""},{"$f":"IF(入力用科目!$U142=\"\",\"\",MID(TEXT(入力用科目!$U142,\"????????\"),2,1))","v":""},{"$f":"IF(入力用科目!$U142=\"\",\"\",MID(TEXT(入力用科目!$U142,\"????????\"),3,1))","v":""},{"$f":"IF(入力用科目!$U142=\"\",\"\",MID(TEXT(入力用科目!$U142,\"????????\"),4,1))","v":""},{"$f":"IF(入力用科目!$U142=\"\",\"\",MID(TEXT(入力用科目!$U142,\"????????\"),5,1))","v":""},{"$f":"IF(入力用科目!$U142=\"\",\"\",MID(TEXT(入力用科目!$U142,\"????????\"),6,1))","v":""},{"$f":"IF(入力用科目!$U142=\"\",\"\",MID(TEXT(入力用科目!$U142,\"????????\"),7,1))","v":""},{"$f":"IF(入力用科目!$U142=\"\",\"\",MID(TEXT(入力用科目!$U142,\"????????\"),8,1))","v":""},null,{"$f":"IF(入力用科目!$AD142=\"\",\"\",MID(TEXT(入力用科目!$AD142,\"????????\"),1,1))","v":""},{"$f":"IF(入力用科目!$AD142=\"\",\"\",MID(TEXT(入力用科目!$AD142,\"????????\"),2,1))","v":""},{"$f":"IF(入力用科目!$AD142=\"\",\"\",MID(TEXT(入力用科目!$AD142,\"????????\"),3,1))","v":""},{"$f":"IF(入力用科目!$AD142=\"\",\"\",MID(TEXT(入力用科目!$AD142,\"????????\"),4,1))","v":""},{"$f":"IF(入力用科目!$AD142=\"\",\"\",MID(TEXT(入力用科目!$AD142,\"????????\"),5,1))","v":""},{"$f":"IF(入力用科目!$AD142=\"\",\"\",MID(TEXT(入力用科目!$AD142,\"????????\"),6,1))","v":""},{"$f":"IF(入力用科目!$AD142=\"\",\"\",MID(TEXT(入力用科目!$AD142,\"????????\"),7,1))","v":""},{"$f":"IF(入力用科目!$AD142=\"\",\"\",MID(TEXT(入力用科目!$AD142,\"????????\"),8,1))","v":""},null,{"$f":"IF(入力用科目!$AM142=\"\",\"\",MID(TEXT(入力用科目!$AM142,\"????????\"),1,1))","v":" "},{"$f":"IF(入力用科目!$AM142=\"\",\"\",MID(TEXT(入力用科目!$AM142,\"????????\"),2,1))","v":" "},{"$f":"IF(入力用科目!$AM142=\"\",\"\",MID(TEXT(入力用科目!$AM142,\"????????\"),3,1))","v":" "},{"$f":"IF(入力用科目!$AM142=\"\",\"\",MID(TEXT(入力用科目!$AM142,\"????????\"),4,1))","v":" "},{"$f":"IF(入力用科目!$AM142=\"\",\"\",MID(TEXT(入力用科目!$AM142,\"????????\"),5,1))","v":" "},{"$f":"IF(入力用科目!$AM142=\"\",\"\",MID(TEXT(入力用科目!$AM142,\"????????\"),6,1))","v":" "},{"$f":"IF(入力用科目!$AM142=\"\",\"\",MID(TEXT(入力用科目!$AM142,\"????????\"),7,1))","v":" "},{"$f":"IF(入力用科目!$AM142=\"\",\"\",MID(TEXT(入力用科目!$AM142,\"????????\"),8,1))","v":" "}]
[{"$f":"IF(入力用科目!A143=\"\",\"\",MID(TEXT(入力用科目!$A143,\"??\"),COLUMN(),1))","v":""},{"$f":"IF(入力用科目!A143=\"\",\"\",MID(TEXT(入力用科目!$A143,\"??\"),COLUMN(),1))","v":""},null,{"$f":"IF(入力用科目!$D143=\"\",\"\",MID(TEXT(入力用科目!$D143,\"???\"),1,1))","v":""},{"$f":"IF(入力用科目!$D143=\"\",\"\",MID(TEXT(入力用科目!$D143,\"???\"),2,1))","v":""},{"$f":"IF(入力用科目!$D143=\"\",\"\",MID(TEXT(入力用科目!$D143,\"???\"),3,1))","v":""},null,{"$f":"IF(入力用科目!$Q143=1,\"運送収入\",IF(入力用科目!$H143=\"\",\"\",入力用科目!$H143))","v":""},null,null,null,null,null,null,null,null,{"$f":"IF(入力用科目!$Q143=\"\",\"\",MID(TEXT(入力用科目!$Q143,\"???\"),1,1))","v":""},{"$f":"IF(入力用科目!$Q143=\"\",\"\",MID(TEXT(入力用科目!$Q143,\"???\"),2,1))","v":""},{"$f":"IF(入力用科目!$Q143=\"\",\"\",MID(TEXT(入力用科目!$Q143,\"???\"),3,1))","v":""},null,{"$f":"IF(入力用科目!$U143=\"\",\"\",MID(TEXT(入力用科目!$U143,\"????????\"),1,1))","v":""},{"$f":"IF(入力用科目!$U143=\"\",\"\",MID(TEXT(入力用科目!$U143,\"????????\"),2,1))","v":""},{"$f":"IF(入力用科目!$U143=\"\",\"\",MID(TEXT(入力用科目!$U143,\"????????\"),3,1))","v":""},{"$f":"IF(入力用科目!$U143=\"\",\"\",MID(TEXT(入力用科目!$U143,\"????????\"),4,1))","v":""},{"$f":"IF(入力用科目!$U143=\"\",\"\",MID(TEXT(入力用科目!$U143,\"????????\"),5,1))","v":""},{"$f":"IF(入力用科目!$U143=\"\",\"\",MID(TEXT(入力用科目!$U143,\"????????\"),6,1))","v":""},{"$f":"IF(入力用科目!$U143=\"\",\"\",MID(TEXT(入力用科目!$U143,\"????????\"),7,1))","v":""},{"$f":"IF(入力用科目!$U143=\"\",\"\",MID(TEXT(入力用科目!$U143,\"????????\"),8,1))","v":""},null,{"$f":"IF(入力用科目!$AD143=\"\",\"\",MID(TEXT(入力用科目!$AD143,\"????????\"),1,1))","v":""},{"$f":"IF(入力用科目!$AD143=\"\",\"\",MID(TEXT(入力用科目!$AD143,\"????????\"),2,1))","v":""},{"$f":"IF(入力用科目!$AD143=\"\",\"\",MID(TEXT(入力用科目!$AD143,\"????????\"),3,1))","v":""},{"$f":"IF(入力用科目!$AD143=\"\",\"\",MID(TEXT(入力用科目!$AD143,\"????????\"),4,1))","v":""},{"$f":"IF(入力用科目!$AD143=\"\",\"\",MID(TEXT(入力用科目!$AD143,\"????????\"),5,1))","v":""},{"$f":"IF(入力用科目!$AD143=\"\",\"\",MID(TEXT(入力用科目!$AD143,\"????????\"),6,1))","v":""},{"$f":"IF(入力用科目!$AD143=\"\",\"\",MID(TEXT(入力用科目!$AD143,\"????????\"),7,1))","v":""},{"$f":"IF(入力用科目!$AD143=\"\",\"\",MID(TEXT(入力用科目!$AD143,\"????????\"),8,1))","v":""},null,{"$f":"IF(入力用科目!$AM143=\"\",\"\",MID(TEXT(入力用科目!$AM143,\"????????\"),1,1))","v":" "},{"$f":"IF(入力用科目!$AM143=\"\",\"\",MID(TEXT(入力用科目!$AM143,\"????????\"),2,1))","v":" "},{"$f":"IF(入力用科目!$AM143=\"\",\"\",MID(TEXT(入力用科目!$AM143,\"????????\"),3,1))","v":" "},{"$f":"IF(入力用科目!$AM143=\"\",\"\",MID(TEXT(入力用科目!$AM143,\"????????\"),4,1))","v":" "},{"$f":"IF(入力用科目!$AM143=\"\",\"\",MID(TEXT(入力用科目!$AM143,\"????????\"),5,1))","v":" "},{"$f":"IF(入力用科目!$AM143=\"\",\"\",MID(TEXT(入力用科目!$AM143,\"????????\"),6,1))","v":" "},{"$f":"IF(入力用科目!$AM143=\"\",\"\",MID(TEXT(入力用科目!$AM143,\"????????\"),7,1))","v":" "},{"$f":"IF(入力用科目!$AM143=\"\",\"\",MID(TEXT(入力用科目!$AM143,\"????????\"),8,1))","v":" "}]
[{"$f":"IF(入力用科目!A144=\"\",\"\",MID(TEXT(入力用科目!$A144,\"??\"),COLUMN(),1))","v":""},{"$f":"IF(入力用科目!A144=\"\",\"\",MID(TEXT(入力用科目!$A144,\"??\"),COLUMN(),1))","v":""},null,{"$f":"IF(入力用科目!$D144=\"\",\"\",MID(TEXT(入力用科目!$D144,\"???\"),1,1))","v":""},{"$f":"IF(入力用科目!$D144=\"\",\"\",MID(TEXT(入力用科目!$D144,\"???\"),2,1))","v":""},{"$f":"IF(入力用科目!$D144=\"\",\"\",MID(TEXT(入力用科目!$D144,\"???\"),3,1))","v":""},null,{"$f":"IF(入力用科目!$Q144=1,\"運送収入\",IF(入力用科目!$H144=\"\",\"\",入力用科目!$H144))","v":""},null,null,null,null,null,null,null,null,{"$f":"IF(入力用科目!$Q144=\"\",\"\",MID(TEXT(入力用科目!$Q144,\"???\"),1,1))","v":""},{"$f":"IF(入力用科目!$Q144=\"\",\"\",MID(TEXT(入力用科目!$Q144,\"???\"),2,1))","v":""},{"$f":"IF(入力用科目!$Q144=\"\",\"\",MID(TEXT(入力用科目!$Q144,\"???\"),3,1))","v":""},null,{"$f":"IF(入力用科目!$U144=\"\",\"\",MID(TEXT(入力用科目!$U144,\"????????\"),1,1))","v":""},{"$f":"IF(入力用科目!$U144=\"\",\"\",MID(TEXT(入力用科目!$U144,\"????????\"),2,1))","v":""},{"$f":"IF(入力用科目!$U144=\"\",\"\",MID(TEXT(入力用科目!$U144,\"????????\"),3,1))","v":""},{"$f":"IF(入力用科目!$U144=\"\",\"\",MID(TEXT(入力用科目!$U144,\"????????\"),4,1))","v":""},{"$f":"IF(入力用科目!$U144=\"\",\"\",MID(TEXT(入力用科目!$U144,\"????????\"),5,1))","v":""},{"$f":"IF(入力用科目!$U144=\"\",\"\",MID(TEXT(入力用科目!$U144,\"????????\"),6,1))","v":""},{"$f":"IF(入力用科目!$U144=\"\",\"\",MID(TEXT(入力用科目!$U144,\"????????\"),7,1))","v":""},{"$f":"IF(入力用科目!$U144=\"\",\"\",MID(TEXT(入力用科目!$U144,\"????????\"),8,1))","v":""},null,{"$f":"IF(入力用科目!$AD144=\"\",\"\",MID(TEXT(入力用科目!$AD144,\"????????\"),1,1))","v":""},{"$f":"IF(入力用科目!$AD144=\"\",\"\",MID(TEXT(入力用科目!$AD144,\"????????\"),2,1))","v":""},{"$f":"IF(入力用科目!$AD144=\"\",\"\",MID(TEXT(入力用科目!$AD144,\"????????\"),3,1))","v":""},{"$f":"IF(入力用科目!$AD144=\"\",\"\",MID(TEXT(入力用科目!$AD144,\"????????\"),4,1))","v":""},{"$f":"IF(入力用科目!$AD144=\"\",\"\",MID(TEXT(入力用科目!$AD144,\"????????\"),5,1))","v":""},{"$f":"IF(入力用科目!$AD144=\"\",\"\",MID(TEXT(入力用科目!$AD144,\"????????\"),6,1))","v":""},{"$f":"IF(入力用科目!$AD144=\"\",\"\",MID(TEXT(入力用科目!$AD144,\"????????\"),7,1))","v":""},{"$f":"IF(入力用科目!$AD144=\"\",\"\",MID(TEXT(入力用科目!$AD144,\"????????\"),8,1))","v":""},null,{"$f":"IF(入力用科目!$AM144=\"\",\"\",MID(TEXT(入力用科目!$AM144,\"????????\"),1,1))","v":" "},{"$f":"IF(入力用科目!$AM144=\"\",\"\",MID(TEXT(入力用科目!$AM144,\"????????\"),2,1))","v":" "},{"$f":"IF(入力用科目!$AM144=\"\",\"\",MID(TEXT(入力用科目!$AM144,\"????????\"),3,1))","v":" "},{"$f":"IF(入力用科目!$AM144=\"\",\"\",MID(TEXT(入力用科目!$AM144,\"????????\"),4,1))","v":" "},{"$f":"IF(入力用科目!$AM144=\"\",\"\",MID(TEXT(入力用科目!$AM144,\"????????\"),5,1))","v":" "},{"$f":"IF(入力用科目!$AM144=\"\",\"\",MID(TEXT(入力用科目!$AM144,\"????????\"),6,1))","v":" "},{"$f":"IF(入力用科目!$AM144=\"\",\"\",MID(TEXT(入力用科目!$AM144,\"????????\"),7,1))","v":" "},{"$f":"IF(入力用科目!$AM144=\"\",\"\",MID(TEXT(入力用科目!$AM144,\"????????\"),8,1))","v":" "}]
[{"$f":"IF(入力用科目!A145=\"\",\"\",MID(TEXT(入力用科目!$A145,\"??\"),COLUMN(),1))","v":""},{"$f":"IF(入力用科目!A145=\"\",\"\",MID(TEXT(入力用科目!$A145,\"??\"),COLUMN(),1))","v":""},null,{"$f":"IF(入力用科目!$D145=\"\",\"\",MID(TEXT(入力用科目!$D145,\"???\"),1,1))","v":""},{"$f":"IF(入力用科目!$D145=\"\",\"\",MID(TEXT(入力用科目!$D145,\"???\"),2,1))","v":""},{"$f":"IF(入力用科目!$D145=\"\",\"\",MID(TEXT(入力用科目!$D145,\"???\"),3,1))","v":""},null,{"$f":"IF(入力用科目!$Q145=1,\"運送収入\",IF(入力用科目!$H145=\"\",\"\",入力用科目!$H145))","v":""},null,null,null,null,null,null,null,null,{"$f":"IF(入力用科目!$Q145=\"\",\"\",MID(TEXT(入力用科目!$Q145,\"???\"),1,1))","v":""},{"$f":"IF(入力用科目!$Q145=\"\",\"\",MID(TEXT(入力用科目!$Q145,\"???\"),2,1))","v":""},{"$f":"IF(入力用科目!$Q145=\"\",\"\",MID(TEXT(入力用科目!$Q145,\"???\"),3,1))","v":""},null,{"$f":"IF(入力用科目!$U145=\"\",\"\",MID(TEXT(入力用科目!$U145,\"????????\"),1,1))","v":""},{"$f":"IF(入力用科目!$U145=\"\",\"\",MID(TEXT(入力用科目!$U145,\"????????\"),2,1))","v":""},{"$f":"IF(入力用科目!$U145=\"\",\"\",MID(TEXT(入力用科目!$U145,\"????????\"),3,1))","v":""},{"$f":"IF(入力用科目!$U145=\"\",\"\",MID(TEXT(入力用科目!$U145,\"????????\"),4,1))","v":""},{"$f":"IF(入力用科目!$U145=\"\",\"\",MID(TEXT(入力用科目!$U145,\"????????\"),5,1))","v":""},{"$f":"IF(入力用科目!$U145=\"\",\"\",MID(TEXT(入力用科目!$U145,\"????????\"),6,1))","v":""},{"$f":"IF(入力用科目!$U145=\"\",\"\",MID(TEXT(入力用科目!$U145,\"????????\"),7,1))","v":""},{"$f":"IF(入力用科目!$U145=\"\",\"\",MID(TEXT(入力用科目!$U145,\"????????\"),8,1))","v":""},null,{"$f":"IF(入力用科目!$AD145=\"\",\"\",MID(TEXT(入力用科目!$AD145,\"????????\"),1,1))","v":""},{"$f":"IF(入力用科目!$AD145=\"\",\"\",MID(TEXT(入力用科目!$AD145,\"????????\"),2,1))","v":""},{"$f":"IF(入力用科目!$AD145=\"\",\"\",MID(TEXT(入力用科目!$AD145,\"????????\"),3,1))","v":""},{"$f":"IF(入力用科目!$AD145=\"\",\"\",MID(TEXT(入力用科目!$AD145,\"????????\"),4,1))","v":""},{"$f":"IF(入力用科目!$AD145=\"\",\"\",MID(TEXT(入力用科目!$AD145,\"????????\"),5,1))","v":""},{"$f":"IF(入力用科目!$AD145=\"\",\"\",MID(TEXT(入力用科目!$AD145,\"????????\"),6,1))","v":""},{"$f":"IF(入力用科目!$AD145=\"\",\"\",MID(TEXT(入力用科目!$AD145,\"????????\"),7,1))","v":""},{"$f":"IF(入力用科目!$AD145=\"\",\"\",MID(TEXT(入力用科目!$AD145,\"????????\"),8,1))","v":""},null,{"$f":"IF(入力用科目!$AM145=\"\",\"\",MID(TEXT(入力用科目!$AM145,\"????????\"),1,1))","v":" "},{"$f":"IF(入力用科目!$AM145=\"\",\"\",MID(TEXT(入力用科目!$AM145,\"????????\"),2,1))","v":" "},{"$f":"IF(入力用科目!$AM145=\"\",\"\",MID(TEXT(入力用科目!$AM145,\"????????\"),3,1))","v":" "},{"$f":"IF(入力用科目!$AM145=\"\",\"\",MID(TEXT(入力用科目!$AM145,\"????????\"),4,1))","v":" "},{"$f":"IF(入力用科目!$AM145=\"\",\"\",MID(TEXT(入力用科目!$AM145,\"????????\"),5,1))","v":" "},{"$f":"IF(入力用科目!$AM145=\"\",\"\",MID(TEXT(入力用科目!$AM145,\"????????\"),6,1))","v":" "},{"$f":"IF(入力用科目!$AM145=\"\",\"\",MID(TEXT(入力用科目!$AM145,\"????????\"),7,1))","v":" "},{"$f":"IF(入力用科目!$AM145=\"\",\"\",MID(TEXT(入力用科目!$AM145,\"????????\"),8,1))","v":" "}]
[{"$f":"IF(入力用科目!A146=\"\",\"\",MID(TEXT(入力用科目!$A146,\"??\"),COLUMN(),1))","v":""},{"$f":"IF(入力用科目!A146=\"\",\"\",MID(TEXT(入力用科目!$A146,\"??\"),COLUMN(),1))","v":""},null,{"$f":"IF(入力用科目!$D146=\"\",\"\",MID(TEXT(入力用科目!$D146,\"???\"),1,1))","v":""},{"$f":"IF(入力用科目!$D146=\"\",\"\",MID(TEXT(入力用科目!$D146,\"???\"),2,1))","v":""},{"$f":"IF(入力用科目!$D146=\"\",\"\",MID(TEXT(入力用科目!$D146,\"???\"),3,1))","v":""},null,{"$f":"IF(入力用科目!$Q146=1,\"運送収入\",IF(入力用科目!$H146=\"\",\"\",入力用科目!$H146))","v":""},null,null,null,null,null,null,null,null,{"$f":"IF(入力用科目!$Q146=\"\",\"\",MID(TEXT(入力用科目!$Q146,\"???\"),1,1))","v":""},{"$f":"IF(入力用科目!$Q146=\"\",\"\",MID(TEXT(入力用科目!$Q146,\"???\"),2,1))","v":""},{"$f":"IF(入力用科目!$Q146=\"\",\"\",MID(TEXT(入力用科目!$Q146,\"???\"),3,1))","v":""},null,{"$f":"IF(入力用科目!$U146=\"\",\"\",MID(TEXT(入力用科目!$U146,\"????????\"),1,1))","v":""},{"$f":"IF(入力用科目!$U146=\"\",\"\",MID(TEXT(入力用科目!$U146,\"????????\"),2,1))","v":""},{"$f":"IF(入力用科目!$U146=\"\",\"\",MID(TEXT(入力用科目!$U146,\"????????\"),3,1))","v":""},{"$f":"IF(入力用科目!$U146=\"\",\"\",MID(TEXT(入力用科目!$U146,\"????????\"),4,1))","v":""},{"$f":"IF(入力用科目!$U146=\"\",\"\",MID(TEXT(入力用科目!$U146,\"????????\"),5,1))","v":""},{"$f":"IF(入力用科目!$U146=\"\",\"\",MID(TEXT(入力用科目!$U146,\"????????\"),6,1))","v":""},{"$f":"IF(入力用科目!$U146=\"\",\"\",MID(TEXT(入力用科目!$U146,\"????????\"),7,1))","v":""},{"$f":"IF(入力用科目!$U146=\"\",\"\",MID(TEXT(入力用科目!$U146,\"????????\"),8,1))","v":""},null,{"$f":"IF(入力用科目!$AD146=\"\",\"\",MID(TEXT(入力用科目!$AD146,\"????????\"),1,1))","v":""},{"$f":"IF(入力用科目!$AD146=\"\",\"\",MID(TEXT(入力用科目!$AD146,\"????????\"),2,1))","v":""},{"$f":"IF(入力用科目!$AD146=\"\",\"\",MID(TEXT(入力用科目!$AD146,\"????????\"),3,1))","v":""},{"$f":"IF(入力用科目!$AD146=\"\",\"\",MID(TEXT(入力用科目!$AD146,\"????????\"),4,1))","v":""},{"$f":"IF(入力用科目!$AD146=\"\",\"\",MID(TEXT(入力用科目!$AD146,\"????????\"),5,1))","v":""},{"$f":"IF(入力用科目!$AD146=\"\",\"\",MID(TEXT(入力用科目!$AD146,\"????????\"),6,1))","v":""},{"$f":"IF(入力用科目!$AD146=\"\",\"\",MID(TEXT(入力用科目!$AD146,\"????????\"),7,1))","v":""},{"$f":"IF(入力用科目!$AD146=\"\",\"\",MID(TEXT(入力用科目!$AD146,\"????????\"),8,1))","v":""},null,{"$f":"IF(入力用科目!$AM146=\"\",\"\",MID(TEXT(入力用科目!$AM146,\"????????\"),1,1))","v":" "},{"$f":"IF(入力用科目!$AM146=\"\",\"\",MID(TEXT(入力用科目!$AM146,\"????????\"),2,1))","v":" "},{"$f":"IF(入力用科目!$AM146=\"\",\"\",MID(TEXT(入力用科目!$AM146,\"????????\"),3,1))","v":" "},{"$f":"IF(入力用科目!$AM146=\"\",\"\",MID(TEXT(入力用科目!$AM146,\"????????\"),4,1))","v":" "},{"$f":"IF(入力用科目!$AM146=\"\",\"\",MID(TEXT(入力用科目!$AM146,\"????????\"),5,1))","v":" "},{"$f":"IF(入力用科目!$AM146=\"\",\"\",MID(TEXT(入力用科目!$AM146,\"????????\"),6,1))","v":" "},{"$f":"IF(入力用科目!$AM146=\"\",\"\",MID(TEXT(入力用科目!$AM146,\"????????\"),7,1))","v":" "},{"$f":"IF(入力用科目!$AM146=\"\",\"\",MID(TEXT(入力用科目!$AM146,\"????????\"),8,1))","v":" "}]
[{"$f":"IF(入力用科目!A147=\"\",\"\",MID(TEXT(入力用科目!$A147,\"??\"),COLUMN(),1))","v":""},{"$f":"IF(入力用科目!A147=\"\",\"\",MID(TEXT(入力用科目!$A147,\"??\"),COLUMN(),1))","v":""},null,{"$f":"IF(入力用科目!$D147=\"\",\"\",MID(TEXT(入力用科目!$D147,\"???\"),1,1))","v":""},{"$f":"IF(入力用科目!$D147=\"\",\"\",MID(TEXT(入力用科目!$D147,\"???\"),2,1))","v":""},{"$f":"IF(入力用科目!$D147=\"\",\"\",MID(TEXT(入力用科目!$D147,\"???\"),3,1))","v":""},null,{"$f":"IF(入力用科目!$Q147=1,\"運送収入\",IF(入力用科目!$H147=\"\",\"\",入力用科目!$H147))","v":""},null,null,null,null,null,null,null,null,{"$f":"IF(入力用科目!$Q147=\"\",\"\",MID(TEXT(入力用科目!$Q147,\"???\"),1,1))","v":""},{"$f":"IF(入力用科目!$Q147=\"\",\"\",MID(TEXT(入力用科目!$Q147,\"???\"),2,1))","v":""},{"$f":"IF(入力用科目!$Q147=\"\",\"\",MID(TEXT(入力用科目!$Q147,\"???\"),3,1))","v":""},null,{"$f":"IF(入力用科目!$U147=\"\",\"\",MID(TEXT(入力用科目!$U147,\"????????\"),1,1))","v":""},{"$f":"IF(入力用科目!$U147=\"\",\"\",MID(TEXT(入力用科目!$U147,\"????????\"),2,1))","v":""},{"$f":"IF(入力用科目!$U147=\"\",\"\",MID(TEXT(入力用科目!$U147,\"????????\"),3,1))","v":""},{"$f":"IF(入力用科目!$U147=\"\",\"\",MID(TEXT(入力用科目!$U147,\"????????\"),4,1))","v":""},{"$f":"IF(入力用科目!$U147=\"\",\"\",MID(TEXT(入力用科目!$U147,\"????????\"),5,1))","v":""},{"$f":"IF(入力用科目!$U147=\"\",\"\",MID(TEXT(入力用科目!$U147,\"????????\"),6,1))","v":""},{"$f":"IF(入力用科目!$U147=\"\",\"\",MID(TEXT(入力用科目!$U147,\"????????\"),7,1))","v":""},{"$f":"IF(入力用科目!$U147=\"\",\"\",MID(TEXT(入力用科目!$U147,\"????????\"),8,1))","v":""},null,{"$f":"IF(入力用科目!$AD147=\"\",\"\",MID(TEXT(入力用科目!$AD147,\"????????\"),1,1))","v":""},{"$f":"IF(入力用科目!$AD147=\"\",\"\",MID(TEXT(入力用科目!$AD147,\"????????\"),2,1))","v":""},{"$f":"IF(入力用科目!$AD147=\"\",\"\",MID(TEXT(入力用科目!$AD147,\"????????\"),3,1))","v":""},{"$f":"IF(入力用科目!$AD147=\"\",\"\",MID(TEXT(入力用科目!$AD147,\"????????\"),4,1))","v":""},{"$f":"IF(入力用科目!$AD147=\"\",\"\",MID(TEXT(入力用科目!$AD147,\"????????\"),5,1))","v":""},{"$f":"IF(入力用科目!$AD147=\"\",\"\",MID(TEXT(入力用科目!$AD147,\"????????\"),6,1))","v":""},{"$f":"IF(入力用科目!$AD147=\"\",\"\",MID(TEXT(入力用科目!$AD147,\"????????\"),7,1))","v":""},{"$f":"IF(入力用科目!$AD147=\"\",\"\",MID(TEXT(入力用科目!$AD147,\"????????\"),8,1))","v":""},null,{"$f":"IF(入力用科目!$AM147=\"\",\"\",MID(TEXT(入力用科目!$AM147,\"????????\"),1,1))","v":" "},{"$f":"IF(入力用科目!$AM147=\"\",\"\",MID(TEXT(入力用科目!$AM147,\"????????\"),2,1))","v":" "},{"$f":"IF(入力用科目!$AM147=\"\",\"\",MID(TEXT(入力用科目!$AM147,\"????????\"),3,1))","v":" "},{"$f":"IF(入力用科目!$AM147=\"\",\"\",MID(TEXT(入力用科目!$AM147,\"????????\"),4,1))","v":" "},{"$f":"IF(入力用科目!$AM147=\"\",\"\",MID(TEXT(入力用科目!$AM147,\"????????\"),5,1))","v":" "},{"$f":"IF(入力用科目!$AM147=\"\",\"\",MID(TEXT(入力用科目!$AM147,\"????????\"),6,1))","v":" "},{"$f":"IF(入力用科目!$AM147=\"\",\"\",MID(TEXT(入力用科目!$AM147,\"????????\"),7,1))","v":" "},{"$f":"IF(入力用科目!$AM147=\"\",\"\",MID(TEXT(入力用科目!$AM147,\"????????\"),8,1))","v":" "}]
[{"$f":"IF(入力用科目!A148=\"\",\"\",MID(TEXT(入力用科目!$A148,\"??\"),COLUMN(),1))","v":""},{"$f":"IF(入力用科目!A148=\"\",\"\",MID(TEXT(入力用科目!$A148,\"??\"),COLUMN(),1))","v":""},null,{"$f":"IF(入力用科目!$D148=\"\",\"\",MID(TEXT(入力用科目!$D148,\"???\"),1,1))","v":""},{"$f":"IF(入力用科目!$D148=\"\",\"\",MID(TEXT(入力用科目!$D148,\"???\"),2,1))","v":""},{"$f":"IF(入力用科目!$D148=\"\",\"\",MID(TEXT(入力用科目!$D148,\"???\"),3,1))","v":""},null,{"$f":"IF(入力用科目!$Q148=1,\"運送収入\",IF(入力用科目!$H148=\"\",\"\",入力用科目!$H148))","v":""},null,null,null,null,null,null,null,null,{"$f":"IF(入力用科目!$Q148=\"\",\"\",MID(TEXT(入力用科目!$Q148,\"???\"),1,1))","v":""},{"$f":"IF(入力用科目!$Q148=\"\",\"\",MID(TEXT(入力用科目!$Q148,\"???\"),2,1))","v":""},{"$f":"IF(入力用科目!$Q148=\"\",\"\",MID(TEXT(入力用科目!$Q148,\"???\"),3,1))","v":""},null,{"$f":"IF(入力用科目!$U148=\"\",\"\",MID(TEXT(入力用科目!$U148,\"????????\"),1,1))","v":""},{"$f":"IF(入力用科目!$U148=\"\",\"\",MID(TEXT(入力用科目!$U148,\"????????\"),2,1))","v":""},{"$f":"IF(入力用科目!$U148=\"\",\"\",MID(TEXT(入力用科目!$U148,\"????????\"),3,1))","v":""},{"$f":"IF(入力用科目!$U148=\"\",\"\",MID(TEXT(入力用科目!$U148,\"????????\"),4,1))","v":""},{"$f":"IF(入力用科目!$U148=\"\",\"\",MID(TEXT(入力用科目!$U148,\"????????\"),5,1))","v":""},{"$f":"IF(入力用科目!$U148=\"\",\"\",MID(TEXT(入力用科目!$U148,\"????????\"),6,1))","v":""},{"$f":"IF(入力用科目!$U148=\"\",\"\",MID(TEXT(入力用科目!$U148,\"????????\"),7,1))","v":""},{"$f":"IF(入力用科目!$U148=\"\",\"\",MID(TEXT(入力用科目!$U148,\"????????\"),8,1))","v":""},null,{"$f":"IF(入力用科目!$AD148=\"\",\"\",MID(TEXT(入力用科目!$AD148,\"????????\"),1,1))","v":""},{"$f":"IF(入力用科目!$AD148=\"\",\"\",MID(TEXT(入力用科目!$AD148,\"????????\"),2,1))","v":""},{"$f":"IF(入力用科目!$AD148=\"\",\"\",MID(TEXT(入力用科目!$AD148,\"????????\"),3,1))","v":""},{"$f":"IF(入力用科目!$AD148=\"\",\"\",MID(TEXT(入力用科目!$AD148,\"????????\"),4,1))","v":""},{"$f":"IF(入力用科目!$AD148=\"\",\"\",MID(TEXT(入力用科目!$AD148,\"????????\"),5,1))","v":""},{"$f":"IF(入力用科目!$AD148=\"\",\"\",MID(TEXT(入力用科目!$AD148,\"????????\"),6,1))","v":""},{"$f":"IF(入力用科目!$AD148=\"\",\"\",MID(TEXT(入力用科目!$AD148,\"????????\"),7,1))","v":""},{"$f":"IF(入力用科目!$AD148=\"\",\"\",MID(TEXT(入力用科目!$AD148,\"????????\"),8,1))","v":""},null,{"$f":"IF(入力用科目!$AM148=\"\",\"\",MID(TEXT(入力用科目!$AM148,\"????????\"),1,1))","v":" "},{"$f":"IF(入力用科目!$AM148=\"\",\"\",MID(TEXT(入力用科目!$AM148,\"????????\"),2,1))","v":" "},{"$f":"IF(入力用科目!$AM148=\"\",\"\",MID(TEXT(入力用科目!$AM148,\"????????\"),3,1))","v":" "},{"$f":"IF(入力用科目!$AM148=\"\",\"\",MID(TEXT(入力用科目!$AM148,\"????????\"),4,1))","v":" "},{"$f":"IF(入力用科目!$AM148=\"\",\"\",MID(TEXT(入力用科目!$AM148,\"????????\"),5,1))","v":" "},{"$f":"IF(入力用科目!$AM148=\"\",\"\",MID(TEXT(入力用科目!$AM148,\"????????\"),6,1))","v":" "},{"$f":"IF(入力用科目!$AM148=\"\",\"\",MID(TEXT(入力用科目!$AM148,\"????????\"),7,1))","v":" "},{"$f":"IF(入力用科目!$AM148=\"\",\"\",MID(TEXT(入力用科目!$AM148,\"????????\"),8,1))","v":" "}]
[{"$f":"IF(入力用科目!A149=\"\",\"\",MID(TEXT(入力用科目!$A149,\"??\"),COLUMN(),1))","v":""},{"$f":"IF(入力用科目!A149=\"\",\"\",MID(TEXT(入力用科目!$A149,\"??\"),COLUMN(),1))","v":""},null,{"$f":"IF(入力用科目!$D149=\"\",\"\",MID(TEXT(入力用科目!$D149,\"???\"),1,1))","v":""},{"$f":"IF(入力用科目!$D149=\"\",\"\",MID(TEXT(入力用科目!$D149,\"???\"),2,1))","v":""},{"$f":"IF(入力用科目!$D149=\"\",\"\",MID(TEXT(入力用科目!$D149,\"???\"),3,1))","v":""},null,{"$f":"IF(入力用科目!$Q149=1,\"運送収入\",IF(入力用科目!$H149=\"\",\"\",入力用科目!$H149))","v":""},null,null,null,null,null,null,null,null,{"$f":"IF(入力用科目!$Q149=\"\",\"\",MID(TEXT(入力用科目!$Q149,\"???\"),1,1))","v":""},{"$f":"IF(入力用科目!$Q149=\"\",\"\",MID(TEXT(入力用科目!$Q149,\"???\"),2,1))","v":""},{"$f":"IF(入力用科目!$Q149=\"\",\"\",MID(TEXT(入力用科目!$Q149,\"???\"),3,1))","v":""},null,{"$f":"IF(入力用科目!$U149=\"\",\"\",MID(TEXT(入力用科目!$U149,\"????????\"),1,1))","v":""},{"$f":"IF(入力用科目!$U149=\"\",\"\",MID(TEXT(入力用科目!$U149,\"????????\"),2,1))","v":""},{"$f":"IF(入力用科目!$U149=\"\",\"\",MID(TEXT(入力用科目!$U149,\"????????\"),3,1))","v":""},{"$f":"IF(入力用科目!$U149=\"\",\"\",MID(TEXT(入力用科目!$U149,\"????????\"),4,1))","v":""},{"$f":"IF(入力用科目!$U149=\"\",\"\",MID(TEXT(入力用科目!$U149,\"????????\"),5,1))","v":""},{"$f":"IF(入力用科目!$U149=\"\",\"\",MID(TEXT(入力用科目!$U149,\"????????\"),6,1))","v":""},{"$f":"IF(入力用科目!$U149=\"\",\"\",MID(TEXT(入力用科目!$U149,\"????????\"),7,1))","v":""},{"$f":"IF(入力用科目!$U149=\"\",\"\",MID(TEXT(入力用科目!$U149,\"????????\"),8,1))","v":""},null,{"$f":"IF(入力用科目!$AD149=\"\",\"\",MID(TEXT(入力用科目!$AD149,\"????????\"),1,1))","v":""},{"$f":"IF(入力用科目!$AD149=\"\",\"\",MID(TEXT(入力用科目!$AD149,\"????????\"),2,1))","v":""},{"$f":"IF(入力用科目!$AD149=\"\",\"\",MID(TEXT(入力用科目!$AD149,\"????????\"),3,1))","v":""},{"$f":"IF(入力用科目!$AD149=\"\",\"\",MID(TEXT(入力用科目!$AD149,\"????????\"),4,1))","v":""},{"$f":"IF(入力用科目!$AD149=\"\",\"\",MID(TEXT(入力用科目!$AD149,\"????????\"),5,1))","v":""},{"$f":"IF(入力用科目!$AD149=\"\",\"\",MID(TEXT(入力用科目!$AD149,\"????????\"),6,1))","v":""},{"$f":"IF(入力用科目!$AD149=\"\",\"\",MID(TEXT(入力用科目!$AD149,\"????????\"),7,1))","v":""},{"$f":"IF(入力用科目!$AD149=\"\",\"\",MID(TEXT(入力用科目!$AD149,\"????????\"),8,1))","v":""},null,{"$f":"IF(入力用科目!$AM149=\"\",\"\",MID(TEXT(入力用科目!$AM149,\"????????\"),1,1))","v":" "},{"$f":"IF(入力用科目!$AM149=\"\",\"\",MID(TEXT(入力用科目!$AM149,\"????????\"),2,1))","v":" "},{"$f":"IF(入力用科目!$AM149=\"\",\"\",MID(TEXT(入力用科目!$AM149,\"????????\"),3,1))","v":" "},{"$f":"IF(入力用科目!$AM149=\"\",\"\",MID(TEXT(入力用科目!$AM149,\"????????\"),4,1))","v":" "},{"$f":"IF(入力用科目!$AM149=\"\",\"\",MID(TEXT(入力用科目!$AM149,\"????????\"),5,1))","v":" "},{"$f":"IF(入力用科目!$AM149=\"\",\"\",MID(TEXT(入力用科目!$AM149,\"????????\"),6,1))","v":" "},{"$f":"IF(入力用科目!$AM149=\"\",\"\",MID(TEXT(入力用科目!$AM149,\"????????\"),7,1))","v":" "},{"$f":"IF(入力用科目!$AM149=\"\",\"\",MID(TEXT(入力用科目!$AM149,\"????????\"),8,1))","v":" "}]
[{"$f":"IF(入力用科目!A150=\"\",\"\",MID(TEXT(入力用科目!$A150,\"??\"),COLUMN(),1))","v":""},{"$f":"IF(入力用科目!A150=\"\",\"\",MID(TEXT(入力用科目!$A150,\"??\"),COLUMN(),1))","v":""},null,{"$f":"IF(入力用科目!$D150=\"\",\"\",MID(TEXT(入力用科目!$D150,\"???\"),1,1))","v":""},{"$f":"IF(入力用科目!$D150=\"\",\"\",MID(TEXT(入力用科目!$D150,\"???\"),2,1))","v":""},{"$f":"IF(入力用科目!$D150=\"\",\"\",MID(TEXT(入力用科目!$D150,\"???\"),3,1))","v":""},null,{"$f":"IF(入力用科目!$Q150=1,\"運送収入\",IF(入力用科目!$H150=\"\",\"\",入力用科目!$H150))","v":""},null,null,null,null,null,null,null,null,{"$f":"IF(入力用科目!$Q150=\"\",\"\",MID(TEXT(入力用科目!$Q150,\"???\"),1,1))","v":""},{"$f":"IF(入力用科目!$Q150=\"\",\"\",MID(TEXT(入力用科目!$Q150,\"???\"),2,1))","v":""},{"$f":"IF(入力用科目!$Q150=\"\",\"\",MID(TEXT(入力用科目!$Q150,\"???\"),3,1))","v":""},null,{"$f":"IF(入力用科目!$U150=\"\",\"\",MID(TEXT(入力用科目!$U150,\"????????\"),1,1))","v":""},{"$f":"IF(入力用科目!$U150=\"\",\"\",MID(TEXT(入力用科目!$U150,\"????????\"),2,1))","v":""},{"$f":"IF(入力用科目!$U150=\"\",\"\",MID(TEXT(入力用科目!$U150,\"????????\"),3,1))","v":""},{"$f":"IF(入力用科目!$U150=\"\",\"\",MID(TEXT(入力用科目!$U150,\"????????\"),4,1))","v":""},{"$f":"IF(入力用科目!$U150=\"\",\"\",MID(TEXT(入力用科目!$U150,\"????????\"),5,1))","v":""},{"$f":"IF(入力用科目!$U150=\"\",\"\",MID(TEXT(入力用科目!$U150,\"????????\"),6,1))","v":""},{"$f":"IF(入力用科目!$U150=\"\",\"\",MID(TEXT(入力用科目!$U150,\"????????\"),7,1))","v":""},{"$f":"IF(入力用科目!$U150=\"\",\"\",MID(TEXT(入力用科目!$U150,\"????????\"),8,1))","v":""},null,{"$f":"IF(入力用科目!$AD150=\"\",\"\",MID(TEXT(入力用科目!$AD150,\"????????\"),1,1))","v":""},{"$f":"IF(入力用科目!$AD150=\"\",\"\",MID(TEXT(入力用科目!$AD150,\"????????\"),2,1))","v":""},{"$f":"IF(入力用科目!$AD150=\"\",\"\",MID(TEXT(入力用科目!$AD150,\"????????\"),3,1))","v":""},{"$f":"IF(入力用科目!$AD150=\"\",\"\",MID(TEXT(入力用科目!$AD150,\"????????\"),4,1))","v":""},{"$f":"IF(入力用科目!$AD150=\"\",\"\",MID(TEXT(入力用科目!$AD150,\"????????\"),5,1))","v":""},{"$f":"IF(入力用科目!$AD150=\"\",\"\",MID(TEXT(入力用科目!$AD150,\"????????\"),6,1))","v":""},{"$f":"IF(入力用科目!$AD150=\"\",\"\",MID(TEXT(入力用科目!$AD150,\"????????\"),7,1))","v":""},{"$f":"IF(入力用科目!$AD150=\"\",\"\",MID(TEXT(入力用科目!$AD150,\"????????\"),8,1))","v":""},null,{"$f":"IF(入力用科目!$AM150=\"\",\"\",MID(TEXT(入力用科目!$AM150,\"????????\"),1,1))","v":" "},{"$f":"IF(入力用科目!$AM150=\"\",\"\",MID(TEXT(入力用科目!$AM150,\"????????\"),2,1))","v":" "},{"$f":"IF(入力用科目!$AM150=\"\",\"\",MID(TEXT(入力用科目!$AM150,\"????????\"),3,1))","v":" "},{"$f":"IF(入力用科目!$AM150=\"\",\"\",MID(TEXT(入力用科目!$AM150,\"????????\"),4,1))","v":" "},{"$f":"IF(入力用科目!$AM150=\"\",\"\",MID(TEXT(入力用科目!$AM150,\"????????\"),5,1))","v":" "},{"$f":"IF(入力用科目!$AM150=\"\",\"\",MID(TEXT(入力用科目!$AM150,\"????????\"),6,1))","v":" "},{"$f":"IF(入力用科目!$AM150=\"\",\"\",MID(TEXT(入力用科目!$AM150,\"????????\"),7,1))","v":" "},{"$f":"IF(入力用科目!$AM150=\"\",\"\",MID(TEXT(入力用科目!$AM150,\"????????\"),8,1))","v":" "}]
[{"$f":"IF(入力用科目!A151=\"\",\"\",MID(TEXT(入力用科目!$A151,\"??\"),COLUMN(),1))","v":""},{"$f":"IF(入力用科目!A151=\"\",\"\",MID(TEXT(入力用科目!$A151,\"??\"),COLUMN(),1))","v":""},null,{"$f":"IF(入力用科目!$D151=\"\",\"\",MID(TEXT(入力用科目!$D151,\"???\"),1,1))","v":""},{"$f":"IF(入力用科目!$D151=\"\",\"\",MID(TEXT(入力用科目!$D151,\"???\"),2,1))","v":""},{"$f":"IF(入力用科目!$D151=\"\",\"\",MID(TEXT(入力用科目!$D151,\"???\"),3,1))","v":""},null,{"$f":"IF(入力用科目!$Q151=1,\"運送収入\",IF(入力用科目!$H151=\"\",\"\",入力用科目!$H151))","v":""},null,null,null,null,null,null,null,null,{"$f":"IF(入力用科目!$Q151=\"\",\"\",MID(TEXT(入力用科目!$Q151,\"???\"),1,1))","v":""},{"$f":"IF(入力用科目!$Q151=\"\",\"\",MID(TEXT(入力用科目!$Q151,\"???\"),2,1))","v":""},{"$f":"IF(入力用科目!$Q151=\"\",\"\",MID(TEXT(入力用科目!$Q151,\"???\"),3,1))","v":""},null,{"$f":"IF(入力用科目!$U151=\"\",\"\",MID(TEXT(入力用科目!$U151,\"????????\"),1,1))","v":""},{"$f":"IF(入力用科目!$U151=\"\",\"\",MID(TEXT(入力用科目!$U151,\"????????\"),2,1))","v":""},{"$f":"IF(入力用科目!$U151=\"\",\"\",MID(TEXT(入力用科目!$U151,\"????????\"),3,1))","v":""},{"$f":"IF(入力用科目!$U151=\"\",\"\",MID(TEXT(入力用科目!$U151,\"????????\"),4,1))","v":""},{"$f":"IF(入力用科目!$U151=\"\",\"\",MID(TEXT(入力用科目!$U151,\"????????\"),5,1))","v":""},{"$f":"IF(入力用科目!$U151=\"\",\"\",MID(TEXT(入力用科目!$U151,\"????????\"),6,1))","v":""},{"$f":"IF(入力用科目!$U151=\"\",\"\",MID(TEXT(入力用科目!$U151,\"????????\"),7,1))","v":""},{"$f":"IF(入力用科目!$U151=\"\",\"\",MID(TEXT(入力用科目!$U151,\"????????\"),8,1))","v":""},null,{"$f":"IF(入力用科目!$AD151=\"\",\"\",MID(TEXT(入力用科目!$AD151,\"????????\"),1,1))","v":""},{"$f":"IF(入力用科目!$AD151=\"\",\"\",MID(TEXT(入力用科目!$AD151,\"????????\"),2,1))","v":""},{"$f":"IF(入力用科目!$AD151=\"\",\"\",MID(TEXT(入力用科目!$AD151,\"????????\"),3,1))","v":""},{"$f":"IF(入力用科目!$AD151=\"\",\"\",MID(TEXT(入力用科目!$AD151,\"????????\"),4,1))","v":""},{"$f":"IF(入力用科目!$AD151=\"\",\"\",MID(TEXT(入力用科目!$AD151,\"????????\"),5,1))","v":""},{"$f":"IF(入力用科目!$AD151=\"\",\"\",MID(TEXT(入力用科目!$AD151,\"????????\"),6,1))","v":""},{"$f":"IF(入力用科目!$AD151=\"\",\"\",MID(TEXT(入力用科目!$AD151,\"????????\"),7,1))","v":""},{"$f":"IF(入力用科目!$AD151=\"\",\"\",MID(TEXT(入力用科目!$AD151,\"????????\"),8,1))","v":""},null,{"$f":"IF(入力用科目!$AM151=\"\",\"\",MID(TEXT(入力用科目!$AM151,\"????????\"),1,1))","v":" "},{"$f":"IF(入力用科目!$AM151=\"\",\"\",MID(TEXT(入力用科目!$AM151,\"????????\"),2,1))","v":" "},{"$f":"IF(入力用科目!$AM151=\"\",\"\",MID(TEXT(入力用科目!$AM151,\"????????\"),3,1))","v":" "},{"$f":"IF(入力用科目!$AM151=\"\",\"\",MID(TEXT(入力用科目!$AM151,\"????????\"),4,1))","v":" "},{"$f":"IF(入力用科目!$AM151=\"\",\"\",MID(TEXT(入力用科目!$AM151,\"????????\"),5,1))","v":" "},{"$f":"IF(入力用科目!$AM151=\"\",\"\",MID(TEXT(入力用科目!$AM151,\"????????\"),6,1))","v":" "},{"$f":"IF(入力用科目!$AM151=\"\",\"\",MID(TEXT(入力用科目!$AM151,\"????????\"),7,1))","v":" "},{"$f":"IF(入力用科目!$AM151=\"\",\"\",MID(TEXT(入力用科目!$AM151,\"????????\"),8,1))","v":" "}]
[{"$f":"IF(入力用科目!A152=\"\",\"\",MID(TEXT(入力用科目!$A152,\"??\"),COLUMN(),1))","v":""},{"$f":"IF(入力用科目!A152=\"\",\"\",MID(TEXT(入力用科目!$A152,\"??\"),COLUMN(),1))","v":""},null,{"$f":"IF(入力用科目!$D152=\"\",\"\",MID(TEXT(入力用科目!$D152,\"???\"),1,1))","v":""},{"$f":"IF(入力用科目!$D152=\"\",\"\",MID(TEXT(入力用科目!$D152,\"???\"),2,1))","v":""},{"$f":"IF(入力用科目!$D152=\"\",\"\",MID(TEXT(入力用科目!$D152,\"???\"),3,1))","v":""},null,{"$f":"IF(入力用科目!$Q152=1,\"運送収入\",IF(入力用科目!$H152=\"\",\"\",入力用科目!$H152))","v":""},null,null,null,null,null,null,null,null,{"$f":"IF(入力用科目!$Q152=\"\",\"\",MID(TEXT(入力用科目!$Q152,\"???\"),1,1))","v":""},{"$f":"IF(入力用科目!$Q152=\"\",\"\",MID(TEXT(入力用科目!$Q152,\"???\"),2,1))","v":""},{"$f":"IF(入力用科目!$Q152=\"\",\"\",MID(TEXT(入力用科目!$Q152,\"???\"),3,1))","v":""},null,{"$f":"IF(入力用科目!$U152=\"\",\"\",MID(TEXT(入力用科目!$U152,\"????????\"),1,1))","v":""},{"$f":"IF(入力用科目!$U152=\"\",\"\",MID(TEXT(入力用科目!$U152,\"????????\"),2,1))","v":""},{"$f":"IF(入力用科目!$U152=\"\",\"\",MID(TEXT(入力用科目!$U152,\"????????\"),3,1))","v":""},{"$f":"IF(入力用科目!$U152=\"\",\"\",MID(TEXT(入力用科目!$U152,\"????????\"),4,1))","v":""},{"$f":"IF(入力用科目!$U152=\"\",\"\",MID(TEXT(入力用科目!$U152,\"????????\"),5,1))","v":""},{"$f":"IF(入力用科目!$U152=\"\",\"\",MID(TEXT(入力用科目!$U152,\"????????\"),6,1))","v":""},{"$f":"IF(入力用科目!$U152=\"\",\"\",MID(TEXT(入力用科目!$U152,\"????????\"),7,1))","v":""},{"$f":"IF(入力用科目!$U152=\"\",\"\",MID(TEXT(入力用科目!$U152,\"????????\"),8,1))","v":""},null,{"$f":"IF(入力用科目!$AD152=\"\",\"\",MID(TEXT(入力用科目!$AD152,\"????????\"),1,1))","v":""},{"$f":"IF(入力用科目!$AD152=\"\",\"\",MID(TEXT(入力用科目!$AD152,\"????????\"),2,1))","v":""},{"$f":"IF(入力用科目!$AD152=\"\",\"\",MID(TEXT(入力用科目!$AD152,\"????????\"),3,1))","v":""},{"$f":"IF(入力用科目!$AD152=\"\",\"\",MID(TEXT(入力用科目!$AD152,\"????????\"),4,1))","v":""},{"$f":"IF(入力用科目!$AD152=\"\",\"\",MID(TEXT(入力用科目!$AD152,\"????????\"),5,1))","v":""},{"$f":"IF(入力用科目!$AD152=\"\",\"\",MID(TEXT(入力用科目!$AD152,\"????????\"),6,1))","v":""},{"$f":"IF(入力用科目!$AD152=\"\",\"\",MID(TEXT(入力用科目!$AD152,\"????????\"),7,1))","v":""},{"$f":"IF(入力用科目!$AD152=\"\",\"\",MID(TEXT(入力用科目!$AD152,\"????????\"),8,1))","v":""},null,{"$f":"IF(入力用科目!$AM152=\"\",\"\",MID(TEXT(入力用科目!$AM152,\"????????\"),1,1))","v":" "},{"$f":"IF(入力用科目!$AM152=\"\",\"\",MID(TEXT(入力用科目!$AM152,\"????????\"),2,1))","v":" "},{"$f":"IF(入力用科目!$AM152=\"\",\"\",MID(TEXT(入力用科目!$AM152,\"????????\"),3,1))","v":" "},{"$f":"IF(入力用科目!$AM152=\"\",\"\",MID(TEXT(入力用科目!$AM152,\"????????\"),4,1))","v":" "},{"$f":"IF(入力用科目!$AM152=\"\",\"\",MID(TEXT(入力用科目!$AM152,\"????????\"),5,1))","v":" "},{"$f":"IF(入力用科目!$AM152=\"\",\"\",MID(TEXT(入力用科目!$AM152,\"????????\"),6,1))","v":" "},{"$f":"IF(入力用科目!$AM152=\"\",\"\",MID(TEXT(入力用科目!$AM152,\"????????\"),7,1))","v":" "},{"$f":"IF(入力用科目!$AM152=\"\",\"\",MID(TEXT(入力用科目!$AM152,\"????????\"),8,1))","v":" "}]
[{"$f":"IF(入力用科目!A153=\"\",\"\",MID(TEXT(入力用科目!$A153,\"??\"),COLUMN(),1))","v":""},{"$f":"IF(入力用科目!A153=\"\",\"\",MID(TEXT(入力用科目!$A153,\"??\"),COLUMN(),1))","v":""},null,{"$f":"IF(入力用科目!$D153=\"\",\"\",MID(TEXT(入力用科目!$D153,\"???\"),1,1))","v":""},{"$f":"IF(入力用科目!$D153=\"\",\"\",MID(TEXT(入力用科目!$D153,\"???\"),2,1))","v":""},{"$f":"IF(入力用科目!$D153=\"\",\"\",MID(TEXT(入力用科目!$D153,\"???\"),3,1))","v":""},null,{"$f":"IF(入力用科目!$Q153=1,\"運送収入\",IF(入力用科目!$H153=\"\",\"\",入力用科目!$H153))","v":""},null,null,null,null,null,null,null,null,{"$f":"IF(入力用科目!$Q153=\"\",\"\",MID(TEXT(入力用科目!$Q153,\"???\"),1,1))","v":""},{"$f":"IF(入力用科目!$Q153=\"\",\"\",MID(TEXT(入力用科目!$Q153,\"???\"),2,1))","v":""},{"$f":"IF(入力用科目!$Q153=\"\",\"\",MID(TEXT(入力用科目!$Q153,\"???\"),3,1))","v":""},null,{"$f":"IF(入力用科目!$U153=\"\",\"\",MID(TEXT(入力用科目!$U153,\"????????\"),1,1))","v":""},{"$f":"IF(入力用科目!$U153=\"\",\"\",MID(TEXT(入力用科目!$U153,\"????????\"),2,1))","v":""},{"$f":"IF(入力用科目!$U153=\"\",\"\",MID(TEXT(入力用科目!$U153,\"????????\"),3,1))","v":""},{"$f":"IF(入力用科目!$U153=\"\",\"\",MID(TEXT(入力用科目!$U153,\"????????\"),4,1))","v":""},{"$f":"IF(入力用科目!$U153=\"\",\"\",MID(TEXT(入力用科目!$U153,\"????????\"),5,1))","v":""},{"$f":"IF(入力用科目!$U153=\"\",\"\",MID(TEXT(入力用科目!$U153,\"????????\"),6,1))","v":""},{"$f":"IF(入力用科目!$U153=\"\",\"\",MID(TEXT(入力用科目!$U153,\"????????\"),7,1))","v":""},{"$f":"IF(入力用科目!$U153=\"\",\"\",MID(TEXT(入力用科目!$U153,\"????????\"),8,1))","v":""},null,{"$f":"IF(入力用科目!$AD153=\"\",\"\",MID(TEXT(入力用科目!$AD153,\"????????\"),1,1))","v":""},{"$f":"IF(入力用科目!$AD153=\"\",\"\",MID(TEXT(入力用科目!$AD153,\"????????\"),2,1))","v":""},{"$f":"IF(入力用科目!$AD153=\"\",\"\",MID(TEXT(入力用科目!$AD153,\"????????\"),3,1))","v":""},{"$f":"IF(入力用科目!$AD153=\"\",\"\",MID(TEXT(入力用科目!$AD153,\"????????\"),4,1))","v":""},{"$f":"IF(入力用科目!$AD153=\"\",\"\",MID(TEXT(入力用科目!$AD153,\"????????\"),5,1))","v":""},{"$f":"IF(入力用科目!$AD153=\"\",\"\",MID(TEXT(入力用科目!$AD153,\"????????\"),6,1))","v":""},{"$f":"IF(入力用科目!$AD153=\"\",\"\",MID(TEXT(入力用科目!$AD153,\"????????\"),7,1))","v":""},{"$f":"IF(入力用科目!$AD153=\"\",\"\",MID(TEXT(入力用科目!$AD153,\"????????\"),8,1))","v":""},null,{"$f":"IF(入力用科目!$AM153=\"\",\"\",MID(TEXT(入力用科目!$AM153,\"????????\"),1,1))","v":" "},{"$f":"IF(入力用科目!$AM153=\"\",\"\",MID(TEXT(入力用科目!$AM153,\"????????\"),2,1))","v":" "},{"$f":"IF(入力用科目!$AM153=\"\",\"\",MID(TEXT(入力用科目!$AM153,\"????????\"),3,1))","v":" "},{"$f":"IF(入力用科目!$AM153=\"\",\"\",MID(TEXT(入力用科目!$AM153,\"????????\"),4,1))","v":" "},{"$f":"IF(入力用科目!$AM153=\"\",\"\",MID(TEXT(入力用科目!$AM153,\"????????\"),5,1))","v":" "},{"$f":"IF(入力用科目!$AM153=\"\",\"\",MID(TEXT(入力用科目!$AM153,\"????????\"),6,1))","v":" "},{"$f":"IF(入力用科目!$AM153=\"\",\"\",MID(TEXT(入力用科目!$AM153,\"????????\"),7,1))","v":" "},{"$f":"IF(入力用科目!$AM153=\"\",\"\",MID(TEXT(入力用科目!$AM153,\"????????\"),8,1))","v":" "}]
[{"$f":"IF(入力用科目!A154=\"\",\"\",MID(TEXT(入力用科目!$A154,\"??\"),COLUMN(),1))","v":""},{"$f":"IF(入力用科目!A154=\"\",\"\",MID(TEXT(入力用科目!$A154,\"??\"),COLUMN(),1))","v":""},null,{"$f":"IF(入力用科目!$D154=\"\",\"\",MID(TEXT(入力用科目!$D154,\"???\"),1,1))","v":""},{"$f":"IF(入力用科目!$D154=\"\",\"\",MID(TEXT(入力用科目!$D154,\"???\"),2,1))","v":""},{"$f":"IF(入力用科目!$D154=\"\",\"\",MID(TEXT(入力用科目!$D154,\"???\"),3,1))","v":""},null,{"$f":"IF(入力用科目!$Q154=1,\"運送収入\",IF(入力用科目!$H154=\"\",\"\",入力用科目!$H154))","v":""},null,null,null,null,null,null,null,null,{"$f":"IF(入力用科目!$Q154=\"\",\"\",MID(TEXT(入力用科目!$Q154,\"???\"),1,1))","v":""},{"$f":"IF(入力用科目!$Q154=\"\",\"\",MID(TEXT(入力用科目!$Q154,\"???\"),2,1))","v":""},{"$f":"IF(入力用科目!$Q154=\"\",\"\",MID(TEXT(入力用科目!$Q154,\"???\"),3,1))","v":""},null,{"$f":"IF(入力用科目!$U154=\"\",\"\",MID(TEXT(入力用科目!$U154,\"????????\"),1,1))","v":""},{"$f":"IF(入力用科目!$U154=\"\",\"\",MID(TEXT(入力用科目!$U154,\"????????\"),2,1))","v":""},{"$f":"IF(入力用科目!$U154=\"\",\"\",MID(TEXT(入力用科目!$U154,\"????????\"),3,1))","v":""},{"$f":"IF(入力用科目!$U154=\"\",\"\",MID(TEXT(入力用科目!$U154,\"????????\"),4,1))","v":""},{"$f":"IF(入力用科目!$U154=\"\",\"\",MID(TEXT(入力用科目!$U154,\"????????\"),5,1))","v":""},{"$f":"IF(入力用科目!$U154=\"\",\"\",MID(TEXT(入力用科目!$U154,\"????????\"),6,1))","v":""},{"$f":"IF(入力用科目!$U154=\"\",\"\",MID(TEXT(入力用科目!$U154,\"????????\"),7,1))","v":""},{"$f":"IF(入力用科目!$U154=\"\",\"\",MID(TEXT(入力用科目!$U154,\"????????\"),8,1))","v":""},null,{"$f":"IF(入力用科目!$AD154=\"\",\"\",MID(TEXT(入力用科目!$AD154,\"????????\"),1,1))","v":""},{"$f":"IF(入力用科目!$AD154=\"\",\"\",MID(TEXT(入力用科目!$AD154,\"????????\"),2,1))","v":""},{"$f":"IF(入力用科目!$AD154=\"\",\"\",MID(TEXT(入力用科目!$AD154,\"????????\"),3,1))","v":""},{"$f":"IF(入力用科目!$AD154=\"\",\"\",MID(TEXT(入力用科目!$AD154,\"????????\"),4,1))","v":""},{"$f":"IF(入力用科目!$AD154=\"\",\"\",MID(TEXT(入力用科目!$AD154,\"????????\"),5,1))","v":""},{"$f":"IF(入力用科目!$AD154=\"\",\"\",MID(TEXT(入力用科目!$AD154,\"????????\"),6,1))","v":""},{"$f":"IF(入力用科目!$AD154=\"\",\"\",MID(TEXT(入力用科目!$AD154,\"????????\"),7,1))","v":""},{"$f":"IF(入力用科目!$AD154=\"\",\"\",MID(TEXT(入力用科目!$AD154,\"????????\"),8,1))","v":""},null,{"$f":"IF(入力用科目!$AM154=\"\",\"\",MID(TEXT(入力用科目!$AM154,\"????????\"),1,1))","v":" "},{"$f":"IF(入力用科目!$AM154=\"\",\"\",MID(TEXT(入力用科目!$AM154,\"????????\"),2,1))","v":" "},{"$f":"IF(入力用科目!$AM154=\"\",\"\",MID(TEXT(入力用科目!$AM154,\"????????\"),3,1))","v":" "},{"$f":"IF(入力用科目!$AM154=\"\",\"\",MID(TEXT(入力用科目!$AM154,\"????????\"),4,1))","v":" "},{"$f":"IF(入力用科目!$AM154=\"\",\"\",MID(TEXT(入力用科目!$AM154,\"????????\"),5,1))","v":" "},{"$f":"IF(入力用科目!$AM154=\"\",\"\",MID(TEXT(入力用科目!$AM154,\"????????\"),6,1))","v":" "},{"$f":"IF(入力用科目!$AM154=\"\",\"\",MID(TEXT(入力用科目!$AM154,\"????????\"),7,1))","v":" "},{"$f":"IF(入力用科目!$AM154=\"\",\"\",MID(TEXT(入力用科目!$AM154,\"????????\"),8,1))","v":" "}]
[{"$f":"IF(入力用科目!A155=\"\",\"\",MID(TEXT(入力用科目!$A155,\"??\"),COLUMN(),1))","v":""},{"$f":"IF(入力用科目!A155=\"\",\"\",MID(TEXT(入力用科目!$A155,\"??\"),COLUMN(),1))","v":""},null,{"$f":"IF(入力用科目!$D155=\"\",\"\",MID(TEXT(入力用科目!$D155,\"???\"),1,1))","v":""},{"$f":"IF(入力用科目!$D155=\"\",\"\",MID(TEXT(入力用科目!$D155,\"???\"),2,1))","v":""},{"$f":"IF(入力用科目!$D155=\"\",\"\",MID(TEXT(入力用科目!$D155,\"???\"),3,1))","v":""},null,{"$f":"IF(入力用科目!$Q155=1,\"運送収入\",IF(入力用科目!$H155=\"\",\"\",入力用科目!$H155))","v":""},null,null,null,null,null,null,null,null,{"$f":"IF(入力用科目!$Q155=\"\",\"\",MID(TEXT(入力用科目!$Q155,\"???\"),1,1))","v":""},{"$f":"IF(入力用科目!$Q155=\"\",\"\",MID(TEXT(入力用科目!$Q155,\"???\"),2,1))","v":""},{"$f":"IF(入力用科目!$Q155=\"\",\"\",MID(TEXT(入力用科目!$Q155,\"???\"),3,1))","v":""},null,{"$f":"IF(入力用科目!$U155=\"\",\"\",MID(TEXT(入力用科目!$U155,\"????????\"),1,1))","v":""},{"$f":"IF(入力用科目!$U155=\"\",\"\",MID(TEXT(入力用科目!$U155,\"????????\"),2,1))","v":""},{"$f":"IF(入力用科目!$U155=\"\",\"\",MID(TEXT(入力用科目!$U155,\"????????\"),3,1))","v":""},{"$f":"IF(入力用科目!$U155=\"\",\"\",MID(TEXT(入力用科目!$U155,\"????????\"),4,1))","v":""},{"$f":"IF(入力用科目!$U155=\"\",\"\",MID(TEXT(入力用科目!$U155,\"????????\"),5,1))","v":""},{"$f":"IF(入力用科目!$U155=\"\",\"\",MID(TEXT(入力用科目!$U155,\"????????\"),6,1))","v":""},{"$f":"IF(入力用科目!$U155=\"\",\"\",MID(TEXT(入力用科目!$U155,\"????????\"),7,1))","v":""},{"$f":"IF(入力用科目!$U155=\"\",\"\",MID(TEXT(入力用科目!$U155,\"????????\"),8,1))","v":""},null,{"$f":"IF(入力用科目!$AD155=\"\",\"\",MID(TEXT(入力用科目!$AD155,\"????????\"),1,1))","v":""},{"$f":"IF(入力用科目!$AD155=\"\",\"\",MID(TEXT(入力用科目!$AD155,\"????????\"),2,1))","v":""},{"$f":"IF(入力用科目!$AD155=\"\",\"\",MID(TEXT(入力用科目!$AD155,\"????????\"),3,1))","v":""},{"$f":"IF(入力用科目!$AD155=\"\",\"\",MID(TEXT(入力用科目!$AD155,\"????????\"),4,1))","v":""},{"$f":"IF(入力用科目!$AD155=\"\",\"\",MID(TEXT(入力用科目!$AD155,\"????????\"),5,1))","v":""},{"$f":"IF(入力用科目!$AD155=\"\",\"\",MID(TEXT(入力用科目!$AD155,\"????????\"),6,1))","v":""},{"$f":"IF(入力用科目!$AD155=\"\",\"\",MID(TEXT(入力用科目!$AD155,\"????????\"),7,1))","v":""},{"$f":"IF(入力用科目!$AD155=\"\",\"\",MID(TEXT(入力用科目!$AD155,\"????????\"),8,1))","v":""},null,{"$f":"IF(入力用科目!$AM155=\"\",\"\",MID(TEXT(入力用科目!$AM155,\"????????\"),1,1))","v":" "},{"$f":"IF(入力用科目!$AM155=\"\",\"\",MID(TEXT(入力用科目!$AM155,\"????????\"),2,1))","v":" "},{"$f":"IF(入力用科目!$AM155=\"\",\"\",MID(TEXT(入力用科目!$AM155,\"????????\"),3,1))","v":" "},{"$f":"IF(入力用科目!$AM155=\"\",\"\",MID(TEXT(入力用科目!$AM155,\"????????\"),4,1))","v":" "},{"$f":"IF(入力用科目!$AM155=\"\",\"\",MID(TEXT(入力用科目!$AM155,\"????????\"),5,1))","v":" "},{"$f":"IF(入力用科目!$AM155=\"\",\"\",MID(TEXT(入力用科目!$AM155,\"????????\"),6,1))","v":" "},{"$f":"IF(入力用科目!$AM155=\"\",\"\",MID(TEXT(入力用科目!$AM155,\"????????\"),7,1))","v":" "},{"$f":"IF(入力用科目!$AM155=\"\",\"\",MID(TEXT(入力用科目!$AM155,\"????????\"),8,1))","v":" "}]
[{"$f":"IF(入力用科目!A156=\"\",\"\",MID(TEXT(入力用科目!$A156,\"??\"),COLUMN(),1))","v":""},{"$f":"IF(入力用科目!A156=\"\",\"\",MID(TEXT(入力用科目!$A156,\"??\"),COLUMN(),1))","v":""},null,{"$f":"IF(入力用科目!$D156=\"\",\"\",MID(TEXT(入力用科目!$D156,\"???\"),1,1))","v":""},{"$f":"IF(入力用科目!$D156=\"\",\"\",MID(TEXT(入力用科目!$D156,\"???\"),2,1))","v":""},{"$f":"IF(入力用科目!$D156=\"\",\"\",MID(TEXT(入力用科目!$D156,\"???\"),3,1))","v":""},null,{"$f":"IF(入力用科目!$Q156=1,\"運送収入\",IF(入力用科目!$H156=\"\",\"\",入力用科目!$H156))","v":""},null,null,null,null,null,null,null,null,{"$f":"IF(入力用科目!$Q156=\"\",\"\",MID(TEXT(入力用科目!$Q156,\"???\"),1,1))","v":""},{"$f":"IF(入力用科目!$Q156=\"\",\"\",MID(TEXT(入力用科目!$Q156,\"???\"),2,1))","v":""},{"$f":"IF(入力用科目!$Q156=\"\",\"\",MID(TEXT(入力用科目!$Q156,\"???\"),3,1))","v":""},null,{"$f":"IF(入力用科目!$U156=\"\",\"\",MID(TEXT(入力用科目!$U156,\"????????\"),1,1))","v":""},{"$f":"IF(入力用科目!$U156=\"\",\"\",MID(TEXT(入力用科目!$U156,\"????????\"),2,1))","v":""},{"$f":"IF(入力用科目!$U156=\"\",\"\",MID(TEXT(入力用科目!$U156,\"????????\"),3,1))","v":""},{"$f":"IF(入力用科目!$U156=\"\",\"\",MID(TEXT(入力用科目!$U156,\"????????\"),4,1))","v":""},{"$f":"IF(入力用科目!$U156=\"\",\"\",MID(TEXT(入力用科目!$U156,\"????????\"),5,1))","v":""},{"$f":"IF(入力用科目!$U156=\"\",\"\",MID(TEXT(入力用科目!$U156,\"????????\"),6,1))","v":""},{"$f":"IF(入力用科目!$U156=\"\",\"\",MID(TEXT(入力用科目!$U156,\"????????\"),7,1))","v":""},{"$f":"IF(入力用科目!$U156=\"\",\"\",MID(TEXT(入力用科目!$U156,\"????????\"),8,1))","v":""},null,{"$f":"IF(入力用科目!$AD156=\"\",\"\",MID(TEXT(入力用科目!$AD156,\"????????\"),1,1))","v":""},{"$f":"IF(入力用科目!$AD156=\"\",\"\",MID(TEXT(入力用科目!$AD156,\"????????\"),2,1))","v":""},{"$f":"IF(入力用科目!$AD156=\"\",\"\",MID(TEXT(入力用科目!$AD156,\"????????\"),3,1))","v":""},{"$f":"IF(入力用科目!$AD156=\"\",\"\",MID(TEXT(入力用科目!$AD156,\"????????\"),4,1))","v":""},{"$f":"IF(入力用科目!$AD156=\"\",\"\",MID(TEXT(入力用科目!$AD156,\"????????\"),5,1))","v":""},{"$f":"IF(入力用科目!$AD156=\"\",\"\",MID(TEXT(入力用科目!$AD156,\"????????\"),6,1))","v":""},{"$f":"IF(入力用科目!$AD156=\"\",\"\",MID(TEXT(入力用科目!$AD156,\"????????\"),7,1))","v":""},{"$f":"IF(入力用科目!$AD156=\"\",\"\",MID(TEXT(入力用科目!$AD156,\"????????\"),8,1))","v":""},null,{"$f":"IF(入力用科目!$AM156=\"\",\"\",MID(TEXT(入力用科目!$AM156,\"????????\"),1,1))","v":" "},{"$f":"IF(入力用科目!$AM156=\"\",\"\",MID(TEXT(入力用科目!$AM156,\"????????\"),2,1))","v":" "},{"$f":"IF(入力用科目!$AM156=\"\",\"\",MID(TEXT(入力用科目!$AM156,\"????????\"),3,1))","v":" "},{"$f":"IF(入力用科目!$AM156=\"\",\"\",MID(TEXT(入力用科目!$AM156,\"????????\"),4,1))","v":" "},{"$f":"IF(入力用科目!$AM156=\"\",\"\",MID(TEXT(入力用科目!$AM156,\"????????\"),5,1))","v":" "},{"$f":"IF(入力用科目!$AM156=\"\",\"\",MID(TEXT(入力用科目!$AM156,\"????????\"),6,1))","v":" "},{"$f":"IF(入力用科目!$AM156=\"\",\"\",MID(TEXT(入力用科目!$AM156,\"????????\"),7,1))","v":" "},{"$f":"IF(入力用科目!$AM156=\"\",\"\",MID(TEXT(入力用科目!$AM156,\"????????\"),8,1))","v":" "}]
[{"$f":"IF(入力用科目!A157=\"\",\"\",MID(TEXT(入力用科目!$A157,\"??\"),COLUMN(),1))","v":""},{"$f":"IF(入力用科目!A157=\"\",\"\",MID(TEXT(入力用科目!$A157,\"??\"),COLUMN(),1))","v":""},null,{"$f":"IF(入力用科目!$D157=\"\",\"\",MID(TEXT(入力用科目!$D157,\"???\"),1,1))","v":""},{"$f":"IF(入力用科目!$D157=\"\",\"\",MID(TEXT(入力用科目!$D157,\"???\"),2,1))","v":""},{"$f":"IF(入力用科目!$D157=\"\",\"\",MID(TEXT(入力用科目!$D157,\"???\"),3,1))","v":""},null,{"$f":"IF(入力用科目!$Q157=1,\"運送収入\",IF(入力用科目!$H157=\"\",\"\",入力用科目!$H157))","v":""},null,null,null,null,null,null,null,null,{"$f":"IF(入力用科目!$Q157=\"\",\"\",MID(TEXT(入力用科目!$Q157,\"???\"),1,1))","v":""},{"$f":"IF(入力用科目!$Q157=\"\",\"\",MID(TEXT(入力用科目!$Q157,\"???\"),2,1))","v":""},{"$f":"IF(入力用科目!$Q157=\"\",\"\",MID(TEXT(入力用科目!$Q157,\"???\"),3,1))","v":""},null,{"$f":"IF(入力用科目!$U157=\"\",\"\",MID(TEXT(入力用科目!$U157,\"????????\"),1,1))","v":""},{"$f":"IF(入力用科目!$U157=\"\",\"\",MID(TEXT(入力用科目!$U157,\"????????\"),2,1))","v":""},{"$f":"IF(入力用科目!$U157=\"\",\"\",MID(TEXT(入力用科目!$U157,\"????????\"),3,1))","v":""},{"$f":"IF(入力用科目!$U157=\"\",\"\",MID(TEXT(入力用科目!$U157,\"????????\"),4,1))","v":""},{"$f":"IF(入力用科目!$U157=\"\",\"\",MID(TEXT(入力用科目!$U157,\"????????\"),5,1))","v":""},{"$f":"IF(入力用科目!$U157=\"\",\"\",MID(TEXT(入力用科目!$U157,\"????????\"),6,1))","v":""},{"$f":"IF(入力用科目!$U157=\"\",\"\",MID(TEXT(入力用科目!$U157,\"????????\"),7,1))","v":""},{"$f":"IF(入力用科目!$U157=\"\",\"\",MID(TEXT(入力用科目!$U157,\"????????\"),8,1))","v":""},null,{"$f":"IF(入力用科目!$AD157=\"\",\"\",MID(TEXT(入力用科目!$AD157,\"????????\"),1,1))","v":""},{"$f":"IF(入力用科目!$AD157=\"\",\"\",MID(TEXT(入力用科目!$AD157,\"????????\"),2,1))","v":""},{"$f":"IF(入力用科目!$AD157=\"\",\"\",MID(TEXT(入力用科目!$AD157,\"????????\"),3,1))","v":""},{"$f":"IF(入力用科目!$AD157=\"\",\"\",MID(TEXT(入力用科目!$AD157,\"????????\"),4,1))","v":""},{"$f":"IF(入力用科目!$AD157=\"\",\"\",MID(TEXT(入力用科目!$AD157,\"????????\"),5,1))","v":""},{"$f":"IF(入力用科目!$AD157=\"\",\"\",MID(TEXT(入力用科目!$AD157,\"????????\"),6,1))","v":""},{"$f":"IF(入力用科目!$AD157=\"\",\"\",MID(TEXT(入力用科目!$AD157,\"????????\"),7,1))","v":""},{"$f":"IF(入力用科目!$AD157=\"\",\"\",MID(TEXT(入力用科目!$AD157,\"????????\"),8,1))","v":""},null,{"$f":"IF(入力用科目!$AM157=\"\",\"\",MID(TEXT(入力用科目!$AM157,\"????????\"),1,1))","v":" "},{"$f":"IF(入力用科目!$AM157=\"\",\"\",MID(TEXT(入力用科目!$AM157,\"????????\"),2,1))","v":" "},{"$f":"IF(入力用科目!$AM157=\"\",\"\",MID(TEXT(入力用科目!$AM157,\"????????\"),3,1))","v":" "},{"$f":"IF(入力用科目!$AM157=\"\",\"\",MID(TEXT(入力用科目!$AM157,\"????????\"),4,1))","v":" "},{"$f":"IF(入力用科目!$AM157=\"\",\"\",MID(TEXT(入力用科目!$AM157,\"????????\"),5,1))","v":" "},{"$f":"IF(入力用科目!$AM157=\"\",\"\",MID(TEXT(入力用科目!$AM157,\"????????\"),6,1))","v":" "},{"$f":"IF(入力用科目!$AM157=\"\",\"\",MID(TEXT(入力用科目!$AM157,\"????????\"),7,1))","v":" "},{"$f":"IF(入力用科目!$AM157=\"\",\"\",MID(TEXT(入力用科目!$AM157,\"????????\"),8,1))","v":" "}]
[{"$f":"IF(入力用科目!A158=\"\",\"\",MID(TEXT(入力用科目!$A158,\"??\"),COLUMN(),1))","v":""},{"$f":"IF(入力用科目!A158=\"\",\"\",MID(TEXT(入力用科目!$A158,\"??\"),COLUMN(),1))","v":""},null,{"$f":"IF(入力用科目!$D158=\"\",\"\",MID(TEXT(入力用科目!$D158,\"???\"),1,1))","v":""},{"$f":"IF(入力用科目!$D158=\"\",\"\",MID(TEXT(入力用科目!$D158,\"???\"),2,1))","v":""},{"$f":"IF(入力用科目!$D158=\"\",\"\",MID(TEXT(入力用科目!$D158,\"???\"),3,1))","v":""},null,{"$f":"IF(入力用科目!$Q158=1,\"運送収入\",IF(入力用科目!$H158=\"\",\"\",入力用科目!$H158))","v":""},null,null,null,null,null,null,null,null,{"$f":"IF(入力用科目!$Q158=\"\",\"\",MID(TEXT(入力用科目!$Q158,\"???\"),1,1))","v":""},{"$f":"IF(入力用科目!$Q158=\"\",\"\",MID(TEXT(入力用科目!$Q158,\"???\"),2,1))","v":""},{"$f":"IF(入力用科目!$Q158=\"\",\"\",MID(TEXT(入力用科目!$Q158,\"???\"),3,1))","v":""},null,{"$f":"IF(入力用科目!$U158=\"\",\"\",MID(TEXT(入力用科目!$U158,\"????????\"),1,1))","v":""},{"$f":"IF(入力用科目!$U158=\"\",\"\",MID(TEXT(入力用科目!$U158,\"????????\"),2,1))","v":""},{"$f":"IF(入力用科目!$U158=\"\",\"\",MID(TEXT(入力用科目!$U158,\"????????\"),3,1))","v":""},{"$f":"IF(入力用科目!$U158=\"\",\"\",MID(TEXT(入力用科目!$U158,\"????????\"),4,1))","v":""},{"$f":"IF(入力用科目!$U158=\"\",\"\",MID(TEXT(入力用科目!$U158,\"????????\"),5,1))","v":""},{"$f":"IF(入力用科目!$U158=\"\",\"\",MID(TEXT(入力用科目!$U158,\"????????\"),6,1))","v":""},{"$f":"IF(入力用科目!$U158=\"\",\"\",MID(TEXT(入力用科目!$U158,\"????????\"),7,1))","v":""},{"$f":"IF(入力用科目!$U158=\"\",\"\",MID(TEXT(入力用科目!$U158,\"????????\"),8,1))","v":""},null,{"$f":"IF(入力用科目!$AD158=\"\",\"\",MID(TEXT(入力用科目!$AD158,\"????????\"),1,1))","v":""},{"$f":"IF(入力用科目!$AD158=\"\",\"\",MID(TEXT(入力用科目!$AD158,\"????????\"),2,1))","v":""},{"$f":"IF(入力用科目!$AD158=\"\",\"\",MID(TEXT(入力用科目!$AD158,\"????????\"),3,1))","v":""},{"$f":"IF(入力用科目!$AD158=\"\",\"\",MID(TEXT(入力用科目!$AD158,\"????????\"),4,1))","v":""},{"$f":"IF(入力用科目!$AD158=\"\",\"\",MID(TEXT(入力用科目!$AD158,\"????????\"),5,1))","v":""},{"$f":"IF(入力用科目!$AD158=\"\",\"\",MID(TEXT(入力用科目!$AD158,\"????????\"),6,1))","v":""},{"$f":"IF(入力用科目!$AD158=\"\",\"\",MID(TEXT(入力用科目!$AD158,\"????????\"),7,1))","v":""},{"$f":"IF(入力用科目!$AD158=\"\",\"\",MID(TEXT(入力用科目!$AD158,\"????????\"),8,1))","v":""},null,{"$f":"IF(入力用科目!$AM158=\"\",\"\",MID(TEXT(入力用科目!$AM158,\"????????\"),1,1))","v":" "},{"$f":"IF(入力用科目!$AM158=\"\",\"\",MID(TEXT(入力用科目!$AM158,\"????????\"),2,1))","v":" "},{"$f":"IF(入力用科目!$AM158=\"\",\"\",MID(TEXT(入力用科目!$AM158,\"????????\"),3,1))","v":" "},{"$f":"IF(入力用科目!$AM158=\"\",\"\",MID(TEXT(入力用科目!$AM158,\"????????\"),4,1))","v":" "},{"$f":"IF(入力用科目!$AM158=\"\",\"\",MID(TEXT(入力用科目!$AM158,\"????????\"),5,1))","v":" "},{"$f":"IF(入力用科目!$AM158=\"\",\"\",MID(TEXT(入力用科目!$AM158,\"????????\"),6,1))","v":" "},{"$f":"IF(入力用科目!$AM158=\"\",\"\",MID(TEXT(入力用科目!$AM158,\"????????\"),7,1))","v":" "},{"$f":"IF(入力用科目!$AM158=\"\",\"\",MID(TEXT(入力用科目!$AM158,\"????????\"),8,1))","v":" "}]
[{"$f":"IF(入力用科目!A159=\"\",\"\",MID(TEXT(入力用科目!$A159,\"??\"),COLUMN(),1))","v":""},{"$f":"IF(入力用科目!A159=\"\",\"\",MID(TEXT(入力用科目!$A159,\"??\"),COLUMN(),1))","v":""},null,{"$f":"IF(入力用科目!$D159=\"\",\"\",MID(TEXT(入力用科目!$D159,\"???\"),1,1))","v":""},{"$f":"IF(入力用科目!$D159=\"\",\"\",MID(TEXT(入力用科目!$D159,\"???\"),2,1))","v":""},{"$f":"IF(入力用科目!$D159=\"\",\"\",MID(TEXT(入力用科目!$D159,\"???\"),3,1))","v":""},null,{"$f":"IF(入力用科目!$Q159=1,\"運送収入\",IF(入力用科目!$H159=\"\",\"\",入力用科目!$H159))","v":""},null,null,null,null,null,null,null,null,{"$f":"IF(入力用科目!$Q159=\"\",\"\",MID(TEXT(入力用科目!$Q159,\"???\"),1,1))","v":""},{"$f":"IF(入力用科目!$Q159=\"\",\"\",MID(TEXT(入力用科目!$Q159,\"???\"),2,1))","v":""},{"$f":"IF(入力用科目!$Q159=\"\",\"\",MID(TEXT(入力用科目!$Q159,\"???\"),3,1))","v":""},null,{"$f":"IF(入力用科目!$U159=\"\",\"\",MID(TEXT(入力用科目!$U159,\"????????\"),1,1))","v":""},{"$f":"IF(入力用科目!$U159=\"\",\"\",MID(TEXT(入力用科目!$U159,\"????????\"),2,1))","v":""},{"$f":"IF(入力用科目!$U159=\"\",\"\",MID(TEXT(入力用科目!$U159,\"????????\"),3,1))","v":""},{"$f":"IF(入力用科目!$U159=\"\",\"\",MID(TEXT(入力用科目!$U159,\"????????\"),4,1))","v":""},{"$f":"IF(入力用科目!$U159=\"\",\"\",MID(TEXT(入力用科目!$U159,\"????????\"),5,1))","v":""},{"$f":"IF(入力用科目!$U159=\"\",\"\",MID(TEXT(入力用科目!$U159,\"????????\"),6,1))","v":""},{"$f":"IF(入力用科目!$U159=\"\",\"\",MID(TEXT(入力用科目!$U159,\"????????\"),7,1))","v":""},{"$f":"IF(入力用科目!$U159=\"\",\"\",MID(TEXT(入力用科目!$U159,\"????????\"),8,1))","v":""},null,{"$f":"IF(入力用科目!$AD159=\"\",\"\",MID(TEXT(入力用科目!$AD159,\"????????\"),1,1))","v":""},{"$f":"IF(入力用科目!$AD159=\"\",\"\",MID(TEXT(入力用科目!$AD159,\"????????\"),2,1))","v":""},{"$f":"IF(入力用科目!$AD159=\"\",\"\",MID(TEXT(入力用科目!$AD159,\"????????\"),3,1))","v":""},{"$f":"IF(入力用科目!$AD159=\"\",\"\",MID(TEXT(入力用科目!$AD159,\"????????\"),4,1))","v":""},{"$f":"IF(入力用科目!$AD159=\"\",\"\",MID(TEXT(入力用科目!$AD159,\"????????\"),5,1))","v":""},{"$f":"IF(入力用科目!$AD159=\"\",\"\",MID(TEXT(入力用科目!$AD159,\"????????\"),6,1))","v":""},{"$f":"IF(入力用科目!$AD159=\"\",\"\",MID(TEXT(入力用科目!$AD159,\"????????\"),7,1))","v":""},{"$f":"IF(入力用科目!$AD159=\"\",\"\",MID(TEXT(入力用科目!$AD159,\"????????\"),8,1))","v":""},null,{"$f":"IF(入力用科目!$AM159=\"\",\"\",MID(TEXT(入力用科目!$AM159,\"????????\"),1,1))","v":" "},{"$f":"IF(入力用科目!$AM159=\"\",\"\",MID(TEXT(入力用科目!$AM159,\"????????\"),2,1))","v":" "},{"$f":"IF(入力用科目!$AM159=\"\",\"\",MID(TEXT(入力用科目!$AM159,\"????????\"),3,1))","v":" "},{"$f":"IF(入力用科目!$AM159=\"\",\"\",MID(TEXT(入力用科目!$AM159,\"????????\"),4,1))","v":" "},{"$f":"IF(入力用科目!$AM159=\"\",\"\",MID(TEXT(入力用科目!$AM159,\"????????\"),5,1))","v":" "},{"$f":"IF(入力用科目!$AM159=\"\",\"\",MID(TEXT(入力用科目!$AM159,\"????????\"),6,1))","v":" "},{"$f":"IF(入力用科目!$AM159=\"\",\"\",MID(TEXT(入力用科目!$AM159,\"????????\"),7,1))","v":" "},{"$f":"IF(入力用科目!$AM159=\"\",\"\",MID(TEXT(入力用科目!$AM159,\"????????\"),8,1))","v":" "}]
[{"$f":"IF(入力用科目!A160=\"\",\"\",MID(TEXT(入力用科目!$A160,\"??\"),COLUMN(),1))","v":""},{"$f":"IF(入力用科目!A160=\"\",\"\",MID(TEXT(入力用科目!$A160,\"??\"),COLUMN(),1))","v":""},null,{"$f":"IF(入力用科目!$D160=\"\",\"\",MID(TEXT(入力用科目!$D160,\"???\"),1,1))","v":""},{"$f":"IF(入力用科目!$D160=\"\",\"\",MID(TEXT(入力用科目!$D160,\"???\"),2,1))","v":""},{"$f":"IF(入力用科目!$D160=\"\",\"\",MID(TEXT(入力用科目!$D160,\"???\"),3,1))","v":""},null,{"$f":"IF(入力用科目!$Q160=1,\"運送収入\",IF(入力用科目!$H160=\"\",\"\",入力用科目!$H160))","v":""},null,null,null,null,null,null,null,null,{"$f":"IF(入力用科目!$Q160=\"\",\"\",MID(TEXT(入力用科目!$Q160,\"???\"),1,1))","v":""},{"$f":"IF(入力用科目!$Q160=\"\",\"\",MID(TEXT(入力用科目!$Q160,\"???\"),2,1))","v":""},{"$f":"IF(入力用科目!$Q160=\"\",\"\",MID(TEXT(入力用科目!$Q160,\"???\"),3,1))","v":""},null,{"$f":"IF(入力用科目!$U160=\"\",\"\",MID(TEXT(入力用科目!$U160,\"????????\"),1,1))","v":""},{"$f":"IF(入力用科目!$U160=\"\",\"\",MID(TEXT(入力用科目!$U160,\"????????\"),2,1))","v":""},{"$f":"IF(入力用科目!$U160=\"\",\"\",MID(TEXT(入力用科目!$U160,\"????????\"),3,1))","v":""},{"$f":"IF(入力用科目!$U160=\"\",\"\",MID(TEXT(入力用科目!$U160,\"????????\"),4,1))","v":""},{"$f":"IF(入力用科目!$U160=\"\",\"\",MID(TEXT(入力用科目!$U160,\"????????\"),5,1))","v":""},{"$f":"IF(入力用科目!$U160=\"\",\"\",MID(TEXT(入力用科目!$U160,\"????????\"),6,1))","v":""},{"$f":"IF(入力用科目!$U160=\"\",\"\",MID(TEXT(入力用科目!$U160,\"????????\"),7,1))","v":""},{"$f":"IF(入力用科目!$U160=\"\",\"\",MID(TEXT(入力用科目!$U160,\"????????\"),8,1))","v":""},null,{"$f":"IF(入力用科目!$AD160=\"\",\"\",MID(TEXT(入力用科目!$AD160,\"????????\"),1,1))","v":""},{"$f":"IF(入力用科目!$AD160=\"\",\"\",MID(TEXT(入力用科目!$AD160,\"????????\"),2,1))","v":""},{"$f":"IF(入力用科目!$AD160=\"\",\"\",MID(TEXT(入力用科目!$AD160,\"????????\"),3,1))","v":""},{"$f":"IF(入力用科目!$AD160=\"\",\"\",MID(TEXT(入力用科目!$AD160,\"????????\"),4,1))","v":""},{"$f":"IF(入力用科目!$AD160=\"\",\"\",MID(TEXT(入力用科目!$AD160,\"????????\"),5,1))","v":""},{"$f":"IF(入力用科目!$AD160=\"\",\"\",MID(TEXT(入力用科目!$AD160,\"????????\"),6,1))","v":""},{"$f":"IF(入力用科目!$AD160=\"\",\"\",MID(TEXT(入力用科目!$AD160,\"????????\"),7,1))","v":""},{"$f":"IF(入力用科目!$AD160=\"\",\"\",MID(TEXT(入力用科目!$AD160,\"????????\"),8,1))","v":""},null,{"$f":"IF(入力用科目!$AM160=\"\",\"\",MID(TEXT(入力用科目!$AM160,\"????????\"),1,1))","v":" "},{"$f":"IF(入力用科目!$AM160=\"\",\"\",MID(TEXT(入力用科目!$AM160,\"????????\"),2,1))","v":" "},{"$f":"IF(入力用科目!$AM160=\"\",\"\",MID(TEXT(入力用科目!$AM160,\"????????\"),3,1))","v":" "},{"$f":"IF(入力用科目!$AM160=\"\",\"\",MID(TEXT(入力用科目!$AM160,\"????????\"),4,1))","v":" "},{"$f":"IF(入力用科目!$AM160=\"\",\"\",MID(TEXT(入力用科目!$AM160,\"????????\"),5,1))","v":" "},{"$f":"IF(入力用科目!$AM160=\"\",\"\",MID(TEXT(入力用科目!$AM160,\"????????\"),6,1))","v":" "},{"$f":"IF(入力用科目!$AM160=\"\",\"\",MID(TEXT(入力用科目!$AM160,\"????????\"),7,1))","v":" "},{"$f":"IF(入力用科目!$AM160=\"\",\"\",MID(TEXT(入力用科目!$AM160,\"????????\"),8,1))","v":" "}]
[{"$f":"IF(入力用科目!A161=\"\",\"\",MID(TEXT(入力用科目!$A161,\"??\"),COLUMN(),1))","v":""},{"$f":"IF(入力用科目!A161=\"\",\"\",MID(TEXT(入力用科目!$A161,\"??\"),COLUMN(),1))","v":""},null,{"$f":"IF(入力用科目!$D161=\"\",\"\",MID(TEXT(入力用科目!$D161,\"???\"),1,1))","v":""},{"$f":"IF(入力用科目!$D161=\"\",\"\",MID(TEXT(入力用科目!$D161,\"???\"),2,1))","v":""},{"$f":"IF(入力用科目!$D161=\"\",\"\",MID(TEXT(入力用科目!$D161,\"???\"),3,1))","v":""},null,{"$f":"IF(入力用科目!$Q161=1,\"運送収入\",IF(入力用科目!$H161=\"\",\"\",入力用科目!$H161))","v":""},null,null,null,null,null,null,null,null,{"$f":"IF(入力用科目!$Q161=\"\",\"\",MID(TEXT(入力用科目!$Q161,\"???\"),1,1))","v":""},{"$f":"IF(入力用科目!$Q161=\"\",\"\",MID(TEXT(入力用科目!$Q161,\"???\"),2,1))","v":""},{"$f":"IF(入力用科目!$Q161=\"\",\"\",MID(TEXT(入力用科目!$Q161,\"???\"),3,1))","v":""},null,{"$f":"IF(入力用科目!$U161=\"\",\"\",MID(TEXT(入力用科目!$U161,\"????????\"),1,1))","v":""},{"$f":"IF(入力用科目!$U161=\"\",\"\",MID(TEXT(入力用科目!$U161,\"????????\"),2,1))","v":""},{"$f":"IF(入力用科目!$U161=\"\",\"\",MID(TEXT(入力用科目!$U161,\"????????\"),3,1))","v":""},{"$f":"IF(入力用科目!$U161=\"\",\"\",MID(TEXT(入力用科目!$U161,\"????????\"),4,1))","v":""},{"$f":"IF(入力用科目!$U161=\"\",\"\",MID(TEXT(入力用科目!$U161,\"????????\"),5,1))","v":""},{"$f":"IF(入力用科目!$U161=\"\",\"\",MID(TEXT(入力用科目!$U161,\"????????\"),6,1))","v":""},{"$f":"IF(入力用科目!$U161=\"\",\"\",MID(TEXT(入力用科目!$U161,\"????????\"),7,1))","v":""},{"$f":"IF(入力用科目!$U161=\"\",\"\",MID(TEXT(入力用科目!$U161,\"????????\"),8,1))","v":""},null,{"$f":"IF(入力用科目!$AD161=\"\",\"\",MID(TEXT(入力用科目!$AD161,\"????????\"),1,1))","v":""},{"$f":"IF(入力用科目!$AD161=\"\",\"\",MID(TEXT(入力用科目!$AD161,\"????????\"),2,1))","v":""},{"$f":"IF(入力用科目!$AD161=\"\",\"\",MID(TEXT(入力用科目!$AD161,\"????????\"),3,1))","v":""},{"$f":"IF(入力用科目!$AD161=\"\",\"\",MID(TEXT(入力用科目!$AD161,\"????????\"),4,1))","v":""},{"$f":"IF(入力用科目!$AD161=\"\",\"\",MID(TEXT(入力用科目!$AD161,\"????????\"),5,1))","v":""},{"$f":"IF(入力用科目!$AD161=\"\",\"\",MID(TEXT(入力用科目!$AD161,\"????????\"),6,1))","v":""},{"$f":"IF(入力用科目!$AD161=\"\",\"\",MID(TEXT(入力用科目!$AD161,\"????????\"),7,1))","v":""},{"$f":"IF(入力用科目!$AD161=\"\",\"\",MID(TEXT(入力用科目!$AD161,\"????????\"),8,1))","v":""},null,{"$f":"IF(入力用科目!$AM161=\"\",\"\",MID(TEXT(入力用科目!$AM161,\"????????\"),1,1))","v":" "},{"$f":"IF(入力用科目!$AM161=\"\",\"\",MID(TEXT(入力用科目!$AM161,\"????????\"),2,1))","v":" "},{"$f":"IF(入力用科目!$AM161=\"\",\"\",MID(TEXT(入力用科目!$AM161,\"????????\"),3,1))","v":" "},{"$f":"IF(入力用科目!$AM161=\"\",\"\",MID(TEXT(入力用科目!$AM161,\"????????\"),4,1))","v":" "},{"$f":"IF(入力用科目!$AM161=\"\",\"\",MID(TEXT(入力用科目!$AM161,\"????????\"),5,1))","v":" "},{"$f":"IF(入力用科目!$AM161=\"\",\"\",MID(TEXT(入力用科目!$AM161,\"????????\"),6,1))","v":" "},{"$f":"IF(入力用科目!$AM161=\"\",\"\",MID(TEXT(入力用科目!$AM161,\"????????\"),7,1))","v":" "},{"$f":"IF(入力用科目!$AM161=\"\",\"\",MID(TEXT(入力用科目!$AM161,\"????????\"),8,1))","v":" "}]
[{"$f":"IF(入力用科目!A162=\"\",\"\",MID(TEXT(入力用科目!$A162,\"??\"),COLUMN(),1))","v":""},{"$f":"IF(入力用科目!A162=\"\",\"\",MID(TEXT(入力用科目!$A162,\"??\"),COLUMN(),1))","v":""},null,{"$f":"IF(入力用科目!$D162=\"\",\"\",MID(TEXT(入力用科目!$D162,\"???\"),1,1))","v":""},{"$f":"IF(入力用科目!$D162=\"\",\"\",MID(TEXT(入力用科目!$D162,\"???\"),2,1))","v":""},{"$f":"IF(入力用科目!$D162=\"\",\"\",MID(TEXT(入力用科目!$D162,\"???\"),3,1))","v":""},null,{"$f":"IF(入力用科目!$Q162=1,\"運送収入\",IF(入力用科目!$H162=\"\",\"\",入力用科目!$H162))","v":""},null,null,null,null,null,null,null,null,{"$f":"IF(入力用科目!$Q162=\"\",\"\",MID(TEXT(入力用科目!$Q162,\"???\"),1,1))","v":""},{"$f":"IF(入力用科目!$Q162=\"\",\"\",MID(TEXT(入力用科目!$Q162,\"???\"),2,1))","v":""},{"$f":"IF(入力用科目!$Q162=\"\",\"\",MID(TEXT(入力用科目!$Q162,\"???\"),3,1))","v":""},null,{"$f":"IF(入力用科目!$U162=\"\",\"\",MID(TEXT(入力用科目!$U162,\"????????\"),1,1))","v":""},{"$f":"IF(入力用科目!$U162=\"\",\"\",MID(TEXT(入力用科目!$U162,\"????????\"),2,1))","v":""},{"$f":"IF(入力用科目!$U162=\"\",\"\",MID(TEXT(入力用科目!$U162,\"????????\"),3,1))","v":""},{"$f":"IF(入力用科目!$U162=\"\",\"\",MID(TEXT(入力用科目!$U162,\"????????\"),4,1))","v":""},{"$f":"IF(入力用科目!$U162=\"\",\"\",MID(TEXT(入力用科目!$U162,\"????????\"),5,1))","v":""},{"$f":"IF(入力用科目!$U162=\"\",\"\",MID(TEXT(入力用科目!$U162,\"????????\"),6,1))","v":""},{"$f":"IF(入力用科目!$U162=\"\",\"\",MID(TEXT(入力用科目!$U162,\"????????\"),7,1))","v":""},{"$f":"IF(入力用科目!$U162=\"\",\"\",MID(TEXT(入力用科目!$U162,\"????????\"),8,1))","v":""},null,{"$f":"IF(入力用科目!$AD162=\"\",\"\",MID(TEXT(入力用科目!$AD162,\"????????\"),1,1))","v":""},{"$f":"IF(入力用科目!$AD162=\"\",\"\",MID(TEXT(入力用科目!$AD162,\"????????\"),2,1))","v":""},{"$f":"IF(入力用科目!$AD162=\"\",\"\",MID(TEXT(入力用科目!$AD162,\"????????\"),3,1))","v":""},{"$f":"IF(入力用科目!$AD162=\"\",\"\",MID(TEXT(入力用科目!$AD162,\"????????\"),4,1))","v":""},{"$f":"IF(入力用科目!$AD162=\"\",\"\",MID(TEXT(入力用科目!$AD162,\"????????\"),5,1))","v":""},{"$f":"IF(入力用科目!$AD162=\"\",\"\",MID(TEXT(入力用科目!$AD162,\"????????\"),6,1))","v":""},{"$f":"IF(入力用科目!$AD162=\"\",\"\",MID(TEXT(入力用科目!$AD162,\"????????\"),7,1))","v":""},{"$f":"IF(入力用科目!$AD162=\"\",\"\",MID(TEXT(入力用科目!$AD162,\"????????\"),8,1))","v":""},null,{"$f":"IF(入力用科目!$AM162=\"\",\"\",MID(TEXT(入力用科目!$AM162,\"????????\"),1,1))","v":" "},{"$f":"IF(入力用科目!$AM162=\"\",\"\",MID(TEXT(入力用科目!$AM162,\"????????\"),2,1))","v":" "},{"$f":"IF(入力用科目!$AM162=\"\",\"\",MID(TEXT(入力用科目!$AM162,\"????????\"),3,1))","v":" "},{"$f":"IF(入力用科目!$AM162=\"\",\"\",MID(TEXT(入力用科目!$AM162,\"????????\"),4,1))","v":" "},{"$f":"IF(入力用科目!$AM162=\"\",\"\",MID(TEXT(入力用科目!$AM162,\"????????\"),5,1))","v":" "},{"$f":"IF(入力用科目!$AM162=\"\",\"\",MID(TEXT(入力用科目!$AM162,\"????????\"),6,1))","v":" "},{"$f":"IF(入力用科目!$AM162=\"\",\"\",MID(TEXT(入力用科目!$AM162,\"????????\"),7,1))","v":" "},{"$f":"IF(入力用科目!$AM162=\"\",\"\",MID(TEXT(入力用科目!$AM162,\"????????\"),8,1))","v":" "}]
[{"$f":"IF(入力用科目!A163=\"\",\"\",MID(TEXT(入力用科目!$A163,\"??\"),COLUMN(),1))","v":""},{"$f":"IF(入力用科目!A163=\"\",\"\",MID(TEXT(入力用科目!$A163,\"??\"),COLUMN(),1))","v":""},null,{"$f":"IF(入力用科目!$D163=\"\",\"\",MID(TEXT(入力用科目!$D163,\"???\"),1,1))","v":""},{"$f":"IF(入力用科目!$D163=\"\",\"\",MID(TEXT(入力用科目!$D163,\"???\"),2,1))","v":""},{"$f":"IF(入力用科目!$D163=\"\",\"\",MID(TEXT(入力用科目!$D163,\"???\"),3,1))","v":""},null,{"$f":"IF(入力用科目!$Q163=1,\"運送収入\",IF(入力用科目!$H163=\"\",\"\",入力用科目!$H163))","v":""},null,null,null,null,null,null,null,null,{"$f":"IF(入力用科目!$Q163=\"\",\"\",MID(TEXT(入力用科目!$Q163,\"???\"),1,1))","v":""},{"$f":"IF(入力用科目!$Q163=\"\",\"\",MID(TEXT(入力用科目!$Q163,\"???\"),2,1))","v":""},{"$f":"IF(入力用科目!$Q163=\"\",\"\",MID(TEXT(入力用科目!$Q163,\"???\"),3,1))","v":""},null,{"$f":"IF(入力用科目!$U163=\"\",\"\",MID(TEXT(入力用科目!$U163,\"????????\"),1,1))","v":""},{"$f":"IF(入力用科目!$U163=\"\",\"\",MID(TEXT(入力用科目!$U163,\"????????\"),2,1))","v":""},{"$f":"IF(入力用科目!$U163=\"\",\"\",MID(TEXT(入力用科目!$U163,\"????????\"),3,1))","v":""},{"$f":"IF(入力用科目!$U163=\"\",\"\",MID(TEXT(入力用科目!$U163,\"????????\"),4,1))","v":""},{"$f":"IF(入力用科目!$U163=\"\",\"\",MID(TEXT(入力用科目!$U163,\"????????\"),5,1))","v":""},{"$f":"IF(入力用科目!$U163=\"\",\"\",MID(TEXT(入力用科目!$U163,\"????????\"),6,1))","v":""},{"$f":"IF(入力用科目!$U163=\"\",\"\",MID(TEXT(入力用科目!$U163,\"????????\"),7,1))","v":""},{"$f":"IF(入力用科目!$U163=\"\",\"\",MID(TEXT(入力用科目!$U163,\"????????\"),8,1))","v":""},null,{"$f":"IF(入力用科目!$AD163=\"\",\"\",MID(TEXT(入力用科目!$AD163,\"????????\"),1,1))","v":""},{"$f":"IF(入力用科目!$AD163=\"\",\"\",MID(TEXT(入力用科目!$AD163,\"????????\"),2,1))","v":""},{"$f":"IF(入力用科目!$AD163=\"\",\"\",MID(TEXT(入力用科目!$AD163,\"????????\"),3,1))","v":""},{"$f":"IF(入力用科目!$AD163=\"\",\"\",MID(TEXT(入力用科目!$AD163,\"????????\"),4,1))","v":""},{"$f":"IF(入力用科目!$AD163=\"\",\"\",MID(TEXT(入力用科目!$AD163,\"????????\"),5,1))","v":""},{"$f":"IF(入力用科目!$AD163=\"\",\"\",MID(TEXT(入力用科目!$AD163,\"????????\"),6,1))","v":""},{"$f":"IF(入力用科目!$AD163=\"\",\"\",MID(TEXT(入力用科目!$AD163,\"????????\"),7,1))","v":""},{"$f":"IF(入力用科目!$AD163=\"\",\"\",MID(TEXT(入力用科目!$AD163,\"????????\"),8,1))","v":""},null,{"$f":"IF(入力用科目!$AM163=\"\",\"\",MID(TEXT(入力用科目!$AM163,\"????????\"),1,1))","v":" "},{"$f":"IF(入力用科目!$AM163=\"\",\"\",MID(TEXT(入力用科目!$AM163,\"????????\"),2,1))","v":" "},{"$f":"IF(入力用科目!$AM163=\"\",\"\",MID(TEXT(入力用科目!$AM163,\"????????\"),3,1))","v":" "},{"$f":"IF(入力用科目!$AM163=\"\",\"\",MID(TEXT(入力用科目!$AM163,\"????????\"),4,1))","v":" "},{"$f":"IF(入力用科目!$AM163=\"\",\"\",MID(TEXT(入力用科目!$AM163,\"????????\"),5,1))","v":" "},{"$f":"IF(入力用科目!$AM163=\"\",\"\",MID(TEXT(入力用科目!$AM163,\"????????\"),6,1))","v":" "},{"$f":"IF(入力用科目!$AM163=\"\",\"\",MID(TEXT(入力用科目!$AM163,\"????????\"),7,1))","v":" "},{"$f":"IF(入力用科目!$AM163=\"\",\"\",MID(TEXT(入力用科目!$AM163,\"????????\"),8,1))","v":" "}]
[{"$f":"IF(入力用科目!A164=\"\",\"\",MID(TEXT(入力用科目!$A164,\"??\"),COLUMN(),1))","v":""},{"$f":"IF(入力用科目!A164=\"\",\"\",MID(TEXT(入力用科目!$A164,\"??\"),COLUMN(),1))","v":""},null,{"$f":"IF(入力用科目!$D164=\"\",\"\",MID(TEXT(入力用科目!$D164,\"???\"),1,1))","v":""},{"$f":"IF(入力用科目!$D164=\"\",\"\",MID(TEXT(入力用科目!$D164,\"???\"),2,1))","v":""},{"$f":"IF(入力用科目!$D164=\"\",\"\",MID(TEXT(入力用科目!$D164,\"???\"),3,1))","v":""},null,{"$f":"IF(入力用科目!$Q164=1,\"運送収入\",IF(入力用科目!$H164=\"\",\"\",入力用科目!$H164))","v":""},null,null,null,null,null,null,null,null,{"$f":"IF(入力用科目!$Q164=\"\",\"\",MID(TEXT(入力用科目!$Q164,\"???\"),1,1))","v":""},{"$f":"IF(入力用科目!$Q164=\"\",\"\",MID(TEXT(入力用科目!$Q164,\"???\"),2,1))","v":""},{"$f":"IF(入力用科目!$Q164=\"\",\"\",MID(TEXT(入力用科目!$Q164,\"???\"),3,1))","v":""},null,{"$f":"IF(入力用科目!$U164=\"\",\"\",MID(TEXT(入力用科目!$U164,\"????????\"),1,1))","v":""},{"$f":"IF(入力用科目!$U164=\"\",\"\",MID(TEXT(入力用科目!$U164,\"????????\"),2,1))","v":""},{"$f":"IF(入力用科目!$U164=\"\",\"\",MID(TEXT(入力用科目!$U164,\"????????\"),3,1))","v":""},{"$f":"IF(入力用科目!$U164=\"\",\"\",MID(TEXT(入力用科目!$U164,\"????????\"),4,1))","v":""},{"$f":"IF(入力用科目!$U164=\"\",\"\",MID(TEXT(入力用科目!$U164,\"????????\"),5,1))","v":""},{"$f":"IF(入力用科目!$U164=\"\",\"\",MID(TEXT(入力用科目!$U164,\"????????\"),6,1))","v":""},{"$f":"IF(入力用科目!$U164=\"\",\"\",MID(TEXT(入力用科目!$U164,\"????????\"),7,1))","v":""},{"$f":"IF(入力用科目!$U164=\"\",\"\",MID(TEXT(入力用科目!$U164,\"????????\"),8,1))","v":""},null,{"$f":"IF(入力用科目!$AD164=\"\",\"\",MID(TEXT(入力用科目!$AD164,\"????????\"),1,1))","v":""},{"$f":"IF(入力用科目!$AD164=\"\",\"\",MID(TEXT(入力用科目!$AD164,\"????????\"),2,1))","v":""},{"$f":"IF(入力用科目!$AD164=\"\",\"\",MID(TEXT(入力用科目!$AD164,\"????????\"),3,1))","v":""},{"$f":"IF(入力用科目!$AD164=\"\",\"\",MID(TEXT(入力用科目!$AD164,\"????????\"),4,1))","v":""},{"$f":"IF(入力用科目!$AD164=\"\",\"\",MID(TEXT(入力用科目!$AD164,\"????????\"),5,1))","v":""},{"$f":"IF(入力用科目!$AD164=\"\",\"\",MID(TEXT(入力用科目!$AD164,\"????????\"),6,1))","v":""},{"$f":"IF(入力用科目!$AD164=\"\",\"\",MID(TEXT(入力用科目!$AD164,\"????????\"),7,1))","v":""},{"$f":"IF(入力用科目!$AD164=\"\",\"\",MID(TEXT(入力用科目!$AD164,\"????????\"),8,1))","v":""},null,{"$f":"IF(入力用科目!$AM164=\"\",\"\",MID(TEXT(入力用科目!$AM164,\"????????\"),1,1))","v":" "},{"$f":"IF(入力用科目!$AM164=\"\",\"\",MID(TEXT(入力用科目!$AM164,\"????????\"),2,1))","v":" "},{"$f":"IF(入力用科目!$AM164=\"\",\"\",MID(TEXT(入力用科目!$AM164,\"????????\"),3,1))","v":" "},{"$f":"IF(入力用科目!$AM164=\"\",\"\",MID(TEXT(入力用科目!$AM164,\"????????\"),4,1))","v":" "},{"$f":"IF(入力用科目!$AM164=\"\",\"\",MID(TEXT(入力用科目!$AM164,\"????????\"),5,1))","v":" "},{"$f":"IF(入力用科目!$AM164=\"\",\"\",MID(TEXT(入力用科目!$AM164,\"????????\"),6,1))","v":" "},{"$f":"IF(入力用科目!$AM164=\"\",\"\",MID(TEXT(入力用科目!$AM164,\"????????\"),7,1))","v":" "},{"$f":"IF(入力用科目!$AM164=\"\",\"\",MID(TEXT(入力用科目!$AM164,\"????????\"),8,1))","v":" "}]
[{"$f":"IF(入力用科目!A165=\"\",\"\",MID(TEXT(入力用科目!$A165,\"??\"),COLUMN(),1))","v":""},{"$f":"IF(入力用科目!A165=\"\",\"\",MID(TEXT(入力用科目!$A165,\"??\"),COLUMN(),1))","v":""},null,{"$f":"IF(入力用科目!$D165=\"\",\"\",MID(TEXT(入力用科目!$D165,\"???\"),1,1))","v":""},{"$f":"IF(入力用科目!$D165=\"\",\"\",MID(TEXT(入力用科目!$D165,\"???\"),2,1))","v":""},{"$f":"IF(入力用科目!$D165=\"\",\"\",MID(TEXT(入力用科目!$D165,\"???\"),3,1))","v":""},null,{"$f":"IF(入力用科目!$Q165=1,\"運送収入\",IF(入力用科目!$H165=\"\",\"\",入力用科目!$H165))","v":""},null,null,null,null,null,null,null,null,{"$f":"IF(入力用科目!$Q165=\"\",\"\",MID(TEXT(入力用科目!$Q165,\"???\"),1,1))","v":""},{"$f":"IF(入力用科目!$Q165=\"\",\"\",MID(TEXT(入力用科目!$Q165,\"???\"),2,1))","v":""},{"$f":"IF(入力用科目!$Q165=\"\",\"\",MID(TEXT(入力用科目!$Q165,\"???\"),3,1))","v":""},null,{"$f":"IF(入力用科目!$U165=\"\",\"\",MID(TEXT(入力用科目!$U165,\"????????\"),1,1))","v":""},{"$f":"IF(入力用科目!$U165=\"\",\"\",MID(TEXT(入力用科目!$U165,\"????????\"),2,1))","v":""},{"$f":"IF(入力用科目!$U165=\"\",\"\",MID(TEXT(入力用科目!$U165,\"????????\"),3,1))","v":""},{"$f":"IF(入力用科目!$U165=\"\",\"\",MID(TEXT(入力用科目!$U165,\"????????\"),4,1))","v":""},{"$f":"IF(入力用科目!$U165=\"\",\"\",MID(TEXT(入力用科目!$U165,\"????????\"),5,1))","v":""},{"$f":"IF(入力用科目!$U165=\"\",\"\",MID(TEXT(入力用科目!$U165,\"????????\"),6,1))","v":""},{"$f":"IF(入力用科目!$U165=\"\",\"\",MID(TEXT(入力用科目!$U165,\"????????\"),7,1))","v":""},{"$f":"IF(入力用科目!$U165=\"\",\"\",MID(TEXT(入力用科目!$U165,\"????????\"),8,1))","v":""},null,{"$f":"IF(入力用科目!$AD165=\"\",\"\",MID(TEXT(入力用科目!$AD165,\"????????\"),1,1))","v":""},{"$f":"IF(入力用科目!$AD165=\"\",\"\",MID(TEXT(入力用科目!$AD165,\"????????\"),2,1))","v":""},{"$f":"IF(入力用科目!$AD165=\"\",\"\",MID(TEXT(入力用科目!$AD165,\"????????\"),3,1))","v":""},{"$f":"IF(入力用科目!$AD165=\"\",\"\",MID(TEXT(入力用科目!$AD165,\"????????\"),4,1))","v":""},{"$f":"IF(入力用科目!$AD165=\"\",\"\",MID(TEXT(入力用科目!$AD165,\"????????\"),5,1))","v":""},{"$f":"IF(入力用科目!$AD165=\"\",\"\",MID(TEXT(入力用科目!$AD165,\"????????\"),6,1))","v":""},{"$f":"IF(入力用科目!$AD165=\"\",\"\",MID(TEXT(入力用科目!$AD165,\"????????\"),7,1))","v":""},{"$f":"IF(入力用科目!$AD165=\"\",\"\",MID(TEXT(入力用科目!$AD165,\"????????\"),8,1))","v":""},null,{"$f":"IF(入力用科目!$AM165=\"\",\"\",MID(TEXT(入力用科目!$AM165,\"????????\"),1,1))","v":" "},{"$f":"IF(入力用科目!$AM165=\"\",\"\",MID(TEXT(入力用科目!$AM165,\"????????\"),2,1))","v":" "},{"$f":"IF(入力用科目!$AM165=\"\",\"\",MID(TEXT(入力用科目!$AM165,\"????????\"),3,1))","v":" "},{"$f":"IF(入力用科目!$AM165=\"\",\"\",MID(TEXT(入力用科目!$AM165,\"????????\"),4,1))","v":" "},{"$f":"IF(入力用科目!$AM165=\"\",\"\",MID(TEXT(入力用科目!$AM165,\"????????\"),5,1))","v":" "},{"$f":"IF(入力用科目!$AM165=\"\",\"\",MID(TEXT(入力用科目!$AM165,\"????????\"),6,1))","v":" "},{"$f":"IF(入力用科目!$AM165=\"\",\"\",MID(TEXT(入力用科目!$AM165,\"????????\"),7,1))","v":" "},{"$f":"IF(入力用科目!$AM165=\"\",\"\",MID(TEXT(入力用科目!$AM165,\"????????\"),8,1))","v":" "}]
[{"$f":"IF(入力用科目!A166=\"\",\"\",MID(TEXT(入力用科目!$A166,\"??\"),COLUMN(),1))","v":""},{"$f":"IF(入力用科目!A166=\"\",\"\",MID(TEXT(入力用科目!$A166,\"??\"),COLUMN(),1))","v":""},null,{"$f":"IF(入力用科目!$D166=\"\",\"\",MID(TEXT(入力用科目!$D166,\"???\"),1,1))","v":""},{"$f":"IF(入力用科目!$D166=\"\",\"\",MID(TEXT(入力用科目!$D166,\"???\"),2,1))","v":""},{"$f":"IF(入力用科目!$D166=\"\",\"\",MID(TEXT(入力用科目!$D166,\"???\"),3,1))","v":""},null,{"$f":"IF(入力用科目!H166=\"\",\"\",入力用科目!H166)","v":""},null,null,null,null,null,null,null,null,{"$f":"IF(入力用科目!$Q166=\"\",\"\",MID(TEXT(入力用科目!$Q166,\"???\"),1,1))","v":""},{"$f":"IF(入力用科目!$Q166=\"\",\"\",MID(TEXT(入力用科目!$Q166,\"???\"),2,1))","v":""},{"$f":"IF(入力用科目!$Q166=\"\",\"\",MID(TEXT(入力用科目!$Q166,\"???\"),3,1))","v":""},null,{"$f":"IF(入力用科目!$U166=\"\",\"\",MID(TEXT(入力用科目!$U166,\"????????\"),1,1))","v":""},{"$f":"IF(入力用科目!$U166=\"\",\"\",MID(TEXT(入力用科目!$U166,\"????????\"),2,1))","v":""},{"$f":"IF(入力用科目!$U166=\"\",\"\",MID(TEXT(入力用科目!$U166,\"????????\"),3,1))","v":""},{"$f":"IF(入力用科目!$U166=\"\",\"\",MID(TEXT(入力用科目!$U166,\"????????\"),4,1))","v":""},{"$f":"IF(入力用科目!$U166=\"\",\"\",MID(TEXT(入力用科目!$U166,\"????????\"),5,1))","v":""},{"$f":"IF(入力用科目!$U166=\"\",\"\",MID(TEXT(入力用科目!$U166,\"????????\"),6,1))","v":""},{"$f":"IF(入力用科目!$U166=\"\",\"\",MID(TEXT(入力用科目!$U166,\"????????\"),7,1))","v":""},{"$f":"IF(入力用科目!$U166=\"\",\"\",MID(TEXT(入力用科目!$U166,\"????????\"),8,1))","v":""},null,{"$f":"IF(入力用科目!$AD166=\"\",\"\",MID(TEXT(入力用科目!$AD166,\"????????\"),1,1))","v":""},{"$f":"IF(入力用科目!$AD166=\"\",\"\",MID(TEXT(入力用科目!$AD166,\"????????\"),2,1))","v":""},{"$f":"IF(入力用科目!$AD166=\"\",\"\",MID(TEXT(入力用科目!$AD166,\"????????\"),3,1))","v":""},{"$f":"IF(入力用科目!$AD166=\"\",\"\",MID(TEXT(入力用科目!$AD166,\"????????\"),4,1))","v":""},{"$f":"IF(入力用科目!$AD166=\"\",\"\",MID(TEXT(入力用科目!$AD166,\"????????\"),5,1))","v":""},{"$f":"IF(入力用科目!$AD166=\"\",\"\",MID(TEXT(入力用科目!$AD166,\"????????\"),6,1))","v":""},{"$f":"IF(入力用科目!$AD166=\"\",\"\",MID(TEXT(入力用科目!$AD166,\"????????\"),7,1))","v":""},{"$f":"IF(入力用科目!$AD166=\"\",\"\",MID(TEXT(入力用科目!$AD166,\"????????\"),8,1))","v":""},null,{"$f":"IF(入力用科目!$AM166=\"\",\"\",MID(TEXT(入力用科目!$AM166,\"????????\"),1,1))","v":" "},{"$f":"IF(入力用科目!$AM166=\"\",\"\",MID(TEXT(入力用科目!$AM166,\"????????\"),2,1))","v":" "},{"$f":"IF(入力用科目!$AM166=\"\",\"\",MID(TEXT(入力用科目!$AM166,\"????????\"),3,1))","v":" "},{"$f":"IF(入力用科目!$AM166=\"\",\"\",MID(TEXT(入力用科目!$AM166,\"????????\"),4,1))","v":" "},{"$f":"IF(入力用科目!$AM166=\"\",\"\",MID(TEXT(入力用科目!$AM166,\"????????\"),5,1))","v":" "},{"$f":"IF(入力用科目!$AM166=\"\",\"\",MID(TEXT(入力用科目!$AM166,\"????????\"),6,1))","v":" "},{"$f":"IF(入力用科目!$AM166=\"\",\"\",MID(TEXT(入力用科目!$AM166,\"????????\"),7,1))","v":" "},{"$f":"IF(入力用科目!$AM166=\"\",\"\",MID(TEXT(入力用科目!$AM166,\"????????\"),8,1))","v":" "}]
[{"$f":"IF(入力用科目!A167=\"\",\"\",MID(TEXT(入力用科目!$A167,\"??\"),COLUMN(),1))","v":""},{"$f":"IF(入力用科目!A167=\"\",\"\",MID(TEXT(入力用科目!$A167,\"??\"),COLUMN(),1))","v":""},null,{"$f":"IF(入力用科目!$D167=\"\",\"\",MID(TEXT(入力用科目!$D167,\"???\"),1,1))","v":""},{"$f":"IF(入力用科目!$D167=\"\",\"\",MID(TEXT(入力用科目!$D167,\"???\"),2,1))","v":""},{"$f":"IF(入力用科目!$D167=\"\",\"\",MID(TEXT(入力用科目!$D167,\"???\"),3,1))","v":""},null,{"$f":"IF(入力用科目!H167=\"\",\"\",入力用科目!H167)","v":""},null,null,null,null,null,null,null,null,{"$f":"IF(入力用科目!$Q167=\"\",\"\",MID(TEXT(入力用科目!$Q167,\"???\"),1,1))","v":""},{"$f":"IF(入力用科目!$Q167=\"\",\"\",MID(TEXT(入力用科目!$Q167,\"???\"),2,1))","v":""},{"$f":"IF(入力用科目!$Q167=\"\",\"\",MID(TEXT(入力用科目!$Q167,\"???\"),3,1))","v":""},null,{"$f":"IF(入力用科目!$U167=\"\",\"\",MID(TEXT(入力用科目!$U167,\"????????\"),1,1))","v":""},{"$f":"IF(入力用科目!$U167=\"\",\"\",MID(TEXT(入力用科目!$U167,\"????????\"),2,1))","v":""},{"$f":"IF(入力用科目!$U167=\"\",\"\",MID(TEXT(入力用科目!$U167,\"????????\"),3,1))","v":""},{"$f":"IF(入力用科目!$U167=\"\",\"\",MID(TEXT(入力用科目!$U167,\"????????\"),4,1))","v":""},{"$f":"IF(入力用科目!$U167=\"\",\"\",MID(TEXT(入力用科目!$U167,\"????????\"),5,1))","v":""},{"$f":"IF(入力用科目!$U167=\"\",\"\",MID(TEXT(入力用科目!$U167,\"????????\"),6,1))","v":""},{"$f":"IF(入力用科目!$U167=\"\",\"\",MID(TEXT(入力用科目!$U167,\"????????\"),7,1))","v":""},{"$f":"IF(入力用科目!$U167=\"\",\"\",MID(TEXT(入力用科目!$U167,\"????????\"),8,1))","v":""},null,{"$f":"IF(入力用科目!$AD167=\"\",\"\",MID(TEXT(入力用科目!$AD167,\"????????\"),1,1))","v":""},{"$f":"IF(入力用科目!$AD167=\"\",\"\",MID(TEXT(入力用科目!$AD167,\"????????\"),2,1))","v":""},{"$f":"IF(入力用科目!$AD167=\"\",\"\",MID(TEXT(入力用科目!$AD167,\"????????\"),3,1))","v":""},{"$f":"IF(入力用科目!$AD167=\"\",\"\",MID(TEXT(入力用科目!$AD167,\"????????\"),4,1))","v":""},{"$f":"IF(入力用科目!$AD167=\"\",\"\",MID(TEXT(入力用科目!$AD167,\"????????\"),5,1))","v":""},{"$f":"IF(入力用科目!$AD167=\"\",\"\",MID(TEXT(入力用科目!$AD167,\"????????\"),6,1))","v":""},{"$f":"IF(入力用科目!$AD167=\"\",\"\",MID(TEXT(入力用科目!$AD167,\"????????\"),7,1))","v":""},{"$f":"IF(入力用科目!$AD167=\"\",\"\",MID(TEXT(入力用科目!$AD167,\"????????\"),8,1))","v":""},null,{"$f":"IF(入力用科目!$AM167=\"\",\"\",MID(TEXT(入力用科目!$AM167,\"????????\"),1,1))","v":" "},{"$f":"IF(入力用科目!$AM167=\"\",\"\",MID(TEXT(入力用科目!$AM167,\"????????\"),2,1))","v":" "},{"$f":"IF(入力用科目!$AM167=\"\",\"\",MID(TEXT(入力用科目!$AM167,\"????????\"),3,1))","v":" "},{"$f":"IF(入力用科目!$AM167=\"\",\"\",MID(TEXT(入力用科目!$AM167,\"????????\"),4,1))","v":" "},{"$f":"IF(入力用科目!$AM167=\"\",\"\",MID(TEXT(入力用科目!$AM167,\"????????\"),5,1))","v":" "},{"$f":"IF(入力用科目!$AM167=\"\",\"\",MID(TEXT(入力用科目!$AM167,\"????????\"),6,1))","v":" "},{"$f":"IF(入力用科目!$AM167=\"\",\"\",MID(TEXT(入力用科目!$AM167,\"????????\"),7,1))","v":" "},{"$f":"IF(入力用科目!$AM167=\"\",\"\",MID(TEXT(入力用科目!$AM167,\"????????\"),8,1))","v":" "}]
[{"$f":"IF(入力用科目!A168=\"\",\"\",MID(TEXT(入力用科目!$A168,\"??\"),COLUMN(),1))","v":""},{"$f":"IF(入力用科目!A168=\"\",\"\",MID(TEXT(入力用科目!$A168,\"??\"),COLUMN(),1))","v":""},null,{"$f":"IF(入力用科目!$D168=\"\",\"\",MID(TEXT(入力用科目!$D168,\"???\"),1,1))","v":""},{"$f":"IF(入力用科目!$D168=\"\",\"\",MID(TEXT(入力用科目!$D168,\"???\"),2,1))","v":""},{"$f":"IF(入力用科目!$D168=\"\",\"\",MID(TEXT(入力用科目!$D168,\"???\"),3,1))","v":""},null,{"$f":"IF(入力用科目!H168=\"\",\"\",入力用科目!H168)","v":""},null,null,null,null,null,null,null,null,{"$f":"IF(入力用科目!$Q168=\"\",\"\",MID(TEXT(入力用科目!$Q168,\"???\"),1,1))","v":""},{"$f":"IF(入力用科目!$Q168=\"\",\"\",MID(TEXT(入力用科目!$Q168,\"???\"),2,1))","v":""},{"$f":"IF(入力用科目!$Q168=\"\",\"\",MID(TEXT(入力用科目!$Q168,\"???\"),3,1))","v":""},null,{"$f":"IF(入力用科目!$U168=\"\",\"\",MID(TEXT(入力用科目!$U168,\"????????\"),1,1))","v":""},{"$f":"IF(入力用科目!$U168=\"\",\"\",MID(TEXT(入力用科目!$U168,\"????????\"),2,1))","v":""},{"$f":"IF(入力用科目!$U168=\"\",\"\",MID(TEXT(入力用科目!$U168,\"????????\"),3,1))","v":""},{"$f":"IF(入力用科目!$U168=\"\",\"\",MID(TEXT(入力用科目!$U168,\"????????\"),4,1))","v":""},{"$f":"IF(入力用科目!$U168=\"\",\"\",MID(TEXT(入力用科目!$U168,\"????????\"),5,1))","v":""},{"$f":"IF(入力用科目!$U168=\"\",\"\",MID(TEXT(入力用科目!$U168,\"????????\"),6,1))","v":""},{"$f":"IF(入力用科目!$U168=\"\",\"\",MID(TEXT(入力用科目!$U168,\"????????\"),7,1))","v":""},{"$f":"IF(入力用科目!$U168=\"\",\"\",MID(TEXT(入力用科目!$U168,\"????????\"),8,1))","v":""},null,{"$f":"IF(入力用科目!$AD168=\"\",\"\",MID(TEXT(入力用科目!$AD168,\"????????\"),1,1))","v":""},{"$f":"IF(入力用科目!$AD168=\"\",\"\",MID(TEXT(入力用科目!$AD168,\"????????\"),2,1))","v":""},{"$f":"IF(入力用科目!$AD168=\"\",\"\",MID(TEXT(入力用科目!$AD168,\"????????\"),3,1))","v":""},{"$f":"IF(入力用科目!$AD168=\"\",\"\",MID(TEXT(入力用科目!$AD168,\"????????\"),4,1))","v":""},{"$f":"IF(入力用科目!$AD168=\"\",\"\",MID(TEXT(入力用科目!$AD168,\"????????\"),5,1))","v":""},{"$f":"IF(入力用科目!$AD168=\"\",\"\",MID(TEXT(入力用科目!$AD168,\"????????\"),6,1))","v":""},{"$f":"IF(入力用科目!$AD168=\"\",\"\",MID(TEXT(入力用科目!$AD168,\"????????\"),7,1))","v":""},{"$f":"IF(入力用科目!$AD168=\"\",\"\",MID(TEXT(入力用科目!$AD168,\"????????\"),8,1))","v":""},null,{"$f":"IF(入力用科目!$AM168=\"\",\"\",MID(TEXT(入力用科目!$AM168,\"????????\"),1,1))","v":" "},{"$f":"IF(入力用科目!$AM168=\"\",\"\",MID(TEXT(入力用科目!$AM168,\"????????\"),2,1))","v":" "},{"$f":"IF(入力用科目!$AM168=\"\",\"\",MID(TEXT(入力用科目!$AM168,\"????????\"),3,1))","v":" "},{"$f":"IF(入力用科目!$AM168=\"\",\"\",MID(TEXT(入力用科目!$AM168,\"????????\"),4,1))","v":" "},{"$f":"IF(入力用科目!$AM168=\"\",\"\",MID(TEXT(入力用科目!$AM168,\"????????\"),5,1))","v":" "},{"$f":"IF(入力用科目!$AM168=\"\",\"\",MID(TEXT(入力用科目!$AM168,\"????????\"),6,1))","v":" "},{"$f":"IF(入力用科目!$AM168=\"\",\"\",MID(TEXT(入力用科目!$AM168,\"????????\"),7,1))","v":" "},{"$f":"IF(入力用科目!$AM168=\"\",\"\",MID(TEXT(入力用科目!$AM168,\"????????\"),8,1))","v":" "}]
[{"$f":"IF(入力用科目!A169=\"\",\"\",MID(TEXT(入力用科目!$A169,\"??\"),COLUMN(),1))","v":""},{"$f":"IF(入力用科目!A169=\"\",\"\",MID(TEXT(入力用科目!$A169,\"??\"),COLUMN(),1))","v":""},null,{"$f":"IF(入力用科目!$D169=\"\",\"\",MID(TEXT(入力用科目!$D169,\"???\"),1,1))","v":""},{"$f":"IF(入力用科目!$D169=\"\",\"\",MID(TEXT(入力用科目!$D169,\"???\"),2,1))","v":""},{"$f":"IF(入力用科目!$D169=\"\",\"\",MID(TEXT(入力用科目!$D169,\"???\"),3,1))","v":""},null,{"$f":"IF(入力用科目!H169=\"\",\"\",入力用科目!H169)","v":"小　　　計"},null,null,null,null,null,null,null,null,{"$f":"IF(入力用科目!$Q169=\"\",\"\",MID(TEXT(入力用科目!$Q169,\"???\"),1,1))","v":""},{"$f":"IF(入力用科目!$Q169=\"\",\"\",MID(TEXT(入力用科目!$Q169,\"???\"),2,1))","v":""},{"$f":"IF(入力用科目!$Q169=\"\",\"\",MID(TEXT(入力用科目!$Q169,\"???\"),3,1))","v":""},null,{"$f":"IF(入力用科目!$U169=\"\",\"\",MID(TEXT(入力用科目!$U169,\"????????\"),1,1))","v":" "},{"$f":"IF(入力用科目!$U169=\"\",\"\",MID(TEXT(入力用科目!$U169,\"????????\"),2,1))","v":" "},{"$f":"IF(入力用科目!$U169=\"\",\"\",MID(TEXT(入力用科目!$U169,\"????????\"),3,1))","v":" "},{"$f":"IF(入力用科目!$U169=\"\",\"\",MID(TEXT(入力用科目!$U169,\"????????\"),4,1))","v":" "},{"$f":"IF(入力用科目!$U169=\"\",\"\",MID(TEXT(入力用科目!$U169,\"????????\"),5,1))","v":" "},{"$f":"IF(入力用科目!$U169=\"\",\"\",MID(TEXT(入力用科目!$U169,\"????????\"),6,1))","v":" "},{"$f":"IF(入力用科目!$U169=\"\",\"\",MID(TEXT(入力用科目!$U169,\"????????\"),7,1))","v":" "},{"$f":"IF(入力用科目!$U169=\"\",\"\",MID(TEXT(入力用科目!$U169,\"????????\"),8,1))","v":" "},null,{"$f":"IF(入力用科目!$AD169=\"\",\"\",MID(TEXT(入力用科目!$AD169,\"????????\"),1,1))","v":" "},{"$f":"IF(入力用科目!$AD169=\"\",\"\",MID(TEXT(入力用科目!$AD169,\"????????\"),2,1))","v":" "},{"$f":"IF(入力用科目!$AD169=\"\",\"\",MID(TEXT(入力用科目!$AD169,\"????????\"),3,1))","v":" "},{"$f":"IF(入力用科目!$AD169=\"\",\"\",MID(TEXT(入力用科目!$AD169,\"????????\"),4,1))","v":" "},{"$f":"IF(入力用科目!$AD169=\"\",\"\",MID(TEXT(入力用科目!$AD169,\"????????\"),5,1))","v":" "},{"$f":"IF(入力用科目!$AD169=\"\",\"\",MID(TEXT(入力用科目!$AD169,\"????????\"),6,1))","v":" "},{"$f":"IF(入力用科目!$AD169=\"\",\"\",MID(TEXT(入力用科目!$AD169,\"????????\"),7,1))","v":" "},{"$f":"IF(入力用科目!$AD169=\"\",\"\",MID(TEXT(入力用科目!$AD169,\"????????\"),8,1))","v":" "},null,{"$f":"IF(入力用科目!$AM169=\"\",\"\",MID(TEXT(入力用科目!$AM169,\"????????\"),1,1))","v":" "},{"$f":"IF(入力用科目!$AM169=\"\",\"\",MID(TEXT(入力用科目!$AM169,\"????????\"),2,1))","v":" "},{"$f":"IF(入力用科目!$AM169=\"\",\"\",MID(TEXT(入力用科目!$AM169,\"????????\"),3,1))","v":" "},{"$f":"IF(入力用科目!$AM169=\"\",\"\",MID(TEXT(入力用科目!$AM169,\"????????\"),4,1))","v":" "},{"$f":"IF(入力用科目!$AM169=\"\",\"\",MID(TEXT(入力用科目!$AM169,\"????????\"),5,1))","v":" "},{"$f":"IF(入力用科目!$AM169=\"\",\"\",MID(TEXT(入力用科目!$AM169,\"????????\"),6,1))","v":" "},{"$f":"IF(入力用科目!$AM169=\"\",\"\",MID(TEXT(入力用科目!$AM169,\"????????\"),7,1))","v":" "},{"$f":"IF(入力用科目!$AM169=\"\",\"\",MID(TEXT(入力用科目!$AM169,\"????????\"),8,1))","v":" "}]
[]
[null,{"$f":"IF(入力用科目!B171=\"\",\"\",入力用科目!B171)","v":""}]
[null,null,null,null,null,null,null,null,null,null,null,null,null,null,null,null,null,null,null,null,null,null,null,null,null,null,null,null,null,null,null,{"$f":"IF(入力用科目!$AF172=\"\",\"\",MID(TEXT(入力用科目!$AF172,\"???????\"),1,1))","v":""},{"$f":"IF(入力用科目!$AF172=\"\",\"\",MID(TEXT(入力用科目!$AF172,\"???????\"),2,1))","v":""},{"$f":"IF(入力用科目!$AF172=\"\",\"\",MID(TEXT(入力用科目!$AF172,\"???????\"),3,1))","v":""},{"$f":"IF(入力用科目!$AF172=\"\",\"\",MID(TEXT(入力用科目!$AF172,\"???????\"),4,1))","v":""},{"$f":"IF(入力用科目!$AF172=\"\",\"\",MID(TEXT(入力用科目!$AF172,\"???????\"),5,1))","v":""},{"$f":"IF(入力用科目!$AF172=\"\",\"\",MID(TEXT(入力用科目!$AF172,\"???????\"),6,1))","v":""},{"$f":"IF(入力用科目!$AF172=\"\",\"\",MID(TEXT(入力用科目!$AF172,\"???????\"),7,1))","v":""},null,{"$f":"IF(入力用科目!$AN172=\"\",\"\",MID(TEXT(入力用科目!$AN172,\"???????\"),1,1))","v":" "},{"$f":"IF(入力用科目!$AN172=\"\",\"\",MID(TEXT(入力用科目!$AN172,\"???????\"),2,1))","v":" "},{"$f":"IF(入力用科目!$AN172=\"\",\"\",MID(TEXT(入力用科目!$AN172,\"???????\"),3,1))","v":" "},{"$f":"IF(入力用科目!$AN172=\"\",\"\",MID(TEXT(入力用科目!$AN172,\"???????\"),4,1))","v":" "},{"$f":"IF(入力用科目!$AN172=\"\",\"\",MID(TEXT(入力用科目!$AN172,\"???????\"),5,1))","v":" "},{"$f":"IF(入力用科目!$AN172=\"\",\"\",MID(TEXT(入力用科目!$AN172,\"???????\"),6,1))","v":" "},{"$f":"IF(入力用科目!$AN172=\"\",\"\",MID(TEXT(入力用科目!$AN172,\"???????\"),7,1))","v":" "}]
[]
[]
[]
[]
[]
[{"$f":"IF(入力用科目!A178=\"\",\"\",入力用科目!A178)","v":0},{"$f":"IF(入力用科目!B178=\"\",\"\",入力用科目!B178)","v":6},null,{"$f":"IF(入力用科目!D178=\"\",\"\",入力用科目!D178)","v":""},{"$f":"IF(入力用科目!E178=\"\",\"\",入力用科目!E178)","v":""},null,null,null,null,null,null,null,null,null,null,null,null,null,null,null,null,null,null,null,null,null,null,null,null,null,null,null,{"$f":"IF(入力用科目!AG178=\"\",\"\",入力用科目!AG178)","v":""},null,null,null,null,null,null,null,null,{"$f":"IF(入力用科目!AP178=\"\",\"\",入力用科目!AP178)","v":""},null,{"$f":"IF(入力用科目!AR178=\"\",\"\",入力用科目!AR178)","v":""}]
[]
[]
[null,null,null,null,null,null,null,null,null,null,null,null,null,null,null,null,null,null,null,null,null,null,null,null,null,null,null,null,null,null,null,null,null,null,null,null,null,null,{"$f":"IF(入力用科目!$AM181=\"\",\"\",MID(TEXT(入力用科目!$AM181,\"????????\"),1,1))","v":" "},{"$f":"IF(入力用科目!$AM181=\"\",\"\",MID(TEXT(入力用科目!$AM181,\"????????\"),2,1))","v":" "},{"$f":"IF(入力用科目!$AM181=\"\",\"\",MID(TEXT(入力用科目!$AM181,\"????????\"),3,1))","v":" "},{"$f":"IF(入力用科目!$AM181=\"\",\"\",MID(TEXT(入力用科目!$AM181,\"????????\"),4,1))","v":" "},{"$f":"IF(入力用科目!$AM181=\"\",\"\",MID(TEXT(入力用科目!$AM181,\"????????\"),5,1))","v":" "},{"$f":"IF(入力用科目!$AM181=\"\",\"\",MID(TEXT(入力用科目!$AM181,\"????????\"),6,1))","v":" "},{"$f":"IF(入力用科目!$AM181=\"\",\"\",MID(TEXT(入力用科目!$AM181,\"????????\"),7,1))","v":" "},{"$f":"IF(入力用科目!$AM181=\"\",\"\",MID(TEXT(入力用科目!$AM181,\"????????\"),8,1))","v":" "}]
[{"$f":"IF(入力用科目!A182=\"\",\"\",MID(TEXT(入力用科目!$A182,\"??\"),COLUMN(),1))","v":""},{"$f":"IF(入力用科目!A182=\"\",\"\",MID(TEXT(入力用科目!$A182,\"??\"),COLUMN(),1))","v":""},null,{"$f":"IF(入力用科目!$D182=\"\",\"\",MID(TEXT(入力用科目!$D182,\"???\"),1,1))","v":""},{"$f":"IF(入力用科目!$D182=\"\",\"\",MID(TEXT(入力用科目!$D182,\"???\"),2,1))","v":""},{"$f":"IF(入力用科目!$D182=\"\",\"\",MID(TEXT(入力用科目!$D182,\"???\"),3,1))","v":""},null,{"$f":"IF(入力用科目!$Q182=1,\"運送収入\",IF(入力用科目!$H182=\"\",\"\",入力用科目!$H182))","v":""},null,null,null,null,null,null,null,null,{"$f":"IF(入力用科目!$Q182=\"\",\"\",MID(TEXT(入力用科目!$Q182,\"???\"),1,1))","v":""},{"$f":"IF(入力用科目!$Q182=\"\",\"\",MID(TEXT(入力用科目!$Q182,\"???\"),2,1))","v":""},{"$f":"IF(入力用科目!$Q182=\"\",\"\",MID(TEXT(入力用科目!$Q182,\"???\"),3,1))","v":""},null,{"$f":"IF(入力用科目!$U182=\"\",\"\",MID(TEXT(入力用科目!$U182,\"????????\"),1,1))","v":""},{"$f":"IF(入力用科目!$U182=\"\",\"\",MID(TEXT(入力用科目!$U182,\"????????\"),2,1))","v":""},{"$f":"IF(入力用科目!$U182=\"\",\"\",MID(TEXT(入力用科目!$U182,\"????????\"),3,1))","v":""},{"$f":"IF(入力用科目!$U182=\"\",\"\",MID(TEXT(入力用科目!$U182,\"????????\"),4,1))","v":""},{"$f":"IF(入力用科目!$U182=\"\",\"\",MID(TEXT(入力用科目!$U182,\"????????\"),5,1))","v":""},{"$f":"IF(入力用科目!$U182=\"\",\"\",MID(TEXT(入力用科目!$U182,\"????????\"),6,1))","v":""},{"$f":"IF(入力用科目!$U182=\"\",\"\",MID(TEXT(入力用科目!$U182,\"????????\"),7,1))","v":""},{"$f":"IF(入力用科目!$U182=\"\",\"\",MID(TEXT(入力用科目!$U182,\"????????\"),8,1))","v":""},null,{"$f":"IF(入力用科目!$AD182=\"\",\"\",MID(TEXT(入力用科目!$AD182,\"????????\"),1,1))","v":""},{"$f":"IF(入力用科目!$AD182=\"\",\"\",MID(TEXT(入力用科目!$AD182,\"????????\"),2,1))","v":""},{"$f":"IF(入力用科目!$AD182=\"\",\"\",MID(TEXT(入力用科目!$AD182,\"????????\"),3,1))","v":""},{"$f":"IF(入力用科目!$AD182=\"\",\"\",MID(TEXT(入力用科目!$AD182,\"????????\"),4,1))","v":""},{"$f":"IF(入力用科目!$AD182=\"\",\"\",MID(TEXT(入力用科目!$AD182,\"????????\"),5,1))","v":""},{"$f":"IF(入力用科目!$AD182=\"\",\"\",MID(TEXT(入力用科目!$AD182,\"????????\"),6,1))","v":""},{"$f":"IF(入力用科目!$AD182=\"\",\"\",MID(TEXT(入力用科目!$AD182,\"????????\"),7,1))","v":""},{"$f":"IF(入力用科目!$AD182=\"\",\"\",MID(TEXT(入力用科目!$AD182,\"????????\"),8,1))","v":""},null,{"$f":"IF(入力用科目!$AM182=\"\",\"\",MID(TEXT(入力用科目!$AM182,\"????????\"),1,1))","v":" "},{"$f":"IF(入力用科目!$AM182=\"\",\"\",MID(TEXT(入力用科目!$AM182,\"????????\"),2,1))","v":" "},{"$f":"IF(入力用科目!$AM182=\"\",\"\",MID(TEXT(入力用科目!$AM182,\"????????\"),3,1))","v":" "},{"$f":"IF(入力用科目!$AM182=\"\",\"\",MID(TEXT(入力用科目!$AM182,\"????????\"),4,1))","v":" "},{"$f":"IF(入力用科目!$AM182=\"\",\"\",MID(TEXT(入力用科目!$AM182,\"????????\"),5,1))","v":" "},{"$f":"IF(入力用科目!$AM182=\"\",\"\",MID(TEXT(入力用科目!$AM182,\"????????\"),6,1))","v":" "},{"$f":"IF(入力用科目!$AM182=\"\",\"\",MID(TEXT(入力用科目!$AM182,\"????????\"),7,1))","v":" "},{"$f":"IF(入力用科目!$AM182=\"\",\"\",MID(TEXT(入力用科目!$AM182,\"????????\"),8,1))","v":" "}]
[{"$f":"IF(入力用科目!A183=\"\",\"\",MID(TEXT(入力用科目!$A183,\"??\"),COLUMN(),1))","v":""},{"$f":"IF(入力用科目!A183=\"\",\"\",MID(TEXT(入力用科目!$A183,\"??\"),COLUMN(),1))","v":""},null,{"$f":"IF(入力用科目!$D183=\"\",\"\",MID(TEXT(入力用科目!$D183,\"???\"),1,1))","v":""},{"$f":"IF(入力用科目!$D183=\"\",\"\",MID(TEXT(入力用科目!$D183,\"???\"),2,1))","v":""},{"$f":"IF(入力用科目!$D183=\"\",\"\",MID(TEXT(入力用科目!$D183,\"???\"),3,1))","v":""},null,{"$f":"IF(入力用科目!$Q183=1,\"運送収入\",IF(入力用科目!$H183=\"\",\"\",入力用科目!$H183))","v":""},null,null,null,null,null,null,null,null,{"$f":"IF(入力用科目!$Q183=\"\",\"\",MID(TEXT(入力用科目!$Q183,\"???\"),1,1))","v":""},{"$f":"IF(入力用科目!$Q183=\"\",\"\",MID(TEXT(入力用科目!$Q183,\"???\"),2,1))","v":""},{"$f":"IF(入力用科目!$Q183=\"\",\"\",MID(TEXT(入力用科目!$Q183,\"???\"),3,1))","v":""},null,{"$f":"IF(入力用科目!$U183=\"\",\"\",MID(TEXT(入力用科目!$U183,\"????????\"),1,1))","v":""},{"$f":"IF(入力用科目!$U183=\"\",\"\",MID(TEXT(入力用科目!$U183,\"????????\"),2,1))","v":""},{"$f":"IF(入力用科目!$U183=\"\",\"\",MID(TEXT(入力用科目!$U183,\"????????\"),3,1))","v":""},{"$f":"IF(入力用科目!$U183=\"\",\"\",MID(TEXT(入力用科目!$U183,\"????????\"),4,1))","v":""},{"$f":"IF(入力用科目!$U183=\"\",\"\",MID(TEXT(入力用科目!$U183,\"????????\"),5,1))","v":""},{"$f":"IF(入力用科目!$U183=\"\",\"\",MID(TEXT(入力用科目!$U183,\"????????\"),6,1))","v":""},{"$f":"IF(入力用科目!$U183=\"\",\"\",MID(TEXT(入力用科目!$U183,\"????????\"),7,1))","v":""},{"$f":"IF(入力用科目!$U183=\"\",\"\",MID(TEXT(入力用科目!$U183,\"????????\"),8,1))","v":""},null,{"$f":"IF(入力用科目!$AD183=\"\",\"\",MID(TEXT(入力用科目!$AD183,\"????????\"),1,1))","v":""},{"$f":"IF(入力用科目!$AD183=\"\",\"\",MID(TEXT(入力用科目!$AD183,\"????????\"),2,1))","v":""},{"$f":"IF(入力用科目!$AD183=\"\",\"\",MID(TEXT(入力用科目!$AD183,\"????????\"),3,1))","v":""},{"$f":"IF(入力用科目!$AD183=\"\",\"\",MID(TEXT(入力用科目!$AD183,\"????????\"),4,1))","v":""},{"$f":"IF(入力用科目!$AD183=\"\",\"\",MID(TEXT(入力用科目!$AD183,\"????????\"),5,1))","v":""},{"$f":"IF(入力用科目!$AD183=\"\",\"\",MID(TEXT(入力用科目!$AD183,\"????????\"),6,1))","v":""},{"$f":"IF(入力用科目!$AD183=\"\",\"\",MID(TEXT(入力用科目!$AD183,\"????????\"),7,1))","v":""},{"$f":"IF(入力用科目!$AD183=\"\",\"\",MID(TEXT(入力用科目!$AD183,\"????????\"),8,1))","v":""},null,{"$f":"IF(入力用科目!$AM183=\"\",\"\",MID(TEXT(入力用科目!$AM183,\"????????\"),1,1))","v":" "},{"$f":"IF(入力用科目!$AM183=\"\",\"\",MID(TEXT(入力用科目!$AM183,\"????????\"),2,1))","v":" "},{"$f":"IF(入力用科目!$AM183=\"\",\"\",MID(TEXT(入力用科目!$AM183,\"????????\"),3,1))","v":" "},{"$f":"IF(入力用科目!$AM183=\"\",\"\",MID(TEXT(入力用科目!$AM183,\"????????\"),4,1))","v":" "},{"$f":"IF(入力用科目!$AM183=\"\",\"\",MID(TEXT(入力用科目!$AM183,\"????????\"),5,1))","v":" "},{"$f":"IF(入力用科目!$AM183=\"\",\"\",MID(TEXT(入力用科目!$AM183,\"????????\"),6,1))","v":" "},{"$f":"IF(入力用科目!$AM183=\"\",\"\",MID(TEXT(入力用科目!$AM183,\"????????\"),7,1))","v":" "},{"$f":"IF(入力用科目!$AM183=\"\",\"\",MID(TEXT(入力用科目!$AM183,\"????????\"),8,1))","v":" "}]
[{"$f":"IF(入力用科目!A184=\"\",\"\",MID(TEXT(入力用科目!$A184,\"??\"),COLUMN(),1))","v":""},{"$f":"IF(入力用科目!A184=\"\",\"\",MID(TEXT(入力用科目!$A184,\"??\"),COLUMN(),1))","v":""},null,{"$f":"IF(入力用科目!$D184=\"\",\"\",MID(TEXT(入力用科目!$D184,\"???\"),1,1))","v":""},{"$f":"IF(入力用科目!$D184=\"\",\"\",MID(TEXT(入力用科目!$D184,\"???\"),2,1))","v":""},{"$f":"IF(入力用科目!$D184=\"\",\"\",MID(TEXT(入力用科目!$D184,\"???\"),3,1))","v":""},null,{"$f":"IF(入力用科目!$Q184=1,\"運送収入\",IF(入力用科目!$H184=\"\",\"\",入力用科目!$H184))","v":""},null,null,null,null,null,null,null,null,{"$f":"IF(入力用科目!$Q184=\"\",\"\",MID(TEXT(入力用科目!$Q184,\"???\"),1,1))","v":""},{"$f":"IF(入力用科目!$Q184=\"\",\"\",MID(TEXT(入力用科目!$Q184,\"???\"),2,1))","v":""},{"$f":"IF(入力用科目!$Q184=\"\",\"\",MID(TEXT(入力用科目!$Q184,\"???\"),3,1))","v":""},null,{"$f":"IF(入力用科目!$U184=\"\",\"\",MID(TEXT(入力用科目!$U184,\"????????\"),1,1))","v":""},{"$f":"IF(入力用科目!$U184=\"\",\"\",MID(TEXT(入力用科目!$U184,\"????????\"),2,1))","v":""},{"$f":"IF(入力用科目!$U184=\"\",\"\",MID(TEXT(入力用科目!$U184,\"????????\"),3,1))","v":""},{"$f":"IF(入力用科目!$U184=\"\",\"\",MID(TEXT(入力用科目!$U184,\"????????\"),4,1))","v":""},{"$f":"IF(入力用科目!$U184=\"\",\"\",MID(TEXT(入力用科目!$U184,\"????????\"),5,1))","v":""},{"$f":"IF(入力用科目!$U184=\"\",\"\",MID(TEXT(入力用科目!$U184,\"????????\"),6,1))","v":""},{"$f":"IF(入力用科目!$U184=\"\",\"\",MID(TEXT(入力用科目!$U184,\"????????\"),7,1))","v":""},{"$f":"IF(入力用科目!$U184=\"\",\"\",MID(TEXT(入力用科目!$U184,\"????????\"),8,1))","v":""},null,{"$f":"IF(入力用科目!$AD184=\"\",\"\",MID(TEXT(入力用科目!$AD184,\"????????\"),1,1))","v":""},{"$f":"IF(入力用科目!$AD184=\"\",\"\",MID(TEXT(入力用科目!$AD184,\"????????\"),2,1))","v":""},{"$f":"IF(入力用科目!$AD184=\"\",\"\",MID(TEXT(入力用科目!$AD184,\"????????\"),3,1))","v":""},{"$f":"IF(入力用科目!$AD184=\"\",\"\",MID(TEXT(入力用科目!$AD184,\"????????\"),4,1))","v":""},{"$f":"IF(入力用科目!$AD184=\"\",\"\",MID(TEXT(入力用科目!$AD184,\"????????\"),5,1))","v":""},{"$f":"IF(入力用科目!$AD184=\"\",\"\",MID(TEXT(入力用科目!$AD184,\"????????\"),6,1))","v":""},{"$f":"IF(入力用科目!$AD184=\"\",\"\",MID(TEXT(入力用科目!$AD184,\"????????\"),7,1))","v":""},{"$f":"IF(入力用科目!$AD184=\"\",\"\",MID(TEXT(入力用科目!$AD184,\"????????\"),8,1))","v":""},null,{"$f":"IF(入力用科目!$AM184=\"\",\"\",MID(TEXT(入力用科目!$AM184,\"????????\"),1,1))","v":" "},{"$f":"IF(入力用科目!$AM184=\"\",\"\",MID(TEXT(入力用科目!$AM184,\"????????\"),2,1))","v":" "},{"$f":"IF(入力用科目!$AM184=\"\",\"\",MID(TEXT(入力用科目!$AM184,\"????????\"),3,1))","v":" "},{"$f":"IF(入力用科目!$AM184=\"\",\"\",MID(TEXT(入力用科目!$AM184,\"????????\"),4,1))","v":" "},{"$f":"IF(入力用科目!$AM184=\"\",\"\",MID(TEXT(入力用科目!$AM184,\"????????\"),5,1))","v":" "},{"$f":"IF(入力用科目!$AM184=\"\",\"\",MID(TEXT(入力用科目!$AM184,\"????????\"),6,1))","v":" "},{"$f":"IF(入力用科目!$AM184=\"\",\"\",MID(TEXT(入力用科目!$AM184,\"????????\"),7,1))","v":" "},{"$f":"IF(入力用科目!$AM184=\"\",\"\",MID(TEXT(入力用科目!$AM184,\"????????\"),8,1))","v":" "}]
[{"$f":"IF(入力用科目!A185=\"\",\"\",MID(TEXT(入力用科目!$A185,\"??\"),COLUMN(),1))","v":""},{"$f":"IF(入力用科目!A185=\"\",\"\",MID(TEXT(入力用科目!$A185,\"??\"),COLUMN(),1))","v":""},null,{"$f":"IF(入力用科目!$D185=\"\",\"\",MID(TEXT(入力用科目!$D185,\"???\"),1,1))","v":""},{"$f":"IF(入力用科目!$D185=\"\",\"\",MID(TEXT(入力用科目!$D185,\"???\"),2,1))","v":""},{"$f":"IF(入力用科目!$D185=\"\",\"\",MID(TEXT(入力用科目!$D185,\"???\"),3,1))","v":""},null,{"$f":"IF(入力用科目!$Q185=1,\"運送収入\",IF(入力用科目!$H185=\"\",\"\",入力用科目!$H185))","v":""},null,null,null,null,null,null,null,null,{"$f":"IF(入力用科目!$Q185=\"\",\"\",MID(TEXT(入力用科目!$Q185,\"???\"),1,1))","v":""},{"$f":"IF(入力用科目!$Q185=\"\",\"\",MID(TEXT(入力用科目!$Q185,\"???\"),2,1))","v":""},{"$f":"IF(入力用科目!$Q185=\"\",\"\",MID(TEXT(入力用科目!$Q185,\"???\"),3,1))","v":""},null,{"$f":"IF(入力用科目!$U185=\"\",\"\",MID(TEXT(入力用科目!$U185,\"????????\"),1,1))","v":""},{"$f":"IF(入力用科目!$U185=\"\",\"\",MID(TEXT(入力用科目!$U185,\"????????\"),2,1))","v":""},{"$f":"IF(入力用科目!$U185=\"\",\"\",MID(TEXT(入力用科目!$U185,\"????????\"),3,1))","v":""},{"$f":"IF(入力用科目!$U185=\"\",\"\",MID(TEXT(入力用科目!$U185,\"????????\"),4,1))","v":""},{"$f":"IF(入力用科目!$U185=\"\",\"\",MID(TEXT(入力用科目!$U185,\"????????\"),5,1))","v":""},{"$f":"IF(入力用科目!$U185=\"\",\"\",MID(TEXT(入力用科目!$U185,\"????????\"),6,1))","v":""},{"$f":"IF(入力用科目!$U185=\"\",\"\",MID(TEXT(入力用科目!$U185,\"????????\"),7,1))","v":""},{"$f":"IF(入力用科目!$U185=\"\",\"\",MID(TEXT(入力用科目!$U185,\"????????\"),8,1))","v":""},null,{"$f":"IF(入力用科目!$AD185=\"\",\"\",MID(TEXT(入力用科目!$AD185,\"????????\"),1,1))","v":""},{"$f":"IF(入力用科目!$AD185=\"\",\"\",MID(TEXT(入力用科目!$AD185,\"????????\"),2,1))","v":""},{"$f":"IF(入力用科目!$AD185=\"\",\"\",MID(TEXT(入力用科目!$AD185,\"????????\"),3,1))","v":""},{"$f":"IF(入力用科目!$AD185=\"\",\"\",MID(TEXT(入力用科目!$AD185,\"????????\"),4,1))","v":""},{"$f":"IF(入力用科目!$AD185=\"\",\"\",MID(TEXT(入力用科目!$AD185,\"????????\"),5,1))","v":""},{"$f":"IF(入力用科目!$AD185=\"\",\"\",MID(TEXT(入力用科目!$AD185,\"????????\"),6,1))","v":""},{"$f":"IF(入力用科目!$AD185=\"\",\"\",MID(TEXT(入力用科目!$AD185,\"????????\"),7,1))","v":""},{"$f":"IF(入力用科目!$AD185=\"\",\"\",MID(TEXT(入力用科目!$AD185,\"????????\"),8,1))","v":""},null,{"$f":"IF(入力用科目!$AM185=\"\",\"\",MID(TEXT(入力用科目!$AM185,\"????????\"),1,1))","v":" "},{"$f":"IF(入力用科目!$AM185=\"\",\"\",MID(TEXT(入力用科目!$AM185,\"????????\"),2,1))","v":" "},{"$f":"IF(入力用科目!$AM185=\"\",\"\",MID(TEXT(入力用科目!$AM185,\"????????\"),3,1))","v":" "},{"$f":"IF(入力用科目!$AM185=\"\",\"\",MID(TEXT(入力用科目!$AM185,\"????????\"),4,1))","v":" "},{"$f":"IF(入力用科目!$AM185=\"\",\"\",MID(TEXT(入力用科目!$AM185,\"????????\"),5,1))","v":" "},{"$f":"IF(入力用科目!$AM185=\"\",\"\",MID(TEXT(入力用科目!$AM185,\"????????\"),6,1))","v":" "},{"$f":"IF(入力用科目!$AM185=\"\",\"\",MID(TEXT(入力用科目!$AM185,\"????????\"),7,1))","v":" "},{"$f":"IF(入力用科目!$AM185=\"\",\"\",MID(TEXT(入力用科目!$AM185,\"????????\"),8,1))","v":" "}]
[{"$f":"IF(入力用科目!A186=\"\",\"\",MID(TEXT(入力用科目!$A186,\"??\"),COLUMN(),1))","v":""},{"$f":"IF(入力用科目!A186=\"\",\"\",MID(TEXT(入力用科目!$A186,\"??\"),COLUMN(),1))","v":""},null,{"$f":"IF(入力用科目!$D186=\"\",\"\",MID(TEXT(入力用科目!$D186,\"???\"),1,1))","v":""},{"$f":"IF(入力用科目!$D186=\"\",\"\",MID(TEXT(入力用科目!$D186,\"???\"),2,1))","v":""},{"$f":"IF(入力用科目!$D186=\"\",\"\",MID(TEXT(入力用科目!$D186,\"???\"),3,1))","v":""},null,{"$f":"IF(入力用科目!$Q186=1,\"運送収入\",IF(入力用科目!$H186=\"\",\"\",入力用科目!$H186))","v":""},null,null,null,null,null,null,null,null,{"$f":"IF(入力用科目!$Q186=\"\",\"\",MID(TEXT(入力用科目!$Q186,\"???\"),1,1))","v":""},{"$f":"IF(入力用科目!$Q186=\"\",\"\",MID(TEXT(入力用科目!$Q186,\"???\"),2,1))","v":""},{"$f":"IF(入力用科目!$Q186=\"\",\"\",MID(TEXT(入力用科目!$Q186,\"???\"),3,1))","v":""},null,{"$f":"IF(入力用科目!$U186=\"\",\"\",MID(TEXT(入力用科目!$U186,\"????????\"),1,1))","v":""},{"$f":"IF(入力用科目!$U186=\"\",\"\",MID(TEXT(入力用科目!$U186,\"????????\"),2,1))","v":""},{"$f":"IF(入力用科目!$U186=\"\",\"\",MID(TEXT(入力用科目!$U186,\"????????\"),3,1))","v":""},{"$f":"IF(入力用科目!$U186=\"\",\"\",MID(TEXT(入力用科目!$U186,\"????????\"),4,1))","v":""},{"$f":"IF(入力用科目!$U186=\"\",\"\",MID(TEXT(入力用科目!$U186,\"????????\"),5,1))","v":""},{"$f":"IF(入力用科目!$U186=\"\",\"\",MID(TEXT(入力用科目!$U186,\"????????\"),6,1))","v":""},{"$f":"IF(入力用科目!$U186=\"\",\"\",MID(TEXT(入力用科目!$U186,\"????????\"),7,1))","v":""},{"$f":"IF(入力用科目!$U186=\"\",\"\",MID(TEXT(入力用科目!$U186,\"????????\"),8,1))","v":""},null,{"$f":"IF(入力用科目!$AD186=\"\",\"\",MID(TEXT(入力用科目!$AD186,\"????????\"),1,1))","v":""},{"$f":"IF(入力用科目!$AD186=\"\",\"\",MID(TEXT(入力用科目!$AD186,\"????????\"),2,1))","v":""},{"$f":"IF(入力用科目!$AD186=\"\",\"\",MID(TEXT(入力用科目!$AD186,\"????????\"),3,1))","v":""},{"$f":"IF(入力用科目!$AD186=\"\",\"\",MID(TEXT(入力用科目!$AD186,\"????????\"),4,1))","v":""},{"$f":"IF(入力用科目!$AD186=\"\",\"\",MID(TEXT(入力用科目!$AD186,\"????????\"),5,1))","v":""},{"$f":"IF(入力用科目!$AD186=\"\",\"\",MID(TEXT(入力用科目!$AD186,\"????????\"),6,1))","v":""},{"$f":"IF(入力用科目!$AD186=\"\",\"\",MID(TEXT(入力用科目!$AD186,\"????????\"),7,1))","v":""},{"$f":"IF(入力用科目!$AD186=\"\",\"\",MID(TEXT(入力用科目!$AD186,\"????????\"),8,1))","v":""},null,{"$f":"IF(入力用科目!$AM186=\"\",\"\",MID(TEXT(入力用科目!$AM186,\"????????\"),1,1))","v":" "},{"$f":"IF(入力用科目!$AM186=\"\",\"\",MID(TEXT(入力用科目!$AM186,\"????????\"),2,1))","v":" "},{"$f":"IF(入力用科目!$AM186=\"\",\"\",MID(TEXT(入力用科目!$AM186,\"????????\"),3,1))","v":" "},{"$f":"IF(入力用科目!$AM186=\"\",\"\",MID(TEXT(入力用科目!$AM186,\"????????\"),4,1))","v":" "},{"$f":"IF(入力用科目!$AM186=\"\",\"\",MID(TEXT(入力用科目!$AM186,\"????????\"),5,1))","v":" "},{"$f":"IF(入力用科目!$AM186=\"\",\"\",MID(TEXT(入力用科目!$AM186,\"????????\"),6,1))","v":" "},{"$f":"IF(入力用科目!$AM186=\"\",\"\",MID(TEXT(入力用科目!$AM186,\"????????\"),7,1))","v":" "},{"$f":"IF(入力用科目!$AM186=\"\",\"\",MID(TEXT(入力用科目!$AM186,\"????????\"),8,1))","v":" "}]
[{"$f":"IF(入力用科目!A187=\"\",\"\",MID(TEXT(入力用科目!$A187,\"??\"),COLUMN(),1))","v":""},{"$f":"IF(入力用科目!A187=\"\",\"\",MID(TEXT(入力用科目!$A187,\"??\"),COLUMN(),1))","v":""},null,{"$f":"IF(入力用科目!$D187=\"\",\"\",MID(TEXT(入力用科目!$D187,\"???\"),1,1))","v":""},{"$f":"IF(入力用科目!$D187=\"\",\"\",MID(TEXT(入力用科目!$D187,\"???\"),2,1))","v":""},{"$f":"IF(入力用科目!$D187=\"\",\"\",MID(TEXT(入力用科目!$D187,\"???\"),3,1))","v":""},null,{"$f":"IF(入力用科目!$Q187=1,\"運送収入\",IF(入力用科目!$H187=\"\",\"\",入力用科目!$H187))","v":""},null,null,null,null,null,null,null,null,{"$f":"IF(入力用科目!$Q187=\"\",\"\",MID(TEXT(入力用科目!$Q187,\"???\"),1,1))","v":""},{"$f":"IF(入力用科目!$Q187=\"\",\"\",MID(TEXT(入力用科目!$Q187,\"???\"),2,1))","v":""},{"$f":"IF(入力用科目!$Q187=\"\",\"\",MID(TEXT(入力用科目!$Q187,\"???\"),3,1))","v":""},null,{"$f":"IF(入力用科目!$U187=\"\",\"\",MID(TEXT(入力用科目!$U187,\"????????\"),1,1))","v":""},{"$f":"IF(入力用科目!$U187=\"\",\"\",MID(TEXT(入力用科目!$U187,\"????????\"),2,1))","v":""},{"$f":"IF(入力用科目!$U187=\"\",\"\",MID(TEXT(入力用科目!$U187,\"????????\"),3,1))","v":""},{"$f":"IF(入力用科目!$U187=\"\",\"\",MID(TEXT(入力用科目!$U187,\"????????\"),4,1))","v":""},{"$f":"IF(入力用科目!$U187=\"\",\"\",MID(TEXT(入力用科目!$U187,\"????????\"),5,1))","v":""},{"$f":"IF(入力用科目!$U187=\"\",\"\",MID(TEXT(入力用科目!$U187,\"????????\"),6,1))","v":""},{"$f":"IF(入力用科目!$U187=\"\",\"\",MID(TEXT(入力用科目!$U187,\"????????\"),7,1))","v":""},{"$f":"IF(入力用科目!$U187=\"\",\"\",MID(TEXT(入力用科目!$U187,\"????????\"),8,1))","v":""},null,{"$f":"IF(入力用科目!$AD187=\"\",\"\",MID(TEXT(入力用科目!$AD187,\"????????\"),1,1))","v":""},{"$f":"IF(入力用科目!$AD187=\"\",\"\",MID(TEXT(入力用科目!$AD187,\"????????\"),2,1))","v":""},{"$f":"IF(入力用科目!$AD187=\"\",\"\",MID(TEXT(入力用科目!$AD187,\"????????\"),3,1))","v":""},{"$f":"IF(入力用科目!$AD187=\"\",\"\",MID(TEXT(入力用科目!$AD187,\"????????\"),4,1))","v":""},{"$f":"IF(入力用科目!$AD187=\"\",\"\",MID(TEXT(入力用科目!$AD187,\"????????\"),5,1))","v":""},{"$f":"IF(入力用科目!$AD187=\"\",\"\",MID(TEXT(入力用科目!$AD187,\"????????\"),6,1))","v":""},{"$f":"IF(入力用科目!$AD187=\"\",\"\",MID(TEXT(入力用科目!$AD187,\"????????\"),7,1))","v":""},{"$f":"IF(入力用科目!$AD187=\"\",\"\",MID(TEXT(入力用科目!$AD187,\"????????\"),8,1))","v":""},null,{"$f":"IF(入力用科目!$AM187=\"\",\"\",MID(TEXT(入力用科目!$AM187,\"????????\"),1,1))","v":" "},{"$f":"IF(入力用科目!$AM187=\"\",\"\",MID(TEXT(入力用科目!$AM187,\"????????\"),2,1))","v":" "},{"$f":"IF(入力用科目!$AM187=\"\",\"\",MID(TEXT(入力用科目!$AM187,\"????????\"),3,1))","v":" "},{"$f":"IF(入力用科目!$AM187=\"\",\"\",MID(TEXT(入力用科目!$AM187,\"????????\"),4,1))","v":" "},{"$f":"IF(入力用科目!$AM187=\"\",\"\",MID(TEXT(入力用科目!$AM187,\"????????\"),5,1))","v":" "},{"$f":"IF(入力用科目!$AM187=\"\",\"\",MID(TEXT(入力用科目!$AM187,\"????????\"),6,1))","v":" "},{"$f":"IF(入力用科目!$AM187=\"\",\"\",MID(TEXT(入力用科目!$AM187,\"????????\"),7,1))","v":" "},{"$f":"IF(入力用科目!$AM187=\"\",\"\",MID(TEXT(入力用科目!$AM187,\"????????\"),8,1))","v":" "}]
[{"$f":"IF(入力用科目!A188=\"\",\"\",MID(TEXT(入力用科目!$A188,\"??\"),COLUMN(),1))","v":""},{"$f":"IF(入力用科目!A188=\"\",\"\",MID(TEXT(入力用科目!$A188,\"??\"),COLUMN(),1))","v":""},null,{"$f":"IF(入力用科目!$D188=\"\",\"\",MID(TEXT(入力用科目!$D188,\"???\"),1,1))","v":""},{"$f":"IF(入力用科目!$D188=\"\",\"\",MID(TEXT(入力用科目!$D188,\"???\"),2,1))","v":""},{"$f":"IF(入力用科目!$D188=\"\",\"\",MID(TEXT(入力用科目!$D188,\"???\"),3,1))","v":""},null,{"$f":"IF(入力用科目!$Q188=1,\"運送収入\",IF(入力用科目!$H188=\"\",\"\",入力用科目!$H188))","v":""},null,null,null,null,null,null,null,null,{"$f":"IF(入力用科目!$Q188=\"\",\"\",MID(TEXT(入力用科目!$Q188,\"???\"),1,1))","v":""},{"$f":"IF(入力用科目!$Q188=\"\",\"\",MID(TEXT(入力用科目!$Q188,\"???\"),2,1))","v":""},{"$f":"IF(入力用科目!$Q188=\"\",\"\",MID(TEXT(入力用科目!$Q188,\"???\"),3,1))","v":""},null,{"$f":"IF(入力用科目!$U188=\"\",\"\",MID(TEXT(入力用科目!$U188,\"????????\"),1,1))","v":""},{"$f":"IF(入力用科目!$U188=\"\",\"\",MID(TEXT(入力用科目!$U188,\"????????\"),2,1))","v":""},{"$f":"IF(入力用科目!$U188=\"\",\"\",MID(TEXT(入力用科目!$U188,\"????????\"),3,1))","v":""},{"$f":"IF(入力用科目!$U188=\"\",\"\",MID(TEXT(入力用科目!$U188,\"????????\"),4,1))","v":""},{"$f":"IF(入力用科目!$U188=\"\",\"\",MID(TEXT(入力用科目!$U188,\"????????\"),5,1))","v":""},{"$f":"IF(入力用科目!$U188=\"\",\"\",MID(TEXT(入力用科目!$U188,\"????????\"),6,1))","v":""},{"$f":"IF(入力用科目!$U188=\"\",\"\",MID(TEXT(入力用科目!$U188,\"????????\"),7,1))","v":""},{"$f":"IF(入力用科目!$U188=\"\",\"\",MID(TEXT(入力用科目!$U188,\"????????\"),8,1))","v":""},null,{"$f":"IF(入力用科目!$AD188=\"\",\"\",MID(TEXT(入力用科目!$AD188,\"????????\"),1,1))","v":""},{"$f":"IF(入力用科目!$AD188=\"\",\"\",MID(TEXT(入力用科目!$AD188,\"????????\"),2,1))","v":""},{"$f":"IF(入力用科目!$AD188=\"\",\"\",MID(TEXT(入力用科目!$AD188,\"????????\"),3,1))","v":""},{"$f":"IF(入力用科目!$AD188=\"\",\"\",MID(TEXT(入力用科目!$AD188,\"????????\"),4,1))","v":""},{"$f":"IF(入力用科目!$AD188=\"\",\"\",MID(TEXT(入力用科目!$AD188,\"????????\"),5,1))","v":""},{"$f":"IF(入力用科目!$AD188=\"\",\"\",MID(TEXT(入力用科目!$AD188,\"????????\"),6,1))","v":""},{"$f":"IF(入力用科目!$AD188=\"\",\"\",MID(TEXT(入力用科目!$AD188,\"????????\"),7,1))","v":""},{"$f":"IF(入力用科目!$AD188=\"\",\"\",MID(TEXT(入力用科目!$AD188,\"????????\"),8,1))","v":""},null,{"$f":"IF(入力用科目!$AM188=\"\",\"\",MID(TEXT(入力用科目!$AM188,\"????????\"),1,1))","v":" "},{"$f":"IF(入力用科目!$AM188=\"\",\"\",MID(TEXT(入力用科目!$AM188,\"????????\"),2,1))","v":" "},{"$f":"IF(入力用科目!$AM188=\"\",\"\",MID(TEXT(入力用科目!$AM188,\"????????\"),3,1))","v":" "},{"$f":"IF(入力用科目!$AM188=\"\",\"\",MID(TEXT(入力用科目!$AM188,\"????????\"),4,1))","v":" "},{"$f":"IF(入力用科目!$AM188=\"\",\"\",MID(TEXT(入力用科目!$AM188,\"????????\"),5,1))","v":" "},{"$f":"IF(入力用科目!$AM188=\"\",\"\",MID(TEXT(入力用科目!$AM188,\"????????\"),6,1))","v":" "},{"$f":"IF(入力用科目!$AM188=\"\",\"\",MID(TEXT(入力用科目!$AM188,\"????????\"),7,1))","v":" "},{"$f":"IF(入力用科目!$AM188=\"\",\"\",MID(TEXT(入力用科目!$AM188,\"????????\"),8,1))","v":" "}]
[{"$f":"IF(入力用科目!A189=\"\",\"\",MID(TEXT(入力用科目!$A189,\"??\"),COLUMN(),1))","v":""},{"$f":"IF(入力用科目!A189=\"\",\"\",MID(TEXT(入力用科目!$A189,\"??\"),COLUMN(),1))","v":""},null,{"$f":"IF(入力用科目!$D189=\"\",\"\",MID(TEXT(入力用科目!$D189,\"???\"),1,1))","v":""},{"$f":"IF(入力用科目!$D189=\"\",\"\",MID(TEXT(入力用科目!$D189,\"???\"),2,1))","v":""},{"$f":"IF(入力用科目!$D189=\"\",\"\",MID(TEXT(入力用科目!$D189,\"???\"),3,1))","v":""},null,{"$f":"IF(入力用科目!$Q189=1,\"運送収入\",IF(入力用科目!$H189=\"\",\"\",入力用科目!$H189))","v":""},null,null,null,null,null,null,null,null,{"$f":"IF(入力用科目!$Q189=\"\",\"\",MID(TEXT(入力用科目!$Q189,\"???\"),1,1))","v":""},{"$f":"IF(入力用科目!$Q189=\"\",\"\",MID(TEXT(入力用科目!$Q189,\"???\"),2,1))","v":""},{"$f":"IF(入力用科目!$Q189=\"\",\"\",MID(TEXT(入力用科目!$Q189,\"???\"),3,1))","v":""},null,{"$f":"IF(入力用科目!$U189=\"\",\"\",MID(TEXT(入力用科目!$U189,\"????????\"),1,1))","v":""},{"$f":"IF(入力用科目!$U189=\"\",\"\",MID(TEXT(入力用科目!$U189,\"????????\"),2,1))","v":""},{"$f":"IF(入力用科目!$U189=\"\",\"\",MID(TEXT(入力用科目!$U189,\"????????\"),3,1))","v":""},{"$f":"IF(入力用科目!$U189=\"\",\"\",MID(TEXT(入力用科目!$U189,\"????????\"),4,1))","v":""},{"$f":"IF(入力用科目!$U189=\"\",\"\",MID(TEXT(入力用科目!$U189,\"????????\"),5,1))","v":""},{"$f":"IF(入力用科目!$U189=\"\",\"\",MID(TEXT(入力用科目!$U189,\"????????\"),6,1))","v":""},{"$f":"IF(入力用科目!$U189=\"\",\"\",MID(TEXT(入力用科目!$U189,\"????????\"),7,1))","v":""},{"$f":"IF(入力用科目!$U189=\"\",\"\",MID(TEXT(入力用科目!$U189,\"????????\"),8,1))","v":""},null,{"$f":"IF(入力用科目!$AD189=\"\",\"\",MID(TEXT(入力用科目!$AD189,\"????????\"),1,1))","v":""},{"$f":"IF(入力用科目!$AD189=\"\",\"\",MID(TEXT(入力用科目!$AD189,\"????????\"),2,1))","v":""},{"$f":"IF(入力用科目!$AD189=\"\",\"\",MID(TEXT(入力用科目!$AD189,\"????????\"),3,1))","v":""},{"$f":"IF(入力用科目!$AD189=\"\",\"\",MID(TEXT(入力用科目!$AD189,\"????????\"),4,1))","v":""},{"$f":"IF(入力用科目!$AD189=\"\",\"\",MID(TEXT(入力用科目!$AD189,\"????????\"),5,1))","v":""},{"$f":"IF(入力用科目!$AD189=\"\",\"\",MID(TEXT(入力用科目!$AD189,\"????????\"),6,1))","v":""},{"$f":"IF(入力用科目!$AD189=\"\",\"\",MID(TEXT(入力用科目!$AD189,\"????????\"),7,1))","v":""},{"$f":"IF(入力用科目!$AD189=\"\",\"\",MID(TEXT(入力用科目!$AD189,\"????????\"),8,1))","v":""},null,{"$f":"IF(入力用科目!$AM189=\"\",\"\",MID(TEXT(入力用科目!$AM189,\"????????\"),1,1))","v":" "},{"$f":"IF(入力用科目!$AM189=\"\",\"\",MID(TEXT(入力用科目!$AM189,\"????????\"),2,1))","v":" "},{"$f":"IF(入力用科目!$AM189=\"\",\"\",MID(TEXT(入力用科目!$AM189,\"????????\"),3,1))","v":" "},{"$f":"IF(入力用科目!$AM189=\"\",\"\",MID(TEXT(入力用科目!$AM189,\"????????\"),4,1))","v":" "},{"$f":"IF(入力用科目!$AM189=\"\",\"\",MID(TEXT(入力用科目!$AM189,\"????????\"),5,1))","v":" "},{"$f":"IF(入力用科目!$AM189=\"\",\"\",MID(TEXT(入力用科目!$AM189,\"????????\"),6,1))","v":" "},{"$f":"IF(入力用科目!$AM189=\"\",\"\",MID(TEXT(入力用科目!$AM189,\"????????\"),7,1))","v":" "},{"$f":"IF(入力用科目!$AM189=\"\",\"\",MID(TEXT(入力用科目!$AM189,\"????????\"),8,1))","v":" "}]
[{"$f":"IF(入力用科目!A190=\"\",\"\",MID(TEXT(入力用科目!$A190,\"??\"),COLUMN(),1))","v":""},{"$f":"IF(入力用科目!A190=\"\",\"\",MID(TEXT(入力用科目!$A190,\"??\"),COLUMN(),1))","v":""},null,{"$f":"IF(入力用科目!$D190=\"\",\"\",MID(TEXT(入力用科目!$D190,\"???\"),1,1))","v":""},{"$f":"IF(入力用科目!$D190=\"\",\"\",MID(TEXT(入力用科目!$D190,\"???\"),2,1))","v":""},{"$f":"IF(入力用科目!$D190=\"\",\"\",MID(TEXT(入力用科目!$D190,\"???\"),3,1))","v":""},null,{"$f":"IF(入力用科目!$Q190=1,\"運送収入\",IF(入力用科目!$H190=\"\",\"\",入力用科目!$H190))","v":""},null,null,null,null,null,null,null,null,{"$f":"IF(入力用科目!$Q190=\"\",\"\",MID(TEXT(入力用科目!$Q190,\"???\"),1,1))","v":""},{"$f":"IF(入力用科目!$Q190=\"\",\"\",MID(TEXT(入力用科目!$Q190,\"???\"),2,1))","v":""},{"$f":"IF(入力用科目!$Q190=\"\",\"\",MID(TEXT(入力用科目!$Q190,\"???\"),3,1))","v":""},null,{"$f":"IF(入力用科目!$U190=\"\",\"\",MID(TEXT(入力用科目!$U190,\"????????\"),1,1))","v":""},{"$f":"IF(入力用科目!$U190=\"\",\"\",MID(TEXT(入力用科目!$U190,\"????????\"),2,1))","v":""},{"$f":"IF(入力用科目!$U190=\"\",\"\",MID(TEXT(入力用科目!$U190,\"????????\"),3,1))","v":""},{"$f":"IF(入力用科目!$U190=\"\",\"\",MID(TEXT(入力用科目!$U190,\"????????\"),4,1))","v":""},{"$f":"IF(入力用科目!$U190=\"\",\"\",MID(TEXT(入力用科目!$U190,\"????????\"),5,1))","v":""},{"$f":"IF(入力用科目!$U190=\"\",\"\",MID(TEXT(入力用科目!$U190,\"????????\"),6,1))","v":""},{"$f":"IF(入力用科目!$U190=\"\",\"\",MID(TEXT(入力用科目!$U190,\"????????\"),7,1))","v":""},{"$f":"IF(入力用科目!$U190=\"\",\"\",MID(TEXT(入力用科目!$U190,\"????????\"),8,1))","v":""},null,{"$f":"IF(入力用科目!$AD190=\"\",\"\",MID(TEXT(入力用科目!$AD190,\"????????\"),1,1))","v":""},{"$f":"IF(入力用科目!$AD190=\"\",\"\",MID(TEXT(入力用科目!$AD190,\"????????\"),2,1))","v":""},{"$f":"IF(入力用科目!$AD190=\"\",\"\",MID(TEXT(入力用科目!$AD190,\"????????\"),3,1))","v":""},{"$f":"IF(入力用科目!$AD190=\"\",\"\",MID(TEXT(入力用科目!$AD190,\"????????\"),4,1))","v":""},{"$f":"IF(入力用科目!$AD190=\"\",\"\",MID(TEXT(入力用科目!$AD190,\"????????\"),5,1))","v":""},{"$f":"IF(入力用科目!$AD190=\"\",\"\",MID(TEXT(入力用科目!$AD190,\"????????\"),6,1))","v":""},{"$f":"IF(入力用科目!$AD190=\"\",\"\",MID(TEXT(入力用科目!$AD190,\"????????\"),7,1))","v":""},{"$f":"IF(入力用科目!$AD190=\"\",\"\",MID(TEXT(入力用科目!$AD190,\"????????\"),8,1))","v":""},null,{"$f":"IF(入力用科目!$AM190=\"\",\"\",MID(TEXT(入力用科目!$AM190,\"????????\"),1,1))","v":" "},{"$f":"IF(入力用科目!$AM190=\"\",\"\",MID(TEXT(入力用科目!$AM190,\"????????\"),2,1))","v":" "},{"$f":"IF(入力用科目!$AM190=\"\",\"\",MID(TEXT(入力用科目!$AM190,\"????????\"),3,1))","v":" "},{"$f":"IF(入力用科目!$AM190=\"\",\"\",MID(TEXT(入力用科目!$AM190,\"????????\"),4,1))","v":" "},{"$f":"IF(入力用科目!$AM190=\"\",\"\",MID(TEXT(入力用科目!$AM190,\"????????\"),5,1))","v":" "},{"$f":"IF(入力用科目!$AM190=\"\",\"\",MID(TEXT(入力用科目!$AM190,\"????????\"),6,1))","v":" "},{"$f":"IF(入力用科目!$AM190=\"\",\"\",MID(TEXT(入力用科目!$AM190,\"????????\"),7,1))","v":" "},{"$f":"IF(入力用科目!$AM190=\"\",\"\",MID(TEXT(入力用科目!$AM190,\"????????\"),8,1))","v":" "}]
[{"$f":"IF(入力用科目!A191=\"\",\"\",MID(TEXT(入力用科目!$A191,\"??\"),COLUMN(),1))","v":""},{"$f":"IF(入力用科目!A191=\"\",\"\",MID(TEXT(入力用科目!$A191,\"??\"),COLUMN(),1))","v":""},null,{"$f":"IF(入力用科目!$D191=\"\",\"\",MID(TEXT(入力用科目!$D191,\"???\"),1,1))","v":""},{"$f":"IF(入力用科目!$D191=\"\",\"\",MID(TEXT(入力用科目!$D191,\"???\"),2,1))","v":""},{"$f":"IF(入力用科目!$D191=\"\",\"\",MID(TEXT(入力用科目!$D191,\"???\"),3,1))","v":""},null,{"$f":"IF(入力用科目!$Q191=1,\"運送収入\",IF(入力用科目!$H191=\"\",\"\",入力用科目!$H191))","v":""},null,null,null,null,null,null,null,null,{"$f":"IF(入力用科目!$Q191=\"\",\"\",MID(TEXT(入力用科目!$Q191,\"???\"),1,1))","v":""},{"$f":"IF(入力用科目!$Q191=\"\",\"\",MID(TEXT(入力用科目!$Q191,\"???\"),2,1))","v":""},{"$f":"IF(入力用科目!$Q191=\"\",\"\",MID(TEXT(入力用科目!$Q191,\"???\"),3,1))","v":""},null,{"$f":"IF(入力用科目!$U191=\"\",\"\",MID(TEXT(入力用科目!$U191,\"????????\"),1,1))","v":""},{"$f":"IF(入力用科目!$U191=\"\",\"\",MID(TEXT(入力用科目!$U191,\"????????\"),2,1))","v":""},{"$f":"IF(入力用科目!$U191=\"\",\"\",MID(TEXT(入力用科目!$U191,\"????????\"),3,1))","v":""},{"$f":"IF(入力用科目!$U191=\"\",\"\",MID(TEXT(入力用科目!$U191,\"????????\"),4,1))","v":""},{"$f":"IF(入力用科目!$U191=\"\",\"\",MID(TEXT(入力用科目!$U191,\"????????\"),5,1))","v":""},{"$f":"IF(入力用科目!$U191=\"\",\"\",MID(TEXT(入力用科目!$U191,\"????????\"),6,1))","v":""},{"$f":"IF(入力用科目!$U191=\"\",\"\",MID(TEXT(入力用科目!$U191,\"????????\"),7,1))","v":""},{"$f":"IF(入力用科目!$U191=\"\",\"\",MID(TEXT(入力用科目!$U191,\"????????\"),8,1))","v":""},null,{"$f":"IF(入力用科目!$AD191=\"\",\"\",MID(TEXT(入力用科目!$AD191,\"????????\"),1,1))","v":""},{"$f":"IF(入力用科目!$AD191=\"\",\"\",MID(TEXT(入力用科目!$AD191,\"????????\"),2,1))","v":""},{"$f":"IF(入力用科目!$AD191=\"\",\"\",MID(TEXT(入力用科目!$AD191,\"????????\"),3,1))","v":""},{"$f":"IF(入力用科目!$AD191=\"\",\"\",MID(TEXT(入力用科目!$AD191,\"????????\"),4,1))","v":""},{"$f":"IF(入力用科目!$AD191=\"\",\"\",MID(TEXT(入力用科目!$AD191,\"????????\"),5,1))","v":""},{"$f":"IF(入力用科目!$AD191=\"\",\"\",MID(TEXT(入力用科目!$AD191,\"????????\"),6,1))","v":""},{"$f":"IF(入力用科目!$AD191=\"\",\"\",MID(TEXT(入力用科目!$AD191,\"????????\"),7,1))","v":""},{"$f":"IF(入力用科目!$AD191=\"\",\"\",MID(TEXT(入力用科目!$AD191,\"????????\"),8,1))","v":""},null,{"$f":"IF(入力用科目!$AM191=\"\",\"\",MID(TEXT(入力用科目!$AM191,\"????????\"),1,1))","v":" "},{"$f":"IF(入力用科目!$AM191=\"\",\"\",MID(TEXT(入力用科目!$AM191,\"????????\"),2,1))","v":" "},{"$f":"IF(入力用科目!$AM191=\"\",\"\",MID(TEXT(入力用科目!$AM191,\"????????\"),3,1))","v":" "},{"$f":"IF(入力用科目!$AM191=\"\",\"\",MID(TEXT(入力用科目!$AM191,\"????????\"),4,1))","v":" "},{"$f":"IF(入力用科目!$AM191=\"\",\"\",MID(TEXT(入力用科目!$AM191,\"????????\"),5,1))","v":" "},{"$f":"IF(入力用科目!$AM191=\"\",\"\",MID(TEXT(入力用科目!$AM191,\"????????\"),6,1))","v":" "},{"$f":"IF(入力用科目!$AM191=\"\",\"\",MID(TEXT(入力用科目!$AM191,\"????????\"),7,1))","v":" "},{"$f":"IF(入力用科目!$AM191=\"\",\"\",MID(TEXT(入力用科目!$AM191,\"????????\"),8,1))","v":" "}]
[{"$f":"IF(入力用科目!A192=\"\",\"\",MID(TEXT(入力用科目!$A192,\"??\"),COLUMN(),1))","v":""},{"$f":"IF(入力用科目!A192=\"\",\"\",MID(TEXT(入力用科目!$A192,\"??\"),COLUMN(),1))","v":""},null,{"$f":"IF(入力用科目!$D192=\"\",\"\",MID(TEXT(入力用科目!$D192,\"???\"),1,1))","v":""},{"$f":"IF(入力用科目!$D192=\"\",\"\",MID(TEXT(入力用科目!$D192,\"???\"),2,1))","v":""},{"$f":"IF(入力用科目!$D192=\"\",\"\",MID(TEXT(入力用科目!$D192,\"???\"),3,1))","v":""},null,{"$f":"IF(入力用科目!$Q192=1,\"運送収入\",IF(入力用科目!$H192=\"\",\"\",入力用科目!$H192))","v":""},null,null,null,null,null,null,null,null,{"$f":"IF(入力用科目!$Q192=\"\",\"\",MID(TEXT(入力用科目!$Q192,\"???\"),1,1))","v":""},{"$f":"IF(入力用科目!$Q192=\"\",\"\",MID(TEXT(入力用科目!$Q192,\"???\"),2,1))","v":""},{"$f":"IF(入力用科目!$Q192=\"\",\"\",MID(TEXT(入力用科目!$Q192,\"???\"),3,1))","v":""},null,{"$f":"IF(入力用科目!$U192=\"\",\"\",MID(TEXT(入力用科目!$U192,\"????????\"),1,1))","v":""},{"$f":"IF(入力用科目!$U192=\"\",\"\",MID(TEXT(入力用科目!$U192,\"????????\"),2,1))","v":""},{"$f":"IF(入力用科目!$U192=\"\",\"\",MID(TEXT(入力用科目!$U192,\"????????\"),3,1))","v":""},{"$f":"IF(入力用科目!$U192=\"\",\"\",MID(TEXT(入力用科目!$U192,\"????????\"),4,1))","v":""},{"$f":"IF(入力用科目!$U192=\"\",\"\",MID(TEXT(入力用科目!$U192,\"????????\"),5,1))","v":""},{"$f":"IF(入力用科目!$U192=\"\",\"\",MID(TEXT(入力用科目!$U192,\"????????\"),6,1))","v":""},{"$f":"IF(入力用科目!$U192=\"\",\"\",MID(TEXT(入力用科目!$U192,\"????????\"),7,1))","v":""},{"$f":"IF(入力用科目!$U192=\"\",\"\",MID(TEXT(入力用科目!$U192,\"????????\"),8,1))","v":""},null,{"$f":"IF(入力用科目!$AD192=\"\",\"\",MID(TEXT(入力用科目!$AD192,\"????????\"),1,1))","v":""},{"$f":"IF(入力用科目!$AD192=\"\",\"\",MID(TEXT(入力用科目!$AD192,\"????????\"),2,1))","v":""},{"$f":"IF(入力用科目!$AD192=\"\",\"\",MID(TEXT(入力用科目!$AD192,\"????????\"),3,1))","v":""},{"$f":"IF(入力用科目!$AD192=\"\",\"\",MID(TEXT(入力用科目!$AD192,\"????????\"),4,1))","v":""},{"$f":"IF(入力用科目!$AD192=\"\",\"\",MID(TEXT(入力用科目!$AD192,\"????????\"),5,1))","v":""},{"$f":"IF(入力用科目!$AD192=\"\",\"\",MID(TEXT(入力用科目!$AD192,\"????????\"),6,1))","v":""},{"$f":"IF(入力用科目!$AD192=\"\",\"\",MID(TEXT(入力用科目!$AD192,\"????????\"),7,1))","v":""},{"$f":"IF(入力用科目!$AD192=\"\",\"\",MID(TEXT(入力用科目!$AD192,\"????????\"),8,1))","v":""},null,{"$f":"IF(入力用科目!$AM192=\"\",\"\",MID(TEXT(入力用科目!$AM192,\"????????\"),1,1))","v":" "},{"$f":"IF(入力用科目!$AM192=\"\",\"\",MID(TEXT(入力用科目!$AM192,\"????????\"),2,1))","v":" "},{"$f":"IF(入力用科目!$AM192=\"\",\"\",MID(TEXT(入力用科目!$AM192,\"????????\"),3,1))","v":" "},{"$f":"IF(入力用科目!$AM192=\"\",\"\",MID(TEXT(入力用科目!$AM192,\"????????\"),4,1))","v":" "},{"$f":"IF(入力用科目!$AM192=\"\",\"\",MID(TEXT(入力用科目!$AM192,\"????????\"),5,1))","v":" "},{"$f":"IF(入力用科目!$AM192=\"\",\"\",MID(TEXT(入力用科目!$AM192,\"????????\"),6,1))","v":" "},{"$f":"IF(入力用科目!$AM192=\"\",\"\",MID(TEXT(入力用科目!$AM192,\"????????\"),7,1))","v":" "},{"$f":"IF(入力用科目!$AM192=\"\",\"\",MID(TEXT(入力用科目!$AM192,\"????????\"),8,1))","v":" "}]
[{"$f":"IF(入力用科目!A193=\"\",\"\",MID(TEXT(入力用科目!$A193,\"??\"),COLUMN(),1))","v":""},{"$f":"IF(入力用科目!A193=\"\",\"\",MID(TEXT(入力用科目!$A193,\"??\"),COLUMN(),1))","v":""},null,{"$f":"IF(入力用科目!$D193=\"\",\"\",MID(TEXT(入力用科目!$D193,\"???\"),1,1))","v":""},{"$f":"IF(入力用科目!$D193=\"\",\"\",MID(TEXT(入力用科目!$D193,\"???\"),2,1))","v":""},{"$f":"IF(入力用科目!$D193=\"\",\"\",MID(TEXT(入力用科目!$D193,\"???\"),3,1))","v":""},null,{"$f":"IF(入力用科目!$Q193=1,\"運送収入\",IF(入力用科目!$H193=\"\",\"\",入力用科目!$H193))","v":""},null,null,null,null,null,null,null,null,{"$f":"IF(入力用科目!$Q193=\"\",\"\",MID(TEXT(入力用科目!$Q193,\"???\"),1,1))","v":""},{"$f":"IF(入力用科目!$Q193=\"\",\"\",MID(TEXT(入力用科目!$Q193,\"???\"),2,1))","v":""},{"$f":"IF(入力用科目!$Q193=\"\",\"\",MID(TEXT(入力用科目!$Q193,\"???\"),3,1))","v":""},null,{"$f":"IF(入力用科目!$U193=\"\",\"\",MID(TEXT(入力用科目!$U193,\"????????\"),1,1))","v":""},{"$f":"IF(入力用科目!$U193=\"\",\"\",MID(TEXT(入力用科目!$U193,\"????????\"),2,1))","v":""},{"$f":"IF(入力用科目!$U193=\"\",\"\",MID(TEXT(入力用科目!$U193,\"????????\"),3,1))","v":""},{"$f":"IF(入力用科目!$U193=\"\",\"\",MID(TEXT(入力用科目!$U193,\"????????\"),4,1))","v":""},{"$f":"IF(入力用科目!$U193=\"\",\"\",MID(TEXT(入力用科目!$U193,\"????????\"),5,1))","v":""},{"$f":"IF(入力用科目!$U193=\"\",\"\",MID(TEXT(入力用科目!$U193,\"????????\"),6,1))","v":""},{"$f":"IF(入力用科目!$U193=\"\",\"\",MID(TEXT(入力用科目!$U193,\"????????\"),7,1))","v":""},{"$f":"IF(入力用科目!$U193=\"\",\"\",MID(TEXT(入力用科目!$U193,\"????????\"),8,1))","v":""},null,{"$f":"IF(入力用科目!$AD193=\"\",\"\",MID(TEXT(入力用科目!$AD193,\"????????\"),1,1))","v":""},{"$f":"IF(入力用科目!$AD193=\"\",\"\",MID(TEXT(入力用科目!$AD193,\"????????\"),2,1))","v":""},{"$f":"IF(入力用科目!$AD193=\"\",\"\",MID(TEXT(入力用科目!$AD193,\"????????\"),3,1))","v":""},{"$f":"IF(入力用科目!$AD193=\"\",\"\",MID(TEXT(入力用科目!$AD193,\"????????\"),4,1))","v":""},{"$f":"IF(入力用科目!$AD193=\"\",\"\",MID(TEXT(入力用科目!$AD193,\"????????\"),5,1))","v":""},{"$f":"IF(入力用科目!$AD193=\"\",\"\",MID(TEXT(入力用科目!$AD193,\"????????\"),6,1))","v":""},{"$f":"IF(入力用科目!$AD193=\"\",\"\",MID(TEXT(入力用科目!$AD193,\"????????\"),7,1))","v":""},{"$f":"IF(入力用科目!$AD193=\"\",\"\",MID(TEXT(入力用科目!$AD193,\"????????\"),8,1))","v":""},null,{"$f":"IF(入力用科目!$AM193=\"\",\"\",MID(TEXT(入力用科目!$AM193,\"????????\"),1,1))","v":" "},{"$f":"IF(入力用科目!$AM193=\"\",\"\",MID(TEXT(入力用科目!$AM193,\"????????\"),2,1))","v":" "},{"$f":"IF(入力用科目!$AM193=\"\",\"\",MID(TEXT(入力用科目!$AM193,\"????????\"),3,1))","v":" "},{"$f":"IF(入力用科目!$AM193=\"\",\"\",MID(TEXT(入力用科目!$AM193,\"????????\"),4,1))","v":" "},{"$f":"IF(入力用科目!$AM193=\"\",\"\",MID(TEXT(入力用科目!$AM193,\"????????\"),5,1))","v":" "},{"$f":"IF(入力用科目!$AM193=\"\",\"\",MID(TEXT(入力用科目!$AM193,\"????????\"),6,1))","v":" "},{"$f":"IF(入力用科目!$AM193=\"\",\"\",MID(TEXT(入力用科目!$AM193,\"????????\"),7,1))","v":" "},{"$f":"IF(入力用科目!$AM193=\"\",\"\",MID(TEXT(入力用科目!$AM193,\"????????\"),8,1))","v":" "}]
[{"$f":"IF(入力用科目!A194=\"\",\"\",MID(TEXT(入力用科目!$A194,\"??\"),COLUMN(),1))","v":""},{"$f":"IF(入力用科目!A194=\"\",\"\",MID(TEXT(入力用科目!$A194,\"??\"),COLUMN(),1))","v":""},null,{"$f":"IF(入力用科目!$D194=\"\",\"\",MID(TEXT(入力用科目!$D194,\"???\"),1,1))","v":""},{"$f":"IF(入力用科目!$D194=\"\",\"\",MID(TEXT(入力用科目!$D194,\"???\"),2,1))","v":""},{"$f":"IF(入力用科目!$D194=\"\",\"\",MID(TEXT(入力用科目!$D194,\"???\"),3,1))","v":""},null,{"$f":"IF(入力用科目!$Q194=1,\"運送収入\",IF(入力用科目!$H194=\"\",\"\",入力用科目!$H194))","v":""},null,null,null,null,null,null,null,null,{"$f":"IF(入力用科目!$Q194=\"\",\"\",MID(TEXT(入力用科目!$Q194,\"???\"),1,1))","v":""},{"$f":"IF(入力用科目!$Q194=\"\",\"\",MID(TEXT(入力用科目!$Q194,\"???\"),2,1))","v":""},{"$f":"IF(入力用科目!$Q194=\"\",\"\",MID(TEXT(入力用科目!$Q194,\"???\"),3,1))","v":""},null,{"$f":"IF(入力用科目!$U194=\"\",\"\",MID(TEXT(入力用科目!$U194,\"????????\"),1,1))","v":""},{"$f":"IF(入力用科目!$U194=\"\",\"\",MID(TEXT(入力用科目!$U194,\"????????\"),2,1))","v":""},{"$f":"IF(入力用科目!$U194=\"\",\"\",MID(TEXT(入力用科目!$U194,\"????????\"),3,1))","v":""},{"$f":"IF(入力用科目!$U194=\"\",\"\",MID(TEXT(入力用科目!$U194,\"????????\"),4,1))","v":""},{"$f":"IF(入力用科目!$U194=\"\",\"\",MID(TEXT(入力用科目!$U194,\"????????\"),5,1))","v":""},{"$f":"IF(入力用科目!$U194=\"\",\"\",MID(TEXT(入力用科目!$U194,\"????????\"),6,1))","v":""},{"$f":"IF(入力用科目!$U194=\"\",\"\",MID(TEXT(入力用科目!$U194,\"????????\"),7,1))","v":""},{"$f":"IF(入力用科目!$U194=\"\",\"\",MID(TEXT(入力用科目!$U194,\"????????\"),8,1))","v":""},null,{"$f":"IF(入力用科目!$AD194=\"\",\"\",MID(TEXT(入力用科目!$AD194,\"????????\"),1,1))","v":""},{"$f":"IF(入力用科目!$AD194=\"\",\"\",MID(TEXT(入力用科目!$AD194,\"????????\"),2,1))","v":""},{"$f":"IF(入力用科目!$AD194=\"\",\"\",MID(TEXT(入力用科目!$AD194,\"????????\"),3,1))","v":""},{"$f":"IF(入力用科目!$AD194=\"\",\"\",MID(TEXT(入力用科目!$AD194,\"????????\"),4,1))","v":""},{"$f":"IF(入力用科目!$AD194=\"\",\"\",MID(TEXT(入力用科目!$AD194,\"????????\"),5,1))","v":""},{"$f":"IF(入力用科目!$AD194=\"\",\"\",MID(TEXT(入力用科目!$AD194,\"????????\"),6,1))","v":""},{"$f":"IF(入力用科目!$AD194=\"\",\"\",MID(TEXT(入力用科目!$AD194,\"????????\"),7,1))","v":""},{"$f":"IF(入力用科目!$AD194=\"\",\"\",MID(TEXT(入力用科目!$AD194,\"????????\"),8,1))","v":""},null,{"$f":"IF(入力用科目!$AM194=\"\",\"\",MID(TEXT(入力用科目!$AM194,\"????????\"),1,1))","v":" "},{"$f":"IF(入力用科目!$AM194=\"\",\"\",MID(TEXT(入力用科目!$AM194,\"????????\"),2,1))","v":" "},{"$f":"IF(入力用科目!$AM194=\"\",\"\",MID(TEXT(入力用科目!$AM194,\"????????\"),3,1))","v":" "},{"$f":"IF(入力用科目!$AM194=\"\",\"\",MID(TEXT(入力用科目!$AM194,\"????????\"),4,1))","v":" "},{"$f":"IF(入力用科目!$AM194=\"\",\"\",MID(TEXT(入力用科目!$AM194,\"????????\"),5,1))","v":" "},{"$f":"IF(入力用科目!$AM194=\"\",\"\",MID(TEXT(入力用科目!$AM194,\"????????\"),6,1))","v":" "},{"$f":"IF(入力用科目!$AM194=\"\",\"\",MID(TEXT(入力用科目!$AM194,\"????????\"),7,1))","v":" "},{"$f":"IF(入力用科目!$AM194=\"\",\"\",MID(TEXT(入力用科目!$AM194,\"????????\"),8,1))","v":" "}]
[{"$f":"IF(入力用科目!A195=\"\",\"\",MID(TEXT(入力用科目!$A195,\"??\"),COLUMN(),1))","v":""},{"$f":"IF(入力用科目!A195=\"\",\"\",MID(TEXT(入力用科目!$A195,\"??\"),COLUMN(),1))","v":""},null,{"$f":"IF(入力用科目!$D195=\"\",\"\",MID(TEXT(入力用科目!$D195,\"???\"),1,1))","v":""},{"$f":"IF(入力用科目!$D195=\"\",\"\",MID(TEXT(入力用科目!$D195,\"???\"),2,1))","v":""},{"$f":"IF(入力用科目!$D195=\"\",\"\",MID(TEXT(入力用科目!$D195,\"???\"),3,1))","v":""},null,{"$f":"IF(入力用科目!$Q195=1,\"運送収入\",IF(入力用科目!$H195=\"\",\"\",入力用科目!$H195))","v":""},null,null,null,null,null,null,null,null,{"$f":"IF(入力用科目!$Q195=\"\",\"\",MID(TEXT(入力用科目!$Q195,\"???\"),1,1))","v":""},{"$f":"IF(入力用科目!$Q195=\"\",\"\",MID(TEXT(入力用科目!$Q195,\"???\"),2,1))","v":""},{"$f":"IF(入力用科目!$Q195=\"\",\"\",MID(TEXT(入力用科目!$Q195,\"???\"),3,1))","v":""},null,{"$f":"IF(入力用科目!$U195=\"\",\"\",MID(TEXT(入力用科目!$U195,\"????????\"),1,1))","v":""},{"$f":"IF(入力用科目!$U195=\"\",\"\",MID(TEXT(入力用科目!$U195,\"????????\"),2,1))","v":""},{"$f":"IF(入力用科目!$U195=\"\",\"\",MID(TEXT(入力用科目!$U195,\"????????\"),3,1))","v":""},{"$f":"IF(入力用科目!$U195=\"\",\"\",MID(TEXT(入力用科目!$U195,\"????????\"),4,1))","v":""},{"$f":"IF(入力用科目!$U195=\"\",\"\",MID(TEXT(入力用科目!$U195,\"????????\"),5,1))","v":""},{"$f":"IF(入力用科目!$U195=\"\",\"\",MID(TEXT(入力用科目!$U195,\"????????\"),6,1))","v":""},{"$f":"IF(入力用科目!$U195=\"\",\"\",MID(TEXT(入力用科目!$U195,\"????????\"),7,1))","v":""},{"$f":"IF(入力用科目!$U195=\"\",\"\",MID(TEXT(入力用科目!$U195,\"????????\"),8,1))","v":""},null,{"$f":"IF(入力用科目!$AD195=\"\",\"\",MID(TEXT(入力用科目!$AD195,\"????????\"),1,1))","v":""},{"$f":"IF(入力用科目!$AD195=\"\",\"\",MID(TEXT(入力用科目!$AD195,\"????????\"),2,1))","v":""},{"$f":"IF(入力用科目!$AD195=\"\",\"\",MID(TEXT(入力用科目!$AD195,\"????????\"),3,1))","v":""},{"$f":"IF(入力用科目!$AD195=\"\",\"\",MID(TEXT(入力用科目!$AD195,\"????????\"),4,1))","v":""},{"$f":"IF(入力用科目!$AD195=\"\",\"\",MID(TEXT(入力用科目!$AD195,\"????????\"),5,1))","v":""},{"$f":"IF(入力用科目!$AD195=\"\",\"\",MID(TEXT(入力用科目!$AD195,\"????????\"),6,1))","v":""},{"$f":"IF(入力用科目!$AD195=\"\",\"\",MID(TEXT(入力用科目!$AD195,\"????????\"),7,1))","v":""},{"$f":"IF(入力用科目!$AD195=\"\",\"\",MID(TEXT(入力用科目!$AD195,\"????????\"),8,1))","v":""},null,{"$f":"IF(入力用科目!$AM195=\"\",\"\",MID(TEXT(入力用科目!$AM195,\"????????\"),1,1))","v":" "},{"$f":"IF(入力用科目!$AM195=\"\",\"\",MID(TEXT(入力用科目!$AM195,\"????????\"),2,1))","v":" "},{"$f":"IF(入力用科目!$AM195=\"\",\"\",MID(TEXT(入力用科目!$AM195,\"????????\"),3,1))","v":" "},{"$f":"IF(入力用科目!$AM195=\"\",\"\",MID(TEXT(入力用科目!$AM195,\"????????\"),4,1))","v":" "},{"$f":"IF(入力用科目!$AM195=\"\",\"\",MID(TEXT(入力用科目!$AM195,\"????????\"),5,1))","v":" "},{"$f":"IF(入力用科目!$AM195=\"\",\"\",MID(TEXT(入力用科目!$AM195,\"????????\"),6,1))","v":" "},{"$f":"IF(入力用科目!$AM195=\"\",\"\",MID(TEXT(入力用科目!$AM195,\"????????\"),7,1))","v":" "},{"$f":"IF(入力用科目!$AM195=\"\",\"\",MID(TEXT(入力用科目!$AM195,\"????????\"),8,1))","v":" "}]
[{"$f":"IF(入力用科目!A196=\"\",\"\",MID(TEXT(入力用科目!$A196,\"??\"),COLUMN(),1))","v":""},{"$f":"IF(入力用科目!A196=\"\",\"\",MID(TEXT(入力用科目!$A196,\"??\"),COLUMN(),1))","v":""},null,{"$f":"IF(入力用科目!$D196=\"\",\"\",MID(TEXT(入力用科目!$D196,\"???\"),1,1))","v":""},{"$f":"IF(入力用科目!$D196=\"\",\"\",MID(TEXT(入力用科目!$D196,\"???\"),2,1))","v":""},{"$f":"IF(入力用科目!$D196=\"\",\"\",MID(TEXT(入力用科目!$D196,\"???\"),3,1))","v":""},null,{"$f":"IF(入力用科目!$Q196=1,\"運送収入\",IF(入力用科目!$H196=\"\",\"\",入力用科目!$H196))","v":""},null,null,null,null,null,null,null,null,{"$f":"IF(入力用科目!$Q196=\"\",\"\",MID(TEXT(入力用科目!$Q196,\"???\"),1,1))","v":""},{"$f":"IF(入力用科目!$Q196=\"\",\"\",MID(TEXT(入力用科目!$Q196,\"???\"),2,1))","v":""},{"$f":"IF(入力用科目!$Q196=\"\",\"\",MID(TEXT(入力用科目!$Q196,\"???\"),3,1))","v":""},null,{"$f":"IF(入力用科目!$U196=\"\",\"\",MID(TEXT(入力用科目!$U196,\"????????\"),1,1))","v":""},{"$f":"IF(入力用科目!$U196=\"\",\"\",MID(TEXT(入力用科目!$U196,\"????????\"),2,1))","v":""},{"$f":"IF(入力用科目!$U196=\"\",\"\",MID(TEXT(入力用科目!$U196,\"????????\"),3,1))","v":""},{"$f":"IF(入力用科目!$U196=\"\",\"\",MID(TEXT(入力用科目!$U196,\"????????\"),4,1))","v":""},{"$f":"IF(入力用科目!$U196=\"\",\"\",MID(TEXT(入力用科目!$U196,\"????????\"),5,1))","v":""},{"$f":"IF(入力用科目!$U196=\"\",\"\",MID(TEXT(入力用科目!$U196,\"????????\"),6,1))","v":""},{"$f":"IF(入力用科目!$U196=\"\",\"\",MID(TEXT(入力用科目!$U196,\"????????\"),7,1))","v":""},{"$f":"IF(入力用科目!$U196=\"\",\"\",MID(TEXT(入力用科目!$U196,\"????????\"),8,1))","v":""},null,{"$f":"IF(入力用科目!$AD196=\"\",\"\",MID(TEXT(入力用科目!$AD196,\"????????\"),1,1))","v":""},{"$f":"IF(入力用科目!$AD196=\"\",\"\",MID(TEXT(入力用科目!$AD196,\"????????\"),2,1))","v":""},{"$f":"IF(入力用科目!$AD196=\"\",\"\",MID(TEXT(入力用科目!$AD196,\"????????\"),3,1))","v":""},{"$f":"IF(入力用科目!$AD196=\"\",\"\",MID(TEXT(入力用科目!$AD196,\"????????\"),4,1))","v":""},{"$f":"IF(入力用科目!$AD196=\"\",\"\",MID(TEXT(入力用科目!$AD196,\"????????\"),5,1))","v":""},{"$f":"IF(入力用科目!$AD196=\"\",\"\",MID(TEXT(入力用科目!$AD196,\"????????\"),6,1))","v":""},{"$f":"IF(入力用科目!$AD196=\"\",\"\",MID(TEXT(入力用科目!$AD196,\"????????\"),7,1))","v":""},{"$f":"IF(入力用科目!$AD196=\"\",\"\",MID(TEXT(入力用科目!$AD196,\"????????\"),8,1))","v":""},null,{"$f":"IF(入力用科目!$AM196=\"\",\"\",MID(TEXT(入力用科目!$AM196,\"????????\"),1,1))","v":" "},{"$f":"IF(入力用科目!$AM196=\"\",\"\",MID(TEXT(入力用科目!$AM196,\"????????\"),2,1))","v":" "},{"$f":"IF(入力用科目!$AM196=\"\",\"\",MID(TEXT(入力用科目!$AM196,\"????????\"),3,1))","v":" "},{"$f":"IF(入力用科目!$AM196=\"\",\"\",MID(TEXT(入力用科目!$AM196,\"????????\"),4,1))","v":" "},{"$f":"IF(入力用科目!$AM196=\"\",\"\",MID(TEXT(入力用科目!$AM196,\"????????\"),5,1))","v":" "},{"$f":"IF(入力用科目!$AM196=\"\",\"\",MID(TEXT(入力用科目!$AM196,\"????????\"),6,1))","v":" "},{"$f":"IF(入力用科目!$AM196=\"\",\"\",MID(TEXT(入力用科目!$AM196,\"????????\"),7,1))","v":" "},{"$f":"IF(入力用科目!$AM196=\"\",\"\",MID(TEXT(入力用科目!$AM196,\"????????\"),8,1))","v":" "}]
[{"$f":"IF(入力用科目!A197=\"\",\"\",MID(TEXT(入力用科目!$A197,\"??\"),COLUMN(),1))","v":""},{"$f":"IF(入力用科目!A197=\"\",\"\",MID(TEXT(入力用科目!$A197,\"??\"),COLUMN(),1))","v":""},null,{"$f":"IF(入力用科目!$D197=\"\",\"\",MID(TEXT(入力用科目!$D197,\"???\"),1,1))","v":""},{"$f":"IF(入力用科目!$D197=\"\",\"\",MID(TEXT(入力用科目!$D197,\"???\"),2,1))","v":""},{"$f":"IF(入力用科目!$D197=\"\",\"\",MID(TEXT(入力用科目!$D197,\"???\"),3,1))","v":""},null,{"$f":"IF(入力用科目!$Q197=1,\"運送収入\",IF(入力用科目!$H197=\"\",\"\",入力用科目!$H197))","v":""},null,null,null,null,null,null,null,null,{"$f":"IF(入力用科目!$Q197=\"\",\"\",MID(TEXT(入力用科目!$Q197,\"???\"),1,1))","v":""},{"$f":"IF(入力用科目!$Q197=\"\",\"\",MID(TEXT(入力用科目!$Q197,\"???\"),2,1))","v":""},{"$f":"IF(入力用科目!$Q197=\"\",\"\",MID(TEXT(入力用科目!$Q197,\"???\"),3,1))","v":""},null,{"$f":"IF(入力用科目!$U197=\"\",\"\",MID(TEXT(入力用科目!$U197,\"????????\"),1,1))","v":""},{"$f":"IF(入力用科目!$U197=\"\",\"\",MID(TEXT(入力用科目!$U197,\"????????\"),2,1))","v":""},{"$f":"IF(入力用科目!$U197=\"\",\"\",MID(TEXT(入力用科目!$U197,\"????????\"),3,1))","v":""},{"$f":"IF(入力用科目!$U197=\"\",\"\",MID(TEXT(入力用科目!$U197,\"????????\"),4,1))","v":""},{"$f":"IF(入力用科目!$U197=\"\",\"\",MID(TEXT(入力用科目!$U197,\"????????\"),5,1))","v":""},{"$f":"IF(入力用科目!$U197=\"\",\"\",MID(TEXT(入力用科目!$U197,\"????????\"),6,1))","v":""},{"$f":"IF(入力用科目!$U197=\"\",\"\",MID(TEXT(入力用科目!$U197,\"????????\"),7,1))","v":""},{"$f":"IF(入力用科目!$U197=\"\",\"\",MID(TEXT(入力用科目!$U197,\"????????\"),8,1))","v":""},null,{"$f":"IF(入力用科目!$AD197=\"\",\"\",MID(TEXT(入力用科目!$AD197,\"????????\"),1,1))","v":""},{"$f":"IF(入力用科目!$AD197=\"\",\"\",MID(TEXT(入力用科目!$AD197,\"????????\"),2,1))","v":""},{"$f":"IF(入力用科目!$AD197=\"\",\"\",MID(TEXT(入力用科目!$AD197,\"????????\"),3,1))","v":""},{"$f":"IF(入力用科目!$AD197=\"\",\"\",MID(TEXT(入力用科目!$AD197,\"????????\"),4,1))","v":""},{"$f":"IF(入力用科目!$AD197=\"\",\"\",MID(TEXT(入力用科目!$AD197,\"????????\"),5,1))","v":""},{"$f":"IF(入力用科目!$AD197=\"\",\"\",MID(TEXT(入力用科目!$AD197,\"????????\"),6,1))","v":""},{"$f":"IF(入力用科目!$AD197=\"\",\"\",MID(TEXT(入力用科目!$AD197,\"????????\"),7,1))","v":""},{"$f":"IF(入力用科目!$AD197=\"\",\"\",MID(TEXT(入力用科目!$AD197,\"????????\"),8,1))","v":""},null,{"$f":"IF(入力用科目!$AM197=\"\",\"\",MID(TEXT(入力用科目!$AM197,\"????????\"),1,1))","v":" "},{"$f":"IF(入力用科目!$AM197=\"\",\"\",MID(TEXT(入力用科目!$AM197,\"????????\"),2,1))","v":" "},{"$f":"IF(入力用科目!$AM197=\"\",\"\",MID(TEXT(入力用科目!$AM197,\"????????\"),3,1))","v":" "},{"$f":"IF(入力用科目!$AM197=\"\",\"\",MID(TEXT(入力用科目!$AM197,\"????????\"),4,1))","v":" "},{"$f":"IF(入力用科目!$AM197=\"\",\"\",MID(TEXT(入力用科目!$AM197,\"????????\"),5,1))","v":" "},{"$f":"IF(入力用科目!$AM197=\"\",\"\",MID(TEXT(入力用科目!$AM197,\"????????\"),6,1))","v":" "},{"$f":"IF(入力用科目!$AM197=\"\",\"\",MID(TEXT(入力用科目!$AM197,\"????????\"),7,1))","v":" "},{"$f":"IF(入力用科目!$AM197=\"\",\"\",MID(TEXT(入力用科目!$AM197,\"????????\"),8,1))","v":" "}]
[{"$f":"IF(入力用科目!A198=\"\",\"\",MID(TEXT(入力用科目!$A198,\"??\"),COLUMN(),1))","v":""},{"$f":"IF(入力用科目!A198=\"\",\"\",MID(TEXT(入力用科目!$A198,\"??\"),COLUMN(),1))","v":""},null,{"$f":"IF(入力用科目!$D198=\"\",\"\",MID(TEXT(入力用科目!$D198,\"???\"),1,1))","v":""},{"$f":"IF(入力用科目!$D198=\"\",\"\",MID(TEXT(入力用科目!$D198,\"???\"),2,1))","v":""},{"$f":"IF(入力用科目!$D198=\"\",\"\",MID(TEXT(入力用科目!$D198,\"???\"),3,1))","v":""},null,{"$f":"IF(入力用科目!$Q198=1,\"運送収入\",IF(入力用科目!$H198=\"\",\"\",入力用科目!$H198))","v":""},null,null,null,null,null,null,null,null,{"$f":"IF(入力用科目!$Q198=\"\",\"\",MID(TEXT(入力用科目!$Q198,\"???\"),1,1))","v":""},{"$f":"IF(入力用科目!$Q198=\"\",\"\",MID(TEXT(入力用科目!$Q198,\"???\"),2,1))","v":""},{"$f":"IF(入力用科目!$Q198=\"\",\"\",MID(TEXT(入力用科目!$Q198,\"???\"),3,1))","v":""},null,{"$f":"IF(入力用科目!$U198=\"\",\"\",MID(TEXT(入力用科目!$U198,\"????????\"),1,1))","v":""},{"$f":"IF(入力用科目!$U198=\"\",\"\",MID(TEXT(入力用科目!$U198,\"????????\"),2,1))","v":""},{"$f":"IF(入力用科目!$U198=\"\",\"\",MID(TEXT(入力用科目!$U198,\"????????\"),3,1))","v":""},{"$f":"IF(入力用科目!$U198=\"\",\"\",MID(TEXT(入力用科目!$U198,\"????????\"),4,1))","v":""},{"$f":"IF(入力用科目!$U198=\"\",\"\",MID(TEXT(入力用科目!$U198,\"????????\"),5,1))","v":""},{"$f":"IF(入力用科目!$U198=\"\",\"\",MID(TEXT(入力用科目!$U198,\"????????\"),6,1))","v":""},{"$f":"IF(入力用科目!$U198=\"\",\"\",MID(TEXT(入力用科目!$U198,\"????????\"),7,1))","v":""},{"$f":"IF(入力用科目!$U198=\"\",\"\",MID(TEXT(入力用科目!$U198,\"????????\"),8,1))","v":""},null,{"$f":"IF(入力用科目!$AD198=\"\",\"\",MID(TEXT(入力用科目!$AD198,\"????????\"),1,1))","v":""},{"$f":"IF(入力用科目!$AD198=\"\",\"\",MID(TEXT(入力用科目!$AD198,\"????????\"),2,1))","v":""},{"$f":"IF(入力用科目!$AD198=\"\",\"\",MID(TEXT(入力用科目!$AD198,\"????????\"),3,1))","v":""},{"$f":"IF(入力用科目!$AD198=\"\",\"\",MID(TEXT(入力用科目!$AD198,\"????????\"),4,1))","v":""},{"$f":"IF(入力用科目!$AD198=\"\",\"\",MID(TEXT(入力用科目!$AD198,\"????????\"),5,1))","v":""},{"$f":"IF(入力用科目!$AD198=\"\",\"\",MID(TEXT(入力用科目!$AD198,\"????????\"),6,1))","v":""},{"$f":"IF(入力用科目!$AD198=\"\",\"\",MID(TEXT(入力用科目!$AD198,\"????????\"),7,1))","v":""},{"$f":"IF(入力用科目!$AD198=\"\",\"\",MID(TEXT(入力用科目!$AD198,\"????????\"),8,1))","v":""},null,{"$f":"IF(入力用科目!$AM198=\"\",\"\",MID(TEXT(入力用科目!$AM198,\"????????\"),1,1))","v":" "},{"$f":"IF(入力用科目!$AM198=\"\",\"\",MID(TEXT(入力用科目!$AM198,\"????????\"),2,1))","v":" "},{"$f":"IF(入力用科目!$AM198=\"\",\"\",MID(TEXT(入力用科目!$AM198,\"????????\"),3,1))","v":" "},{"$f":"IF(入力用科目!$AM198=\"\",\"\",MID(TEXT(入力用科目!$AM198,\"????????\"),4,1))","v":" "},{"$f":"IF(入力用科目!$AM198=\"\",\"\",MID(TEXT(入力用科目!$AM198,\"????????\"),5,1))","v":" "},{"$f":"IF(入力用科目!$AM198=\"\",\"\",MID(TEXT(入力用科目!$AM198,\"????????\"),6,1))","v":" "},{"$f":"IF(入力用科目!$AM198=\"\",\"\",MID(TEXT(入力用科目!$AM198,\"????????\"),7,1))","v":" "},{"$f":"IF(入力用科目!$AM198=\"\",\"\",MID(TEXT(入力用科目!$AM198,\"????????\"),8,1))","v":" "}]
[{"$f":"IF(入力用科目!A199=\"\",\"\",MID(TEXT(入力用科目!$A199,\"??\"),COLUMN(),1))","v":""},{"$f":"IF(入力用科目!A199=\"\",\"\",MID(TEXT(入力用科目!$A199,\"??\"),COLUMN(),1))","v":""},null,{"$f":"IF(入力用科目!$D199=\"\",\"\",MID(TEXT(入力用科目!$D199,\"???\"),1,1))","v":""},{"$f":"IF(入力用科目!$D199=\"\",\"\",MID(TEXT(入力用科目!$D199,\"???\"),2,1))","v":""},{"$f":"IF(入力用科目!$D199=\"\",\"\",MID(TEXT(入力用科目!$D199,\"???\"),3,1))","v":""},null,{"$f":"IF(入力用科目!$Q199=1,\"運送収入\",IF(入力用科目!$H199=\"\",\"\",入力用科目!$H199))","v":""},null,null,null,null,null,null,null,null,{"$f":"IF(入力用科目!$Q199=\"\",\"\",MID(TEXT(入力用科目!$Q199,\"???\"),1,1))","v":""},{"$f":"IF(入力用科目!$Q199=\"\",\"\",MID(TEXT(入力用科目!$Q199,\"???\"),2,1))","v":""},{"$f":"IF(入力用科目!$Q199=\"\",\"\",MID(TEXT(入力用科目!$Q199,\"???\"),3,1))","v":""},null,{"$f":"IF(入力用科目!$U199=\"\",\"\",MID(TEXT(入力用科目!$U199,\"????????\"),1,1))","v":""},{"$f":"IF(入力用科目!$U199=\"\",\"\",MID(TEXT(入力用科目!$U199,\"????????\"),2,1))","v":""},{"$f":"IF(入力用科目!$U199=\"\",\"\",MID(TEXT(入力用科目!$U199,\"????????\"),3,1))","v":""},{"$f":"IF(入力用科目!$U199=\"\",\"\",MID(TEXT(入力用科目!$U199,\"????????\"),4,1))","v":""},{"$f":"IF(入力用科目!$U199=\"\",\"\",MID(TEXT(入力用科目!$U199,\"????????\"),5,1))","v":""},{"$f":"IF(入力用科目!$U199=\"\",\"\",MID(TEXT(入力用科目!$U199,\"????????\"),6,1))","v":""},{"$f":"IF(入力用科目!$U199=\"\",\"\",MID(TEXT(入力用科目!$U199,\"????????\"),7,1))","v":""},{"$f":"IF(入力用科目!$U199=\"\",\"\",MID(TEXT(入力用科目!$U199,\"????????\"),8,1))","v":""},null,{"$f":"IF(入力用科目!$AD199=\"\",\"\",MID(TEXT(入力用科目!$AD199,\"????????\"),1,1))","v":""},{"$f":"IF(入力用科目!$AD199=\"\",\"\",MID(TEXT(入力用科目!$AD199,\"????????\"),2,1))","v":""},{"$f":"IF(入力用科目!$AD199=\"\",\"\",MID(TEXT(入力用科目!$AD199,\"????????\"),3,1))","v":""},{"$f":"IF(入力用科目!$AD199=\"\",\"\",MID(TEXT(入力用科目!$AD199,\"????????\"),4,1))","v":""},{"$f":"IF(入力用科目!$AD199=\"\",\"\",MID(TEXT(入力用科目!$AD199,\"????????\"),5,1))","v":""},{"$f":"IF(入力用科目!$AD199=\"\",\"\",MID(TEXT(入力用科目!$AD199,\"????????\"),6,1))","v":""},{"$f":"IF(入力用科目!$AD199=\"\",\"\",MID(TEXT(入力用科目!$AD199,\"????????\"),7,1))","v":""},{"$f":"IF(入力用科目!$AD199=\"\",\"\",MID(TEXT(入力用科目!$AD199,\"????????\"),8,1))","v":""},null,{"$f":"IF(入力用科目!$AM199=\"\",\"\",MID(TEXT(入力用科目!$AM199,\"????????\"),1,1))","v":" "},{"$f":"IF(入力用科目!$AM199=\"\",\"\",MID(TEXT(入力用科目!$AM199,\"????????\"),2,1))","v":" "},{"$f":"IF(入力用科目!$AM199=\"\",\"\",MID(TEXT(入力用科目!$AM199,\"????????\"),3,1))","v":" "},{"$f":"IF(入力用科目!$AM199=\"\",\"\",MID(TEXT(入力用科目!$AM199,\"????????\"),4,1))","v":" "},{"$f":"IF(入力用科目!$AM199=\"\",\"\",MID(TEXT(入力用科目!$AM199,\"????????\"),5,1))","v":" "},{"$f":"IF(入力用科目!$AM199=\"\",\"\",MID(TEXT(入力用科目!$AM199,\"????????\"),6,1))","v":" "},{"$f":"IF(入力用科目!$AM199=\"\",\"\",MID(TEXT(入力用科目!$AM199,\"????????\"),7,1))","v":" "},{"$f":"IF(入力用科目!$AM199=\"\",\"\",MID(TEXT(入力用科目!$AM199,\"????????\"),8,1))","v":" "}]
[{"$f":"IF(入力用科目!A200=\"\",\"\",MID(TEXT(入力用科目!$A200,\"??\"),COLUMN(),1))","v":""},{"$f":"IF(入力用科目!A200=\"\",\"\",MID(TEXT(入力用科目!$A200,\"??\"),COLUMN(),1))","v":""},null,{"$f":"IF(入力用科目!$D200=\"\",\"\",MID(TEXT(入力用科目!$D200,\"???\"),1,1))","v":""},{"$f":"IF(入力用科目!$D200=\"\",\"\",MID(TEXT(入力用科目!$D200,\"???\"),2,1))","v":""},{"$f":"IF(入力用科目!$D200=\"\",\"\",MID(TEXT(入力用科目!$D200,\"???\"),3,1))","v":""},null,{"$f":"IF(入力用科目!$Q200=1,\"運送収入\",IF(入力用科目!$H200=\"\",\"\",入力用科目!$H200))","v":""},null,null,null,null,null,null,null,null,{"$f":"IF(入力用科目!$Q200=\"\",\"\",MID(TEXT(入力用科目!$Q200,\"???\"),1,1))","v":""},{"$f":"IF(入力用科目!$Q200=\"\",\"\",MID(TEXT(入力用科目!$Q200,\"???\"),2,1))","v":""},{"$f":"IF(入力用科目!$Q200=\"\",\"\",MID(TEXT(入力用科目!$Q200,\"???\"),3,1))","v":""},null,{"$f":"IF(入力用科目!$U200=\"\",\"\",MID(TEXT(入力用科目!$U200,\"????????\"),1,1))","v":""},{"$f":"IF(入力用科目!$U200=\"\",\"\",MID(TEXT(入力用科目!$U200,\"????????\"),2,1))","v":""},{"$f":"IF(入力用科目!$U200=\"\",\"\",MID(TEXT(入力用科目!$U200,\"????????\"),3,1))","v":""},{"$f":"IF(入力用科目!$U200=\"\",\"\",MID(TEXT(入力用科目!$U200,\"????????\"),4,1))","v":""},{"$f":"IF(入力用科目!$U200=\"\",\"\",MID(TEXT(入力用科目!$U200,\"????????\"),5,1))","v":""},{"$f":"IF(入力用科目!$U200=\"\",\"\",MID(TEXT(入力用科目!$U200,\"????????\"),6,1))","v":""},{"$f":"IF(入力用科目!$U200=\"\",\"\",MID(TEXT(入力用科目!$U200,\"????????\"),7,1))","v":""},{"$f":"IF(入力用科目!$U200=\"\",\"\",MID(TEXT(入力用科目!$U200,\"????????\"),8,1))","v":""},null,{"$f":"IF(入力用科目!$AD200=\"\",\"\",MID(TEXT(入力用科目!$AD200,\"????????\"),1,1))","v":""},{"$f":"IF(入力用科目!$AD200=\"\",\"\",MID(TEXT(入力用科目!$AD200,\"????????\"),2,1))","v":""},{"$f":"IF(入力用科目!$AD200=\"\",\"\",MID(TEXT(入力用科目!$AD200,\"????????\"),3,1))","v":""},{"$f":"IF(入力用科目!$AD200=\"\",\"\",MID(TEXT(入力用科目!$AD200,\"????????\"),4,1))","v":""},{"$f":"IF(入力用科目!$AD200=\"\",\"\",MID(TEXT(入力用科目!$AD200,\"????????\"),5,1))","v":""},{"$f":"IF(入力用科目!$AD200=\"\",\"\",MID(TEXT(入力用科目!$AD200,\"????????\"),6,1))","v":""},{"$f":"IF(入力用科目!$AD200=\"\",\"\",MID(TEXT(入力用科目!$AD200,\"????????\"),7,1))","v":""},{"$f":"IF(入力用科目!$AD200=\"\",\"\",MID(TEXT(入力用科目!$AD200,\"????????\"),8,1))","v":""},null,{"$f":"IF(入力用科目!$AM200=\"\",\"\",MID(TEXT(入力用科目!$AM200,\"????????\"),1,1))","v":" "},{"$f":"IF(入力用科目!$AM200=\"\",\"\",MID(TEXT(入力用科目!$AM200,\"????????\"),2,1))","v":" "},{"$f":"IF(入力用科目!$AM200=\"\",\"\",MID(TEXT(入力用科目!$AM200,\"????????\"),3,1))","v":" "},{"$f":"IF(入力用科目!$AM200=\"\",\"\",MID(TEXT(入力用科目!$AM200,\"????????\"),4,1))","v":" "},{"$f":"IF(入力用科目!$AM200=\"\",\"\",MID(TEXT(入力用科目!$AM200,\"????????\"),5,1))","v":" "},{"$f":"IF(入力用科目!$AM200=\"\",\"\",MID(TEXT(入力用科目!$AM200,\"????????\"),6,1))","v":" "},{"$f":"IF(入力用科目!$AM200=\"\",\"\",MID(TEXT(入力用科目!$AM200,\"????????\"),7,1))","v":" "},{"$f":"IF(入力用科目!$AM200=\"\",\"\",MID(TEXT(入力用科目!$AM200,\"????????\"),8,1))","v":" "}]
[{"$f":"IF(入力用科目!A201=\"\",\"\",MID(TEXT(入力用科目!$A201,\"??\"),COLUMN(),1))","v":""},{"$f":"IF(入力用科目!A201=\"\",\"\",MID(TEXT(入力用科目!$A201,\"??\"),COLUMN(),1))","v":""},null,{"$f":"IF(入力用科目!$D201=\"\",\"\",MID(TEXT(入力用科目!$D201,\"???\"),1,1))","v":""},{"$f":"IF(入力用科目!$D201=\"\",\"\",MID(TEXT(入力用科目!$D201,\"???\"),2,1))","v":""},{"$f":"IF(入力用科目!$D201=\"\",\"\",MID(TEXT(入力用科目!$D201,\"???\"),3,1))","v":""},null,{"$f":"IF(入力用科目!$Q201=1,\"運送収入\",IF(入力用科目!$H201=\"\",\"\",入力用科目!$H201))","v":""},null,null,null,null,null,null,null,null,{"$f":"IF(入力用科目!$Q201=\"\",\"\",MID(TEXT(入力用科目!$Q201,\"???\"),1,1))","v":""},{"$f":"IF(入力用科目!$Q201=\"\",\"\",MID(TEXT(入力用科目!$Q201,\"???\"),2,1))","v":""},{"$f":"IF(入力用科目!$Q201=\"\",\"\",MID(TEXT(入力用科目!$Q201,\"???\"),3,1))","v":""},null,{"$f":"IF(入力用科目!$U201=\"\",\"\",MID(TEXT(入力用科目!$U201,\"????????\"),1,1))","v":""},{"$f":"IF(入力用科目!$U201=\"\",\"\",MID(TEXT(入力用科目!$U201,\"????????\"),2,1))","v":""},{"$f":"IF(入力用科目!$U201=\"\",\"\",MID(TEXT(入力用科目!$U201,\"????????\"),3,1))","v":""},{"$f":"IF(入力用科目!$U201=\"\",\"\",MID(TEXT(入力用科目!$U201,\"????????\"),4,1))","v":""},{"$f":"IF(入力用科目!$U201=\"\",\"\",MID(TEXT(入力用科目!$U201,\"????????\"),5,1))","v":""},{"$f":"IF(入力用科目!$U201=\"\",\"\",MID(TEXT(入力用科目!$U201,\"????????\"),6,1))","v":""},{"$f":"IF(入力用科目!$U201=\"\",\"\",MID(TEXT(入力用科目!$U201,\"????????\"),7,1))","v":""},{"$f":"IF(入力用科目!$U201=\"\",\"\",MID(TEXT(入力用科目!$U201,\"????????\"),8,1))","v":""},null,{"$f":"IF(入力用科目!$AD201=\"\",\"\",MID(TEXT(入力用科目!$AD201,\"????????\"),1,1))","v":""},{"$f":"IF(入力用科目!$AD201=\"\",\"\",MID(TEXT(入力用科目!$AD201,\"????????\"),2,1))","v":""},{"$f":"IF(入力用科目!$AD201=\"\",\"\",MID(TEXT(入力用科目!$AD201,\"????????\"),3,1))","v":""},{"$f":"IF(入力用科目!$AD201=\"\",\"\",MID(TEXT(入力用科目!$AD201,\"????????\"),4,1))","v":""},{"$f":"IF(入力用科目!$AD201=\"\",\"\",MID(TEXT(入力用科目!$AD201,\"????????\"),5,1))","v":""},{"$f":"IF(入力用科目!$AD201=\"\",\"\",MID(TEXT(入力用科目!$AD201,\"????????\"),6,1))","v":""},{"$f":"IF(入力用科目!$AD201=\"\",\"\",MID(TEXT(入力用科目!$AD201,\"????????\"),7,1))","v":""},{"$f":"IF(入力用科目!$AD201=\"\",\"\",MID(TEXT(入力用科目!$AD201,\"????????\"),8,1))","v":""},null,{"$f":"IF(入力用科目!$AM201=\"\",\"\",MID(TEXT(入力用科目!$AM201,\"????????\"),1,1))","v":" "},{"$f":"IF(入力用科目!$AM201=\"\",\"\",MID(TEXT(入力用科目!$AM201,\"????????\"),2,1))","v":" "},{"$f":"IF(入力用科目!$AM201=\"\",\"\",MID(TEXT(入力用科目!$AM201,\"????????\"),3,1))","v":" "},{"$f":"IF(入力用科目!$AM201=\"\",\"\",MID(TEXT(入力用科目!$AM201,\"????????\"),4,1))","v":" "},{"$f":"IF(入力用科目!$AM201=\"\",\"\",MID(TEXT(入力用科目!$AM201,\"????????\"),5,1))","v":" "},{"$f":"IF(入力用科目!$AM201=\"\",\"\",MID(TEXT(入力用科目!$AM201,\"????????\"),6,1))","v":" "},{"$f":"IF(入力用科目!$AM201=\"\",\"\",MID(TEXT(入力用科目!$AM201,\"????????\"),7,1))","v":" "},{"$f":"IF(入力用科目!$AM201=\"\",\"\",MID(TEXT(入力用科目!$AM201,\"????????\"),8,1))","v":" "}]
[{"$f":"IF(入力用科目!A202=\"\",\"\",MID(TEXT(入力用科目!$A202,\"??\"),COLUMN(),1))","v":""},{"$f":"IF(入力用科目!A202=\"\",\"\",MID(TEXT(入力用科目!$A202,\"??\"),COLUMN(),1))","v":""},null,{"$f":"IF(入力用科目!$D202=\"\",\"\",MID(TEXT(入力用科目!$D202,\"???\"),1,1))","v":""},{"$f":"IF(入力用科目!$D202=\"\",\"\",MID(TEXT(入力用科目!$D202,\"???\"),2,1))","v":""},{"$f":"IF(入力用科目!$D202=\"\",\"\",MID(TEXT(入力用科目!$D202,\"???\"),3,1))","v":""},null,{"$f":"IF(入力用科目!$Q202=1,\"運送収入\",IF(入力用科目!$H202=\"\",\"\",入力用科目!$H202))","v":""},null,null,null,null,null,null,null,null,{"$f":"IF(入力用科目!$Q202=\"\",\"\",MID(TEXT(入力用科目!$Q202,\"???\"),1,1))","v":""},{"$f":"IF(入力用科目!$Q202=\"\",\"\",MID(TEXT(入力用科目!$Q202,\"???\"),2,1))","v":""},{"$f":"IF(入力用科目!$Q202=\"\",\"\",MID(TEXT(入力用科目!$Q202,\"???\"),3,1))","v":""},null,{"$f":"IF(入力用科目!$U202=\"\",\"\",MID(TEXT(入力用科目!$U202,\"????????\"),1,1))","v":""},{"$f":"IF(入力用科目!$U202=\"\",\"\",MID(TEXT(入力用科目!$U202,\"????????\"),2,1))","v":""},{"$f":"IF(入力用科目!$U202=\"\",\"\",MID(TEXT(入力用科目!$U202,\"????????\"),3,1))","v":""},{"$f":"IF(入力用科目!$U202=\"\",\"\",MID(TEXT(入力用科目!$U202,\"????????\"),4,1))","v":""},{"$f":"IF(入力用科目!$U202=\"\",\"\",MID(TEXT(入力用科目!$U202,\"????????\"),5,1))","v":""},{"$f":"IF(入力用科目!$U202=\"\",\"\",MID(TEXT(入力用科目!$U202,\"????????\"),6,1))","v":""},{"$f":"IF(入力用科目!$U202=\"\",\"\",MID(TEXT(入力用科目!$U202,\"????????\"),7,1))","v":""},{"$f":"IF(入力用科目!$U202=\"\",\"\",MID(TEXT(入力用科目!$U202,\"????????\"),8,1))","v":""},null,{"$f":"IF(入力用科目!$AD202=\"\",\"\",MID(TEXT(入力用科目!$AD202,\"????????\"),1,1))","v":""},{"$f":"IF(入力用科目!$AD202=\"\",\"\",MID(TEXT(入力用科目!$AD202,\"????????\"),2,1))","v":""},{"$f":"IF(入力用科目!$AD202=\"\",\"\",MID(TEXT(入力用科目!$AD202,\"????????\"),3,1))","v":""},{"$f":"IF(入力用科目!$AD202=\"\",\"\",MID(TEXT(入力用科目!$AD202,\"????????\"),4,1))","v":""},{"$f":"IF(入力用科目!$AD202=\"\",\"\",MID(TEXT(入力用科目!$AD202,\"????????\"),5,1))","v":""},{"$f":"IF(入力用科目!$AD202=\"\",\"\",MID(TEXT(入力用科目!$AD202,\"????????\"),6,1))","v":""},{"$f":"IF(入力用科目!$AD202=\"\",\"\",MID(TEXT(入力用科目!$AD202,\"????????\"),7,1))","v":""},{"$f":"IF(入力用科目!$AD202=\"\",\"\",MID(TEXT(入力用科目!$AD202,\"????????\"),8,1))","v":""},null,{"$f":"IF(入力用科目!$AM202=\"\",\"\",MID(TEXT(入力用科目!$AM202,\"????????\"),1,1))","v":" "},{"$f":"IF(入力用科目!$AM202=\"\",\"\",MID(TEXT(入力用科目!$AM202,\"????????\"),2,1))","v":" "},{"$f":"IF(入力用科目!$AM202=\"\",\"\",MID(TEXT(入力用科目!$AM202,\"????????\"),3,1))","v":" "},{"$f":"IF(入力用科目!$AM202=\"\",\"\",MID(TEXT(入力用科目!$AM202,\"????????\"),4,1))","v":" "},{"$f":"IF(入力用科目!$AM202=\"\",\"\",MID(TEXT(入力用科目!$AM202,\"????????\"),5,1))","v":" "},{"$f":"IF(入力用科目!$AM202=\"\",\"\",MID(TEXT(入力用科目!$AM202,\"????????\"),6,1))","v":" "},{"$f":"IF(入力用科目!$AM202=\"\",\"\",MID(TEXT(入力用科目!$AM202,\"????????\"),7,1))","v":" "},{"$f":"IF(入力用科目!$AM202=\"\",\"\",MID(TEXT(入力用科目!$AM202,\"????????\"),8,1))","v":" "}]
[{"$f":"IF(入力用科目!A203=\"\",\"\",MID(TEXT(入力用科目!$A203,\"??\"),COLUMN(),1))","v":""},{"$f":"IF(入力用科目!A203=\"\",\"\",MID(TEXT(入力用科目!$A203,\"??\"),COLUMN(),1))","v":""},null,{"$f":"IF(入力用科目!$D203=\"\",\"\",MID(TEXT(入力用科目!$D203,\"???\"),1,1))","v":""},{"$f":"IF(入力用科目!$D203=\"\",\"\",MID(TEXT(入力用科目!$D203,\"???\"),2,1))","v":""},{"$f":"IF(入力用科目!$D203=\"\",\"\",MID(TEXT(入力用科目!$D203,\"???\"),3,1))","v":""},null,{"$f":"IF(入力用科目!$Q203=1,\"運送収入\",IF(入力用科目!$H203=\"\",\"\",入力用科目!$H203))","v":""},null,null,null,null,null,null,null,null,{"$f":"IF(入力用科目!$Q203=\"\",\"\",MID(TEXT(入力用科目!$Q203,\"???\"),1,1))","v":""},{"$f":"IF(入力用科目!$Q203=\"\",\"\",MID(TEXT(入力用科目!$Q203,\"???\"),2,1))","v":""},{"$f":"IF(入力用科目!$Q203=\"\",\"\",MID(TEXT(入力用科目!$Q203,\"???\"),3,1))","v":""},null,{"$f":"IF(入力用科目!$U203=\"\",\"\",MID(TEXT(入力用科目!$U203,\"????????\"),1,1))","v":""},{"$f":"IF(入力用科目!$U203=\"\",\"\",MID(TEXT(入力用科目!$U203,\"????????\"),2,1))","v":""},{"$f":"IF(入力用科目!$U203=\"\",\"\",MID(TEXT(入力用科目!$U203,\"????????\"),3,1))","v":""},{"$f":"IF(入力用科目!$U203=\"\",\"\",MID(TEXT(入力用科目!$U203,\"????????\"),4,1))","v":""},{"$f":"IF(入力用科目!$U203=\"\",\"\",MID(TEXT(入力用科目!$U203,\"????????\"),5,1))","v":""},{"$f":"IF(入力用科目!$U203=\"\",\"\",MID(TEXT(入力用科目!$U203,\"????????\"),6,1))","v":""},{"$f":"IF(入力用科目!$U203=\"\",\"\",MID(TEXT(入力用科目!$U203,\"????????\"),7,1))","v":""},{"$f":"IF(入力用科目!$U203=\"\",\"\",MID(TEXT(入力用科目!$U203,\"????????\"),8,1))","v":""},null,{"$f":"IF(入力用科目!$AD203=\"\",\"\",MID(TEXT(入力用科目!$AD203,\"????????\"),1,1))","v":""},{"$f":"IF(入力用科目!$AD203=\"\",\"\",MID(TEXT(入力用科目!$AD203,\"????????\"),2,1))","v":""},{"$f":"IF(入力用科目!$AD203=\"\",\"\",MID(TEXT(入力用科目!$AD203,\"????????\"),3,1))","v":""},{"$f":"IF(入力用科目!$AD203=\"\",\"\",MID(TEXT(入力用科目!$AD203,\"????????\"),4,1))","v":""},{"$f":"IF(入力用科目!$AD203=\"\",\"\",MID(TEXT(入力用科目!$AD203,\"????????\"),5,1))","v":""},{"$f":"IF(入力用科目!$AD203=\"\",\"\",MID(TEXT(入力用科目!$AD203,\"????????\"),6,1))","v":""},{"$f":"IF(入力用科目!$AD203=\"\",\"\",MID(TEXT(入力用科目!$AD203,\"????????\"),7,1))","v":""},{"$f":"IF(入力用科目!$AD203=\"\",\"\",MID(TEXT(入力用科目!$AD203,\"????????\"),8,1))","v":""},null,{"$f":"IF(入力用科目!$AM203=\"\",\"\",MID(TEXT(入力用科目!$AM203,\"????????\"),1,1))","v":" "},{"$f":"IF(入力用科目!$AM203=\"\",\"\",MID(TEXT(入力用科目!$AM203,\"????????\"),2,1))","v":" "},{"$f":"IF(入力用科目!$AM203=\"\",\"\",MID(TEXT(入力用科目!$AM203,\"????????\"),3,1))","v":" "},{"$f":"IF(入力用科目!$AM203=\"\",\"\",MID(TEXT(入力用科目!$AM203,\"????????\"),4,1))","v":" "},{"$f":"IF(入力用科目!$AM203=\"\",\"\",MID(TEXT(入力用科目!$AM203,\"????????\"),5,1))","v":" "},{"$f":"IF(入力用科目!$AM203=\"\",\"\",MID(TEXT(入力用科目!$AM203,\"????????\"),6,1))","v":" "},{"$f":"IF(入力用科目!$AM203=\"\",\"\",MID(TEXT(入力用科目!$AM203,\"????????\"),7,1))","v":" "},{"$f":"IF(入力用科目!$AM203=\"\",\"\",MID(TEXT(入力用科目!$AM203,\"????????\"),8,1))","v":" "}]
[{"$f":"IF(入力用科目!A204=\"\",\"\",MID(TEXT(入力用科目!$A204,\"??\"),COLUMN(),1))","v":""},{"$f":"IF(入力用科目!A204=\"\",\"\",MID(TEXT(入力用科目!$A204,\"??\"),COLUMN(),1))","v":""},null,{"$f":"IF(入力用科目!$D204=\"\",\"\",MID(TEXT(入力用科目!$D204,\"???\"),1,1))","v":""},{"$f":"IF(入力用科目!$D204=\"\",\"\",MID(TEXT(入力用科目!$D204,\"???\"),2,1))","v":""},{"$f":"IF(入力用科目!$D204=\"\",\"\",MID(TEXT(入力用科目!$D204,\"???\"),3,1))","v":""},null,{"$f":"IF(入力用科目!$Q204=1,\"運送収入\",IF(入力用科目!$H204=\"\",\"\",入力用科目!$H204))","v":""},null,null,null,null,null,null,null,null,{"$f":"IF(入力用科目!$Q204=\"\",\"\",MID(TEXT(入力用科目!$Q204,\"???\"),1,1))","v":""},{"$f":"IF(入力用科目!$Q204=\"\",\"\",MID(TEXT(入力用科目!$Q204,\"???\"),2,1))","v":""},{"$f":"IF(入力用科目!$Q204=\"\",\"\",MID(TEXT(入力用科目!$Q204,\"???\"),3,1))","v":""},null,{"$f":"IF(入力用科目!$U204=\"\",\"\",MID(TEXT(入力用科目!$U204,\"????????\"),1,1))","v":""},{"$f":"IF(入力用科目!$U204=\"\",\"\",MID(TEXT(入力用科目!$U204,\"????????\"),2,1))","v":""},{"$f":"IF(入力用科目!$U204=\"\",\"\",MID(TEXT(入力用科目!$U204,\"????????\"),3,1))","v":""},{"$f":"IF(入力用科目!$U204=\"\",\"\",MID(TEXT(入力用科目!$U204,\"????????\"),4,1))","v":""},{"$f":"IF(入力用科目!$U204=\"\",\"\",MID(TEXT(入力用科目!$U204,\"????????\"),5,1))","v":""},{"$f":"IF(入力用科目!$U204=\"\",\"\",MID(TEXT(入力用科目!$U204,\"????????\"),6,1))","v":""},{"$f":"IF(入力用科目!$U204=\"\",\"\",MID(TEXT(入力用科目!$U204,\"????????\"),7,1))","v":""},{"$f":"IF(入力用科目!$U204=\"\",\"\",MID(TEXT(入力用科目!$U204,\"????????\"),8,1))","v":""},null,{"$f":"IF(入力用科目!$AD204=\"\",\"\",MID(TEXT(入力用科目!$AD204,\"????????\"),1,1))","v":""},{"$f":"IF(入力用科目!$AD204=\"\",\"\",MID(TEXT(入力用科目!$AD204,\"????????\"),2,1))","v":""},{"$f":"IF(入力用科目!$AD204=\"\",\"\",MID(TEXT(入力用科目!$AD204,\"????????\"),3,1))","v":""},{"$f":"IF(入力用科目!$AD204=\"\",\"\",MID(TEXT(入力用科目!$AD204,\"????????\"),4,1))","v":""},{"$f":"IF(入力用科目!$AD204=\"\",\"\",MID(TEXT(入力用科目!$AD204,\"????????\"),5,1))","v":""},{"$f":"IF(入力用科目!$AD204=\"\",\"\",MID(TEXT(入力用科目!$AD204,\"????????\"),6,1))","v":""},{"$f":"IF(入力用科目!$AD204=\"\",\"\",MID(TEXT(入力用科目!$AD204,\"????????\"),7,1))","v":""},{"$f":"IF(入力用科目!$AD204=\"\",\"\",MID(TEXT(入力用科目!$AD204,\"????????\"),8,1))","v":""},null,{"$f":"IF(入力用科目!$AM204=\"\",\"\",MID(TEXT(入力用科目!$AM204,\"????????\"),1,1))","v":" "},{"$f":"IF(入力用科目!$AM204=\"\",\"\",MID(TEXT(入力用科目!$AM204,\"????????\"),2,1))","v":" "},{"$f":"IF(入力用科目!$AM204=\"\",\"\",MID(TEXT(入力用科目!$AM204,\"????????\"),3,1))","v":" "},{"$f":"IF(入力用科目!$AM204=\"\",\"\",MID(TEXT(入力用科目!$AM204,\"????????\"),4,1))","v":" "},{"$f":"IF(入力用科目!$AM204=\"\",\"\",MID(TEXT(入力用科目!$AM204,\"????????\"),5,1))","v":" "},{"$f":"IF(入力用科目!$AM204=\"\",\"\",MID(TEXT(入力用科目!$AM204,\"????????\"),6,1))","v":" "},{"$f":"IF(入力用科目!$AM204=\"\",\"\",MID(TEXT(入力用科目!$AM204,\"????????\"),7,1))","v":" "},{"$f":"IF(入力用科目!$AM204=\"\",\"\",MID(TEXT(入力用科目!$AM204,\"????????\"),8,1))","v":" "}]
[{"$f":"IF(入力用科目!A205=\"\",\"\",MID(TEXT(入力用科目!$A205,\"??\"),COLUMN(),1))","v":""},{"$f":"IF(入力用科目!A205=\"\",\"\",MID(TEXT(入力用科目!$A205,\"??\"),COLUMN(),1))","v":""},null,{"$f":"IF(入力用科目!$D205=\"\",\"\",MID(TEXT(入力用科目!$D205,\"???\"),1,1))","v":""},{"$f":"IF(入力用科目!$D205=\"\",\"\",MID(TEXT(入力用科目!$D205,\"???\"),2,1))","v":""},{"$f":"IF(入力用科目!$D205=\"\",\"\",MID(TEXT(入力用科目!$D205,\"???\"),3,1))","v":""},null,{"$f":"IF(入力用科目!$Q205=1,\"運送収入\",IF(入力用科目!$H205=\"\",\"\",入力用科目!$H205))","v":""},null,null,null,null,null,null,null,null,{"$f":"IF(入力用科目!$Q205=\"\",\"\",MID(TEXT(入力用科目!$Q205,\"???\"),1,1))","v":""},{"$f":"IF(入力用科目!$Q205=\"\",\"\",MID(TEXT(入力用科目!$Q205,\"???\"),2,1))","v":""},{"$f":"IF(入力用科目!$Q205=\"\",\"\",MID(TEXT(入力用科目!$Q205,\"???\"),3,1))","v":""},null,{"$f":"IF(入力用科目!$U205=\"\",\"\",MID(TEXT(入力用科目!$U205,\"????????\"),1,1))","v":""},{"$f":"IF(入力用科目!$U205=\"\",\"\",MID(TEXT(入力用科目!$U205,\"????????\"),2,1))","v":""},{"$f":"IF(入力用科目!$U205=\"\",\"\",MID(TEXT(入力用科目!$U205,\"????????\"),3,1))","v":""},{"$f":"IF(入力用科目!$U205=\"\",\"\",MID(TEXT(入力用科目!$U205,\"????????\"),4,1))","v":""},{"$f":"IF(入力用科目!$U205=\"\",\"\",MID(TEXT(入力用科目!$U205,\"????????\"),5,1))","v":""},{"$f":"IF(入力用科目!$U205=\"\",\"\",MID(TEXT(入力用科目!$U205,\"????????\"),6,1))","v":""},{"$f":"IF(入力用科目!$U205=\"\",\"\",MID(TEXT(入力用科目!$U205,\"????????\"),7,1))","v":""},{"$f":"IF(入力用科目!$U205=\"\",\"\",MID(TEXT(入力用科目!$U205,\"????????\"),8,1))","v":""},null,{"$f":"IF(入力用科目!$AD205=\"\",\"\",MID(TEXT(入力用科目!$AD205,\"????????\"),1,1))","v":""},{"$f":"IF(入力用科目!$AD205=\"\",\"\",MID(TEXT(入力用科目!$AD205,\"????????\"),2,1))","v":""},{"$f":"IF(入力用科目!$AD205=\"\",\"\",MID(TEXT(入力用科目!$AD205,\"????????\"),3,1))","v":""},{"$f":"IF(入力用科目!$AD205=\"\",\"\",MID(TEXT(入力用科目!$AD205,\"????????\"),4,1))","v":""},{"$f":"IF(入力用科目!$AD205=\"\",\"\",MID(TEXT(入力用科目!$AD205,\"????????\"),5,1))","v":""},{"$f":"IF(入力用科目!$AD205=\"\",\"\",MID(TEXT(入力用科目!$AD205,\"????????\"),6,1))","v":""},{"$f":"IF(入力用科目!$AD205=\"\",\"\",MID(TEXT(入力用科目!$AD205,\"????????\"),7,1))","v":""},{"$f":"IF(入力用科目!$AD205=\"\",\"\",MID(TEXT(入力用科目!$AD205,\"????????\"),8,1))","v":""},null,{"$f":"IF(入力用科目!$AM205=\"\",\"\",MID(TEXT(入力用科目!$AM205,\"????????\"),1,1))","v":" "},{"$f":"IF(入力用科目!$AM205=\"\",\"\",MID(TEXT(入力用科目!$AM205,\"????????\"),2,1))","v":" "},{"$f":"IF(入力用科目!$AM205=\"\",\"\",MID(TEXT(入力用科目!$AM205,\"????????\"),3,1))","v":" "},{"$f":"IF(入力用科目!$AM205=\"\",\"\",MID(TEXT(入力用科目!$AM205,\"????????\"),4,1))","v":" "},{"$f":"IF(入力用科目!$AM205=\"\",\"\",MID(TEXT(入力用科目!$AM205,\"????????\"),5,1))","v":" "},{"$f":"IF(入力用科目!$AM205=\"\",\"\",MID(TEXT(入力用科目!$AM205,\"????????\"),6,1))","v":" "},{"$f":"IF(入力用科目!$AM205=\"\",\"\",MID(TEXT(入力用科目!$AM205,\"????????\"),7,1))","v":" "},{"$f":"IF(入力用科目!$AM205=\"\",\"\",MID(TEXT(入力用科目!$AM205,\"????????\"),8,1))","v":" "}]
[{"$f":"IF(入力用科目!A206=\"\",\"\",MID(TEXT(入力用科目!$A206,\"??\"),COLUMN(),1))","v":""},{"$f":"IF(入力用科目!A206=\"\",\"\",MID(TEXT(入力用科目!$A206,\"??\"),COLUMN(),1))","v":""},null,{"$f":"IF(入力用科目!$D206=\"\",\"\",MID(TEXT(入力用科目!$D206,\"???\"),1,1))","v":""},{"$f":"IF(入力用科目!$D206=\"\",\"\",MID(TEXT(入力用科目!$D206,\"???\"),2,1))","v":""},{"$f":"IF(入力用科目!$D206=\"\",\"\",MID(TEXT(入力用科目!$D206,\"???\"),3,1))","v":""},null,{"$f":"IF(入力用科目!$Q206=1,\"運送収入\",IF(入力用科目!$H206=\"\",\"\",入力用科目!$H206))","v":""},null,null,null,null,null,null,null,null,{"$f":"IF(入力用科目!$Q206=\"\",\"\",MID(TEXT(入力用科目!$Q206,\"???\"),1,1))","v":""},{"$f":"IF(入力用科目!$Q206=\"\",\"\",MID(TEXT(入力用科目!$Q206,\"???\"),2,1))","v":""},{"$f":"IF(入力用科目!$Q206=\"\",\"\",MID(TEXT(入力用科目!$Q206,\"???\"),3,1))","v":""},null,{"$f":"IF(入力用科目!$U206=\"\",\"\",MID(TEXT(入力用科目!$U206,\"????????\"),1,1))","v":""},{"$f":"IF(入力用科目!$U206=\"\",\"\",MID(TEXT(入力用科目!$U206,\"????????\"),2,1))","v":""},{"$f":"IF(入力用科目!$U206=\"\",\"\",MID(TEXT(入力用科目!$U206,\"????????\"),3,1))","v":""},{"$f":"IF(入力用科目!$U206=\"\",\"\",MID(TEXT(入力用科目!$U206,\"????????\"),4,1))","v":""},{"$f":"IF(入力用科目!$U206=\"\",\"\",MID(TEXT(入力用科目!$U206,\"????????\"),5,1))","v":""},{"$f":"IF(入力用科目!$U206=\"\",\"\",MID(TEXT(入力用科目!$U206,\"????????\"),6,1))","v":""},{"$f":"IF(入力用科目!$U206=\"\",\"\",MID(TEXT(入力用科目!$U206,\"????????\"),7,1))","v":""},{"$f":"IF(入力用科目!$U206=\"\",\"\",MID(TEXT(入力用科目!$U206,\"????????\"),8,1))","v":""},null,{"$f":"IF(入力用科目!$AD206=\"\",\"\",MID(TEXT(入力用科目!$AD206,\"????????\"),1,1))","v":""},{"$f":"IF(入力用科目!$AD206=\"\",\"\",MID(TEXT(入力用科目!$AD206,\"????????\"),2,1))","v":""},{"$f":"IF(入力用科目!$AD206=\"\",\"\",MID(TEXT(入力用科目!$AD206,\"????????\"),3,1))","v":""},{"$f":"IF(入力用科目!$AD206=\"\",\"\",MID(TEXT(入力用科目!$AD206,\"????????\"),4,1))","v":""},{"$f":"IF(入力用科目!$AD206=\"\",\"\",MID(TEXT(入力用科目!$AD206,\"????????\"),5,1))","v":""},{"$f":"IF(入力用科目!$AD206=\"\",\"\",MID(TEXT(入力用科目!$AD206,\"????????\"),6,1))","v":""},{"$f":"IF(入力用科目!$AD206=\"\",\"\",MID(TEXT(入力用科目!$AD206,\"????????\"),7,1))","v":""},{"$f":"IF(入力用科目!$AD206=\"\",\"\",MID(TEXT(入力用科目!$AD206,\"????????\"),8,1))","v":""},null,{"$f":"IF(入力用科目!$AM206=\"\",\"\",MID(TEXT(入力用科目!$AM206,\"????????\"),1,1))","v":" "},{"$f":"IF(入力用科目!$AM206=\"\",\"\",MID(TEXT(入力用科目!$AM206,\"????????\"),2,1))","v":" "},{"$f":"IF(入力用科目!$AM206=\"\",\"\",MID(TEXT(入力用科目!$AM206,\"????????\"),3,1))","v":" "},{"$f":"IF(入力用科目!$AM206=\"\",\"\",MID(TEXT(入力用科目!$AM206,\"????????\"),4,1))","v":" "},{"$f":"IF(入力用科目!$AM206=\"\",\"\",MID(TEXT(入力用科目!$AM206,\"????????\"),5,1))","v":" "},{"$f":"IF(入力用科目!$AM206=\"\",\"\",MID(TEXT(入力用科目!$AM206,\"????????\"),6,1))","v":" "},{"$f":"IF(入力用科目!$AM206=\"\",\"\",MID(TEXT(入力用科目!$AM206,\"????????\"),7,1))","v":" "},{"$f":"IF(入力用科目!$AM206=\"\",\"\",MID(TEXT(入力用科目!$AM206,\"????????\"),8,1))","v":" "}]
[{"$f":"IF(入力用科目!A207=\"\",\"\",MID(TEXT(入力用科目!$A207,\"??\"),COLUMN(),1))","v":""},{"$f":"IF(入力用科目!A207=\"\",\"\",MID(TEXT(入力用科目!$A207,\"??\"),COLUMN(),1))","v":""},null,{"$f":"IF(入力用科目!$D207=\"\",\"\",MID(TEXT(入力用科目!$D207,\"???\"),1,1))","v":""},{"$f":"IF(入力用科目!$D207=\"\",\"\",MID(TEXT(入力用科目!$D207,\"???\"),2,1))","v":""},{"$f":"IF(入力用科目!$D207=\"\",\"\",MID(TEXT(入力用科目!$D207,\"???\"),3,1))","v":""},null,{"$f":"IF(入力用科目!$Q207=1,\"運送収入\",IF(入力用科目!$H207=\"\",\"\",入力用科目!$H207))","v":""},null,null,null,null,null,null,null,null,{"$f":"IF(入力用科目!$Q207=\"\",\"\",MID(TEXT(入力用科目!$Q207,\"???\"),1,1))","v":""},{"$f":"IF(入力用科目!$Q207=\"\",\"\",MID(TEXT(入力用科目!$Q207,\"???\"),2,1))","v":""},{"$f":"IF(入力用科目!$Q207=\"\",\"\",MID(TEXT(入力用科目!$Q207,\"???\"),3,1))","v":""},null,{"$f":"IF(入力用科目!$U207=\"\",\"\",MID(TEXT(入力用科目!$U207,\"????????\"),1,1))","v":""},{"$f":"IF(入力用科目!$U207=\"\",\"\",MID(TEXT(入力用科目!$U207,\"????????\"),2,1))","v":""},{"$f":"IF(入力用科目!$U207=\"\",\"\",MID(TEXT(入力用科目!$U207,\"????????\"),3,1))","v":""},{"$f":"IF(入力用科目!$U207=\"\",\"\",MID(TEXT(入力用科目!$U207,\"????????\"),4,1))","v":""},{"$f":"IF(入力用科目!$U207=\"\",\"\",MID(TEXT(入力用科目!$U207,\"????????\"),5,1))","v":""},{"$f":"IF(入力用科目!$U207=\"\",\"\",MID(TEXT(入力用科目!$U207,\"????????\"),6,1))","v":""},{"$f":"IF(入力用科目!$U207=\"\",\"\",MID(TEXT(入力用科目!$U207,\"????????\"),7,1))","v":""},{"$f":"IF(入力用科目!$U207=\"\",\"\",MID(TEXT(入力用科目!$U207,\"????????\"),8,1))","v":""},null,{"$f":"IF(入力用科目!$AD207=\"\",\"\",MID(TEXT(入力用科目!$AD207,\"????????\"),1,1))","v":""},{"$f":"IF(入力用科目!$AD207=\"\",\"\",MID(TEXT(入力用科目!$AD207,\"????????\"),2,1))","v":""},{"$f":"IF(入力用科目!$AD207=\"\",\"\",MID(TEXT(入力用科目!$AD207,\"????????\"),3,1))","v":""},{"$f":"IF(入力用科目!$AD207=\"\",\"\",MID(TEXT(入力用科目!$AD207,\"????????\"),4,1))","v":""},{"$f":"IF(入力用科目!$AD207=\"\",\"\",MID(TEXT(入力用科目!$AD207,\"????????\"),5,1))","v":""},{"$f":"IF(入力用科目!$AD207=\"\",\"\",MID(TEXT(入力用科目!$AD207,\"????????\"),6,1))","v":""},{"$f":"IF(入力用科目!$AD207=\"\",\"\",MID(TEXT(入力用科目!$AD207,\"????????\"),7,1))","v":""},{"$f":"IF(入力用科目!$AD207=\"\",\"\",MID(TEXT(入力用科目!$AD207,\"????????\"),8,1))","v":""},null,{"$f":"IF(入力用科目!$AM207=\"\",\"\",MID(TEXT(入力用科目!$AM207,\"????????\"),1,1))","v":" "},{"$f":"IF(入力用科目!$AM207=\"\",\"\",MID(TEXT(入力用科目!$AM207,\"????????\"),2,1))","v":" "},{"$f":"IF(入力用科目!$AM207=\"\",\"\",MID(TEXT(入力用科目!$AM207,\"????????\"),3,1))","v":" "},{"$f":"IF(入力用科目!$AM207=\"\",\"\",MID(TEXT(入力用科目!$AM207,\"????????\"),4,1))","v":" "},{"$f":"IF(入力用科目!$AM207=\"\",\"\",MID(TEXT(入力用科目!$AM207,\"????????\"),5,1))","v":" "},{"$f":"IF(入力用科目!$AM207=\"\",\"\",MID(TEXT(入力用科目!$AM207,\"????????\"),6,1))","v":" "},{"$f":"IF(入力用科目!$AM207=\"\",\"\",MID(TEXT(入力用科目!$AM207,\"????????\"),7,1))","v":" "},{"$f":"IF(入力用科目!$AM207=\"\",\"\",MID(TEXT(入力用科目!$AM207,\"????????\"),8,1))","v":" "}]
[{"$f":"IF(入力用科目!A208=\"\",\"\",MID(TEXT(入力用科目!$A208,\"??\"),COLUMN(),1))","v":""},{"$f":"IF(入力用科目!A208=\"\",\"\",MID(TEXT(入力用科目!$A208,\"??\"),COLUMN(),1))","v":""},null,{"$f":"IF(入力用科目!$D208=\"\",\"\",MID(TEXT(入力用科目!$D208,\"???\"),1,1))","v":""},{"$f":"IF(入力用科目!$D208=\"\",\"\",MID(TEXT(入力用科目!$D208,\"???\"),2,1))","v":""},{"$f":"IF(入力用科目!$D208=\"\",\"\",MID(TEXT(入力用科目!$D208,\"???\"),3,1))","v":""},null,{"$f":"IF(入力用科目!$Q208=1,\"運送収入\",IF(入力用科目!$H208=\"\",\"\",入力用科目!$H208))","v":""},null,null,null,null,null,null,null,null,{"$f":"IF(入力用科目!$Q208=\"\",\"\",MID(TEXT(入力用科目!$Q208,\"???\"),1,1))","v":""},{"$f":"IF(入力用科目!$Q208=\"\",\"\",MID(TEXT(入力用科目!$Q208,\"???\"),2,1))","v":""},{"$f":"IF(入力用科目!$Q208=\"\",\"\",MID(TEXT(入力用科目!$Q208,\"???\"),3,1))","v":""},null,{"$f":"IF(入力用科目!$U208=\"\",\"\",MID(TEXT(入力用科目!$U208,\"????????\"),1,1))","v":""},{"$f":"IF(入力用科目!$U208=\"\",\"\",MID(TEXT(入力用科目!$U208,\"????????\"),2,1))","v":""},{"$f":"IF(入力用科目!$U208=\"\",\"\",MID(TEXT(入力用科目!$U208,\"????????\"),3,1))","v":""},{"$f":"IF(入力用科目!$U208=\"\",\"\",MID(TEXT(入力用科目!$U208,\"????????\"),4,1))","v":""},{"$f":"IF(入力用科目!$U208=\"\",\"\",MID(TEXT(入力用科目!$U208,\"????????\"),5,1))","v":""},{"$f":"IF(入力用科目!$U208=\"\",\"\",MID(TEXT(入力用科目!$U208,\"????????\"),6,1))","v":""},{"$f":"IF(入力用科目!$U208=\"\",\"\",MID(TEXT(入力用科目!$U208,\"????????\"),7,1))","v":""},{"$f":"IF(入力用科目!$U208=\"\",\"\",MID(TEXT(入力用科目!$U208,\"????????\"),8,1))","v":""},null,{"$f":"IF(入力用科目!$AD208=\"\",\"\",MID(TEXT(入力用科目!$AD208,\"????????\"),1,1))","v":""},{"$f":"IF(入力用科目!$AD208=\"\",\"\",MID(TEXT(入力用科目!$AD208,\"????????\"),2,1))","v":""},{"$f":"IF(入力用科目!$AD208=\"\",\"\",MID(TEXT(入力用科目!$AD208,\"????????\"),3,1))","v":""},{"$f":"IF(入力用科目!$AD208=\"\",\"\",MID(TEXT(入力用科目!$AD208,\"????????\"),4,1))","v":""},{"$f":"IF(入力用科目!$AD208=\"\",\"\",MID(TEXT(入力用科目!$AD208,\"????????\"),5,1))","v":""},{"$f":"IF(入力用科目!$AD208=\"\",\"\",MID(TEXT(入力用科目!$AD208,\"????????\"),6,1))","v":""},{"$f":"IF(入力用科目!$AD208=\"\",\"\",MID(TEXT(入力用科目!$AD208,\"????????\"),7,1))","v":""},{"$f":"IF(入力用科目!$AD208=\"\",\"\",MID(TEXT(入力用科目!$AD208,\"????????\"),8,1))","v":""},null,{"$f":"IF(入力用科目!$AM208=\"\",\"\",MID(TEXT(入力用科目!$AM208,\"????????\"),1,1))","v":" "},{"$f":"IF(入力用科目!$AM208=\"\",\"\",MID(TEXT(入力用科目!$AM208,\"????????\"),2,1))","v":" "},{"$f":"IF(入力用科目!$AM208=\"\",\"\",MID(TEXT(入力用科目!$AM208,\"????????\"),3,1))","v":" "},{"$f":"IF(入力用科目!$AM208=\"\",\"\",MID(TEXT(入力用科目!$AM208,\"????????\"),4,1))","v":" "},{"$f":"IF(入力用科目!$AM208=\"\",\"\",MID(TEXT(入力用科目!$AM208,\"????????\"),5,1))","v":" "},{"$f":"IF(入力用科目!$AM208=\"\",\"\",MID(TEXT(入力用科目!$AM208,\"????????\"),6,1))","v":" "},{"$f":"IF(入力用科目!$AM208=\"\",\"\",MID(TEXT(入力用科目!$AM208,\"????????\"),7,1))","v":" "},{"$f":"IF(入力用科目!$AM208=\"\",\"\",MID(TEXT(入力用科目!$AM208,\"????????\"),8,1))","v":" "}]
[{"$f":"IF(入力用科目!A209=\"\",\"\",MID(TEXT(入力用科目!$A209,\"??\"),COLUMN(),1))","v":""},{"$f":"IF(入力用科目!A209=\"\",\"\",MID(TEXT(入力用科目!$A209,\"??\"),COLUMN(),1))","v":""},null,{"$f":"IF(入力用科目!$D209=\"\",\"\",MID(TEXT(入力用科目!$D209,\"???\"),1,1))","v":""},{"$f":"IF(入力用科目!$D209=\"\",\"\",MID(TEXT(入力用科目!$D209,\"???\"),2,1))","v":""},{"$f":"IF(入力用科目!$D209=\"\",\"\",MID(TEXT(入力用科目!$D209,\"???\"),3,1))","v":""},null,{"$f":"IF(入力用科目!$Q209=1,\"運送収入\",IF(入力用科目!$H209=\"\",\"\",入力用科目!$H209))","v":""},null,null,null,null,null,null,null,null,{"$f":"IF(入力用科目!$Q209=\"\",\"\",MID(TEXT(入力用科目!$Q209,\"???\"),1,1))","v":""},{"$f":"IF(入力用科目!$Q209=\"\",\"\",MID(TEXT(入力用科目!$Q209,\"???\"),2,1))","v":""},{"$f":"IF(入力用科目!$Q209=\"\",\"\",MID(TEXT(入力用科目!$Q209,\"???\"),3,1))","v":""},null,{"$f":"IF(入力用科目!$U209=\"\",\"\",MID(TEXT(入力用科目!$U209,\"????????\"),1,1))","v":""},{"$f":"IF(入力用科目!$U209=\"\",\"\",MID(TEXT(入力用科目!$U209,\"????????\"),2,1))","v":""},{"$f":"IF(入力用科目!$U209=\"\",\"\",MID(TEXT(入力用科目!$U209,\"????????\"),3,1))","v":""},{"$f":"IF(入力用科目!$U209=\"\",\"\",MID(TEXT(入力用科目!$U209,\"????????\"),4,1))","v":""},{"$f":"IF(入力用科目!$U209=\"\",\"\",MID(TEXT(入力用科目!$U209,\"????????\"),5,1))","v":""},{"$f":"IF(入力用科目!$U209=\"\",\"\",MID(TEXT(入力用科目!$U209,\"????????\"),6,1))","v":""},{"$f":"IF(入力用科目!$U209=\"\",\"\",MID(TEXT(入力用科目!$U209,\"????????\"),7,1))","v":""},{"$f":"IF(入力用科目!$U209=\"\",\"\",MID(TEXT(入力用科目!$U209,\"????????\"),8,1))","v":""},null,{"$f":"IF(入力用科目!$AD209=\"\",\"\",MID(TEXT(入力用科目!$AD209,\"????????\"),1,1))","v":""},{"$f":"IF(入力用科目!$AD209=\"\",\"\",MID(TEXT(入力用科目!$AD209,\"????????\"),2,1))","v":""},{"$f":"IF(入力用科目!$AD209=\"\",\"\",MID(TEXT(入力用科目!$AD209,\"????????\"),3,1))","v":""},{"$f":"IF(入力用科目!$AD209=\"\",\"\",MID(TEXT(入力用科目!$AD209,\"????????\"),4,1))","v":""},{"$f":"IF(入力用科目!$AD209=\"\",\"\",MID(TEXT(入力用科目!$AD209,\"????????\"),5,1))","v":""},{"$f":"IF(入力用科目!$AD209=\"\",\"\",MID(TEXT(入力用科目!$AD209,\"????????\"),6,1))","v":""},{"$f":"IF(入力用科目!$AD209=\"\",\"\",MID(TEXT(入力用科目!$AD209,\"????????\"),7,1))","v":""},{"$f":"IF(入力用科目!$AD209=\"\",\"\",MID(TEXT(入力用科目!$AD209,\"????????\"),8,1))","v":""},null,{"$f":"IF(入力用科目!$AM209=\"\",\"\",MID(TEXT(入力用科目!$AM209,\"????????\"),1,1))","v":" "},{"$f":"IF(入力用科目!$AM209=\"\",\"\",MID(TEXT(入力用科目!$AM209,\"????????\"),2,1))","v":" "},{"$f":"IF(入力用科目!$AM209=\"\",\"\",MID(TEXT(入力用科目!$AM209,\"????????\"),3,1))","v":" "},{"$f":"IF(入力用科目!$AM209=\"\",\"\",MID(TEXT(入力用科目!$AM209,\"????????\"),4,1))","v":" "},{"$f":"IF(入力用科目!$AM209=\"\",\"\",MID(TEXT(入力用科目!$AM209,\"????????\"),5,1))","v":" "},{"$f":"IF(入力用科目!$AM209=\"\",\"\",MID(TEXT(入力用科目!$AM209,\"????????\"),6,1))","v":" "},{"$f":"IF(入力用科目!$AM209=\"\",\"\",MID(TEXT(入力用科目!$AM209,\"????????\"),7,1))","v":" "},{"$f":"IF(入力用科目!$AM209=\"\",\"\",MID(TEXT(入力用科目!$AM209,\"????????\"),8,1))","v":" "}]
[{"$f":"IF(入力用科目!A210=\"\",\"\",MID(TEXT(入力用科目!$A210,\"??\"),COLUMN(),1))","v":""},{"$f":"IF(入力用科目!A210=\"\",\"\",MID(TEXT(入力用科目!$A210,\"??\"),COLUMN(),1))","v":""},null,{"$f":"IF(入力用科目!$D210=\"\",\"\",MID(TEXT(入力用科目!$D210,\"???\"),1,1))","v":""},{"$f":"IF(入力用科目!$D210=\"\",\"\",MID(TEXT(入力用科目!$D210,\"???\"),2,1))","v":""},{"$f":"IF(入力用科目!$D210=\"\",\"\",MID(TEXT(入力用科目!$D210,\"???\"),3,1))","v":""},null,{"$f":"IF(入力用科目!H210=\"\",\"\",入力用科目!H210)","v":""},null,null,null,null,null,null,null,null,{"$f":"IF(入力用科目!$Q210=\"\",\"\",MID(TEXT(入力用科目!$Q210,\"???\"),1,1))","v":""},{"$f":"IF(入力用科目!$Q210=\"\",\"\",MID(TEXT(入力用科目!$Q210,\"???\"),2,1))","v":""},{"$f":"IF(入力用科目!$Q210=\"\",\"\",MID(TEXT(入力用科目!$Q210,\"???\"),3,1))","v":""},null,{"$f":"IF(入力用科目!$U210=\"\",\"\",MID(TEXT(入力用科目!$U210,\"????????\"),1,1))","v":""},{"$f":"IF(入力用科目!$U210=\"\",\"\",MID(TEXT(入力用科目!$U210,\"????????\"),2,1))","v":""},{"$f":"IF(入力用科目!$U210=\"\",\"\",MID(TEXT(入力用科目!$U210,\"????????\"),3,1))","v":""},{"$f":"IF(入力用科目!$U210=\"\",\"\",MID(TEXT(入力用科目!$U210,\"????????\"),4,1))","v":""},{"$f":"IF(入力用科目!$U210=\"\",\"\",MID(TEXT(入力用科目!$U210,\"????????\"),5,1))","v":""},{"$f":"IF(入力用科目!$U210=\"\",\"\",MID(TEXT(入力用科目!$U210,\"????????\"),6,1))","v":""},{"$f":"IF(入力用科目!$U210=\"\",\"\",MID(TEXT(入力用科目!$U210,\"????????\"),7,1))","v":""},{"$f":"IF(入力用科目!$U210=\"\",\"\",MID(TEXT(入力用科目!$U210,\"????????\"),8,1))","v":""},null,{"$f":"IF(入力用科目!$AD210=\"\",\"\",MID(TEXT(入力用科目!$AD210,\"????????\"),1,1))","v":""},{"$f":"IF(入力用科目!$AD210=\"\",\"\",MID(TEXT(入力用科目!$AD210,\"????????\"),2,1))","v":""},{"$f":"IF(入力用科目!$AD210=\"\",\"\",MID(TEXT(入力用科目!$AD210,\"????????\"),3,1))","v":""},{"$f":"IF(入力用科目!$AD210=\"\",\"\",MID(TEXT(入力用科目!$AD210,\"????????\"),4,1))","v":""},{"$f":"IF(入力用科目!$AD210=\"\",\"\",MID(TEXT(入力用科目!$AD210,\"????????\"),5,1))","v":""},{"$f":"IF(入力用科目!$AD210=\"\",\"\",MID(TEXT(入力用科目!$AD210,\"????????\"),6,1))","v":""},{"$f":"IF(入力用科目!$AD210=\"\",\"\",MID(TEXT(入力用科目!$AD210,\"????????\"),7,1))","v":""},{"$f":"IF(入力用科目!$AD210=\"\",\"\",MID(TEXT(入力用科目!$AD210,\"????????\"),8,1))","v":""},null,{"$f":"IF(入力用科目!$AM210=\"\",\"\",MID(TEXT(入力用科目!$AM210,\"????????\"),1,1))","v":" "},{"$f":"IF(入力用科目!$AM210=\"\",\"\",MID(TEXT(入力用科目!$AM210,\"????????\"),2,1))","v":" "},{"$f":"IF(入力用科目!$AM210=\"\",\"\",MID(TEXT(入力用科目!$AM210,\"????????\"),3,1))","v":" "},{"$f":"IF(入力用科目!$AM210=\"\",\"\",MID(TEXT(入力用科目!$AM210,\"????????\"),4,1))","v":" "},{"$f":"IF(入力用科目!$AM210=\"\",\"\",MID(TEXT(入力用科目!$AM210,\"????????\"),5,1))","v":" "},{"$f":"IF(入力用科目!$AM210=\"\",\"\",MID(TEXT(入力用科目!$AM210,\"????????\"),6,1))","v":" "},{"$f":"IF(入力用科目!$AM210=\"\",\"\",MID(TEXT(入力用科目!$AM210,\"????????\"),7,1))","v":" "},{"$f":"IF(入力用科目!$AM210=\"\",\"\",MID(TEXT(入力用科目!$AM210,\"????????\"),8,1))","v":" "}]
[{"$f":"IF(入力用科目!A211=\"\",\"\",MID(TEXT(入力用科目!$A211,\"??\"),COLUMN(),1))","v":""},{"$f":"IF(入力用科目!A211=\"\",\"\",MID(TEXT(入力用科目!$A211,\"??\"),COLUMN(),1))","v":""},null,{"$f":"IF(入力用科目!$D211=\"\",\"\",MID(TEXT(入力用科目!$D211,\"???\"),1,1))","v":""},{"$f":"IF(入力用科目!$D211=\"\",\"\",MID(TEXT(入力用科目!$D211,\"???\"),2,1))","v":""},{"$f":"IF(入力用科目!$D211=\"\",\"\",MID(TEXT(入力用科目!$D211,\"???\"),3,1))","v":""},null,{"$f":"IF(入力用科目!H211=\"\",\"\",入力用科目!H211)","v":""},null,null,null,null,null,null,null,null,{"$f":"IF(入力用科目!$Q211=\"\",\"\",MID(TEXT(入力用科目!$Q211,\"???\"),1,1))","v":""},{"$f":"IF(入力用科目!$Q211=\"\",\"\",MID(TEXT(入力用科目!$Q211,\"???\"),2,1))","v":""},{"$f":"IF(入力用科目!$Q211=\"\",\"\",MID(TEXT(入力用科目!$Q211,\"???\"),3,1))","v":""},null,{"$f":"IF(入力用科目!$U211=\"\",\"\",MID(TEXT(入力用科目!$U211,\"????????\"),1,1))","v":""},{"$f":"IF(入力用科目!$U211=\"\",\"\",MID(TEXT(入力用科目!$U211,\"????????\"),2,1))","v":""},{"$f":"IF(入力用科目!$U211=\"\",\"\",MID(TEXT(入力用科目!$U211,\"????????\"),3,1))","v":""},{"$f":"IF(入力用科目!$U211=\"\",\"\",MID(TEXT(入力用科目!$U211,\"????????\"),4,1))","v":""},{"$f":"IF(入力用科目!$U211=\"\",\"\",MID(TEXT(入力用科目!$U211,\"????????\"),5,1))","v":""},{"$f":"IF(入力用科目!$U211=\"\",\"\",MID(TEXT(入力用科目!$U211,\"????????\"),6,1))","v":""},{"$f":"IF(入力用科目!$U211=\"\",\"\",MID(TEXT(入力用科目!$U211,\"????????\"),7,1))","v":""},{"$f":"IF(入力用科目!$U211=\"\",\"\",MID(TEXT(入力用科目!$U211,\"????????\"),8,1))","v":""},null,{"$f":"IF(入力用科目!$AD211=\"\",\"\",MID(TEXT(入力用科目!$AD211,\"????????\"),1,1))","v":""},{"$f":"IF(入力用科目!$AD211=\"\",\"\",MID(TEXT(入力用科目!$AD211,\"????????\"),2,1))","v":""},{"$f":"IF(入力用科目!$AD211=\"\",\"\",MID(TEXT(入力用科目!$AD211,\"????????\"),3,1))","v":""},{"$f":"IF(入力用科目!$AD211=\"\",\"\",MID(TEXT(入力用科目!$AD211,\"????????\"),4,1))","v":""},{"$f":"IF(入力用科目!$AD211=\"\",\"\",MID(TEXT(入力用科目!$AD211,\"????????\"),5,1))","v":""},{"$f":"IF(入力用科目!$AD211=\"\",\"\",MID(TEXT(入力用科目!$AD211,\"????????\"),6,1))","v":""},{"$f":"IF(入力用科目!$AD211=\"\",\"\",MID(TEXT(入力用科目!$AD211,\"????????\"),7,1))","v":""},{"$f":"IF(入力用科目!$AD211=\"\",\"\",MID(TEXT(入力用科目!$AD211,\"????????\"),8,1))","v":""},null,{"$f":"IF(入力用科目!$AM211=\"\",\"\",MID(TEXT(入力用科目!$AM211,\"????????\"),1,1))","v":" "},{"$f":"IF(入力用科目!$AM211=\"\",\"\",MID(TEXT(入力用科目!$AM211,\"????????\"),2,1))","v":" "},{"$f":"IF(入力用科目!$AM211=\"\",\"\",MID(TEXT(入力用科目!$AM211,\"????????\"),3,1))","v":" "},{"$f":"IF(入力用科目!$AM211=\"\",\"\",MID(TEXT(入力用科目!$AM211,\"????????\"),4,1))","v":" "},{"$f":"IF(入力用科目!$AM211=\"\",\"\",MID(TEXT(入力用科目!$AM211,\"????????\"),5,1))","v":" "},{"$f":"IF(入力用科目!$AM211=\"\",\"\",MID(TEXT(入力用科目!$AM211,\"????????\"),6,1))","v":" "},{"$f":"IF(入力用科目!$AM211=\"\",\"\",MID(TEXT(入力用科目!$AM211,\"????????\"),7,1))","v":" "},{"$f":"IF(入力用科目!$AM211=\"\",\"\",MID(TEXT(入力用科目!$AM211,\"????????\"),8,1))","v":" "}]
[{"$f":"IF(入力用科目!A212=\"\",\"\",MID(TEXT(入力用科目!$A212,\"??\"),COLUMN(),1))","v":""},{"$f":"IF(入力用科目!A212=\"\",\"\",MID(TEXT(入力用科目!$A212,\"??\"),COLUMN(),1))","v":""},null,{"$f":"IF(入力用科目!$D212=\"\",\"\",MID(TEXT(入力用科目!$D212,\"???\"),1,1))","v":""},{"$f":"IF(入力用科目!$D212=\"\",\"\",MID(TEXT(入力用科目!$D212,\"???\"),2,1))","v":""},{"$f":"IF(入力用科目!$D212=\"\",\"\",MID(TEXT(入力用科目!$D212,\"???\"),3,1))","v":""},null,{"$f":"IF(入力用科目!H212=\"\",\"\",入力用科目!H212)","v":""},null,null,null,null,null,null,null,null,{"$f":"IF(入力用科目!$Q212=\"\",\"\",MID(TEXT(入力用科目!$Q212,\"???\"),1,1))","v":""},{"$f":"IF(入力用科目!$Q212=\"\",\"\",MID(TEXT(入力用科目!$Q212,\"???\"),2,1))","v":""},{"$f":"IF(入力用科目!$Q212=\"\",\"\",MID(TEXT(入力用科目!$Q212,\"???\"),3,1))","v":""},null,{"$f":"IF(入力用科目!$U212=\"\",\"\",MID(TEXT(入力用科目!$U212,\"????????\"),1,1))","v":""},{"$f":"IF(入力用科目!$U212=\"\",\"\",MID(TEXT(入力用科目!$U212,\"????????\"),2,1))","v":""},{"$f":"IF(入力用科目!$U212=\"\",\"\",MID(TEXT(入力用科目!$U212,\"????????\"),3,1))","v":""},{"$f":"IF(入力用科目!$U212=\"\",\"\",MID(TEXT(入力用科目!$U212,\"????????\"),4,1))","v":""},{"$f":"IF(入力用科目!$U212=\"\",\"\",MID(TEXT(入力用科目!$U212,\"????????\"),5,1))","v":""},{"$f":"IF(入力用科目!$U212=\"\",\"\",MID(TEXT(入力用科目!$U212,\"????????\"),6,1))","v":""},{"$f":"IF(入力用科目!$U212=\"\",\"\",MID(TEXT(入力用科目!$U212,\"????????\"),7,1))","v":""},{"$f":"IF(入力用科目!$U212=\"\",\"\",MID(TEXT(入力用科目!$U212,\"????????\"),8,1))","v":""},null,{"$f":"IF(入力用科目!$AD212=\"\",\"\",MID(TEXT(入力用科目!$AD212,\"????????\"),1,1))","v":""},{"$f":"IF(入力用科目!$AD212=\"\",\"\",MID(TEXT(入力用科目!$AD212,\"????????\"),2,1))","v":""},{"$f":"IF(入力用科目!$AD212=\"\",\"\",MID(TEXT(入力用科目!$AD212,\"????????\"),3,1))","v":""},{"$f":"IF(入力用科目!$AD212=\"\",\"\",MID(TEXT(入力用科目!$AD212,\"????????\"),4,1))","v":""},{"$f":"IF(入力用科目!$AD212=\"\",\"\",MID(TEXT(入力用科目!$AD212,\"????????\"),5,1))","v":""},{"$f":"IF(入力用科目!$AD212=\"\",\"\",MID(TEXT(入力用科目!$AD212,\"????????\"),6,1))","v":""},{"$f":"IF(入力用科目!$AD212=\"\",\"\",MID(TEXT(入力用科目!$AD212,\"????????\"),7,1))","v":""},{"$f":"IF(入力用科目!$AD212=\"\",\"\",MID(TEXT(入力用科目!$AD212,\"????????\"),8,1))","v":""},null,{"$f":"IF(入力用科目!$AM212=\"\",\"\",MID(TEXT(入力用科目!$AM212,\"????????\"),1,1))","v":" "},{"$f":"IF(入力用科目!$AM212=\"\",\"\",MID(TEXT(入力用科目!$AM212,\"????????\"),2,1))","v":" "},{"$f":"IF(入力用科目!$AM212=\"\",\"\",MID(TEXT(入力用科目!$AM212,\"????????\"),3,1))","v":" "},{"$f":"IF(入力用科目!$AM212=\"\",\"\",MID(TEXT(入力用科目!$AM212,\"????????\"),4,1))","v":" "},{"$f":"IF(入力用科目!$AM212=\"\",\"\",MID(TEXT(入力用科目!$AM212,\"????????\"),5,1))","v":" "},{"$f":"IF(入力用科目!$AM212=\"\",\"\",MID(TEXT(入力用科目!$AM212,\"????????\"),6,1))","v":" "},{"$f":"IF(入力用科目!$AM212=\"\",\"\",MID(TEXT(入力用科目!$AM212,\"????????\"),7,1))","v":" "},{"$f":"IF(入力用科目!$AM212=\"\",\"\",MID(TEXT(入力用科目!$AM212,\"????????\"),8,1))","v":" "}]
[{"$f":"IF(入力用科目!A213=\"\",\"\",MID(TEXT(入力用科目!$A213,\"??\"),COLUMN(),1))","v":""},{"$f":"IF(入力用科目!A213=\"\",\"\",MID(TEXT(入力用科目!$A213,\"??\"),COLUMN(),1))","v":""},null,{"$f":"IF(入力用科目!$D213=\"\",\"\",MID(TEXT(入力用科目!$D213,\"???\"),1,1))","v":""},{"$f":"IF(入力用科目!$D213=\"\",\"\",MID(TEXT(入力用科目!$D213,\"???\"),2,1))","v":""},{"$f":"IF(入力用科目!$D213=\"\",\"\",MID(TEXT(入力用科目!$D213,\"???\"),3,1))","v":""},null,{"$f":"IF(入力用科目!H213=\"\",\"\",入力用科目!H213)","v":"小　　　計"},null,null,null,null,null,null,null,null,{"$f":"IF(入力用科目!$Q213=\"\",\"\",MID(TEXT(入力用科目!$Q213,\"???\"),1,1))","v":""},{"$f":"IF(入力用科目!$Q213=\"\",\"\",MID(TEXT(入力用科目!$Q213,\"???\"),2,1))","v":""},{"$f":"IF(入力用科目!$Q213=\"\",\"\",MID(TEXT(入力用科目!$Q213,\"???\"),3,1))","v":""},null,{"$f":"IF(入力用科目!$U213=\"\",\"\",MID(TEXT(入力用科目!$U213,\"????????\"),1,1))","v":" "},{"$f":"IF(入力用科目!$U213=\"\",\"\",MID(TEXT(入力用科目!$U213,\"????????\"),2,1))","v":" "},{"$f":"IF(入力用科目!$U213=\"\",\"\",MID(TEXT(入力用科目!$U213,\"????????\"),3,1))","v":" "},{"$f":"IF(入力用科目!$U213=\"\",\"\",MID(TEXT(入力用科目!$U213,\"????????\"),4,1))","v":" "},{"$f":"IF(入力用科目!$U213=\"\",\"\",MID(TEXT(入力用科目!$U213,\"????????\"),5,1))","v":" "},{"$f":"IF(入力用科目!$U213=\"\",\"\",MID(TEXT(入力用科目!$U213,\"????????\"),6,1))","v":" "},{"$f":"IF(入力用科目!$U213=\"\",\"\",MID(TEXT(入力用科目!$U213,\"????????\"),7,1))","v":" "},{"$f":"IF(入力用科目!$U213=\"\",\"\",MID(TEXT(入力用科目!$U213,\"????????\"),8,1))","v":" "},null,{"$f":"IF(入力用科目!$AD213=\"\",\"\",MID(TEXT(入力用科目!$AD213,\"????????\"),1,1))","v":" "},{"$f":"IF(入力用科目!$AD213=\"\",\"\",MID(TEXT(入力用科目!$AD213,\"????????\"),2,1))","v":" "},{"$f":"IF(入力用科目!$AD213=\"\",\"\",MID(TEXT(入力用科目!$AD213,\"????????\"),3,1))","v":" "},{"$f":"IF(入力用科目!$AD213=\"\",\"\",MID(TEXT(入力用科目!$AD213,\"????????\"),4,1))","v":" "},{"$f":"IF(入力用科目!$AD213=\"\",\"\",MID(TEXT(入力用科目!$AD213,\"????????\"),5,1))","v":" "},{"$f":"IF(入力用科目!$AD213=\"\",\"\",MID(TEXT(入力用科目!$AD213,\"????????\"),6,1))","v":" "},{"$f":"IF(入力用科目!$AD213=\"\",\"\",MID(TEXT(入力用科目!$AD213,\"????????\"),7,1))","v":" "},{"$f":"IF(入力用科目!$AD213=\"\",\"\",MID(TEXT(入力用科目!$AD213,\"????????\"),8,1))","v":" "},null,{"$f":"IF(入力用科目!$AM213=\"\",\"\",MID(TEXT(入力用科目!$AM213,\"????????\"),1,1))","v":" "},{"$f":"IF(入力用科目!$AM213=\"\",\"\",MID(TEXT(入力用科目!$AM213,\"????????\"),2,1))","v":" "},{"$f":"IF(入力用科目!$AM213=\"\",\"\",MID(TEXT(入力用科目!$AM213,\"????????\"),3,1))","v":" "},{"$f":"IF(入力用科目!$AM213=\"\",\"\",MID(TEXT(入力用科目!$AM213,\"????????\"),4,1))","v":" "},{"$f":"IF(入力用科目!$AM213=\"\",\"\",MID(TEXT(入力用科目!$AM213,\"????????\"),5,1))","v":" "},{"$f":"IF(入力用科目!$AM213=\"\",\"\",MID(TEXT(入力用科目!$AM213,\"????????\"),6,1))","v":" "},{"$f":"IF(入力用科目!$AM213=\"\",\"\",MID(TEXT(入力用科目!$AM213,\"????????\"),7,1))","v":" "},{"$f":"IF(入力用科目!$AM213=\"\",\"\",MID(TEXT(入力用科目!$AM213,\"????????\"),8,1))","v":" "}]
[]
[null,{"$f":"IF(入力用科目!B215=\"\",\"\",入力用科目!B215)","v":""}]
[null,null,null,null,null,null,null,null,null,null,null,null,null,null,null,null,null,null,null,null,null,null,null,null,null,null,null,null,null,null,null,{"$f":"IF(入力用科目!$AF216=\"\",\"\",MID(TEXT(入力用科目!$AF216,\"???????\"),1,1))","v":""},{"$f":"IF(入力用科目!$AF216=\"\",\"\",MID(TEXT(入力用科目!$AF216,\"???????\"),2,1))","v":""},{"$f":"IF(入力用科目!$AF216=\"\",\"\",MID(TEXT(入力用科目!$AF216,\"???????\"),3,1))","v":""},{"$f":"IF(入力用科目!$AF216=\"\",\"\",MID(TEXT(入力用科目!$AF216,\"???????\"),4,1))","v":""},{"$f":"IF(入力用科目!$AF216=\"\",\"\",MID(TEXT(入力用科目!$AF216,\"???????\"),5,1))","v":""},{"$f":"IF(入力用科目!$AF216=\"\",\"\",MID(TEXT(入力用科目!$AF216,\"???????\"),6,1))","v":""},{"$f":"IF(入力用科目!$AF216=\"\",\"\",MID(TEXT(入力用科目!$AF216,\"???????\"),7,1))","v":""},null,{"$f":"IF(入力用科目!$AN216=\"\",\"\",MID(TEXT(入力用科目!$AN216,\"???????\"),1,1))","v":" "},{"$f":"IF(入力用科目!$AN216=\"\",\"\",MID(TEXT(入力用科目!$AN216,\"???????\"),2,1))","v":" "},{"$f":"IF(入力用科目!$AN216=\"\",\"\",MID(TEXT(入力用科目!$AN216,\"???????\"),3,1))","v":" "},{"$f":"IF(入力用科目!$AN216=\"\",\"\",MID(TEXT(入力用科目!$AN216,\"???????\"),4,1))","v":" "},{"$f":"IF(入力用科目!$AN216=\"\",\"\",MID(TEXT(入力用科目!$AN216,\"???????\"),5,1))","v":" "},{"$f":"IF(入力用科目!$AN216=\"\",\"\",MID(TEXT(入力用科目!$AN216,\"???????\"),6,1))","v":" "},{"$f":"IF(入力用科目!$AN216=\"\",\"\",MID(TEXT(入力用科目!$AN216,\"???????\"),7,1))","v":" "}]

{"sheet":"リコー印刷","index":6,"n_rows":216,"n_cols":46,"rows_kept":216,"cut":false,"hidden":false,"merged":[[214,39,214,45],[215,37,215,38],[217,23,218,23],[217,24,217,27],[217,28,217,32],[217,33,217,35],[217,36,217,39],[217,40,217,43],[217,44,217,45],[218,28,218,29],[209,7,209,14],[210,7,210,14],[211,7,211,14],[212,7,212,14],[214,1,218,14],[214,31,214,38],[218,37,218,38],[203,7,203,14],[204,7,204,14],[205,7,205,14],[206,7,206,14],[207,7,207,14],[208,7,208,14],[197,7,197,14],[198,7,198,14],[199,7,199,14],[200,7,200,14],[201,7,201,14],[202,7,202,14],[191,7,191,14],[192,7,192,14],[193,7,193,14],[194,7,194,14],[195,7,195,14],[196,7,196,14],[185,7,185,14],[186,7,186,14],[187,7,187,14],[188,7,188,14],[189,7,189,14],[190,7,190,14],[179,38,179,45],[180,7,180,14],[181,7,181,14],[182,7,182,14],[183,7,183,14],[184,7,184,14],[179,0,179,1],[179,3,179,5],[179,7,179,14],[179,16,179,18],[179,20,179,27],[179,29,179,36],[176,41,176,42],[176,43,176,45],[177,28,177,29],[177,32,177,40],[177,41,177,42],[177,43,177,45],[174,28,174,29],[174,37,174,38],[176,0,176,2],[176,3,176,4],[176,20,176,25],[176,28,176,30],[176,32,176,40],[170,31,170,38],[170,39,170,45],[171,37,171,38],[173,23,174,23],[173,24,173,27],[173,28,173,32],[173,33,173,35],[173,36,173,39],[173,40,173,43],[173,44,173,45],[164,7,164,14],[165,7,165,14],[166,7,166,14],[167,7,167,14],[168,7,168,14],[170,1,174,14],[158,7,158,14],[159,7,159,14],[160,7,160,14],[161,7,161,14],[162,7,162,14],[163,7,163,14],[152,7,152,14],[153,7,153,14],[154,7,154,14],[155,7,155,14],[156,7,156,14],[157,7,157,14],[146,7,146,14],[147,7,147,14],[148,7,148,14],[149,7,149,14],[150,7,150,14],[151,7,151,14],[140,7,140,14],[141,7,141,14],[142,7,142,14],[143,7,143,14],[144,7,144,14],[145,7,145,14],[135,29,135,36],[135,38,135,45],[136,7,136,14],[137,7,137,14],[138,7,138,14],[139,7,139,14],[132,43,132,45],[133,28,133,29],[133,32,133,40],[133,41,133,42],[133,43,133,45],[135,0,135,1],[135,3,135,5],[135,7,135,14],[135,16,135,18],[135,20,135,27],[132,0,132,2],[132,3,132,4],[132,20,132,25],[132,28,132,30],[132,32,132,40],[132,41,132,42],[129,40,129,43],[129,44,129,45],[130,28,130,29],[126,1,130,14],[126,31,126,38],[130,37,130,38],[126,39,126,45],[127,37,127,38],[129,23,130,23],[129,24,129,27],[120,7,120,14],[129,28,129,32],[129,33,129,35],[129,36,129,39],[121,7,121,14],[122,7,122,14],[123,7,123,14],[124,7,124,14],[114,7,114,14],[115,7,115,14],[116,7,116,14],[117,7,117,14],[118,7,118,14],[119,7,119,14],[108,7,108,14],[109,7,109,14],[110,7,110,14],[111,7,111,14],[112,7,112,14],[113,7,113,14],[102,7,102,14],[103,7,103,14],[104,7,104,14],[105,7,105,14],[106,7,106,14],[107,7,107,14],[96,7,96,14],[97,7,97,14],[98,7,98,14],[99,7,99,14],[100,7,100,14],[101,7,101,14],[91,29,91,36],[91,38,91,45],[92,7,92,14],[93,7,93,14],[94,7,94,14],[95,7,95,14],[88,43,88,45],[89,28,89,29],[89,32,89,40],[89,41,89,42],[89,43,89,45],[91,0,91,1],[91,3,91,5],[91,7,91,14],[91,16,91,18],[91,20,91,27],[88,0,88,2],[88,3,88,4],[88,20,88,25],[88,28,88,30],[88,32,88,40],[88,41,88,42],[82,39,82,45],[83,37,83,38],[85,23,86,23],[85,24,85,27],[85,28,85,32],[85,33,85,35],[85,36,85,39],[85,40,85,43],[85,44,85,45],[86,28,86,29],[77,7,77,14],[78,7,78,14],[79,7,79,14],[80,7,80,14],[82,1,86,14],[82,31,82,38],[86,37,86,38],[71,7,71,14],[72,7,72,14],[73,7,73,14],[74,7,74,14],[75,7,75,14],[76,7,76,14],[65,7,65,14],[66,7,66,14],[67,7,67,14],[68,7,68,14],[69,7,69,14],[70,7,70,14],[59,7,59,14],[60,7,60,14],[61,7,61,14],[62,7,62,14],[63,7,63,14],[64,7,64,14],[53,7,53,14],[54,7,54,14],[55,7,55,14],[56,7,56,14],[57,7,57,14],[58,7,58,14],[47,38,47,45],[48,7,48,14],[49,7,49,14],[50,7,50,14],[51,7,51,14],[52,7,52,14],[47,0,47,1],[47,3,47,5],[47,7,47,14],[47,16,47,18],[47,20,47,27],[47,29,47,36],[44,41,44,42],[44,43,44,45],[45,28,45,29],[45,32,45,40],[45,41,45,42],[45,43,45,45],[0,20,0,25],[44,0,44,2],[44,3,44,4],[44,20,44,25],[44,28,44,30],[44,32,44,40],[3,0,3,1],[3,3,3,5],[3,7,3,14],[3,16,3,18],[0,0,0,2],[0,3,0,4],[4,7,4,14],[5,7,5,14],[18,7,18,14],[17,7,17,14],[6,7,6,14],[7,7,7,14],[3,20,3,27],[19,7,19,14],[8,7,8,14],[9,7,9,14],[10,7,10,14],[11,7,11,14],[0,43,0,45],[1,28,1,29],[1,32,1,40],[1,41,1,42],[1,43,1,45],[0,41,0,42],[0,28,0,30],[0,32,0,40],[3,38,3,45],[3,29,3,36],[28,7,28,14],[29,7,29,14],[30,7,30,14],[31,7,31,14],[41,23,42,23],[41,24,41,27],[12,7,12,14],[13,7,13,14],[14,7,14,14],[15,7,15,14],[16,7,16,14],[32,7,32,14],[33,7,33,14],[20,7,20,14],[21,7,21,14],[22,7,22,14],[23,7,23,14],[24,7,24,14],[25,7,25,14],[26,7,26,14],[27,7,27,14],[41,44,41,45],[42,28,42,29],[34,7,34,14],[35,7,35,14],[36,7,36,14],[38,1,42,14],[38,31,38,38],[38,39,38,45],[41,28,41,32],[41,33,41,35],[39,37,39,38],[42,37,42,38],[41,36,41,39],[41,40,41,43]]}
[]
[{"$f":"IF(入力用科目!A2=\"\",\"\",入力用科目!A2)","v":0},{"$f":"IF(入力用科目!B2=\"\",\"\",入力用科目!B2)","v":6},null,{"$f":"IF(入力用科目!D2=\"\",\"\",入力用科目!D2)","v":""},{"$f":"IF(入力用科目!E2=\"\",\"\",入力用科目!E2)","v":""},null,null,null,null,null,null,null,null,null,null,null,null,null,null,null,null,null,null,null,null,null,null,null,null,null,null,null,{"$f":"IF(入力用科目!AG2=\"\",\"\",入力用科目!AG2)","v":""},null,null,null,null,null,null,null,null,{"$f":"IF(入力用科目!AP2=\"\",\"\",入力用科目!AP2)","v":""},null,{"$f":"IF(入力用科目!AR2=\"\",\"\",入力用科目!AR2)","v":""}]
[]
[]
[null,null,null,null,null,null,null,null,null,null,null,null,null,null,null,null,null,null,null,null,null,null,null,null,null,null,null,null,null,null,null,null,null,null,null,null,null,null,{"$f":"IF(入力用科目!$AM5=\"\",\"\",MID(TEXT(入力用科目!$AM5,\"????????\"),1,1))","v":""},{"$f":"IF(入力用科目!$AM5=\"\",\"\",MID(TEXT(入力用科目!$AM5,\"????????\"),2,1))","v":""},{"$f":"IF(入力用科目!$AM5=\"\",\"\",MID(TEXT(入力用科目!$AM5,\"????????\"),3,1))","v":""},{"$f":"IF(入力用科目!$AM5=\"\",\"\",MID(TEXT(入力用科目!$AM5,\"????????\"),4,1))","v":""},{"$f":"IF(入力用科目!$AM5=\"\",\"\",MID(TEXT(入力用科目!$AM5,\"????????\"),5,1))","v":""},{"$f":"IF(入力用科目!$AM5=\"\",\"\",MID(TEXT(入力用科目!$AM5,\"????????\"),6,1))","v":""},{"$f":"IF(入力用科目!$AM5=\"\",\"\",MID(TEXT(入力用科目!$AM5,\"????????\"),7,1))","v":""},{"$f":"IF(入力用科目!$AM5=\"\",\"\",MID(TEXT(入力用科目!$AM5,\"????????\"),8,1))","v":""}]
[{"$f":"IF(入力用科目!A6=\"\",\"\",MID(TEXT(入力用科目!$A6,\"??\"),COLUMN(),1))","v":""},{"$f":"IF(入力用科目!A6=\"\",\"\",MID(TEXT(入力用科目!$A6,\"??\"),COLUMN(),1))","v":""},null,{"$f":"IF(入力用科目!$D6=\"\",\"\",MID(TEXT(入力用科目!$D6,\"???\"),1,1))","v":""},{"$f":"IF(入力用科目!$D6=\"\",\"\",MID(TEXT(入力用科目!$D6,\"???\"),2,1))","v":""},{"$f":"IF(入力用科目!$D6=\"\",\"\",MID(TEXT(入力用科目!$D6,\"???\"),3,1))","v":""},null,{"$f":"IF(入力用科目!$Q6=1,\"運送収入\",IF(入力用科目!$H6=\"\",\"\",入力用科目!$H6))","v":""},null,null,null,null,null,null,null,null,{"$f":"IF(入力用科目!$Q6=\"\",\"\",MID(TEXT(入力用科目!$Q6,\"???\"),1,1))","v":""},{"$f":"IF(入力用科目!$Q6=\"\",\"\",MID(TEXT(入力用科目!$Q6,\"???\"),2,1))","v":""},{"$f":"IF(入力用科目!$Q6=\"\",\"\",MID(TEXT(入力用科目!$Q6,\"???\"),3,1))","v":""},null,{"$f":"IF(入力用科目!$U6=\"\",\"\",MID(TEXT(入力用科目!$U6,\"????????\"),1,1))","v":""},{"$f":"IF(入力用科目!$U6=\"\",\"\",MID(TEXT(入力用科目!$U6,\"????????\"),2,1))","v":""},{"$f":"IF(入力用科目!$U6=\"\",\"\",MID(TEXT(入力用科目!$U6,\"????????\"),3,1))","v":""},{"$f":"IF(入力用科目!$U6=\"\",\"\",MID(TEXT(入力用科目!$U6,\"????????\"),4,1))","v":""},{"$f":"IF(入力用科目!$U6=\"\",\"\",MID(TEXT(入力用科目!$U6,\"????????\"),5,1))","v":""},{"$f":"IF(入力用科目!$U6=\"\",\"\",MID(TEXT(入力用科目!$U6,\"????????\"),6,1))","v":""},{"$f":"IF(入力用科目!$U6=\"\",\"\",MID(TEXT(入力用科目!$U6,\"????????\"),7,1))","v":""},{"$f":"IF(入力用科目!$U6=\"\",\"\",MID(TEXT(入力用科目!$U6,\"????????\"),8,1))","v":""},null,{"$f":"IF(入力用科目!$AD6=\"\",\"\",MID(TEXT(入力用科目!$AD6,\"????????\"),1,1))","v":""},{"$f":"IF(入力用科目!$AD6=\"\",\"\",MID(TEXT(入力用科目!$AD6,\"????????\"),2,1))","v":""},{"$f":"IF(入力用科目!$AD6=\"\",\"\",MID(TEXT(入力用科目!$AD6,\"????????\"),3,1))","v":""},{"$f":"IF(入力用科目!$AD6=\"\",\"\",MID(TEXT(入力用科目!$AD6,\"????????\"),4,1))","v":""},{"$f":"IF(入力用科目!$AD6=\"\",\"\",MID(TEXT(入力用科目!$AD6,\"????????\"),5,1))","v":""},{"$f":"IF(入力用科目!$AD6=\"\",\"\",MID(TEXT(入力用科目!$AD6,\"????????\"),6,1))","v":""},{"$f":"IF(入力用科目!$AD6=\"\",\"\",MID(TEXT(入力用科目!$AD6,\"????????\"),7,1))","v":""},{"$f":"IF(入力用科目!$AD6=\"\",\"\",MID(TEXT(入力用科目!$AD6,\"????????\"),8,1))","v":""},null,{"$f":"IF(入力用科目!$AM6=\"\",\"\",MID(TEXT(入力用科目!$AM6,\"????????\"),1,1))","v":" "},{"$f":"IF(入力用科目!$AM6=\"\",\"\",MID(TEXT(入力用科目!$AM6,\"????????\"),2,1))","v":" "},{"$f":"IF(入力用科目!$AM6=\"\",\"\",MID(TEXT(入力用科目!$AM6,\"????????\"),3,1))","v":" "},{"$f":"IF(入力用科目!$AM6=\"\",\"\",MID(TEXT(入力用科目!$AM6,\"????????\"),4,1))","v":" "},{"$f":"IF(入力用科目!$AM6=\"\",\"\",MID(TEXT(入力用科目!$AM6,\"????????\"),5,1))","v":" "},{"$f":"IF(入力用科目!$AM6=\"\",\"\",MID(TEXT(入力用科目!$AM6,\"????????\"),6,1))","v":" "},{"$f":"IF(入力用科目!$AM6=\"\",\"\",MID(TEXT(入力用科目!$AM6,\"????????\"),7,1))","v":" "},{"$f":"IF(入力用科目!$AM6=\"\",\"\",MID(TEXT(入力用科目!$AM6,\"????????\"),8,1))","v":" "}]
[{"$f":"IF(入力用科目!A7=\"\",\"\",MID(TEXT(入力用科目!$A7,\"??\"),COLUMN(),1))","v":""},{"$f":"IF(入力用科目!A7=\"\",\"\",MID(TEXT(入力用科目!$A7,\"??\"),COLUMN(),1))","v":""},null,{"$f":"IF(入力用科目!$D7=\"\",\"\",MID(TEXT(入力用科目!$D7,\"???\"),1,1))","v":""},{"$f":"IF(入力用科目!$D7=\"\",\"\",MID(TEXT(入力用科目!$D7,\"???\"),2,1))","v":""},{"$f":"IF(入力用科目!$D7=\"\",\"\",MID(TEXT(入力用科目!$D7,\"???\"),3,1))","v":""},null,{"$f":"IF(入力用科目!$Q7=1,\"運送収入\",IF(入力用科目!$H7=\"\",\"\",入力用科目!$H7))","v":""},null,null,null,null,null,null,null,null,{"$f":"IF(入力用科目!$Q7=\"\",\"\",MID(TEXT(入力用科目!$Q7,\"???\"),1,1))","v":""},{"$f":"IF(入力用科目!$Q7=\"\",\"\",MID(TEXT(入力用科目!$Q7,\"???\"),2,1))","v":""},{"$f":"IF(入力用科目!$Q7=\"\",\"\",MID(TEXT(入力用科目!$Q7,\"???\"),3,1))","v":""},null,{"$f":"IF(入力用科目!$U7=\"\",\"\",MID(TEXT(入力用科目!$U7,\"????????\"),1,1))","v":""},{"$f":"IF(入力用科目!$U7=\"\",\"\",MID(TEXT(入力用科目!$U7,\"????????\"),2,1))","v":""},{"$f":"IF(入力用科目!$U7=\"\",\"\",MID(TEXT(入力用科目!$U7,\"????????\"),3,1))","v":""},{"$f":"IF(入力用科目!$U7=\"\",\"\",MID(TEXT(入力用科目!$U7,\"????????\"),4,1))","v":""},{"$f":"IF(入力用科目!$U7=\"\",\"\",MID(TEXT(入力用科目!$U7,\"????????\"),5,1))","v":""},{"$f":"IF(入力用科目!$U7=\"\",\"\",MID(TEXT(入力用科目!$U7,\"????????\"),6,1))","v":""},{"$f":"IF(入力用科目!$U7=\"\",\"\",MID(TEXT(入力用科目!$U7,\"????????\"),7,1))","v":""},{"$f":"IF(入力用科目!$U7=\"\",\"\",MID(TEXT(入力用科目!$U7,\"????????\"),8,1))","v":""},null,{"$f":"IF(入力用科目!$AD7=\"\",\"\",MID(TEXT(入力用科目!$AD7,\"????????\"),1,1))","v":""},{"$f":"IF(入力用科目!$AD7=\"\",\"\",MID(TEXT(入力用科目!$AD7,\"????????\"),2,1))","v":""},{"$f":"IF(入力用科目!$AD7=\"\",\"\",MID(TEXT(入力用科目!$AD7,\"????????\"),3,1))","v":""},{"$f":"IF(入力用科目!$AD7=\"\",\"\",MID(TEXT(入力用科目!$AD7,\"????????\"),4,1))","v":""},{"$f":"IF(入力用科目!$AD7=\"\",\"\",MID(TEXT(入力用科目!$AD7,\"????????\"),5,1))","v":""},{"$f":"IF(入力用科目!$AD7=\"\",\"\",MID(TEXT(入力用科目!$AD7,\"????????\"),6,1))","v":""},{"$f":"IF(入力用科目!$AD7=\"\",\"\",MID(TEXT(入力用科目!$AD7,\"????????\"),7,1))","v":""},{"$f":"IF(入力用科目!$AD7=\"\",\"\",MID(TEXT(入力用科目!$AD7,\"????????\"),8,1))","v":""},null,{"$f":"IF(入力用科目!$AM7=\"\",\"\",MID(TEXT(入力用科目!$AM7,\"????????\"),1,1))","v":" "},{"$f":"IF(入力用科目!$AM7=\"\",\"\",MID(TEXT(入力用科目!$AM7,\"????????\"),2,1))","v":" "},{"$f":"IF(入力用科目!$AM7=\"\",\"\",MID(TEXT(入力用科目!$AM7,\"????????\"),3,1))","v":" "},{"$f":"IF(入力用科目!$AM7=\"\",\"\",MID(TEXT(入力用科目!$AM7,\"????????\"),4,1))","v":" "},{"$f":"IF(入力用科目!$AM7=\"\",\"\",MID(TEXT(入力用科目!$AM7,\"????????\"),5,1))","v":" "},{"$f":"IF(入力用科目!$AM7=\"\",\"\",MID(TEXT(入力用科目!$AM7,\"????????\"),6,1))","v":" "},{"$f":"IF(入力用科目!$AM7=\"\",\"\",MID(TEXT(入力用科目!$AM7,\"????????\"),7,1))","v":" "},{"$f":"IF(入力用科目!$AM7=\"\",\"\",MID(TEXT(入力用科目!$AM7,\"????????\"),8,1))","v":" "}]
[{"$f":"IF(入力用科目!A8=\"\",\"\",MID(TEXT(入力用科目!$A8,\"??\"),COLUMN(),1))","v":""},{"$f":"IF(入力用科目!A8=\"\",\"\",MID(TEXT(入力用科目!$A8,\"??\"),COLUMN(),1))","v":""},null,{"$f":"IF(入力用科目!$D8=\"\",\"\",MID(TEXT(入力用科目!$D8,\"???\"),1,1))","v":""},{"$f":"IF(入力用科目!$D8=\"\",\"\",MID(TEXT(入力用科目!$D8,\"???\"),2,1))","v":""},{"$f":"IF(入力用科目!$D8=\"\",\"\",MID(TEXT(入力用科目!$D8,\"???\"),3,1))","v":""},null,{"$f":"IF(入力用科目!$Q8=1,\"運送収入\",IF(入力用科目!$H8=\"\",\"\",入力用科目!$H8))","v":""},null,null,null,null,null,null,null,null,{"$f":"IF(入力用科目!$Q8=\"\",\"\",MID(TEXT(入力用科目!$Q8,\"???\"),1,1))","v":""},{"$f":"IF(入力用科目!$Q8=\"\",\"\",MID(TEXT(入力用科目!$Q8,\"???\"),2,1))","v":""},{"$f":"IF(入力用科目!$Q8=\"\",\"\",MID(TEXT(入力用科目!$Q8,\"???\"),3,1))","v":""},null,{"$f":"IF(入力用科目!$U8=\"\",\"\",MID(TEXT(入力用科目!$U8,\"????????\"),1,1))","v":""},{"$f":"IF(入力用科目!$U8=\"\",\"\",MID(TEXT(入力用科目!$U8,\"????????\"),2,1))","v":""},{"$f":"IF(入力用科目!$U8=\"\",\"\",MID(TEXT(入力用科目!$U8,\"????????\"),3,1))","v":""},{"$f":"IF(入力用科目!$U8=\"\",\"\",MID(TEXT(入力用科目!$U8,\"????????\"),4,1))","v":""},{"$f":"IF(入力用科目!$U8=\"\",\"\",MID(TEXT(入力用科目!$U8,\"????????\"),5,1))","v":""},{"$f":"IF(入力用科目!$U8=\"\",\"\",MID(TEXT(入力用科目!$U8,\"????????\"),6,1))","v":""},{"$f":"IF(入力用科目!$U8=\"\",\"\",MID(TEXT(入力用科目!$U8,\"????????\"),7,1))","v":""},{"$f":"IF(入力用科目!$U8=\"\",\"\",MID(TEXT(入力用科目!$U8,\"????????\"),8,1))","v":""},null,{"$f":"IF(入力用科目!$AD8=\"\",\"\",MID(TEXT(入力用科目!$AD8,\"????????\"),1,1))","v":""},{"$f":"IF(入力用科目!$AD8=\"\",\"\",MID(TEXT(入力用科目!$AD8,\"????????\"),2,1))","v":""},{"$f":"IF(入力用科目!$AD8=\"\",\"\",MID(TEXT(入力用科目!$AD8,\"????????\"),3,1))","v":""},{"$f":"IF(入力用科目!$AD8=\"\",\"\",MID(TEXT(入力用科目!$AD8,\"????????\"),4,1))","v":""},{"$f":"IF(入力用科目!$AD8=\"\",\"\",MID(TEXT(入力用科目!$AD8,\"????????\"),5,1))","v":""},{"$f":"IF(入力用科目!$AD8=\"\",\"\",MID(TEXT(入力用科目!$AD8,\"????????\"),6,1))","v":""},{"$f":"IF(入力用科目!$AD8=\"\",\"\",MID(TEXT(入力用科目!$AD8,\"????????\"),7,1))","v":""},{"$f":"IF(入力用科目!$AD8=\"\",\"\",MID(TEXT(入力用科目!$AD8,\"????????\"),8,1))","v":""},null,{"$f":"IF(入力用科目!$AM8=\"\",\"\",MID(TEXT(入力用科目!$AM8,\"????????\"),1,1))","v":" "},{"$f":"IF(入力用科目!$AM8=\"\",\"\",MID(TEXT(入力用科目!$AM8,\"????????\"),2,1))","v":" "},{"$f":"IF(入力用科目!$AM8=\"\",\"\",MID(TEXT(入力用科目!$AM8,\"????????\"),3,1))","v":" "},{"$f":"IF(入力用科目!$AM8=\"\",\"\",MID(TEXT(入力用科目!$AM8,\"????????\"),4,1))","v":" "},{"$f":"IF(入力用科目!$AM8=\"\",\"\",MID(TEXT(入力用科目!$AM8,\"????????\"),5,1))","v":" "},{"$f":"IF(入力用科目!$AM8=\"\",\"\",MID(TEXT(入力用科目!$AM8,\"????????\"),6,1))","v":" "},{"$f":"IF(入力用科目!$AM8=\"\",\"\",MID(TEXT(入力用科目!$AM8,\"????????\"),7,1))","v":" "},{"$f":"IF(入力用科目!$AM8=\"\",\"\",MID(TEXT(入力用科目!$AM8,\"????????\"),8,1))","v":" "}]
[{"$f":"IF(入力用科目!A9=\"\",\"\",MID(TEXT(入力用科目!$A9,\"??\"),COLUMN(),1))","v":""},{"$f":"IF(入力用科目!A9=\"\",\"\",MID(TEXT(入力用科目!$A9,\"??\"),COLUMN(),1))","v":""},null,{"$f":"IF(入力用科目!$D9=\"\",\"\",MID(TEXT(入力用科目!$D9,\"???\"),1,1))","v":""},{"$f":"IF(入力用科目!$D9=\"\",\"\",MID(TEXT(入力用科目!$D9,\"???\"),2,1))","v":""},{"$f":"IF(入力用科目!$D9=\"\",\"\",MID(TEXT(入力用科目!$D9,\"???\"),3,1))","v":""},null,{"$f":"IF(入力用科目!$Q9=1,\"運送収入\",IF(入力用科目!$H9=\"\",\"\",入力用科目!$H9))","v":""},null,null,null,null,null,null,null,null,{"$f":"IF(入力用科目!$Q9=\"\",\"\",MID(TEXT(入力用科目!$Q9,\"???\"),1,1))","v":""},{"$f":"IF(入力用科目!$Q9=\"\",\"\",MID(TEXT(入力用科目!$Q9,\"???\"),2,1))","v":""},{"$f":"IF(入力用科目!$Q9=\"\",\"\",MID(TEXT(入力用科目!$Q9,\"???\"),3,1))","v":""},null,{"$f":"IF(入力用科目!$U9=\"\",\"\",MID(TEXT(入力用科目!$U9,\"????????\"),1,1))","v":""},{"$f":"IF(入力用科目!$U9=\"\",\"\",MID(TEXT(入力用科目!$U9,\"????????\"),2,1))","v":""},{"$f":"IF(入力用科目!$U9=\"\",\"\",MID(TEXT(入力用科目!$U9,\"????????\"),3,1))","v":""},{"$f":"IF(入力用科目!$U9=\"\",\"\",MID(TEXT(入力用科目!$U9,\"????????\"),4,1))","v":""},{"$f":"IF(入力用科目!$U9=\"\",\"\",MID(TEXT(入力用科目!$U9,\"????????\"),5,1))","v":""},{"$f":"IF(入力用科目!$U9=\"\",\"\",MID(TEXT(入力用科目!$U9,\"????????\"),6,1))","v":""},{"$f":"IF(入力用科目!$U9=\"\",\"\",MID(TEXT(入力用科目!$U9,\"????????\"),7,1))","v":""},{"$f":"IF(入力用科目!$U9=\"\",\"\",MID(TEXT(入力用科目!$U9,\"????????\"),8,1))","v":""},null,{"$f":"IF(入力用科目!$AD9=\"\",\"\",MID(TEXT(入力用科目!$AD9,\"????????\"),1,1))","v":""},{"$f":"IF(入力用科目!$AD9=\"\",\"\",MID(TEXT(入力用科目!$AD9,\"????????\"),2,1))","v":""},{"$f":"IF(入力用科目!$AD9=\"\",\"\",MID(TEXT(入力用科目!$AD9,\"????????\"),3,1))","v":""},{"$f":"IF(入力用科目!$AD9=\"\",\"\",MID(TEXT(入力用科目!$AD9,\"????????\"),4,1))","v":""},{"$f":"IF(入力用科目!$AD9=\"\",\"\",MID(TEXT(入力用科目!$AD9,\"????????\"),5,1))","v":""},{"$f":"IF(入力用科目!$AD9=\"\",\"\",MID(TEXT(入力用科目!$AD9,\"????????\"),6,1))","v":""},{"$f":"IF(入力用科目!$AD9=\"\",\"\",MID(TEXT(入力用科目!$AD9,\"????????\"),7,1))","v":""},{"$f":"IF(入力用科目!$AD9=\"\",\"\",MID(TEXT(入力用科目!$AD9,\"????????\"),8,1))","v":""},null,{"$f":"IF(入力用科目!$AM9=\"\",\"\",MID(TEXT(入力用科目!$AM9,\"????????\"),1,1))","v":" "},{"$f":"IF(入力用科目!$AM9=\"\",\"\",MID(TEXT(入力用科目!$AM9,\"????????\"),2,1))","v":" "},{"$f":"IF(入力用科目!$AM9=\"\",\"\",MID(TEXT(入力用科目!$AM9,\"????????\"),3,1))","v":" "},{"$f":"IF(入力用科目!$AM9=\"\",\"\",MID(TEXT(入力用科目!$AM9,\"????????\"),4,1))","v":" "},{"$f":"IF(入力用科目!$AM9=\"\",\"\",MID(TEXT(入力用科目!$AM9,\"????????\"),5,1))","v":" "},{"$f":"IF(入力用科目!$AM9=\"\",\"\",MID(TEXT(入力用科目!$AM9,\"????????\"),6,1))","v":" "},{"$f":"IF(入力用科目!$AM9=\"\",\"\",MID(TEXT(入力用科目!$AM9,\"????????\"),7,1))","v":" "},{"$f":"IF(入力用科目!$AM9=\"\",\"\",MID(TEXT(入力用科目!$AM9,\"????????\"),8,1))","v":" "}]
[{"$f":"IF(入力用科目!A10=\"\",\"\",MID(TEXT(入力用科目!$A10,\"??\"),COLUMN(),1))","v":""},{"$f":"IF(入力用科目!A10=\"\",\"\",MID(TEXT(入力用科目!$A10,\"??\"),COLUMN(),1))","v":""},null,{"$f":"IF(入力用科目!$D10=\"\",\"\",MID(TEXT(入力用科目!$D10,\"???\"),1,1))","v":""},{"$f":"IF(入力用科目!$D10=\"\",\"\",MID(TEXT(入力用科目!$D10,\"???\"),2,1))","v":""},{"$f":"IF(入力用科目!$D10=\"\",\"\",MID(TEXT(入力用科目!$D10,\"???\"),3,1))","v":""},null,{"$f":"IF(入力用科目!$Q10=1,\"運送収入\",IF(入力用科目!$H10=\"\",\"\",入力用科目!$H10))","v":""},null,null,null,null,null,null,null,null,{"$f":"IF(入力用科目!$Q10=\"\",\"\",MID(TEXT(入力用科目!$Q10,\"???\"),1,1))","v":""},{"$f":"IF(入力用科目!$Q10=\"\",\"\",MID(TEXT(入力用科目!$Q10,\"???\"),2,1))","v":""},{"$f":"IF(入力用科目!$Q10=\"\",\"\",MID(TEXT(入力用科目!$Q10,\"???\"),3,1))","v":""},null,{"$f":"IF(入力用科目!$U10=\"\",\"\",MID(TEXT(入力用科目!$U10,\"????????\"),1,1))","v":""},{"$f":"IF(入力用科目!$U10=\"\",\"\",MID(TEXT(入力用科目!$U10,\"????????\"),2,1))","v":""},{"$f":"IF(入力用科目!$U10=\"\",\"\",MID(TEXT(入力用科目!$U10,\"????????\"),3,1))","v":""},{"$f":"IF(入力用科目!$U10=\"\",\"\",MID(TEXT(入力用科目!$U10,\"????????\"),4,1))","v":""},{"$f":"IF(入力用科目!$U10=\"\",\"\",MID(TEXT(入力用科目!$U10,\"????????\"),5,1))","v":""},{"$f":"IF(入力用科目!$U10=\"\",\"\",MID(TEXT(入力用科目!$U10,\"????????\"),6,1))","v":""},{"$f":"IF(入力用科目!$U10=\"\",\"\",MID(TEXT(入力用科目!$U10,\"????????\"),7,1))","v":""},{"$f":"IF(入力用科目!$U10=\"\",\"\",MID(TEXT(入力用科目!$U10,\"????????\"),8,1))","v":""},null,{"$f":"IF(入力用科目!$AD10=\"\",\"\",MID(TEXT(入力用科目!$AD10,\"????????\"),1,1))","v":""},{"$f":"IF(入力用科目!$AD10=\"\",\"\",MID(TEXT(入力用科目!$AD10,\"????????\"),2,1))","v":""},{"$f":"IF(入力用科目!$AD10=\"\",\"\",MID(TEXT(入力用科目!$AD10,\"????????\"),3,1))","v":""},{"$f":"IF(入力用科目!$AD10=\"\",\"\",MID(TEXT(入力用科目!$AD10,\"????????\"),4,1))","v":""},{"$f":"IF(入力用科目!$AD10=\"\",\"\",MID(TEXT(入力用科目!$AD10,\"????????\"),5,1))","v":""},{"$f":"IF(入力用科目!$AD10=\"\",\"\",MID(TEXT(入力用科目!$AD10,\"????????\"),6,1))","v":""},{"$f":"IF(入力用科目!$AD10=\"\",\"\",MID(TEXT(入力用科目!$AD10,\"????????\"),7,1))","v":""},{"$f":"IF(入力用科目!$AD10=\"\",\"\",MID(TEXT(入力用科目!$AD10,\"????????\"),8,1))","v":""},null,{"$f":"IF(入力用科目!$AM10=\"\",\"\",MID(TEXT(入力用科目!$AM10,\"????????\"),1,1))","v":" "},{"$f":"IF(入力用科目!$AM10=\"\",\"\",MID(TEXT(入力用科目!$AM10,\"????????\"),2,1))","v":" "},{"$f":"IF(入力用科目!$AM10=\"\",\"\",MID(TEXT(入力用科目!$AM10,\"????????\"),3,1))","v":" "},{"$f":"IF(入力用科目!$AM10=\"\",\"\",MID(TEXT(入力用科目!$AM10,\"????????\"),4,1))","v":" "},{"$f":"IF(入力用科目!$AM10=\"\",\"\",MID(TEXT(入力用科目!$AM10,\"????????\"),5,1))","v":" "},{"$f":"IF(入力用科目!$AM10=\"\",\"\",MID(TEXT(入力用科目!$AM10,\"????????\"),6,1))","v":" "},{"$f":"IF(入力用科目!$AM10=\"\",\"\",MID(TEXT(入力用科目!$AM10,\"????????\"),7,1))","v":" "},{"$f":"IF(入力用科目!$AM10=\"\",\"\",MID(TEXT(入力用科目!$AM10,\"????????\"),8,1))","v":" "}]
[{"$f":"IF(入力用科目!A11=\"\",\"\",MID(TEXT(入力用科目!$A11,\"??\"),COLUMN(),1))","v":""},{"$f":"IF(入力用科目!A11=\"\",\"\",MID(TEXT(入力用科目!$A11,\"??\"),COLUMN(),1))","v":""},null,{"$f":"IF(入力用科目!$D11=\"\",\"\",MID(TEXT(入力用科目!$D11,\"???\"),1,1))","v":""},{"$f":"IF(入力用科目!$D11=\"\",\"\",MID(TEXT(入力用科目!$D11,\"???\"),2,1))","v":""},{"$f":"IF(入力用科目!$D11=\"\",\"\",MID(TEXT(入力用科目!$D11,\"???\"),3,1))","v":""},null,{"$f":"IF(入力用科目!$Q11=1,\"運送収入\",IF(入力用科目!$H11=\"\",\"\",入力用科目!$H11))","v":""},null,null,null,null,null,null,null,null,{"$f":"IF(入力用科目!$Q11=\"\",\"\",MID(TEXT(入力用科目!$Q11,\"???\"),1,1))","v":""},{"$f":"IF(入力用科目!$Q11=\"\",\"\",MID(TEXT(入力用科目!$Q11,\"???\"),2,1))","v":""},{"$f":"IF(入力用科目!$Q11=\"\",\"\",MID(TEXT(入力用科目!$Q11,\"???\"),3,1))","v":""},null,{"$f":"IF(入力用科目!$U11=\"\",\"\",MID(TEXT(入力用科目!$U11,\"????????\"),1,1))","v":""},{"$f":"IF(入力用科目!$U11=\"\",\"\",MID(TEXT(入力用科目!$U11,\"????????\"),2,1))","v":""},{"$f":"IF(入力用科目!$U11=\"\",\"\",MID(TEXT(入力用科目!$U11,\"????????\"),3,1))","v":""},{"$f":"IF(入力用科目!$U11=\"\",\"\",MID(TEXT(入力用科目!$U11,\"????????\"),4,1))","v":""},{"$f":"IF(入力用科目!$U11=\"\",\"\",MID(TEXT(入力用科目!$U11,\"????????\"),5,1))","v":""},{"$f":"IF(入力用科目!$U11=\"\",\"\",MID(TEXT(入力用科目!$U11,\"????????\"),6,1))","v":""},{"$f":"IF(入力用科目!$U11=\"\",\"\",MID(TEXT(入力用科目!$U11,\"????????\"),7,1))","v":""},{"$f":"IF(入力用科目!$U11=\"\",\"\",MID(TEXT(入力用科目!$U11,\"????????\"),8,1))","v":""},null,{"$f":"IF(入力用科目!$AD11=\"\",\"\",MID(TEXT(入力用科目!$AD11,\"????????\"),1,1))","v":""},{"$f":"IF(入力用科目!$AD11=\"\",\"\",MID(TEXT(入力用科目!$AD11,\"????????\"),2,1))","v":""},{"$f":"IF(入力用科目!$AD11=\"\",\"\",MID(TEXT(入力用科目!$AD11,\"????????\"),3,1))","v":""},{"$f":"IF(入力用科目!$AD11=\"\",\"\",MID(TEXT(入力用科目!$AD11,\"????????\"),4,1))","v":""},{"$f":"IF(入力用科目!$AD11=\"\",\"\",MID(TEXT(入力用科目!$AD11,\"????????\"),5,1))","v":""},{"$f":"IF(入力用科目!$AD11=\"\",\"\",MID(TEXT(入力用科目!$AD11,\"????????\"),6,1))","v":""},{"$f":"IF(入力用科目!$AD11=\"\",\"\",MID(TEXT(入力用科目!$AD11,\"????????\"),7,1))","v":""},{"$f":"IF(入力用科目!$AD11=\"\",\"\",MID(TEXT(入力用科目!$AD11,\"????????\"),8,1))","v":""},null,{"$f":"IF(入力用科目!$AM11=\"\",\"\",MID(TEXT(入力用科目!$AM11,\"????????\"),1,1))","v":" "},{"$f":"IF(入力用科目!$AM11=\"\",\"\",MID(TEXT(入力用科目!$AM11,\"????????\"),2,1))","v":" "},{"$f":"IF(入力用科目!$AM11=\"\",\"\",MID(TEXT(入力用科目!$AM11,\"????????\"),3,1))","v":" "},{"$f":"IF(入力用科目!$AM11=\"\",\"\",MID(TEXT(入力用科目!$AM11,\"????????\"),4,1))","v":" "},{"$f":"IF(入力用科目!$AM11=\"\",\"\",MID(TEXT(入力用科目!$AM11,\"????????\"),5,1))","v":" "},{"$f":"IF(入力用科目!$AM11=\"\",\"\",MID(TEXT(入力用科目!$AM11,\"????????\"),6,1))","v":" "},{"$f":"IF(入力用科目!$AM11=\"\",\"\",MID(TEXT(入力用科目!$AM11,\"????????\"),7,1))","v":" "},{"$f":"IF(入力用科目!$AM11=\"\",\"\",MID(TEXT(入力用科目!$AM11,\"????????\"),8,1))","v":" "}]
[{"$f":"IF(入力用科目!A12=\"\",\"\",MID(TEXT(入力用科目!$A12,\"??\"),COLUMN(),1))","v":""},{"$f":"IF(入力用科目!A12=\"\",\"\",MID(TEXT(入力用科目!$A12,\"??\"),COLUMN(),1))","v":""},null,{"$f":"IF(入力用科目!$D12=\"\",\"\",MID(TEXT(入力用科目!$D12,\"???\"),1,1))","v":""},{"$f":"IF(入力用科目!$D12=\"\",\"\",MID(TEXT(入力用科目!$D12,\"???\"),2,1))","v":""},{"$f":"IF(入力用科目!$D12=\"\",\"\",MID(TEXT(入力用科目!$D12,\"???\"),3,1))","v":""},null,{"$f":"IF(入力用科目!$Q12=1,\"運送収入\",IF(入力用科目!$H12=\"\",\"\",入力用科目!$H12))","v":""},null,null,null,null,null,null,null,null,{"$f":"IF(入力用科目!$Q12=\"\",\"\",MID(TEXT(入力用科目!$Q12,\"???\"),1,1))","v":""},{"$f":"IF(入力用科目!$Q12=\"\",\"\",MID(TEXT(入力用科目!$Q12,\"???\"),2,1))","v":""},{"$f":"IF(入力用科目!$Q12=\"\",\"\",MID(TEXT(入力用科目!$Q12,\"???\"),3,1))","v":""},null,{"$f":"IF(入力用科目!$U12=\"\",\"\",MID(TEXT(入力用科目!$U12,\"????????\"),1,1))","v":""},{"$f":"IF(入力用科目!$U12=\"\",\"\",MID(TEXT(入力用科目!$U12,\"????????\"),2,1))","v":""},{"$f":"IF(入力用科目!$U12=\"\",\"\",MID(TEXT(入力用科目!$U12,\"????????\"),3,1))","v":""},{"$f":"IF(入力用科目!$U12=\"\",\"\",MID(TEXT(入力用科目!$U12,\"????????\"),4,1))","v":""},{"$f":"IF(入力用科目!$U12=\"\",\"\",MID(TEXT(入力用科目!$U12,\"????????\"),5,1))","v":""},{"$f":"IF(入力用科目!$U12=\"\",\"\",MID(TEXT(入力用科目!$U12,\"????????\"),6,1))","v":""},{"$f":"IF(入力用科目!$U12=\"\",\"\",MID(TEXT(入力用科目!$U12,\"????????\"),7,1))","v":""},{"$f":"IF(入力用科目!$U12=\"\",\"\",MID(TEXT(入力用科目!$U12,\"????????\"),8,1))","v":""},null,{"$f":"IF(入力用科目!$AD12=\"\",\"\",MID(TEXT(入力用科目!$AD12,\"????????\"),1,1))","v":""},{"$f":"IF(入力用科目!$AD12=\"\",\"\",MID(TEXT(入力用科目!$AD12,\"????????\"),2,1))","v":""},{"$f":"IF(入力用科目!$AD12=\"\",\"\",MID(TEXT(入力用科目!$AD12,\"????????\"),3,1))","v":""},{"$f":"IF(入力用科目!$AD12=\"\",\"\",MID(TEXT(入力用科目!$AD12,\"????????\"),4,1))","v":""},{"$f":"IF(入力用科目!$AD12=\"\",\"\",MID(TEXT(入力用科目!$AD12,\"????????\"),5,1))","v":""},{"$f":"IF(入力用科目!$AD12=\"\",\"\",MID(TEXT(入力用科目!$AD12,\"????????\"),6,1))","v":""},{"$f":"IF(入力用科目!$AD12=\"\",\"\",MID(TEXT(入力用科目!$AD12,\"????????\"),7,1))","v":""},{"$f":"IF(入力用科目!$AD12=\"\",\"\",MID(TEXT(入力用科目!$AD12,\"????????\"),8,1))","v":""},null,{"$f":"IF(入力用科目!$AM12=\"\",\"\",MID(TEXT(入力用科目!$AM12,\"????????\"),1,1))","v":" "},{"$f":"IF(入力用科目!$AM12=\"\",\"\",MID(TEXT(入力用科目!$AM12,\"????????\"),2,1))","v":" "},{"$f":"IF(入力用科目!$AM12=\"\",\"\",MID(TEXT(入力用科目!$AM12,\"????????\"),3,1))","v":" "},{"$f":"IF(入力用科目!$AM12=\"\",\"\",MID(TEXT(入力用科目!$AM12,\"????????\"),4,1))","v":" "},{"$f":"IF(入力用科目!$AM12=\"\",\"\",MID(TEXT(入力用科目!$AM12,\"????????\"),5,1))","v":" "},{"$f":"IF(入力用科目!$AM12=\"\",\"\",MID(TEXT(入力用科目!$AM12,\"????????\"),6,1))","v":" "},{"$f":"IF(入力用科目!$AM12=\"\",\"\",MID(TEXT(入力用科目!$AM12,\"????????\"),7,1))","v":" "},{"$f":"IF(入力用科目!$AM12=\"\",\"\",MID(TEXT(入力用科目!$AM12,\"????????\"),8,1))","v":" "}]
[{"$f":"IF(入力用科目!A13=\"\",\"\",MID(TEXT(入力用科目!$A13,\"??\"),COLUMN(),1))","v":""},{"$f":"IF(入力用科目!A13=\"\",\"\",MID(TEXT(入力用科目!$A13,\"??\"),COLUMN(),1))","v":""},null,{"$f":"IF(入力用科目!$D13=\"\",\"\",MID(TEXT(入力用科目!$D13,\"???\"),1,1))","v":""},{"$f":"IF(入力用科目!$D13=\"\",\"\",MID(TEXT(入力用科目!$D13,\"???\"),2,1))","v":""},{"$f":"IF(入力用科目!$D13=\"\",\"\",MID(TEXT(入力用科目!$D13,\"???\"),3,1))","v":""},null,{"$f":"IF(入力用科目!$Q13=1,\"運送収入\",IF(入力用科目!$H13=\"\",\"\",入力用科目!$H13))","v":""},null,null,null,null,null,null,null,null,{"$f":"IF(入力用科目!$Q13=\"\",\"\",MID(TEXT(入力用科目!$Q13,\"???\"),1,1))","v":""},{"$f":"IF(入力用科目!$Q13=\"\",\"\",MID(TEXT(入力用科目!$Q13,\"???\"),2,1))","v":""},{"$f":"IF(入力用科目!$Q13=\"\",\"\",MID(TEXT(入力用科目!$Q13,\"???\"),3,1))","v":""},null,{"$f":"IF(入力用科目!$U13=\"\",\"\",MID(TEXT(入力用科目!$U13,\"????????\"),1,1))","v":""},{"$f":"IF(入力用科目!$U13=\"\",\"\",MID(TEXT(入力用科目!$U13,\"????????\"),2,1))","v":""},{"$f":"IF(入力用科目!$U13=\"\",\"\",MID(TEXT(入力用科目!$U13,\"????????\"),3,1))","v":""},{"$f":"IF(入力用科目!$U13=\"\",\"\",MID(TEXT(入力用科目!$U13,\"????????\"),4,1))","v":""},{"$f":"IF(入力用科目!$U13=\"\",\"\",MID(TEXT(入力用科目!$U13,\"????????\"),5,1))","v":""},{"$f":"IF(入力用科目!$U13=\"\",\"\",MID(TEXT(入力用科目!$U13,\"????????\"),6,1))","v":""},{"$f":"IF(入力用科目!$U13=\"\",\"\",MID(TEXT(入力用科目!$U13,\"????????\"),7,1))","v":""},{"$f":"IF(入力用科目!$U13=\"\",\"\",MID(TEXT(入力用科目!$U13,\"????????\"),8,1))","v":""},null,{"$f":"IF(入力用科目!$AD13=\"\",\"\",MID(TEXT(入力用科目!$AD13,\"????????\"),1,1))","v":""},{"$f":"IF(入力用科目!$AD13=\"\",\"\",MID(TEXT(入力用科目!$AD13,\"????????\"),2,1))","v":""},{"$f":"IF(入力用科目!$AD13=\"\",\"\",MID(TEXT(入力用科目!$AD13,\"????????\"),3,1))","v":""},{"$f":"IF(入力用科目!$AD13=\"\",\"\",MID(TEXT(入力用科目!$AD13,\"????????\"),4,1))","v":""},{"$f":"IF(入力用科目!$AD13=\"\",\"\",MID(TEXT(入力用科目!$AD13,\"????????\"),5,1))","v":""},{"$f":"IF(入力用科目!$AD13=\"\",\"\",MID(TEXT(入力用科目!$AD13,\"????????\"),6,1))","v":""},{"$f":"IF(入力用科目!$AD13=\"\",\"\",MID(TEXT(入力用科目!$AD13,\"????????\"),7,1))","v":""},{"$f":"IF(入力用科目!$AD13=\"\",\"\",MID(TEXT(入力用科目!$AD13,\"????????\"),8,1))","v":""},null,{"$f":"IF(入力用科目!$AM13=\"\",\"\",MID(TEXT(入力用科目!$AM13,\"????????\"),1,1))","v":" "},{"$f":"IF(入力用科目!$AM13=\"\",\"\",MID(TEXT(入力用科目!$AM13,\"????????\"),2,1))","v":" "},{"$f":"IF(入力用科目!$AM13=\"\",\"\",MID(TEXT(入力用科目!$AM13,\"????????\"),3,1))","v":" "},{"$f":"IF(入力用科目!$AM13=\"\",\"\",MID(TEXT(入力用科目!$AM13,\"????????\"),4,1))","v":" "},{"$f":"IF(入力用科目!$AM13=\"\",\"\",MID(TEXT(入力用科目!$AM13,\"????????\"),5,1))","v":" "},{"$f":"IF(入力用科目!$AM13=\"\",\"\",MID(TEXT(入力用科目!$AM13,\"????????\"),6,1))","v":" "},{"$f":"IF(入力用科目!$AM13=\"\",\"\",MID(TEXT(入力用科目!$AM13,\"????????\"),7,1))","v":" "},{"$f":"IF(入力用科目!$AM13=\"\",\"\",MID(TEXT(入力用科目!$AM13,\"????????\"),8,1))","v":" "}]
[{"$f":"IF(入力用科目!A14=\"\",\"\",MID(TEXT(入力用科目!$A14,\"??\"),COLUMN(),1))","v":""},{"$f":"IF(入力用科目!A14=\"\",\"\",MID(TEXT(入力用科目!$A14,\"??\"),COLUMN(),1))","v":""},null,{"$f":"IF(入力用科目!$D14=\"\",\"\",MID(TEXT(入力用科目!$D14,\"???\"),1,1))","v":""},{"$f":"IF(入力用科目!$D14=\"\",\"\",MID(TEXT(入力用科目!$D14,\"???\"),2,1))","v":""},{"$f":"IF(入力用科目!$D14=\"\",\"\",MID(TEXT(入力用科目!$D14,\"???\"),3,1))","v":""},null,{"$f":"IF(入力用科目!$Q14=1,\"運送収入\",IF(入力用科目!$H14=\"\",\"\",入力用科目!$H14))","v":""},null,null,null,null,null,null,null,null,{"$f":"IF(入力用科目!$Q14=\"\",\"\",MID(TEXT(入力用科目!$Q14,\"???\"),1,1))","v":""},{"$f":"IF(入力用科目!$Q14=\"\",\"\",MID(TEXT(入力用科目!$Q14,\"???\"),2,1))","v":""},{"$f":"IF(入力用科目!$Q14=\"\",\"\",MID(TEXT(入力用科目!$Q14,\"???\"),3,1))","v":""},null,{"$f":"IF(入力用科目!$U14=\"\",\"\",MID(TEXT(入力用科目!$U14,\"????????\"),1,1))","v":""},{"$f":"IF(入力用科目!$U14=\"\",\"\",MID(TEXT(入力用科目!$U14,\"????????\"),2,1))","v":""},{"$f":"IF(入力用科目!$U14=\"\",\"\",MID(TEXT(入力用科目!$U14,\"????????\"),3,1))","v":""},{"$f":"IF(入力用科目!$U14=\"\",\"\",MID(TEXT(入力用科目!$U14,\"????????\"),4,1))","v":""},{"$f":"IF(入力用科目!$U14=\"\",\"\",MID(TEXT(入力用科目!$U14,\"????????\"),5,1))","v":""},{"$f":"IF(入力用科目!$U14=\"\",\"\",MID(TEXT(入力用科目!$U14,\"????????\"),6,1))","v":""},{"$f":"IF(入力用科目!$U14=\"\",\"\",MID(TEXT(入力用科目!$U14,\"????????\"),7,1))","v":""},{"$f":"IF(入力用科目!$U14=\"\",\"\",MID(TEXT(入力用科目!$U14,\"????????\"),8,1))","v":""},null,{"$f":"IF(入力用科目!$AD14=\"\",\"\",MID(TEXT(入力用科目!$AD14,\"????????\"),1,1))","v":""},{"$f":"IF(入力用科目!$AD14=\"\",\"\",MID(TEXT(入力用科目!$AD14,\"????????\"),2,1))","v":""},{"$f":"IF(入力用科目!$AD14=\"\",\"\",MID(TEXT(入力用科目!$AD14,\"????????\"),3,1))","v":""},{"$f":"IF(入力用科目!$AD14=\"\",\"\",MID(TEXT(入力用科目!$AD14,\"????????\"),4,1))","v":""},{"$f":"IF(入力用科目!$AD14=\"\",\"\",MID(TEXT(入力用科目!$AD14,\"????????\"),5,1))","v":""},{"$f":"IF(入力用科目!$AD14=\"\",\"\",MID(TEXT(入力用科目!$AD14,\"????????\"),6,1))","v":""},{"$f":"IF(入力用科目!$AD14=\"\",\"\",MID(TEXT(入力用科目!$AD14,\"????????\"),7,1))","v":""},{"$f":"IF(入力用科目!$AD14=\"\",\"\",MID(TEXT(入力用科目!$AD14,\"????????\"),8,1))","v":""},null,{"$f":"IF(入力用科目!$AM14=\"\",\"\",MID(TEXT(入力用科目!$AM14,\"????????\"),1,1))","v":" "},{"$f":"IF(入力用科目!$AM14=\"\",\"\",MID(TEXT(入力用科目!$AM14,\"????????\"),2,1))","v":" "},{"$f":"IF(入力用科目!$AM14=\"\",\"\",MID(TEXT(入力用科目!$AM14,\"????????\"),3,1))","v":" "},{"$f":"IF(入力用科目!$AM14=\"\",\"\",MID(TEXT(入力用科目!$AM14,\"????????\"),4,1))","v":" "},{"$f":"IF(入力用科目!$AM14=\"\",\"\",MID(TEXT(入力用科目!$AM14,\"????????\"),5,1))","v":" "},{"$f":"IF(入力用科目!$AM14=\"\",\"\",MID(TEXT(入力用科目!$AM14,\"????????\"),6,1))","v":" "},{"$f":"IF(入力用科目!$AM14=\"\",\"\",MID(TEXT(入力用科目!$AM14,\"????????\"),7,1))","v":" "},{"$f":"IF(入力用科目!$AM14=\"\",\"\",MID(TEXT(入力用科目!$AM14,\"????????\"),8,1))","v":" "}]
[{"$f":"IF(入力用科目!A15=\"\",\"\",MID(TEXT(入力用科目!$A15,\"??\"),COLUMN(),1))","v":""},{"$f":"IF(入力用科目!A15=\"\",\"\",MID(TEXT(入力用科目!$A15,\"??\"),COLUMN(),1))","v":""},null,{"$f":"IF(入力用科目!$D15=\"\",\"\",MID(TEXT(入力用科目!$D15,\"???\"),1,1))","v":""},{"$f":"IF(入力用科目!$D15=\"\",\"\",MID(TEXT(入力用科目!$D15,\"???\"),2,1))","v":""},{"$f":"IF(入力用科目!$D15=\"\",\"\",MID(TEXT(入力用科目!$D15,\"???\"),3,1))","v":""},null,{"$f":"IF(入力用科目!$Q15=1,\"運送収入\",IF(入力用科目!$H15=\"\",\"\",入力用科目!$H15))","v":""},null,null,null,null,null,null,null,null,{"$f":"IF(入力用科目!$Q15=\"\",\"\",MID(TEXT(入力用科目!$Q15,\"???\"),1,1))","v":""},{"$f":"IF(入力用科目!$Q15=\"\",\"\",MID(TEXT(入力用科目!$Q15,\"???\"),2,1))","v":""},{"$f":"IF(入力用科目!$Q15=\"\",\"\",MID(TEXT(入力用科目!$Q15,\"???\"),3,1))","v":""},null,{"$f":"IF(入力用科目!$U15=\"\",\"\",MID(TEXT(入力用科目!$U15,\"????????\"),1,1))","v":""},{"$f":"IF(入力用科目!$U15=\"\",\"\",MID(TEXT(入力用科目!$U15,\"????????\"),2,1))","v":""},{"$f":"IF(入力用科目!$U15=\"\",\"\",MID(TEXT(入力用科目!$U15,\"????????\"),3,1))","v":""},{"$f":"IF(入力用科目!$U15=\"\",\"\",MID(TEXT(入力用科目!$U15,\"????????\"),4,1))","v":""},{"$f":"IF(入力用科目!$U15=\"\",\"\",MID(TEXT(入力用科目!$U15,\"????????\"),5,1))","v":""},{"$f":"IF(入力用科目!$U15=\"\",\"\",MID(TEXT(入力用科目!$U15,\"????????\"),6,1))","v":""},{"$f":"IF(入力用科目!$U15=\"\",\"\",MID(TEXT(入力用科目!$U15,\"????????\"),7,1))","v":""},{"$f":"IF(入力用科目!$U15=\"\",\"\",MID(TEXT(入力用科目!$U15,\"????????\"),8,1))","v":""},null,{"$f":"IF(入力用科目!$AD15=\"\",\"\",MID(TEXT(入力用科目!$AD15,\"????????\"),1,1))","v":""},{"$f":"IF(入力用科目!$AD15=\"\",\"\",MID(TEXT(入力用科目!$AD15,\"????????\"),2,1))","v":""},{"$f":"IF(入力用科目!$AD15=\"\",\"\",MID(TEXT(入力用科目!$AD15,\"????????\"),3,1))","v":""},{"$f":"IF(入力用科目!$AD15=\"\",\"\",MID(TEXT(入力用科目!$AD15,\"????????\"),4,1))","v":""},{"$f":"IF(入力用科目!$AD15=\"\",\"\",MID(TEXT(入力用科目!$AD15,\"????????\"),5,1))","v":""},{"$f":"IF(入力用科目!$AD15=\"\",\"\",MID(TEXT(入力用科目!$AD15,\"????????\"),6,1))","v":""},{"$f":"IF(入力用科目!$AD15=\"\",\"\",MID(TEXT(入力用科目!$AD15,\"????????\"),7,1))","v":""},{"$f":"IF(入力用科目!$AD15=\"\",\"\",MID(TEXT(入力用科目!$AD15,\"????????\"),8,1))","v":""},null,{"$f":"IF(入力用科目!$AM15=\"\",\"\",MID(TEXT(入力用科目!$AM15,\"????????\"),1,1))","v":" "},{"$f":"IF(入力用科目!$AM15=\"\",\"\",MID(TEXT(入力用科目!$AM15,\"????????\"),2,1))","v":" "},{"$f":"IF(入力用科目!$AM15=\"\",\"\",MID(TEXT(入力用科目!$AM15,\"????????\"),3,1))","v":" "},{"$f":"IF(入力用科目!$AM15=\"\",\"\",MID(TEXT(入力用科目!$AM15,\"????????\"),4,1))","v":" "},{"$f":"IF(入力用科目!$AM15=\"\",\"\",MID(TEXT(入力用科目!$AM15,\"????????\"),5,1))","v":" "},{"$f":"IF(入力用科目!$AM15=\"\",\"\",MID(TEXT(入力用科目!$AM15,\"????????\"),6,1))","v":" "},{"$f":"IF(入力用科目!$AM15=\"\",\"\",MID(TEXT(入力用科目!$AM15,\"????????\"),7,1))","v":" "},{"$f":"IF(入力用科目!$AM15=\"\",\"\",MID(TEXT(入力用科目!$AM15,\"????????\"),8,1))","v":" "}]
[{"$f":"IF(入力用科目!A16=\"\",\"\",MID(TEXT(入力用科目!$A16,\"??\"),COLUMN(),1))","v":""},{"$f":"IF(入力用科目!A16=\"\",\"\",MID(TEXT(入力用科目!$A16,\"??\"),COLUMN(),1))","v":""},null,{"$f":"IF(入力用科目!$D16=\"\",\"\",MID(TEXT(入力用科目!$D16,\"???\"),1,1))","v":""},{"$f":"IF(入力用科目!$D16=\"\",\"\",MID(TEXT(入力用科目!$D16,\"???\"),2,1))","v":""},{"$f":"IF(入力用科目!$D16=\"\",\"\",MID(TEXT(入力用科目!$D16,\"???\"),3,1))","v":""},null,{"$f":"IF(入力用科目!$Q16=1,\"運送収入\",IF(入力用科目!$H16=\"\",\"\",入力用科目!$H16))","v":""},null,null,null,null,null,null,null,null,{"$f":"IF(入力用科目!$Q16=\"\",\"\",MID(TEXT(入力用科目!$Q16,\"???\"),1,1))","v":""},{"$f":"IF(入力用科目!$Q16=\"\",\"\",MID(TEXT(入力用科目!$Q16,\"???\"),2,1))","v":""},{"$f":"IF(入力用科目!$Q16=\"\",\"\",MID(TEXT(入力用科目!$Q16,\"???\"),3,1))","v":""},null,{"$f":"IF(入力用科目!$U16=\"\",\"\",MID(TEXT(入力用科目!$U16,\"????????\"),1,1))","v":""},{"$f":"IF(入力用科目!$U16=\"\",\"\",MID(TEXT(入力用科目!$U16,\"????????\"),2,1))","v":""},{"$f":"IF(入力用科目!$U16=\"\",\"\",MID(TEXT(入力用科目!$U16,\"????????\"),3,1))","v":""},{"$f":"IF(入力用科目!$U16=\"\",\"\",MID(TEXT(入力用科目!$U16,\"????????\"),4,1))","v":""},{"$f":"IF(入力用科目!$U16=\"\",\"\",MID(TEXT(入力用科目!$U16,\"????????\"),5,1))","v":""},{"$f":"IF(入力用科目!$U16=\"\",\"\",MID(TEXT(入力用科目!$U16,\"????????\"),6,1))","v":""},{"$f":"IF(入力用科目!$U16=\"\",\"\",MID(TEXT(入力用科目!$U16,\"????????\"),7,1))","v":""},{"$f":"IF(入力用科目!$U16=\"\",\"\",MID(TEXT(入力用科目!$U16,\"????????\"),8,1))","v":""},null,{"$f":"IF(入力用科目!$AD16=\"\",\"\",MID(TEXT(入力用科目!$AD16,\"????????\"),1,1))","v":""},{"$f":"IF(入力用科目!$AD16=\"\",\"\",MID(TEXT(入力用科目!$AD16,\"????????\"),2,1))","v":""},{"$f":"IF(入力用科目!$AD16=\"\",\"\",MID(TEXT(入力用科目!$AD16,\"????????\"),3,1))","v":""},{"$f":"IF(入力用科目!$AD16=\"\",\"\",MID(TEXT(入力用科目!$AD16,\"????????\"),4,1))","v":""},{"$f":"IF(入力用科目!$AD16=\"\",\"\",MID(TEXT(入力用科目!$AD16,\"????????\"),5,1))","v":""},{"$f":"IF(入力用科目!$AD16=\"\",\"\",MID(TEXT(入力用科目!$AD16,\"????????\"),6,1))","v":""},{"$f":"IF(入力用科目!$AD16=\"\",\"\",MID(TEXT(入力用科目!$AD16,\"????????\"),7,1))","v":""},{"$f":"IF(入力用科目!$AD16=\"\",\"\",MID(TEXT(入力用科目!$AD16,\"????????\"),8,1))","v":""},null,{"$f":"IF(入力用科目!$AM16=\"\",\"\",MID(TEXT(入力用科目!$AM16,\"????????\"),1,1))","v":" "},{"$f":"IF(入力用科目!$AM16=\"\",\"\",MID(TEXT(入力用科目!$AM16,\"????????\"),2,1))","v":" "},{"$f":"IF(入力用科目!$AM16=\"\",\"\",MID(TEXT(入力用科目!$AM16,\"????????\"),3,1))","v":" "},{"$f":"IF(入力用科目!$AM16=\"\",\"\",MID(TEXT(入力用科目!$AM16,\"????????\"),4,1))","v":" "},{"$f":"IF(入力用科目!$AM16=\"\",\"\",MID(TEXT(入力用科目!$AM16,\"????????\"),5,1))","v":" "},{"$f":"IF(入力用科目!$AM16=\"\",\"\",MID(TEXT(入力用科目!$AM16,\"????????\"),6,1))","v":" "},{"$f":"IF(入力用科目!$AM16=\"\",\"\",MID(TEXT(入力用科目!$AM16,\"????????\"),7,1))","v":" "},{"$f":"IF(入力用科目!$AM16=\"\",\"\",MID(TEXT(入力用科目!$AM16,\"????????\"),8,1))","v":" "}]
[{"$f":"IF(入力用科目!A17=\"\",\"\",MID(TEXT(入力用科目!$A17,\"??\"),COLUMN(),1))","v":""},{"$f":"IF(入力用科目!A17=\"\",\"\",MID(TEXT(入力用科目!$A17,\"??\"),COLUMN(),1))","v":""},null,{"$f":"IF(入力用科目!$D17=\"\",\"\",MID(TEXT(入力用科目!$D17,\"???\"),1,1))","v":""},{"$f":"IF(入力用科目!$D17=\"\",\"\",MID(TEXT(入力用科目!$D17,\"???\"),2,1))","v":""},{"$f":"IF(入力用科目!$D17=\"\",\"\",MID(TEXT(入力用科目!$D17,\"???\"),3,1))","v":""},null,{"$f":"IF(入力用科目!$Q17=1,\"運送収入\",IF(入力用科目!$H17=\"\",\"\",入力用科目!$H17))","v":""},null,null,null,null,null,null,null,null,{"$f":"IF(入力用科目!$Q17=\"\",\"\",MID(TEXT(入力用科目!$Q17,\"???\"),1,1))","v":""},{"$f":"IF(入力用科目!$Q17=\"\",\"\",MID(TEXT(入力用科目!$Q17,\"???\"),2,1))","v":""},{"$f":"IF(入力用科目!$Q17=\"\",\"\",MID(TEXT(入力用科目!$Q17,\"???\"),3,1))","v":""},null,{"$f":"IF(入力用科目!$U17=\"\",\"\",MID(TEXT(入力用科目!$U17,\"????????\"),1,1))","v":""},{"$f":"IF(入力用科目!$U17=\"\",\"\",MID(TEXT(入力用科目!$U17,\"????????\"),2,1))","v":""},{"$f":"IF(入力用科目!$U17=\"\",\"\",MID(TEXT(入力用科目!$U17,\"????????\"),3,1))","v":""},{"$f":"IF(入力用科目!$U17=\"\",\"\",MID(TEXT(入力用科目!$U17,\"????????\"),4,1))","v":""},{"$f":"IF(入力用科目!$U17=\"\",\"\",MID(TEXT(入力用科目!$U17,\"????????\"),5,1))","v":""},{"$f":"IF(入力用科目!$U17=\"\",\"\",MID(TEXT(入力用科目!$U17,\"????????\"),6,1))","v":""},{"$f":"IF(入力用科目!$U17=\"\",\"\",MID(TEXT(入力用科目!$U17,\"????????\"),7,1))","v":""},{"$f":"IF(入力用科目!$U17=\"\",\"\",MID(TEXT(入力用科目!$U17,\"????????\"),8,1))","v":""},null,{"$f":"IF(入力用科目!$AD17=\"\",\"\",MID(TEXT(入力用科目!$AD17,\"????????\"),1,1))","v":""},{"$f":"IF(入力用科目!$AD17=\"\",\"\",MID(TEXT(入力用科目!$AD17,\"????????\"),2,1))","v":""},{"$f":"IF(入力用科目!$AD17=\"\",\"\",MID(TEXT(入力用科目!$AD17,\"????????\"),3,1))","v":""},{"$f":"IF(入力用科目!$AD17=\"\",\"\",MID(TEXT(入力用科目!$AD17,\"????????\"),4,1))","v":""},{"$f":"IF(入力用科目!$AD17=\"\",\"\",MID(TEXT(入力用科目!$AD17,\"????????\"),5,1))","v":""},{"$f":"IF(入力用科目!$AD17=\"\",\"\",MID(TEXT(入力用科目!$AD17,\"????????\"),6,1))","v":""},{"$f":"IF(入力用科目!$AD17=\"\",\"\",MID(TEXT(入力用科目!$AD17,\"????????\"),7,1))","v":""},{"$f":"IF(入力用科目!$AD17=\"\",\"\",MID(TEXT(入力用科目!$AD17,\"????????\"),8,1))","v":""},null,{"$f":"IF(入力用科目!$AM17=\"\",\"\",MID(TEXT(入力用科目!$AM17,\"????????\"),1,1))","v":" "},{"$f":"IF(入力用科目!$AM17=\"\",\"\",MID(TEXT(入力用科目!$AM17,\"????????\"),2,1))","v":" "},{"$f":"IF(入力用科目!$AM17=\"\",\"\",MID(TEXT(入力用科目!$AM17,\"????????\"),3,1))","v":" "},{"$f":"IF(入力用科目!$AM17=\"\",\"\",MID(TEXT(入力用科目!$AM17,\"????????\"),4,1))","v":" "},{"$f":"IF(入力用科目!$AM17=\"\",\"\",MID(TEXT(入力用科目!$AM17,\"????????\"),5,1))","v":" "},{"$f":"IF(入力用科目!$AM17=\"\",\"\",MID(TEXT(入力用科目!$AM17,\"????????\"),6,1))","v":" "},{"$f":"IF(入力用科目!$AM17=\"\",\"\",MID(TEXT(入力用科目!$AM17,\"????????\"),7,1))","v":" "},{"$f":"IF(入力用科目!$AM17=\"\",\"\",MID(TEXT(入力用科目!$AM17,\"????????\"),8,1))","v":" "}]
[{"$f":"IF(入力用科目!A18=\"\",\"\",MID(TEXT(入力用科目!$A18,\"??\"),COLUMN(),1))","v":""},{"$f":"IF(入力用科目!A18=\"\",\"\",MID(TEXT(入力用科目!$A18,\"??\"),COLUMN(),1))","v":""},null,{"$f":"IF(入力用科目!$D18=\"\",\"\",MID(TEXT(入力用科目!$D18,\"???\"),1,1))","v":""},{"$f":"IF(入力用科目!$D18=\"\",\"\",MID(TEXT(入力用科目!$D18,\"???\"),2,1))","v":""},{"$f":"IF(入力用科目!$D18=\"\",\"\",MID(TEXT(入力用科目!$D18,\"???\"),3,1))","v":""},null,{"$f":"IF(入力用科目!$Q18=1,\"運送収入\",IF(入力用科目!$H18=\"\",\"\",入力用科目!$H18))","v":""},null,null,null,null,null,null,null,null,{"$f":"IF(入力用科目!$Q18=\"\",\"\",MID(TEXT(入力用科目!$Q18,\"???\"),1,1))","v":""},{"$f":"IF(入力用科目!$Q18=\"\",\"\",MID(TEXT(入力用科目!$Q18,\"???\"),2,1))","v":""},{"$f":"IF(入力用科目!$Q18=\"\",\"\",MID(TEXT(入力用科目!$Q18,\"???\"),3,1))","v":""},null,{"$f":"IF(入力用科目!$U18=\"\",\"\",MID(TEXT(入力用科目!$U18,\"????????\"),1,1))","v":""},{"$f":"IF(入力用科目!$U18=\"\",\"\",MID(TEXT(入力用科目!$U18,\"????????\"),2,1))","v":""},{"$f":"IF(入力用科目!$U18=\"\",\"\",MID(TEXT(入力用科目!$U18,\"????????\"),3,1))","v":""},{"$f":"IF(入力用科目!$U18=\"\",\"\",MID(TEXT(入力用科目!$U18,\"????????\"),4,1))","v":""},{"$f":"IF(入力用科目!$U18=\"\",\"\",MID(TEXT(入力用科目!$U18,\"????????\"),5,1))","v":""},{"$f":"IF(入力用科目!$U18=\"\",\"\",MID(TEXT(入力用科目!$U18,\"????????\"),6,1))","v":""},{"$f":"IF(入力用科目!$U18=\"\",\"\",MID(TEXT(入力用科目!$U18,\"????????\"),7,1))","v":""},{"$f":"IF(入力用科目!$U18=\"\",\"\",MID(TEXT(入力用科目!$U18,\"????????\"),8,1))","v":""},null,{"$f":"IF(入力用科目!$AD18=\"\",\"\",MID(TEXT(入力用科目!$AD18,\"????????\"),1,1))","v":""},{"$f":"IF(入力用科目!$AD18=\"\",\"\",MID(TEXT(入力用科目!$AD18,\"????????\"),2,1))","v":""},{"$f":"IF(入力用科目!$AD18=\"\",\"\",MID(TEXT(入力用科目!$AD18,\"????????\"),3,1))","v":""},{"$f":"IF(入力用科目!$AD18=\"\",\"\",MID(TEXT(入力用科目!$AD18,\"????????\"),4,1))","v":""},{"$f":"IF(入力用科目!$AD18=\"\",\"\",MID(TEXT(入力用科目!$AD18,\"????????\"),5,1))","v":""},{"$f":"IF(入力用科目!$AD18=\"\",\"\",MID(TEXT(入力用科目!$AD18,\"????????\"),6,1))","v":""},{"$f":"IF(入力用科目!$AD18=\"\",\"\",MID(TEXT(入力用科目!$AD18,\"????????\"),7,1))","v":""},{"$f":"IF(入力用科目!$AD18=\"\",\"\",MID(TEXT(入力用科目!$AD18,\"????????\"),8,1))","v":""},null,{"$f":"IF(入力用科目!$AM18=\"\",\"\",MID(TEXT(入力用科目!$AM18,\"????????\"),1,1))","v":" "},{"$f":"IF(入力用科目!$AM18=\"\",\"\",MID(TEXT(入力用科目!$AM18,\"????????\"),2,1))","v":" "},{"$f":"IF(入力用科目!$AM18=\"\",\"\",MID(TEXT(入力用科目!$AM18,\"????????\"),3,1))","v":" "},{"$f":"IF(入力用科目!$AM18=\"\",\"\",MID(TEXT(入力用科目!$AM18,\"????????\"),4,1))","v":" "},{"$f":"IF(入力用科目!$AM18=\"\",\"\",MID(TEXT(入力用科目!$AM18,\"????????\"),5,1))","v":" "},{"$f":"IF(入力用科目!$AM18=\"\",\"\",MID(TEXT(入力用科目!$AM18,\"????????\"),6,1))","v":" "},{"$f":"IF(入力用科目!$AM18=\"\",\"\",MID(TEXT(入力用科目!$AM18,\"????????\"),7,1))","v":" "},{"$f":"IF(入力用科目!$AM18=\"\",\"\",MID(TEXT(入力用科目!$AM18,\"????????\"),8,1))","v":" "}]
[{"$f":"IF(入力用科目!A19=\"\",\"\",MID(TEXT(入力用科目!$A19,\"??\"),COLUMN(),1))","v":""},{"$f":"IF(入力用科目!A19=\"\",\"\",MID(TEXT(入力用科目!$A19,\"??\"),COLUMN(),1))","v":""},null,{"$f":"IF(入力用科目!$D19=\"\",\"\",MID(TEXT(入力用科目!$D19,\"???\"),1,1))","v":""},{"$f":"IF(入力用科目!$D19=\"\",\"\",MID(TEXT(入力用科目!$D19,\"???\"),2,1))","v":""},{"$f":"IF(入力用科目!$D19=\"\",\"\",MID(TEXT(入力用科目!$D19,\"???\"),3,1))","v":""},null,{"$f":"IF(入力用科目!$Q19=1,\"運送収入\",IF(入力用科目!$H19=\"\",\"\",入力用科目!$H19))","v":""},null,null,null,null,null,null,null,null,{"$f":"IF(入力用科目!$Q19=\"\",\"\",MID(TEXT(入力用科目!$Q19,\"???\"),1,1))","v":""},{"$f":"IF(入力用科目!$Q19=\"\",\"\",MID(TEXT(入力用科目!$Q19,\"???\"),2,1))","v":""},{"$f":"IF(入力用科目!$Q19=\"\",\"\",MID(TEXT(入力用科目!$Q19,\"???\"),3,1))","v":""},null,{"$f":"IF(入力用科目!$U19=\"\",\"\",MID(TEXT(入力用科目!$U19,\"????????\"),1,1))","v":""},{"$f":"IF(入力用科目!$U19=\"\",\"\",MID(TEXT(入力用科目!$U19,\"????????\"),2,1))","v":""},{"$f":"IF(入力用科目!$U19=\"\",\"\",MID(TEXT(入力用科目!$U19,\"????????\"),3,1))","v":""},{"$f":"IF(入力用科目!$U19=\"\",\"\",MID(TEXT(入力用科目!$U19,\"????????\"),4,1))","v":""},{"$f":"IF(入力用科目!$U19=\"\",\"\",MID(TEXT(入力用科目!$U19,\"????????\"),5,1))","v":""},{"$f":"IF(入力用科目!$U19=\"\",\"\",MID(TEXT(入力用科目!$U19,\"????????\"),6,1))","v":""},{"$f":"IF(入力用科目!$U19=\"\",\"\",MID(TEXT(入力用科目!$U19,\"????????\"),7,1))","v":""},{"$f":"IF(入力用科目!$U19=\"\",\"\",MID(TEXT(入力用科目!$U19,\"????????\"),8,1))","v":""},null,{"$f":"IF(入力用科目!$AD19=\"\",\"\",MID(TEXT(入力用科目!$AD19,\"????????\"),1,1))","v":""},{"$f":"IF(入力用科目!$AD19=\"\",\"\",MID(TEXT(入力用科目!$AD19,\"????????\"),2,1))","v":""},{"$f":"IF(入力用科目!$AD19=\"\",\"\",MID(TEXT(入力用科目!$AD19,\"????????\"),3,1))","v":""},{"$f":"IF(入力用科目!$AD19=\"\",\"\",MID(TEXT(入力用科目!$AD19,\"????????\"),4,1))","v":""},{"$f":"IF(入力用科目!$AD19=\"\",\"\",MID(TEXT(入力用科目!$AD19,\"????????\"),5,1))","v":""},{"$f":"IF(入力用科目!$AD19=\"\",\"\",MID(TEXT(入力用科目!$AD19,\"????????\"),6,1))","v":""},{"$f":"IF(入力用科目!$AD19=\"\",\"\",MID(TEXT(入力用科目!$AD19,\"????????\"),7,1))","v":""},{"$f":"IF(入力用科目!$AD19=\"\",\"\",MID(TEXT(入力用科目!$AD19,\"????????\"),8,1))","v":""},null,{"$f":"IF(入力用科目!$AM19=\"\",\"\",MID(TEXT(入力用科目!$AM19,\"????????\"),1,1))","v":" "},{"$f":"IF(入力用科目!$AM19=\"\",\"\",MID(TEXT(入力用科目!$AM19,\"????????\"),2,1))","v":" "},{"$f":"IF(入力用科目!$AM19=\"\",\"\",MID(TEXT(入力用科目!$AM19,\"????????\"),3,1))","v":" "},{"$f":"IF(入力用科目!$AM19=\"\",\"\",MID(TEXT(入力用科目!$AM19,\"????????\"),4,1))","v":" "},{"$f":"IF(入力用科目!$AM19=\"\",\"\",MID(TEXT(入力用科目!$AM19,\"????????\"),5,1))","v":" "},{"$f":"IF(入力用科目!$AM19=\"\",\"\",MID(TEXT(入力用科目!$AM19,\"????????\"),6,1))","v":" "},{"$f":"IF(入力用科目!$AM19=\"\",\"\",MID(TEXT(入力用科目!$AM19,\"????????\"),7,1))","v":" "},{"$f":"IF(入力用科目!$AM19=\"\",\"\",MID(TEXT(入力用科目!$AM19,\"????????\"),8,1))","v":" "}]
[{"$f":"IF(入力用科目!A20=\"\",\"\",MID(TEXT(入力用科目!$A20,\"??\"),COLUMN(),1))","v":""},{"$f":"IF(入力用科目!A20=\"\",\"\",MID(TEXT(入力用科目!$A20,\"??\"),COLUMN(),1))","v":""},null,{"$f":"IF(入力用科目!$D20=\"\",\"\",MID(TEXT(入力用科目!$D20,\"???\"),1,1))","v":""},{"$f":"IF(入力用科目!$D20=\"\",\"\",MID(TEXT(入力用科目!$D20,\"???\"),2,1))","v":""},{"$f":"IF(入力用科目!$D20=\"\",\"\",MID(TEXT(入力用科目!$D20,\"???\"),3,1))","v":""},null,{"$f":"IF(入力用科目!$Q20=1,\"運送収入\",IF(入力用科目!$H20=\"\",\"\",入力用科目!$H20))","v":""},null,null,null,null,null,null,null,null,{"$f":"IF(入力用科目!$Q20=\"\",\"\",MID(TEXT(入力用科目!$Q20,\"???\"),1,1))","v":""},{"$f":"IF(入力用科目!$Q20=\"\",\"\",MID(TEXT(入力用科目!$Q20,\"???\"),2,1))","v":""},{"$f":"IF(入力用科目!$Q20=\"\",\"\",MID(TEXT(入力用科目!$Q20,\"???\"),3,1))","v":""},null,{"$f":"IF(入力用科目!$U20=\"\",\"\",MID(TEXT(入力用科目!$U20,\"????????\"),1,1))","v":""},{"$f":"IF(入力用科目!$U20=\"\",\"\",MID(TEXT(入力用科目!$U20,\"????????\"),2,1))","v":""},{"$f":"IF(入力用科目!$U20=\"\",\"\",MID(TEXT(入力用科目!$U20,\"????????\"),3,1))","v":""},{"$f":"IF(入力用科目!$U20=\"\",\"\",MID(TEXT(入力用科目!$U20,\"????????\"),4,1))","v":""},{"$f":"IF(入力用科目!$U20=\"\",\"\",MID(TEXT(入力用科目!$U20,\"????????\"),5,1))","v":""},{"$f":"IF(入力用科目!$U20=\"\",\"\",MID(TEXT(入力用科目!$U20,\"????????\"),6,1))","v":""},{"$f":"IF(入力用科目!$U20=\"\",\"\",MID(TEXT(入力用科目!$U20,\"????????\"),7,1))","v":""},{"$f":"IF(入力用科目!$U20=\"\",\"\",MID(TEXT(入力用科目!$U20,\"????????\"),8,1))","v":""},null,{"$f":"IF(入力用科目!$AD20=\"\",\"\",MID(TEXT(入力用科目!$AD20,\"????????\"),1,1))","v":""},{"$f":"IF(入力用科目!$AD20=\"\",\"\",MID(TEXT(入力用科目!$AD20,\"????????\"),2,1))","v":""},{"$f":"IF(入力用科目!$AD20=\"\",\"\",MID(TEXT(入力用科目!$AD20,\"????????\"),3,1))","v":""},{"$f":"IF(入力用科目!$AD20=\"\",\"\",MID(TEXT(入力用科目!$AD20,\"????????\"),4,1))","v":""},{"$f":"IF(入力用科目!$AD20=\"\",\"\",MID(TEXT(入力用科目!$AD20,\"????????\"),5,1))","v":""},{"$f":"IF(入力用科目!$AD20=\"\",\"\",MID(TEXT(入力用科目!$AD20,\"????????\"),6,1))","v":""},{"$f":"IF(入力用科目!$AD20=\"\",\"\",MID(TEXT(入力用科目!$AD20,\"????????\"),7,1))","v":""},{"$f":"IF(入力用科目!$AD20=\"\",\"\",MID(TEXT(入力用科目!$AD20,\"????????\"),8,1))","v":""},null,{"$f":"IF(入力用科目!$AM20=\"\",\"\",MID(TEXT(入力用科目!$AM20,\"????????\"),1,1))","v":" "},{"$f":"IF(入力用科目!$AM20=\"\",\"\",MID(TEXT(入力用科目!$AM20,\"????????\"),2,1))","v":" "},{"$f":"IF(入力用科目!$AM20=\"\",\"\",MID(TEXT(入力用科目!$AM20,\"????????\"),3,1))","v":" "},{"$f":"IF(入力用科目!$AM20=\"\",\"\",MID(TEXT(入力用科目!$AM20,\"????????\"),4,1))","v":" "},{"$f":"IF(入力用科目!$AM20=\"\",\"\",MID(TEXT(入力用科目!$AM20,\"????????\"),5,1))","v":" "},{"$f":"IF(入力用科目!$AM20=\"\",\"\",MID(TEXT(入力用科目!$AM20,\"????????\"),6,1))","v":" "},{"$f":"IF(入力用科目!$AM20=\"\",\"\",MID(TEXT(入力用科目!$AM20,\"????????\"),7,1))","v":" "},{"$f":"IF(入力用科目!$AM20=\"\",\"\",MID(TEXT(入力用科目!$AM20,\"????????\"),8,1))","v":" "}]
[{"$f":"IF(入力用科目!A21=\"\",\"\",MID(TEXT(入力用科目!$A21,\"??\"),COLUMN(),1))","v":""},{"$f":"IF(入力用科目!A21=\"\",\"\",MID(TEXT(入力用科目!$A21,\"??\"),COLUMN(),1))","v":""},null,{"$f":"IF(入力用科目!$D21=\"\",\"\",MID(TEXT(入力用科目!$D21,\"???\"),1,1))","v":""},{"$f":"IF(入力用科目!$D21=\"\",\"\",MID(TEXT(入力用科目!$D21,\"???\"),2,1))","v":""},{"$f":"IF(入力用科目!$D21=\"\",\"\",MID(TEXT(入力用科目!$D21,\"???\"),3,1))","v":""},null,{"$f":"IF(入力用科目!$Q21=1,\"運送収入\",IF(入力用科目!$H21=\"\",\"\",入力用科目!$H21))","v":""},null,null,null,null,null,null,null,null,{"$f":"IF(入力用科目!$Q21=\"\",\"\",MID(TEXT(入力用科目!$Q21,\"???\"),1,1))","v":""},{"$f":"IF(入力用科目!$Q21=\"\",\"\",MID(TEXT(入力用科目!$Q21,\"???\"),2,1))","v":""},{"$f":"IF(入力用科目!$Q21=\"\",\"\",MID(TEXT(入力用科目!$Q21,\"???\"),3,1))","v":""},null,{"$f":"IF(入力用科目!$U21=\"\",\"\",MID(TEXT(入力用科目!$U21,\"????????\"),1,1))","v":""},{"$f":"IF(入力用科目!$U21=\"\",\"\",MID(TEXT(入力用科目!$U21,\"????????\"),2,1))","v":""},{"$f":"IF(入力用科目!$U21=\"\",\"\",MID(TEXT(入力用科目!$U21,\"????????\"),3,1))","v":""},{"$f":"IF(入力用科目!$U21=\"\",\"\",MID(TEXT(入力用科目!$U21,\"????????\"),4,1))","v":""},{"$f":"IF(入力用科目!$U21=\"\",\"\",MID(TEXT(入力用科目!$U21,\"????????\"),5,1))","v":""},{"$f":"IF(入力用科目!$U21=\"\",\"\",MID(TEXT(入力用科目!$U21,\"????????\"),6,1))","v":""},{"$f":"IF(入力用科目!$U21=\"\",\"\",MID(TEXT(入力用科目!$U21,\"????????\"),7,1))","v":""},{"$f":"IF(入力用科目!$U21=\"\",\"\",MID(TEXT(入力用科目!$U21,\"????????\"),8,1))","v":""},null,{"$f":"IF(入力用科目!$AD21=\"\",\"\",MID(TEXT(入力用科目!$AD21,\"????????\"),1,1))","v":""},{"$f":"IF(入力用科目!$AD21=\"\",\"\",MID(TEXT(入力用科目!$AD21,\"????????\"),2,1))","v":""},{"$f":"IF(入力用科目!$AD21=\"\",\"\",MID(TEXT(入力用科目!$AD21,\"????????\"),3,1))","v":""},{"$f":"IF(入力用科目!$AD21=\"\",\"\",MID(TEXT(入力用科目!$AD21,\"????????\"),4,1))","v":""},{"$f":"IF(入力用科目!$AD21=\"\",\"\",MID(TEXT(入力用科目!$AD21,\"????????\"),5,1))","v":""},{"$f":"IF(入力用科目!$AD21=\"\",\"\",MID(TEXT(入力用科目!$AD21,\"????????\"),6,1))","v":""},{"$f":"IF(入力用科目!$AD21=\"\",\"\",MID(TEXT(入力用科目!$AD21,\"????????\"),7,1))","v":""},{"$f":"IF(入力用科目!$AD21=\"\",\"\",MID(TEXT(入力用科目!$AD21,\"????????\"),8,1))","v":""},null,{"$f":"IF(入力用科目!$AM21=\"\",\"\",MID(TEXT(入力用科目!$AM21,\"????????\"),1,1))","v":" "},{"$f":"IF(入力用科目!$AM21=\"\",\"\",MID(TEXT(入力用科目!$AM21,\"????????\"),2,1))","v":" "},{"$f":"IF(入力用科目!$AM21=\"\",\"\",MID(TEXT(入力用科目!$AM21,\"????????\"),3,1))","v":" "},{"$f":"IF(入力用科目!$AM21=\"\",\"\",MID(TEXT(入力用科目!$AM21,\"????????\"),4,1))","v":" "},{"$f":"IF(入力用科目!$AM21=\"\",\"\",MID(TEXT(入力用科目!$AM21,\"????????\"),5,1))","v":" "},{"$f":"IF(入力用科目!$AM21=\"\",\"\",MID(TEXT(入力用科目!$AM21,\"????????\"),6,1))","v":" "},{"$f":"IF(入力用科目!$AM21=\"\",\"\",MID(TEXT(入力用科目!$AM21,\"????????\"),7,1))","v":" "},{"$f":"IF(入力用科目!$AM21=\"\",\"\",MID(TEXT(入力用科目!$AM21,\"????????\"),8,1))","v":" "}]
[{"$f":"IF(入力用科目!A22=\"\",\"\",MID(TEXT(入力用科目!$A22,\"??\"),COLUMN(),1))","v":""},{"$f":"IF(入力用科目!A22=\"\",\"\",MID(TEXT(入力用科目!$A22,\"??\"),COLUMN(),1))","v":""},null,{"$f":"IF(入力用科目!$D22=\"\",\"\",MID(TEXT(入力用科目!$D22,\"???\"),1,1))","v":""},{"$f":"IF(入力用科目!$D22=\"\",\"\",MID(TEXT(入力用科目!$D22,\"???\"),2,1))","v":""},{"$f":"IF(入力用科目!$D22=\"\",\"\",MID(TEXT(入力用科目!$D22,\"???\"),3,1))","v":""},null,{"$f":"IF(入力用科目!$Q22=1,\"運送収入\",IF(入力用科目!$H22=\"\",\"\",入力用科目!$H22))","v":""},null,null,null,null,null,null,null,null,{"$f":"IF(入力用科目!$Q22=\"\",\"\",MID(TEXT(入力用科目!$Q22,\"???\"),1,1))","v":""},{"$f":"IF(入力用科目!$Q22=\"\",\"\",MID(TEXT(入力用科目!$Q22,\"???\"),2,1))","v":""},{"$f":"IF(入力用科目!$Q22=\"\",\"\",MID(TEXT(入力用科目!$Q22,\"???\"),3,1))","v":""},null,{"$f":"IF(入力用科目!$U22=\"\",\"\",MID(TEXT(入力用科目!$U22,\"????????\"),1,1))","v":""},{"$f":"IF(入力用科目!$U22=\"\",\"\",MID(TEXT(入力用科目!$U22,\"????????\"),2,1))","v":""},{"$f":"IF(入力用科目!$U22=\"\",\"\",MID(TEXT(入力用科目!$U22,\"????????\"),3,1))","v":""},{"$f":"IF(入力用科目!$U22=\"\",\"\",MID(TEXT(入力用科目!$U22,\"????????\"),4,1))","v":""},{"$f":"IF(入力用科目!$U22=\"\",\"\",MID(TEXT(入力用科目!$U22,\"????????\"),5,1))","v":""},{"$f":"IF(入力用科目!$U22=\"\",\"\",MID(TEXT(入力用科目!$U22,\"????????\"),6,1))","v":""},{"$f":"IF(入力用科目!$U22=\"\",\"\",MID(TEXT(入力用科目!$U22,\"????????\"),7,1))","v":""},{"$f":"IF(入力用科目!$U22=\"\",\"\",MID(TEXT(入力用科目!$U22,\"????????\"),8,1))","v":""},null,{"$f":"IF(入力用科目!$AD22=\"\",\"\",MID(TEXT(入力用科目!$AD22,\"????????\"),1,1))","v":""},{"$f":"IF(入力用科目!$AD22=\"\",\"\",MID(TEXT(入力用科目!$AD22,\"????????\"),2,1))","v":""},{"$f":"IF(入力用科目!$AD22=\"\",\"\",MID(TEXT(入力用科目!$AD22,\"????????\"),3,1))","v":""},{"$f":"IF(入力用科目!$AD22=\"\",\"\",MID(TEXT(入力用科目!$AD22,\"????????\"),4,1))","v":""},{"$f":"IF(入力用科目!$AD22=\"\",\"\",MID(TEXT(入力用科目!$AD22,\"????????\"),5,1))","v":""},{"$f":"IF(入力用科目!$AD22=\"\",\"\",MID(TEXT(入力用科目!$AD22,\"????????\"),6,1))","v":""},{"$f":"IF(入力用科目!$AD22=\"\",\"\",MID(TEXT(入力用科目!$AD22,\"????????\"),7,1))","v":""},{"$f":"IF(入力用科目!$AD22=\"\",\"\",MID(TEXT(入力用科目!$AD22,\"????????\"),8,1))","v":""},null,{"$f":"IF(入力用科目!$AM22=\"\",\"\",MID(TEXT(入力用科目!$AM22,\"????????\"),1,1))","v":" "},{"$f":"IF(入力用科目!$AM22=\"\",\"\",MID(TEXT(入力用科目!$AM22,\"????????\"),2,1))","v":" "},{"$f":"IF(入力用科目!$AM22=\"\",\"\",MID(TEXT(入力用科目!$AM22,\"????????\"),3,1))","v":" "},{"$f":"IF(入力用科目!$AM22=\"\",\"\",MID(TEXT(入力用科目!$AM22,\"????????\"),4,1))","v":" "},{"$f":"IF(入力用科目!$AM22=\"\",\"\",MID(TEXT(入力用科目!$AM22,\"????????\"),5,1))","v":" "},{"$f":"IF(入力用科目!$AM22=\"\",\"\",MID(TEXT(入力用科目!$AM22,\"????????\"),6,1))","v":" "},{"$f":"IF(入力用科目!$AM22=\"\",\"\",MID(TEXT(入力用科目!$AM22,\"????????\"),7,1))","v":" "},{"$f":"IF(入力用科目!$AM22=\"\",\"\",MID(TEXT(入力用科目!$AM22,\"????????\"),8,1))","v":" "}]
[{"$f":"IF(入力用科目!A23=\"\",\"\",MID(TEXT(入力用科目!$A23,\"??\"),COLUMN(),1))","v":""},{"$f":"IF(入力用科目!A23=\"\",\"\",MID(TEXT(入力用科目!$A23,\"??\"),COLUMN(),1))","v":""},null,{"$f":"IF(入力用科目!$D23=\"\",\"\",MID(TEXT(入力用科目!$D23,\"???\"),1,1))","v":""},{"$f":"IF(入力用科目!$D23=\"\",\"\",MID(TEXT(入力用科目!$D23,\"???\"),2,1))","v":""},{"$f":"IF(入力用科目!$D23=\"\",\"\",MID(TEXT(入力用科目!$D23,\"???\"),3,1))","v":""},null,{"$f":"IF(入力用科目!$Q23=1,\"運送収入\",IF(入力用科目!$H23=\"\",\"\",入力用科目!$H23))","v":""},null,null,null,null,null,null,null,null,{"$f":"IF(入力用科目!$Q23=\"\",\"\",MID(TEXT(入力用科目!$Q23,\"???\"),1,1))","v":""},{"$f":"IF(入力用科目!$Q23=\"\",\"\",MID(TEXT(入力用科目!$Q23,\"???\"),2,1))","v":""},{"$f":"IF(入力用科目!$Q23=\"\",\"\",MID(TEXT(入力用科目!$Q23,\"???\"),3,1))","v":""},null,{"$f":"IF(入力用科目!$U23=\"\",\"\",MID(TEXT(入力用科目!$U23,\"????????\"),1,1))","v":""},{"$f":"IF(入力用科目!$U23=\"\",\"\",MID(TEXT(入力用科目!$U23,\"????????\"),2,1))","v":""},{"$f":"IF(入力用科目!$U23=\"\",\"\",MID(TEXT(入力用科目!$U23,\"????????\"),3,1))","v":""},{"$f":"IF(入力用科目!$U23=\"\",\"\",MID(TEXT(入力用科目!$U23,\"????????\"),4,1))","v":""},{"$f":"IF(入力用科目!$U23=\"\",\"\",MID(TEXT(入力用科目!$U23,\"????????\"),5,1))","v":""},{"$f":"IF(入力用科目!$U23=\"\",\"\",MID(TEXT(入力用科目!$U23,\"????????\"),6,1))","v":""},{"$f":"IF(入力用科目!$U23=\"\",\"\",MID(TEXT(入力用科目!$U23,\"????????\"),7,1))","v":""},{"$f":"IF(入力用科目!$U23=\"\",\"\",MID(TEXT(入力用科目!$U23,\"????????\"),8,1))","v":""},null,{"$f":"IF(入力用科目!$AD23=\"\",\"\",MID(TEXT(入力用科目!$AD23,\"????????\"),1,1))","v":""},{"$f":"IF(入力用科目!$AD23=\"\",\"\",MID(TEXT(入力用科目!$AD23,\"????????\"),2,1))","v":""},{"$f":"IF(入力用科目!$AD23=\"\",\"\",MID(TEXT(入力用科目!$AD23,\"????????\"),3,1))","v":""},{"$f":"IF(入力用科目!$AD23=\"\",\"\",MID(TEXT(入力用科目!$AD23,\"????????\"),4,1))","v":""},{"$f":"IF(入力用科目!$AD23=\"\",\"\",MID(TEXT(入力用科目!$AD23,\"????????\"),5,1))","v":""},{"$f":"IF(入力用科目!$AD23=\"\",\"\",MID(TEXT(入力用科目!$AD23,\"????????\"),6,1))","v":""},{"$f":"IF(入力用科目!$AD23=\"\",\"\",MID(TEXT(入力用科目!$AD23,\"????????\"),7,1))","v":""},{"$f":"IF(入力用科目!$AD23=\"\",\"\",MID(TEXT(入力用科目!$AD23,\"????????\"),8,1))","v":""},null,{"$f":"IF(入力用科目!$AM23=\"\",\"\",MID(TEXT(入力用科目!$AM23,\"????????\"),1,1))","v":" "},{"$f":"IF(入力用科目!$AM23=\"\",\"\",MID(TEXT(入力用科目!$AM23,\"????????\"),2,1))","v":" "},{"$f":"IF(入力用科目!$AM23=\"\",\"\",MID(TEXT(入力用科目!$AM23,\"????????\"),3,1))","v":" "},{"$f":"IF(入力用科目!$AM23=\"\",\"\",MID(TEXT(入力用科目!$AM23,\"????????\"),4,1))","v":" "},{"$f":"IF(入力用科目!$AM23=\"\",\"\",MID(TEXT(入力用科目!$AM23,\"????????\"),5,1))","v":" "},{"$f":"IF(入力用科目!$AM23=\"\",\"\",MID(TEXT(入力用科目!$AM23,\"????????\"),6,1))","v":" "},{"$f":"IF(入力用科目!$AM23=\"\",\"\",MID(TEXT(入力用科目!$AM23,\"????????\"),7,1))","v":" "},{"$f":"IF(入力用科目!$AM23=\"\",\"\",MID(TEXT(入力用科目!$AM23,\"????????\"),8,1))","v":" "}]
[{"$f":"IF(入力用科目!A24=\"\",\"\",MID(TEXT(入力用科目!$A24,\"??\"),COLUMN(),1))","v":""},{"$f":"IF(入力用科目!A24=\"\",\"\",MID(TEXT(入力用科目!$A24,\"??\"),COLUMN(),1))","v":""},null,{"$f":"IF(入力用科目!$D24=\"\",\"\",MID(TEXT(入力用科目!$D24,\"???\"),1,1))","v":""},{"$f":"IF(入力用科目!$D24=\"\",\"\",MID(TEXT(入力用科目!$D24,\"???\"),2,1))","v":""},{"$f":"IF(入力用科目!$D24=\"\",\"\",MID(TEXT(入力用科目!$D24,\"???\"),3,1))","v":""},null,{"$f":"IF(入力用科目!$Q24=1,\"運送収入\",IF(入力用科目!$H24=\"\",\"\",入力用科目!$H24))","v":""},null,null,null,null,null,null,null,null,{"$f":"IF(入力用科目!$Q24=\"\",\"\",MID(TEXT(入力用科目!$Q24,\"???\"),1,1))","v":""},{"$f":"IF(入力用科目!$Q24=\"\",\"\",MID(TEXT(入力用科目!$Q24,\"???\"),2,1))","v":""},{"$f":"IF(入力用科目!$Q24=\"\",\"\",MID(TEXT(入力用科目!$Q24,\"???\"),3,1))","v":""},null,{"$f":"IF(入力用科目!$U24=\"\",\"\",MID(TEXT(入力用科目!$U24,\"????????\"),1,1))","v":""},{"$f":"IF(入力用科目!$U24=\"\",\"\",MID(TEXT(入力用科目!$U24,\"????????\"),2,1))","v":""},{"$f":"IF(入力用科目!$U24=\"\",\"\",MID(TEXT(入力用科目!$U24,\"????????\"),3,1))","v":""},{"$f":"IF(入力用科目!$U24=\"\",\"\",MID(TEXT(入力用科目!$U24,\"????????\"),4,1))","v":""},{"$f":"IF(入力用科目!$U24=\"\",\"\",MID(TEXT(入力用科目!$U24,\"????????\"),5,1))","v":""},{"$f":"IF(入力用科目!$U24=\"\",\"\",MID(TEXT(入力用科目!$U24,\"????????\"),6,1))","v":""},{"$f":"IF(入力用科目!$U24=\"\",\"\",MID(TEXT(入力用科目!$U24,\"????????\"),7,1))","v":""},{"$f":"IF(入力用科目!$U24=\"\",\"\",MID(TEXT(入力用科目!$U24,\"????????\"),8,1))","v":""},null,{"$f":"IF(入力用科目!$AD24=\"\",\"\",MID(TEXT(入力用科目!$AD24,\"????????\"),1,1))","v":""},{"$f":"IF(入力用科目!$AD24=\"\",\"\",MID(TEXT(入力用科目!$AD24,\"????????\"),2,1))","v":""},{"$f":"IF(入力用科目!$AD24=\"\",\"\",MID(TEXT(入力用科目!$AD24,\"????????\"),3,1))","v":""},{"$f":"IF(入力用科目!$AD24=\"\",\"\",MID(TEXT(入力用科目!$AD24,\"????????\"),4,1))","v":""},{"$f":"IF(入力用科目!$AD24=\"\",\"\",MID(TEXT(入力用科目!$AD24,\"????????\"),5,1))","v":""},{"$f":"IF(入力用科目!$AD24=\"\",\"\",MID(TEXT(入力用科目!$AD24,\"????????\"),6,1))","v":""},{"$f":"IF(入力用科目!$AD24=\"\",\"\",MID(TEXT(入力用科目!$AD24,\"????????\"),7,1))","v":""},{"$f":"IF(入力用科目!$AD24=\"\",\"\",MID(TEXT(入力用科目!$AD24,\"????????\"),8,1))","v":""},null,{"$f":"IF(入力用科目!$AM24=\"\",\"\",MID(TEXT(入力用科目!$AM24,\"????????\"),1,1))","v":" "},{"$f":"IF(入力用科目!$AM24=\"\",\"\",MID(TEXT(入力用科目!$AM24,\"????????\"),2,1))","v":" "},{"$f":"IF(入力用科目!$AM24=\"\",\"\",MID(TEXT(入力用科目!$AM24,\"????????\"),3,1))","v":" "},{"$f":"IF(入力用科目!$AM24=\"\",\"\",MID(TEXT(入力用科目!$AM24,\"????????\"),4,1))","v":" "},{"$f":"IF(入力用科目!$AM24=\"\",\"\",MID(TEXT(入力用科目!$AM24,\"????????\"),5,1))","v":" "},{"$f":"IF(入力用科目!$AM24=\"\",\"\",MID(TEXT(入力用科目!$AM24,\"????????\"),6,1))","v":" "},{"$f":"IF(入力用科目!$AM24=\"\",\"\",MID(TEXT(入力用科目!$AM24,\"????????\"),7,1))","v":" "},{"$f":"IF(入力用科目!$AM24=\"\",\"\",MID(TEXT(入力用科目!$AM24,\"????????\"),8,1))","v":" "}]
[{"$f":"IF(入力用科目!A25=\"\",\"\",MID(TEXT(入力用科目!$A25,\"??\"),COLUMN(),1))","v":""},{"$f":"IF(入力用科目!A25=\"\",\"\",MID(TEXT(入力用科目!$A25,\"??\"),COLUMN(),1))","v":""},null,{"$f":"IF(入力用科目!$D25=\"\",\"\",MID(TEXT(入力用科目!$D25,\"???\"),1,1))","v":""},{"$f":"IF(入力用科目!$D25=\"\",\"\",MID(TEXT(入力用科目!$D25,\"???\"),2,1))","v":""},{"$f":"IF(入力用科目!$D25=\"\",\"\",MID(TEXT(入力用科目!$D25,\"???\"),3,1))","v":""},null,{"$f":"IF(入力用科目!$Q25=1,\"運送収入\",IF(入力用科目!$H25=\"\",\"\",入力用科目!$H25))","v":""},null,null,null,null,null,null,null,null,{"$f":"IF(入力用科目!$Q25=\"\",\"\",MID(TEXT(入力用科目!$Q25,\"???\"),1,1))","v":""},{"$f":"IF(入力用科目!$Q25=\"\",\"\",MID(TEXT(入力用科目!$Q25,\"???\"),2,1))","v":""},{"$f":"IF(入力用科目!$Q25=\"\",\"\",MID(TEXT(入力用科目!$Q25,\"???\"),3,1))","v":""},null,{"$f":"IF(入力用科目!$U25=\"\",\"\",MID(TEXT(入力用科目!$U25,\"????????\"),1,1))","v":""},{"$f":"IF(入力用科目!$U25=\"\",\"\",MID(TEXT(入力用科目!$U25,\"????????\"),2,1))","v":""},{"$f":"IF(入力用科目!$U25=\"\",\"\",MID(TEXT(入力用科目!$U25,\"????????\"),3,1))","v":""},{"$f":"IF(入力用科目!$U25=\"\",\"\",MID(TEXT(入力用科目!$U25,\"????????\"),4,1))","v":""},{"$f":"IF(入力用科目!$U25=\"\",\"\",MID(TEXT(入力用科目!$U25,\"????????\"),5,1))","v":""},{"$f":"IF(入力用科目!$U25=\"\",\"\",MID(TEXT(入力用科目!$U25,\"????????\"),6,1))","v":""},{"$f":"IF(入力用科目!$U25=\"\",\"\",MID(TEXT(入力用科目!$U25,\"????????\"),7,1))","v":""},{"$f":"IF(入力用科目!$U25=\"\",\"\",MID(TEXT(入力用科目!$U25,\"????????\"),8,1))","v":""},null,{"$f":"IF(入力用科目!$AD25=\"\",\"\",MID(TEXT(入力用科目!$AD25,\"????????\"),1,1))","v":""},{"$f":"IF(入力用科目!$AD25=\"\",\"\",MID(TEXT(入力用科目!$AD25,\"????????\"),2,1))","v":""},{"$f":"IF(入力用科目!$AD25=\"\",\"\",MID(TEXT(入力用科目!$AD25,\"????????\"),3,1))","v":""},{"$f":"IF(入力用科目!$AD25=\"\",\"\",MID(TEXT(入力用科目!$AD25,\"????????\"),4,1))","v":""},{"$f":"IF(入力用科目!$AD25=\"\",\"\",MID(TEXT(入力用科目!$AD25,\"????????\"),5,1))","v":""},{"$f":"IF(入力用科目!$AD25=\"\",\"\",MID(TEXT(入力用科目!$AD25,\"????????\"),6,1))","v":""},{"$f":"IF(入力用科目!$AD25=\"\",\"\",MID(TEXT(入力用科目!$AD25,\"????????\"),7,1))","v":""},{"$f":"IF(入力用科目!$AD25=\"\",\"\",MID(TEXT(入力用科目!$AD25,\"????????\"),8,1))","v":""},null,{"$f":"IF(入力用科目!$AM25=\"\",\"\",MID(TEXT(入力用科目!$AM25,\"????????\"),1,1))","v":" "},{"$f":"IF(入力用科目!$AM25=\"\",\"\",MID(TEXT(入力用科目!$AM25,\"????????\"),2,1))","v":" "},{"$f":"IF(入力用科目!$AM25=\"\",\"\",MID(TEXT(入力用科目!$AM25,\"????????\"),3,1))","v":" "},{"$f":"IF(入力用科目!$AM25=\"\",\"\",MID(TEXT(入力用科目!$AM25,\"????????\"),4,1))","v":" "},{"$f":"IF(入力用科目!$AM25=\"\",\"\",MID(TEXT(入力用科目!$AM25,\"????????\"),5,1))","v":" "},{"$f":"IF(入力用科目!$AM25=\"\",\"\",MID(TEXT(入力用科目!$AM25,\"????????\"),6,1))","v":" "},{"$f":"IF(入力用科目!$AM25=\"\",\"\",MID(TEXT(入力用科目!$AM25,\"????????\"),7,1))","v":" "},{"$f":"IF(入力用科目!$AM25=\"\",\"\",MID(TEXT(入力用科目!$AM25,\"????????\"),8,1))","v":" "}]
[{"$f":"IF(入力用科目!A26=\"\",\"\",MID(TEXT(入力用科目!$A26,\"??\"),COLUMN(),1))","v":""},{"$f":"IF(入力用科目!A26=\"\",\"\",MID(TEXT(入力用科目!$A26,\"??\"),COLUMN(),1))","v":""},null,{"$f":"IF(入力用科目!$D26=\"\",\"\",MID(TEXT(入力用科目!$D26,\"???\"),1,1))","v":""},{"$f":"IF(入力用科目!$D26=\"\",\"\",MID(TEXT(入力用科目!$D26,\"???\"),2,1))","v":""},{"$f":"IF(入力用科目!$D26=\"\",\"\",MID(TEXT(入力用科目!$D26,\"???\"),3,1))","v":""},null,{"$f":"IF(入力用科目!$Q26=1,\"運送収入\",IF(入力用科目!$H26=\"\",\"\",入力用科目!$H26))","v":""},null,null,null,null,null,null,null,null,{"$f":"IF(入力用科目!$Q26=\"\",\"\",MID(TEXT(入力用科目!$Q26,\"???\"),1,1))","v":""},{"$f":"IF(入力用科目!$Q26=\"\",\"\",MID(TEXT(入力用科目!$Q26,\"???\"),2,1))","v":""},{"$f":"IF(入力用科目!$Q26=\"\",\"\",MID(TEXT(入力用科目!$Q26,\"???\"),3,1))","v":""},null,{"$f":"IF(入力用科目!$U26=\"\",\"\",MID(TEXT(入力用科目!$U26,\"????????\"),1,1))","v":""},{"$f":"IF(入力用科目!$U26=\"\",\"\",MID(TEXT(入力用科目!$U26,\"????????\"),2,1))","v":""},{"$f":"IF(入力用科目!$U26=\"\",\"\",MID(TEXT(入力用科目!$U26,\"????????\"),3,1))","v":""},{"$f":"IF(入力用科目!$U26=\"\",\"\",MID(TEXT(入力用科目!$U26,\"????????\"),4,1))","v":""},{"$f":"IF(入力用科目!$U26=\"\",\"\",MID(TEXT(入力用科目!$U26,\"????????\"),5,1))","v":""},{"$f":"IF(入力用科目!$U26=\"\",\"\",MID(TEXT(入力用科目!$U26,\"????????\"),6,1))","v":""},{"$f":"IF(入力用科目!$U26=\"\",\"\",MID(TEXT(入力用科目!$U26,\"????????\"),7,1))","v":""},{"$f":"IF(入力用科目!$U26=\"\",\"\",MID(TEXT(入力用科目!$U26,\"????????\"),8,1))","v":""},null,{"$f":"IF(入力用科目!$AD26=\"\",\"\",MID(TEXT(入力用科目!$AD26,\"????????\"),1,1))","v":""},{"$f":"IF(入力用科目!$AD26=\"\",\"\",MID(TEXT(入力用科目!$AD26,\"????????\"),2,1))","v":""},{"$f":"IF(入力用科目!$AD26=\"\",\"\",MID(TEXT(入力用科目!$AD26,\"????????\"),3,1))","v":""},{"$f":"IF(入力用科目!$AD26=\"\",\"\",MID(TEXT(入力用科目!$AD26,\"????????\"),4,1))","v":""},{"$f":"IF(入力用科目!$AD26=\"\",\"\",MID(TEXT(入力用科目!$AD26,\"????????\"),5,1))","v":""},{"$f":"IF(入力用科目!$AD26=\"\",\"\",MID(TEXT(入力用科目!$AD26,\"????????\"),6,1))","v":""},{"$f":"IF(入力用科目!$AD26=\"\",\"\",MID(TEXT(入力用科目!$AD26,\"????????\"),7,1))","v":""},{"$f":"IF(入力用科目!$AD26=\"\",\"\",MID(TEXT(入力用科目!$AD26,\"????????\"),8,1))","v":""},null,{"$f":"IF(入力用科目!$AM26=\"\",\"\",MID(TEXT(入力用科目!$AM26,\"????????\"),1,1))","v":" "},{"$f":"IF(入力用科目!$AM26=\"\",\"\",MID(TEXT(入力用科目!$AM26,\"????????\"),2,1))","v":" "},{"$f":"IF(入力用科目!$AM26=\"\",\"\",MID(TEXT(入力用科目!$AM26,\"????????\"),3,1))","v":" "},{"$f":"IF(入力用科目!$AM26=\"\",\"\",MID(TEXT(入力用科目!$AM26,\"????????\"),4,1))","v":" "},{"$f":"IF(入力用科目!$AM26=\"\",\"\",MID(TEXT(入力用科目!$AM26,\"????????\"),5,1))","v":" "},{"$f":"IF(入力用科目!$AM26=\"\",\"\",MID(TEXT(入力用科目!$AM26,\"????????\"),6,1))","v":" "},{"$f":"IF(入力用科目!$AM26=\"\",\"\",MID(TEXT(入力用科目!$AM26,\"????????\"),7,1))","v":" "},{"$f":"IF(入力用科目!$AM26=\"\",\"\",MID(TEXT(入力用科目!$AM26,\"????????\"),8,1))","v":" "}]
[{"$f":"IF(入力用科目!A27=\"\",\"\",MID(TEXT(入力用科目!$A27,\"??\"),COLUMN(),1))","v":""},{"$f":"IF(入力用科目!A27=\"\",\"\",MID(TEXT(入力用科目!$A27,\"??\"),COLUMN(),1))","v":""},null,{"$f":"IF(入力用科目!$D27=\"\",\"\",MID(TEXT(入力用科目!$D27,\"???\"),1,1))","v":""},{"$f":"IF(入力用科目!$D27=\"\",\"\",MID(TEXT(入力用科目!$D27,\"???\"),2,1))","v":""},{"$f":"IF(入力用科目!$D27=\"\",\"\",MID(TEXT(入力用科目!$D27,\"???\"),3,1))","v":""},null,{"$f":"IF(入力用科目!$Q27=1,\"運送収入\",IF(入力用科目!$H27=\"\",\"\",入力用科目!$H27))","v":""},null,null,null,null,null,null,null,null,{"$f":"IF(入力用科目!$Q27=\"\",\"\",MID(TEXT(入力用科目!$Q27,\"???\"),1,1))","v":""},{"$f":"IF(入力用科目!$Q27=\"\",\"\",MID(TEXT(入力用科目!$Q27,\"???\"),2,1))","v":""},{"$f":"IF(入力用科目!$Q27=\"\",\"\",MID(TEXT(入力用科目!$Q27,\"???\"),3,1))","v":""},null,{"$f":"IF(入力用科目!$U27=\"\",\"\",MID(TEXT(入力用科目!$U27,\"????????\"),1,1))","v":""},{"$f":"IF(入力用科目!$U27=\"\",\"\",MID(TEXT(入力用科目!$U27,\"????????\"),2,1))","v":""},{"$f":"IF(入力用科目!$U27=\"\",\"\",MID(TEXT(入力用科目!$U27,\"????????\"),3,1))","v":""},{"$f":"IF(入力用科目!$U27=\"\",\"\",MID(TEXT(入力用科目!$U27,\"????????\"),4,1))","v":""},{"$f":"IF(入力用科目!$U27=\"\",\"\",MID(TEXT(入力用科目!$U27,\"????????\"),5,1))","v":""},{"$f":"IF(入力用科目!$U27=\"\",\"\",MID(TEXT(入力用科目!$U27,\"????????\"),6,1))","v":""},{"$f":"IF(入力用科目!$U27=\"\",\"\",MID(TEXT(入力用科目!$U27,\"????????\"),7,1))","v":""},{"$f":"IF(入力用科目!$U27=\"\",\"\",MID(TEXT(入力用科目!$U27,\"????????\"),8,1))","v":""},null,{"$f":"IF(入力用科目!$AD27=\"\",\"\",MID(TEXT(入力用科目!$AD27,\"????????\"),1,1))","v":""},{"$f":"IF(入力用科目!$AD27=\"\",\"\",MID(TEXT(入力用科目!$AD27,\"????????\"),2,1))","v":""},{"$f":"IF(入力用科目!$AD27=\"\",\"\",MID(TEXT(入力用科目!$AD27,\"????????\"),3,1))","v":""},{"$f":"IF(入力用科目!$AD27=\"\",\"\",MID(TEXT(入力用科目!$AD27,\"????????\"),4,1))","v":""},{"$f":"IF(入力用科目!$AD27=\"\",\"\",MID(TEXT(入力用科目!$AD27,\"????????\"),5,1))","v":""},{"$f":"IF(入力用科目!$AD27=\"\",\"\",MID(TEXT(入力用科目!$AD27,\"????????\"),6,1))","v":""},{"$f":"IF(入力用科目!$AD27=\"\",\"\",MID(TEXT(入力用科目!$AD27,\"????????\"),7,1))","v":""},{"$f":"IF(入力用科目!$AD27=\"\",\"\",MID(TEXT(入力用科目!$AD27,\"????????\"),8,1))","v":""},null,{"$f":"IF(入力用科目!$AM27=\"\",\"\",MID(TEXT(入力用科目!$AM27,\"????????\"),1,1))","v":" "},{"$f":"IF(入力用科目!$AM27=\"\",\"\",MID(TEXT(入力用科目!$AM27,\"????????\"),2,1))","v":" "},{"$f":"IF(入力用科目!$AM27=\"\",\"\",MID(TEXT(入力用科目!$AM27,\"????????\"),3,1))","v":" "},{"$f":"IF(入力用科目!$AM27=\"\",\"\",MID(TEXT(入力用科目!$AM27,\"????????\"),4,1))","v":" "},{"$f":"IF(入力用科目!$AM27=\"\",\"\",MID(TEXT(入力用科目!$AM27,\"????????\"),5,1))","v":" "},{"$f":"IF(入力用科目!$AM27=\"\",\"\",MID(TEXT(入力用科目!$AM27,\"????????\"),6,1))","v":" "},{"$f":"IF(入力用科目!$AM27=\"\",\"\",MID(TEXT(入力用科目!$AM27,\"????????\"),7,1))","v":" "},{"$f":"IF(入力用科目!$AM27=\"\",\"\",MID(TEXT(入力用科目!$AM27,\"????????\"),8,1))","v":" "}]
[{"$f":"IF(入力用科目!A28=\"\",\"\",MID(TEXT(入力用科目!$A28,\"??\"),COLUMN(),1))","v":""},{"$f":"IF(入力用科目!A28=\"\",\"\",MID(TEXT(入力用科目!$A28,\"??\"),COLUMN(),1))","v":""},null,{"$f":"IF(入力用科目!$D28=\"\",\"\",MID(TEXT(入力用科目!$D28,\"???\"),1,1))","v":""},{"$f":"IF(入力用科目!$D28=\"\",\"\",MID(TEXT(入力用科目!$D28,\"???\"),2,1))","v":""},{"$f":"IF(入力用科目!$D28=\"\",\"\",MID(TEXT(入力用科目!$D28,\"???\"),3,1))","v":""},null,{"$f":"IF(入力用科目!$Q28=1,\"運送収入\",IF(入力用科目!$H28=\"\",\"\",入力用科目!$H28))","v":""},null,null,null,null,null,null,null,null,{"$f":"IF(入力用科目!$Q28=\"\",\"\",MID(TEXT(入力用科目!$Q28,\"???\"),1,1))","v":""},{"$f":"IF(入力用科目!$Q28=\"\",\"\",MID(TEXT(入力用科目!$Q28,\"???\"),2,1))","v":""},{"$f":"IF(入力用科目!$Q28=\"\",\"\",MID(TEXT(入力用科目!$Q28,\"???\"),3,1))","v":""},null,{"$f":"IF(入力用科目!$U28=\"\",\"\",MID(TEXT(入力用科目!$U28,\"????????\"),1,1))","v":""},{"$f":"IF(入力用科目!$U28=\"\",\"\",MID(TEXT(入力用科目!$U28,\"????????\"),2,1))","v":""},{"$f":"IF(入力用科目!$U28=\"\",\"\",MID(TEXT(入力用科目!$U28,\"????????\"),3,1))","v":""},{"$f":"IF(入力用科目!$U28=\"\",\"\",MID(TEXT(入力用科目!$U28,\"????????\"),4,1))","v":""},{"$f":"IF(入力用科目!$U28=\"\",\"\",MID(TEXT(入力用科目!$U28,\"????????\"),5,1))","v":""},{"$f":"IF(入力用科目!$U28=\"\",\"\",MID(TEXT(入力用科目!$U28,\"????????\"),6,1))","v":""},{"$f":"IF(入力用科目!$U28=\"\",\"\",MID(TEXT(入力用科目!$U28,\"????????\"),7,1))","v":""},{"$f":"IF(入力用科目!$U28=\"\",\"\",MID(TEXT(入力用科目!$U28,\"????????\"),8,1))","v":""},null,{"$f":"IF(入力用科目!$AD28=\"\",\"\",MID(TEXT(入力用科目!$AD28,\"????????\"),1,1))","v":""},{"$f":"IF(入力用科目!$AD28=\"\",\"\",MID(TEXT(入力用科目!$AD28,\"????????\"),2,1))","v":""},{"$f":"IF(入力用科目!$AD28=\"\",\"\",MID(TEXT(入力用科目!$AD28,\"????????\"),3,1))","v":""},{"$f":"IF(入力用科目!$AD28=\"\",\"\",MID(TEXT(入力用科目!$AD28,\"????????\"),4,1))","v":""},{"$f":"IF(入力用科目!$AD28=\"\",\"\",MID(TEXT(入力用科目!$AD28,\"????????\"),5,1))","v":""},{"$f":"IF(入力用科目!$AD28=\"\",\"\",MID(TEXT(入力用科目!$AD28,\"????????\"),6,1))","v":""},{"$f":"IF(入力用科目!$AD28=\"\",\"\",MID(TEXT(入力用科目!$AD28,\"????????\"),7,1))","v":""},{"$f":"IF(入力用科目!$AD28=\"\",\"\",MID(TEXT(入力用科目!$AD28,\"????????\"),8,1))","v":""},null,{"$f":"IF(入力用科目!$AM28=\"\",\"\",MID(TEXT(入力用科目!$AM28,\"????????\"),1,1))","v":" "},{"$f":"IF(入力用科目!$AM28=\"\",\"\",MID(TEXT(入力用科目!$AM28,\"????????\"),2,1))","v":" "},{"$f":"IF(入力用科目!$AM28=\"\",\"\",MID(TEXT(入力用科目!$AM28,\"????????\"),3,1))","v":" "},{"$f":"IF(入力用科目!$AM28=\"\",\"\",MID(TEXT(入力用科目!$AM28,\"????????\"),4,1))","v":" "},{"$f":"IF(入力用科目!$AM28=\"\",\"\",MID(TEXT(入力用科目!$AM28,\"????????\"),5,1))","v":" "},{"$f":"IF(入力用科目!$AM28=\"\",\"\",MID(TEXT(入力用科目!$AM28,\"????????\"),6,1))","v":" "},{"$f":"IF(入力用科目!$AM28=\"\",\"\",MID(TEXT(入力用科目!$AM28,\"????????\"),7,1))","v":" "},{"$f":"IF(入力用科目!$AM28=\"\",\"\",MID(TEXT(入力用科目!$AM28,\"????????\"),8,1))","v":" "}]
[{"$f":"IF(入力用科目!A29=\"\",\"\",MID(TEXT(入力用科目!$A29,\"??\"),COLUMN(),1))","v":""},{"$f":"IF(入力用科目!A29=\"\",\"\",MID(TEXT(入力用科目!$A29,\"??\"),COLUMN(),1))","v":""},null,{"$f":"IF(入力用科目!$D29=\"\",\"\",MID(TEXT(入力用科目!$D29,\"???\"),1,1))","v":""},{"$f":"IF(入力用科目!$D29=\"\",\"\",MID(TEXT(入力用科目!$D29,\"???\"),2,1))","v":""},{"$f":"IF(入力用科目!$D29=\"\",\"\",MID(TEXT(入力用科目!$D29,\"???\"),3,1))","v":""},null,{"$f":"IF(入力用科目!$Q29=1,\"運送収入\",IF(入力用科目!$H29=\"\",\"\",入力用科目!$H29))","v":""},null,null,null,null,null,null,null,null,{"$f":"IF(入力用科目!$Q29=\"\",\"\",MID(TEXT(入力用科目!$Q29,\"???\"),1,1))","v":""},{"$f":"IF(入力用科目!$Q29=\"\",\"\",MID(TEXT(入力用科目!$Q29,\"???\"),2,1))","v":""},{"$f":"IF(入力用科目!$Q29=\"\",\"\",MID(TEXT(入力用科目!$Q29,\"???\"),3,1))","v":""},null,{"$f":"IF(入力用科目!$U29=\"\",\"\",MID(TEXT(入力用科目!$U29,\"????????\"),1,1))","v":""},{"$f":"IF(入力用科目!$U29=\"\",\"\",MID(TEXT(入力用科目!$U29,\"????????\"),2,1))","v":""},{"$f":"IF(入力用科目!$U29=\"\",\"\",MID(TEXT(入力用科目!$U29,\"????????\"),3,1))","v":""},{"$f":"IF(入力用科目!$U29=\"\",\"\",MID(TEXT(入力用科目!$U29,\"????????\"),4,1))","v":""},{"$f":"IF(入力用科目!$U29=\"\",\"\",MID(TEXT(入力用科目!$U29,\"????????\"),5,1))","v":""},{"$f":"IF(入力用科目!$U29=\"\",\"\",MID(TEXT(入力用科目!$U29,\"????????\"),6,1))","v":""},{"$f":"IF(入力用科目!$U29=\"\",\"\",MID(TEXT(入力用科目!$U29,\"????????\"),7,1))","v":""},{"$f":"IF(入力用科目!$U29=\"\",\"\",MID(TEXT(入力用科目!$U29,\"????????\"),8,1))","v":""},null,{"$f":"IF(入力用科目!$AD29=\"\",\"\",MID(TEXT(入力用科目!$AD29,\"????????\"),1,1))","v":""},{"$f":"IF(入力用科目!$AD29=\"\",\"\",MID(TEXT(入力用科目!$AD29,\"????????\"),2,1))","v":""},{"$f":"IF(入力用科目!$AD29=\"\",\"\",MID(TEXT(入力用科目!$AD29,\"????????\"),3,1))","v":""},{"$f":"IF(入力用科目!$AD29=\"\",\"\",MID(TEXT(入力用科目!$AD29,\"????????\"),4,1))","v":""},{"$f":"IF(入力用科目!$AD29=\"\",\"\",MID(TEXT(入力用科目!$AD29,\"????????\"),5,1))","v":""},{"$f":"IF(入力用科目!$AD29=\"\",\"\",MID(TEXT(入力用科目!$AD29,\"????????\"),6,1))","v":""},{"$f":"IF(入力用科目!$AD29=\"\",\"\",MID(TEXT(入力用科目!$AD29,\"????????\"),7,1))","v":""},{"$f":"IF(入力用科目!$AD29=\"\",\"\",MID(TEXT(入力用科目!$AD29,\"????????\"),8,1))","v":""},null,{"$f":"IF(入力用科目!$AM29=\"\",\"\",MID(TEXT(入力用科目!$AM29,\"????????\"),1,1))","v":" "},{"$f":"IF(入力用科目!$AM29=\"\",\"\",MID(TEXT(入力用科目!$AM29,\"????????\"),2,1))","v":" "},{"$f":"IF(入力用科目!$AM29=\"\",\"\",MID(TEXT(入力用科目!$AM29,\"????????\"),3,1))","v":" "},{"$f":"IF(入力用科目!$AM29=\"\",\"\",MID(TEXT(入力用科目!$AM29,\"????????\"),4,1))","v":" "},{"$f":"IF(入力用科目!$AM29=\"\",\"\",MID(TEXT(入力用科目!$AM29,\"????????\"),5,1))","v":" "},{"$f":"IF(入力用科目!$AM29=\"\",\"\",MID(TEXT(入力用科目!$AM29,\"????????\"),6,1))","v":" "},{"$f":"IF(入力用科目!$AM29=\"\",\"\",MID(TEXT(入力用科目!$AM29,\"????????\"),7,1))","v":" "},{"$f":"IF(入力用科目!$AM29=\"\",\"\",MID(TEXT(入力用科目!$AM29,\"????????\"),8,1))","v":" "}]
[{"$f":"IF(入力用科目!A30=\"\",\"\",MID(TEXT(入力用科目!$A30,\"??\"),COLUMN(),1))","v":""},{"$f":"IF(入力用科目!A30=\"\",\"\",MID(TEXT(入力用科目!$A30,\"??\"),COLUMN(),1))","v":""},null,{"$f":"IF(入力用科目!$D30=\"\",\"\",MID(TEXT(入力用科目!$D30,\"???\"),1,1))","v":""},{"$f":"IF(入力用科目!$D30=\"\",\"\",MID(TEXT(入力用科目!$D30,\"???\"),2,1))","v":""},{"$f":"IF(入力用科目!$D30=\"\",\"\",MID(TEXT(入力用科目!$D30,\"???\"),3,1))","v":""},null,{"$f":"IF(入力用科目!$Q30=1,\"運送収入\",IF(入力用科目!$H30=\"\",\"\",入力用科目!$H30))","v":""},null,null,null,null,null,null,null,null,{"$f":"IF(入力用科目!$Q30=\"\",\"\",MID(TEXT(入力用科目!$Q30,\"???\"),1,1))","v":""},{"$f":"IF(入力用科目!$Q30=\"\",\"\",MID(TEXT(入力用科目!$Q30,\"???\"),2,1))","v":""},{"$f":"IF(入力用科目!$Q30=\"\",\"\",MID(TEXT(入力用科目!$Q30,\"???\"),3,1))","v":""},null,{"$f":"IF(入力用科目!$U30=\"\",\"\",MID(TEXT(入力用科目!$U30,\"????????\"),1,1))","v":""},{"$f":"IF(入力用科目!$U30=\"\",\"\",MID(TEXT(入力用科目!$U30,\"????????\"),2,1))","v":""},{"$f":"IF(入力用科目!$U30=\"\",\"\",MID(TEXT(入力用科目!$U30,\"????????\"),3,1))","v":""},{"$f":"IF(入力用科目!$U30=\"\",\"\",MID(TEXT(入力用科目!$U30,\"????????\"),4,1))","v":""},{"$f":"IF(入力用科目!$U30=\"\",\"\",MID(TEXT(入力用科目!$U30,\"????????\"),5,1))","v":""},{"$f":"IF(入力用科目!$U30=\"\",\"\",MID(TEXT(入力用科目!$U30,\"????????\"),6,1))","v":""},{"$f":"IF(入力用科目!$U30=\"\",\"\",MID(TEXT(入力用科目!$U30,\"????????\"),7,1))","v":""},{"$f":"IF(入力用科目!$U30=\"\",\"\",MID(TEXT(入力用科目!$U30,\"????????\"),8,1))","v":""},null,{"$f":"IF(入力用科目!$AD30=\"\",\"\",MID(TEXT(入力用科目!$AD30,\"????????\"),1,1))","v":""},{"$f":"IF(入力用科目!$AD30=\"\",\"\",MID(TEXT(入力用科目!$AD30,\"????????\"),2,1))","v":""},{"$f":"IF(入力用科目!$AD30=\"\",\"\",MID(TEXT(入力用科目!$AD30,\"????????\"),3,1))","v":""},{"$f":"IF(入力用科目!$AD30=\"\",\"\",MID(TEXT(入力用科目!$AD30,\"????????\"),4,1))","v":""},{"$f":"IF(入力用科目!$AD30=\"\",\"\",MID(TEXT(入力用科目!$AD30,\"????????\"),5,1))","v":""},{"$f":"IF(入力用科目!$AD30=\"\",\"\",MID(TEXT(入力用科目!$AD30,\"????????\"),6,1))","v":""},{"$f":"IF(入力用科目!$AD30=\"\",\"\",MID(TEXT(入力用科目!$AD30,\"????????\"),7,1))","v":""},{"$f":"IF(入力用科目!$AD30=\"\",\"\",MID(TEXT(入力用科目!$AD30,\"????????\"),8,1))","v":""},null,{"$f":"IF(入力用科目!$AM30=\"\",\"\",MID(TEXT(入力用科目!$AM30,\"????????\"),1,1))","v":" "},{"$f":"IF(入力用科目!$AM30=\"\",\"\",MID(TEXT(入力用科目!$AM30,\"????????\"),2,1))","v":" "},{"$f":"IF(入力用科目!$AM30=\"\",\"\",MID(TEXT(入力用科目!$AM30,\"????????\"),3,1))","v":" "},{"$f":"IF(入力用科目!$AM30=\"\",\"\",MID(TEXT(入力用科目!$AM30,\"????????\"),4,1))","v":" "},{"$f":"IF(入力用科目!$AM30=\"\",\"\",MID(TEXT(入力用科目!$AM30,\"????????\"),5,1))","v":" "},{"$f":"IF(入力用科目!$AM30=\"\",\"\",MID(TEXT(入力用科目!$AM30,\"????????\"),6,1))","v":" "},{"$f":"IF(入力用科目!$AM30=\"\",\"\",MID(TEXT(入力用科目!$AM30,\"????????\"),7,1))","v":" "},{"$f":"IF(入力用科目!$AM30=\"\",\"\",MID(TEXT(入力用科目!$AM30,\"????????\"),8,1))","v":" "}]
[{"$f":"IF(入力用科目!A31=\"\",\"\",MID(TEXT(入力用科目!$A31,\"??\"),COLUMN(),1))","v":""},{"$f":"IF(入力用科目!A31=\"\",\"\",MID(TEXT(入力用科目!$A31,\"??\"),COLUMN(),1))","v":""},null,{"$f":"IF(入力用科目!$D31=\"\",\"\",MID(TEXT(入力用科目!$D31,\"???\"),1,1))","v":""},{"$f":"IF(入力用科目!$D31=\"\",\"\",MID(TEXT(入力用科目!$D31,\"???\"),2,1))","v":""},{"$f":"IF(入力用科目!$D31=\"\",\"\",MID(TEXT(入力用科目!$D31,\"???\"),3,1))","v":""},null,{"$f":"IF(入力用科目!$Q31=1,\"運送収入\",IF(入力用科目!$H31=\"\",\"\",入力用科目!$H31))","v":""},null,null,null,null,null,null,null,null,{"$f":"IF(入力用科目!$Q31=\"\",\"\",MID(TEXT(入力用科目!$Q31,\"???\"),1,1))","v":""},{"$f":"IF(入力用科目!$Q31=\"\",\"\",MID(TEXT(入力用科目!$Q31,\"???\"),2,1))","v":""},{"$f":"IF(入力用科目!$Q31=\"\",\"\",MID(TEXT(入力用科目!$Q31,\"???\"),3,1))","v":""},null,{"$f":"IF(入力用科目!$U31=\"\",\"\",MID(TEXT(入力用科目!$U31,\"????????\"),1,1))","v":""},{"$f":"IF(入力用科目!$U31=\"\",\"\",MID(TEXT(入力用科目!$U31,\"????????\"),2,1))","v":""},{"$f":"IF(入力用科目!$U31=\"\",\"\",MID(TEXT(入力用科目!$U31,\"????????\"),3,1))","v":""},{"$f":"IF(入力用科目!$U31=\"\",\"\",MID(TEXT(入力用科目!$U31,\"????????\"),4,1))","v":""},{"$f":"IF(入力用科目!$U31=\"\",\"\",MID(TEXT(入力用科目!$U31,\"????????\"),5,1))","v":""},{"$f":"IF(入力用科目!$U31=\"\",\"\",MID(TEXT(入力用科目!$U31,\"????????\"),6,1))","v":""},{"$f":"IF(入力用科目!$U31=\"\",\"\",MID(TEXT(入力用科目!$U31,\"????????\"),7,1))","v":""},{"$f":"IF(入力用科目!$U31=\"\",\"\",MID(TEXT(入力用科目!$U31,\"????????\"),8,1))","v":""},null,{"$f":"IF(入力用科目!$AD31=\"\",\"\",MID(TEXT(入力用科目!$AD31,\"????????\"),1,1))","v":""},{"$f":"IF(入力用科目!$AD31=\"\",\"\",MID(TEXT(入力用科目!$AD31,\"????????\"),2,1))","v":""},{"$f":"IF(入力用科目!$AD31=\"\",\"\",MID(TEXT(入力用科目!$AD31,\"????????\"),3,1))","v":""},{"$f":"IF(入力用科目!$AD31=\"\",\"\",MID(TEXT(入力用科目!$AD31,\"????????\"),4,1))","v":""},{"$f":"IF(入力用科目!$AD31=\"\",\"\",MID(TEXT(入力用科目!$AD31,\"????????\"),5,1))","v":""},{"$f":"IF(入力用科目!$AD31=\"\",\"\",MID(TEXT(入力用科目!$AD31,\"????????\"),6,1))","v":""},{"$f":"IF(入力用科目!$AD31=\"\",\"\",MID(TEXT(入力用科目!$AD31,\"????????\"),7,1))","v":""},{"$f":"IF(入力用科目!$AD31=\"\",\"\",MID(TEXT(入力用科目!$AD31,\"????????\"),8,1))","v":""},null,{"$f":"IF(入力用科目!$AM31=\"\",\"\",MID(TEXT(入力用科目!$AM31,\"????????\"),1,1))","v":" "},{"$f":"IF(入力用科目!$AM31=\"\",\"\",MID(TEXT(入力用科目!$AM31,\"????????\"),2,1))","v":" "},{"$f":"IF(入力用科目!$AM31=\"\",\"\",MID(TEXT(入力用科目!$AM31,\"????????\"),3,1))","v":" "},{"$f":"IF(入力用科目!$AM31=\"\",\"\",MID(TEXT(入力用科目!$AM31,\"????????\"),4,1))","v":" "},{"$f":"IF(入力用科目!$AM31=\"\",\"\",MID(TEXT(入力用科目!$AM31,\"????????\"),5,1))","v":" "},{"$f":"IF(入力用科目!$AM31=\"\",\"\",MID(TEXT(入力用科目!$AM31,\"????????\"),6,1))","v":" "},{"$f":"IF(入力用科目!$AM31=\"\",\"\",MID(TEXT(入力用科目!$AM31,\"????????\"),7,1))","v":" "},{"$f":"IF(入力用科目!$AM31=\"\",\"\",MID(TEXT(入力用科目!$AM31,\"????????\"),8,1))","v":" "}]
[{"$f":"IF(入力用科目!A32=\"\",\"\",MID(TEXT(入力用科目!$A32,\"??\"),COLUMN(),1))","v":""},{"$f":"IF(入力用科目!A32=\"\",\"\",MID(TEXT(入力用科目!$A32,\"??\"),COLUMN(),1))","v":""},null,{"$f":"IF(入力用科目!$D32=\"\",\"\",MID(TEXT(入力用科目!$D32,\"???\"),1,1))","v":""},{"$f":"IF(入力用科目!$D32=\"\",\"\",MID(TEXT(入力用科目!$D32,\"???\"),2,1))","v":""},{"$f":"IF(入力用科目!$D32=\"\",\"\",MID(TEXT(入力用科目!$D32,\"???\"),3,1))","v":""},null,{"$f":"IF(入力用科目!$Q32=1,\"運送収入\",IF(入力用科目!$H32=\"\",\"\",入力用科目!$H32))","v":""},null,null,null,null,null,null,null,null,{"$f":"IF(入力用科目!$Q32=\"\",\"\",MID(TEXT(入力用科目!$Q32,\"???\"),1,1))","v":""},{"$f":"IF(入力用科目!$Q32=\"\",\"\",MID(TEXT(入力用科目!$Q32,\"???\"),2,1))","v":""},{"$f":"IF(入力用科目!$Q32=\"\",\"\",MID(TEXT(入力用科目!$Q32,\"???\"),3,1))","v":""},null,{"$f":"IF(入力用科目!$U32=\"\",\"\",MID(TEXT(入力用科目!$U32,\"????????\"),1,1))","v":""},{"$f":"IF(入力用科目!$U32=\"\",\"\",MID(TEXT(入力用科目!$U32,\"????????\"),2,1))","v":""},{"$f":"IF(入力用科目!$U32=\"\",\"\",MID(TEXT(入力用科目!$U32,\"????????\"),3,1))","v":""},{"$f":"IF(入力用科目!$U32=\"\",\"\",MID(TEXT(入力用科目!$U32,\"????????\"),4,1))","v":""},{"$f":"IF(入力用科目!$U32=\"\",\"\",MID(TEXT(入力用科目!$U32,\"????????\"),5,1))","v":""},{"$f":"IF(入力用科目!$U32=\"\",\"\",MID(TEXT(入力用科目!$U32,\"????????\"),6,1))","v":""},{"$f":"IF(入力用科目!$U32=\"\",\"\",MID(TEXT(入力用科目!$U32,\"????????\"),7,1))","v":""},{"$f":"IF(入力用科目!$U32=\"\",\"\",MID(TEXT(入力用科目!$U32,\"????????\"),8,1))","v":""},null,{"$f":"IF(入力用科目!$AD32=\"\",\"\",MID(TEXT(入力用科目!$AD32,\"????????\"),1,1))","v":""},{"$f":"IF(入力用科目!$AD32=\"\",\"\",MID(TEXT(入力用科目!$AD32,\"????????\"),2,1))","v":""},{"$f":"IF(入力用科目!$AD32=\"\",\"\",MID(TEXT(入力用科目!$AD32,\"????????\"),3,1))","v":""},{"$f":"IF(入力用科目!$AD32=\"\",\"\",MID(TEXT(入力用科目!$AD32,\"????????\"),4,1))","v":""},{"$f":"IF(入力用科目!$AD32=\"\",\"\",MID(TEXT(入力用科目!$AD32,\"????????\"),5,1))","v":""},{"$f":"IF(入力用科目!$AD32=\"\",\"\",MID(TEXT(入力用科目!$AD32,\"????????\"),6,1))","v":""},{"$f":"IF(入力用科目!$AD32=\"\",\"\",MID(TEXT(入力用科目!$AD32,\"????????\"),7,1))","v":""},{"$f":"IF(入力用科目!$AD32=\"\",\"\",MID(TEXT(入力用科目!$AD32,\"????????\"),8,1))","v":""},null,{"$f":"IF(入力用科目!$AM32=\"\",\"\",MID(TEXT(入力用科目!$AM32,\"????????\"),1,1))","v":" "},{"$f":"IF(入力用科目!$AM32=\"\",\"\",MID(TEXT(入力用科目!$AM32,\"????????\"),2,1))","v":" "},{"$f":"IF(入力用科目!$AM32=\"\",\"\",MID(TEXT(入力用科目!$AM32,\"????????\"),3,1))","v":" "},{"$f":"IF(入力用科目!$AM32=\"\",\"\",MID(TEXT(入力用科目!$AM32,\"????????\"),4,1))","v":" "},{"$f":"IF(入力用科目!$AM32=\"\",\"\",MID(TEXT(入力用科目!$AM32,\"????????\"),5,1))","v":" "},{"$f":"IF(入力用科目!$AM32=\"\",\"\",MID(TEXT(入力用科目!$AM32,\"????????\"),6,1))","v":" "},{"$f":"IF(入力用科目!$AM32=\"\",\"\",MID(TEXT(入力用科目!$AM32,\"????????\"),7,1))","v":" "},{"$f":"IF(入力用科目!$AM32=\"\",\"\",MID(TEXT(入力用科目!$AM32,\"????????\"),8,1))","v":" "}]
[{"$f":"IF(入力用科目!A33=\"\",\"\",MID(TEXT(入力用科目!$A33,\"??\"),COLUMN(),1))","v":""},{"$f":"IF(入力用科目!A33=\"\",\"\",MID(TEXT(入力用科目!$A33,\"??\"),COLUMN(),1))","v":""},null,{"$f":"IF(入力用科目!$D33=\"\",\"\",MID(TEXT(入力用科目!$D33,\"???\"),1,1))","v":""},{"$f":"IF(入力用科目!$D33=\"\",\"\",MID(TEXT(入力用科目!$D33,\"???\"),2,1))","v":""},{"$f":"IF(入力用科目!$D33=\"\",\"\",MID(TEXT(入力用科目!$D33,\"???\"),3,1))","v":""},null,{"$f":"IF(入力用科目!$Q33=1,\"運送収入\",IF(入力用科目!$H33=\"\",\"\",入力用科目!$H33))","v":""},null,null,null,null,null,null,null,null,{"$f":"IF(入力用科目!$Q33=\"\",\"\",MID(TEXT(入力用科目!$Q33,\"???\"),1,1))","v":""},{"$f":"IF(入力用科目!$Q33=\"\",\"\",MID(TEXT(入力用科目!$Q33,\"???\"),2,1))","v":""},{"$f":"IF(入力用科目!$Q33=\"\",\"\",MID(TEXT(入力用科目!$Q33,\"???\"),3,1))","v":""},null,{"$f":"IF(入力用科目!$U33=\"\",\"\",MID(TEXT(入力用科目!$U33,\"????????\"),1,1))","v":""},{"$f":"IF(入力用科目!$U33=\"\",\"\",MID(TEXT(入力用科目!$U33,\"????????\"),2,1))","v":""},{"$f":"IF(入力用科目!$U33=\"\",\"\",MID(TEXT(入力用科目!$U33,\"????????\"),3,1))","v":""},{"$f":"IF(入力用科目!$U33=\"\",\"\",MID(TEXT(入力用科目!$U33,\"????????\"),4,1))","v":""},{"$f":"IF(入力用科目!$U33=\"\",\"\",MID(TEXT(入力用科目!$U33,\"????????\"),5,1))","v":""},{"$f":"IF(入力用科目!$U33=\"\",\"\",MID(TEXT(入力用科目!$U33,\"????????\"),6,1))","v":""},{"$f":"IF(入力用科目!$U33=\"\",\"\",MID(TEXT(入力用科目!$U33,\"????????\"),7,1))","v":""},{"$f":"IF(入力用科目!$U33=\"\",\"\",MID(TEXT(入力用科目!$U33,\"????????\"),8,1))","v":""},null,{"$f":"IF(入力用科目!$AD33=\"\",\"\",MID(TEXT(入力用科目!$AD33,\"????????\"),1,1))","v":""},{"$f":"IF(入力用科目!$AD33=\"\",\"\",MID(TEXT(入力用科目!$AD33,\"????????\"),2,1))","v":""},{"$f":"IF(入力用科目!$AD33=\"\",\"\",MID(TEXT(入力用科目!$AD33,\"????????\"),3,1))","v":""},{"$f":"IF(入力用科目!$AD33=\"\",\"\",MID(TEXT(入力用科目!$AD33,\"????????\"),4,1))","v":""},{"$f":"IF(入力用科目!$AD33=\"\",\"\",MID(TEXT(入力用科目!$AD33,\"????????\"),5,1))","v":""},{"$f":"IF(入力用科目!$AD33=\"\",\"\",MID(TEXT(入力用科目!$AD33,\"????????\"),6,1))","v":""},{"$f":"IF(入力用科目!$AD33=\"\",\"\",MID(TEXT(入力用科目!$AD33,\"????????\"),7,1))","v":""},{"$f":"IF(入力用科目!$AD33=\"\",\"\",MID(TEXT(入力用科目!$AD33,\"????????\"),8,1))","v":""},null,{"$f":"IF(入力用科目!$AM33=\"\",\"\",MID(TEXT(入力用科目!$AM33,\"????????\"),1,1))","v":" "},{"$f":"IF(入力用科目!$AM33=\"\",\"\",MID(TEXT(入力用科目!$AM33,\"????????\"),2,1))","v":" "},{"$f":"IF(入力用科目!$AM33=\"\",\"\",MID(TEXT(入力用科目!$AM33,\"????????\"),3,1))","v":" "},{"$f":"IF(入力用科目!$AM33=\"\",\"\",MID(TEXT(入力用科目!$AM33,\"????????\"),4,1))","v":" "},{"$f":"IF(入力用科目!$AM33=\"\",\"\",MID(TEXT(入力用科目!$AM33,\"????????\"),5,1))","v":" "},{"$f":"IF(入力用科目!$AM33=\"\",\"\",MID(TEXT(入力用科目!$AM33,\"????????\"),6,1))","v":" "},{"$f":"IF(入力用科目!$AM33=\"\",\"\",MID(TEXT(入力用科目!$AM33,\"????????\"),7,1))","v":" "},{"$f":"IF(入力用科目!$AM33=\"\",\"\",MID(TEXT(入力用科目!$AM33,\"????????\"),8,1))","v":" "}]
[{"$f":"IF(入力用科目!A34=\"\",\"\",MID(TEXT(入力用科目!$A34,\"??\"),COLUMN(),1))","v":""},{"$f":"IF(入力用科目!A34=\"\",\"\",MID(TEXT(入力用科目!$A34,\"??\"),COLUMN(),1))","v":""},null,{"$f":"IF(入力用科目!$D34=\"\",\"\",MID(TEXT(入力用科目!$D34,\"???\"),1,1))","v":""},{"$f":"IF(入力用科目!$D34=\"\",\"\",MID(TEXT(入力用科目!$D34,\"???\"),2,1))","v":""},{"$f":"IF(入力用科目!$D34=\"\",\"\",MID(TEXT(入力用科目!$D34,\"???\"),3,1))","v":""},null,{"$f":"IF(入力用科目!H34=\"\",\"\",入力用科目!H34)","v":""},null,null,null,null,null,null,null,null,{"$f":"IF(入力用科目!$Q34=\"\",\"\",MID(TEXT(入力用科目!$Q34,\"???\"),1,1))","v":""},{"$f":"IF(入力用科目!$Q34=\"\",\"\",MID(TEXT(入力用科目!$Q34,\"???\"),2,1))","v":""},{"$f":"IF(入力用科目!$Q34=\"\",\"\",MID(TEXT(入力用科目!$Q34,\"???\"),3,1))","v":""},null,{"$f":"IF(入力用科目!$U34=\"\",\"\",MID(TEXT(入力用科目!$U34,\"????????\"),1,1))","v":""},{"$f":"IF(入力用科目!$U34=\"\",\"\",MID(TEXT(入力用科目!$U34,\"????????\"),2,1))","v":""},{"$f":"IF(入力用科目!$U34=\"\",\"\",MID(TEXT(入力用科目!$U34,\"????????\"),3,1))","v":""},{"$f":"IF(入力用科目!$U34=\"\",\"\",MID(TEXT(入力用科目!$U34,\"????????\"),4,1))","v":""},{"$f":"IF(入力用科目!$U34=\"\",\"\",MID(TEXT(入力用科目!$U34,\"????????\"),5,1))","v":""},{"$f":"IF(入力用科目!$U34=\"\",\"\",MID(TEXT(入力用科目!$U34,\"????????\"),6,1))","v":""},{"$f":"IF(入力用科目!$U34=\"\",\"\",MID(TEXT(入力用科目!$U34,\"????????\"),7,1))","v":""},{"$f":"IF(入力用科目!$U34=\"\",\"\",MID(TEXT(入力用科目!$U34,\"????????\"),8,1))","v":""},null,{"$f":"IF(入力用科目!$AD34=\"\",\"\",MID(TEXT(入力用科目!$AD34,\"????????\"),1,1))","v":""},{"$f":"IF(入力用科目!$AD34=\"\",\"\",MID(TEXT(入力用科目!$AD34,\"????????\"),2,1))","v":""},{"$f":"IF(入力用科目!$AD34=\"\",\"\",MID(TEXT(入力用科目!$AD34,\"????????\"),3,1))","v":""},{"$f":"IF(入力用科目!$AD34=\"\",\"\",MID(TEXT(入力用科目!$AD34,\"????????\"),4,1))","v":""},{"$f":"IF(入力用科目!$AD34=\"\",\"\",MID(TEXT(入力用科目!$AD34,\"????????\"),5,1))","v":""},{"$f":"IF(入力用科目!$AD34=\"\",\"\",MID(TEXT(入力用科目!$AD34,\"????????\"),6,1))","v":""},{"$f":"IF(入力用科目!$AD34=\"\",\"\",MID(TEXT(入力用科目!$AD34,\"????????\"),7,1))","v":""},{"$f":"IF(入力用科目!$AD34=\"\",\"\",MID(TEXT(入力用科目!$AD34,\"????????\"),8,1))","v":""},null,{"$f":"IF(入力用科目!$AM34=\"\",\"\",MID(TEXT(入力用科目!$AM34,\"????????\"),1,1))","v":" "},{"$f":"IF(入力用科目!$AM34=\"\",\"\",MID(TEXT(入力用科目!$AM34,\"????????\"),2,1))","v":" "},{"$f":"IF(入力用科目!$AM34=\"\",\"\",MID(TEXT(入力用科目!$AM34,\"????????\"),3,1))","v":" "},{"$f":"IF(入力用科目!$AM34=\"\",\"\",MID(TEXT(入力用科目!$AM34,\"????????\"),4,1))","v":" "},{"$f":"IF(入力用科目!$AM34=\"\",\"\",MID(TEXT(入力用科目!$AM34,\"????????\"),5,1))","v":" "},{"$f":"IF(入力用科目!$AM34=\"\",\"\",MID(TEXT(入力用科目!$AM34,\"????????\"),6,1))","v":" "},{"$f":"IF(入力用科目!$AM34=\"\",\"\",MID(TEXT(入力用科目!$AM34,\"????????\"),7,1))","v":" "},{"$f":"IF(入力用科目!$AM34=\"\",\"\",MID(TEXT(入力用科目!$AM34,\"????????\"),8,1))","v":" "}]
[{"$f":"IF(入力用科目!A35=\"\",\"\",MID(TEXT(入力用科目!$A35,\"??\"),COLUMN(),1))","v":""},{"$f":"IF(入力用科目!A35=\"\",\"\",MID(TEXT(入力用科目!$A35,\"??\"),COLUMN(),1))","v":""},null,{"$f":"IF(入力用科目!$D35=\"\",\"\",MID(TEXT(入力用科目!$D35,\"???\"),1,1))","v":""},{"$f":"IF(入力用科目!$D35=\"\",\"\",MID(TEXT(入力用科目!$D35,\"???\"),2,1))","v":""},{"$f":"IF(入力用科目!$D35=\"\",\"\",MID(TEXT(入力用科目!$D35,\"???\"),3,1))","v":""},null,{"$f":"IF(入力用科目!H35=\"\",\"\",入力用科目!H35)","v":""},null,null,null,null,null,null,null,null,{"$f":"IF(入力用科目!$Q35=\"\",\"\",MID(TEXT(入力用科目!$Q35,\"???\"),1,1))","v":""},{"$f":"IF(入力用科目!$Q35=\"\",\"\",MID(TEXT(入力用科目!$Q35,\"???\"),2,1))","v":""},{"$f":"IF(入力用科目!$Q35=\"\",\"\",MID(TEXT(入力用科目!$Q35,\"???\"),3,1))","v":""},null,{"$f":"IF(入力用科目!$U35=\"\",\"\",MID(TEXT(入力用科目!$U35,\"????????\"),1,1))","v":""},{"$f":"IF(入力用科目!$U35=\"\",\"\",MID(TEXT(入力用科目!$U35,\"????????\"),2,1))","v":""},{"$f":"IF(入力用科目!$U35=\"\",\"\",MID(TEXT(入力用科目!$U35,\"????????\"),3,1))","v":""},{"$f":"IF(入力用科目!$U35=\"\",\"\",MID(TEXT(入力用科目!$U35,\"????????\"),4,1))","v":""},{"$f":"IF(入力用科目!$U35=\"\",\"\",MID(TEXT(入力用科目!$U35,\"????????\"),5,1))","v":""},{"$f":"IF(入力用科目!$U35=\"\",\"\",MID(TEXT(入力用科目!$U35,\"????????\"),6,1))","v":""},{"$f":"IF(入力用科目!$U35=\"\",\"\",MID(TEXT(入力用科目!$U35,\"????????\"),7,1))","v":""},{"$f":"IF(入力用科目!$U35=\"\",\"\",MID(TEXT(入力用科目!$U35,\"????????\"),8,1))","v":""},null,{"$f":"IF(入力用科目!$AD35=\"\",\"\",MID(TEXT(入力用科目!$AD35,\"????????\"),1,1))","v":""},{"$f":"IF(入力用科目!$AD35=\"\",\"\",MID(TEXT(入力用科目!$AD35,\"????????\"),2,1))","v":""},{"$f":"IF(入力用科目!$AD35=\"\",\"\",MID(TEXT(入力用科目!$AD35,\"????????\"),3,1))","v":""},{"$f":"IF(入力用科目!$AD35=\"\",\"\",MID(TEXT(入力用科目!$AD35,\"????????\"),4,1))","v":""},{"$f":"IF(入力用科目!$AD35=\"\",\"\",MID(TEXT(入力用科目!$AD35,\"????????\"),5,1))","v":""},{"$f":"IF(入力用科目!$AD35=\"\",\"\",MID(TEXT(入力用科目!$AD35,\"????????\"),6,1))","v":""},{"$f":"IF(入力用科目!$AD35=\"\",\"\",MID(TEXT(入力用科目!$AD35,\"????????\"),7,1))","v":""},{"$f":"IF(入力用科目!$AD35=\"\",\"\",MID(TEXT(入力用科目!$AD35,\"????????\"),8,1))","v":""},null,{"$f":"IF(入力用科目!$AM35=\"\",\"\",MID(TEXT(入力用科目!$AM35,\"????????\"),1,1))","v":" "},{"$f":"IF(入力用科目!$AM35=\"\",\"\",MID(TEXT(入力用科目!$AM35,\"????????\"),2,1))","v":" "},{"$f":"IF(入力用科目!$AM35=\"\",\"\",MID(TEXT(入力用科目!$AM35,\"????????\"),3,1))","v":" "},{"$f":"IF(入力用科目!$AM35=\"\",\"\",MID(TEXT(入力用科目!$AM35,\"????????\"),4,1))","v":" "},{"$f":"IF(入力用科目!$AM35=\"\",\"\",MID(TEXT(入力用科目!$AM35,\"????????\"),5,1))","v":" "},{"$f":"IF(入力用科目!$AM35=\"\",\"\",MID(TEXT(入力用科目!$AM35,\"????????\"),6,1))","v":" "},{"$f":"IF(入力用科目!$AM35=\"\",\"\",MID(TEXT(入力用科目!$AM35,\"????????\"),7,1))","v":" "},{"$f":"IF(入力用科目!$AM35=\"\",\"\",MID(TEXT(入力用科目!$AM35,\"????????\"),8,1))","v":" "}]
[{"$f":"IF(入力用科目!A36=\"\",\"\",MID(TEXT(入力用科目!$A36,\"??\"),COLUMN(),1))","v":""},{"$f":"IF(入力用科目!A36=\"\",\"\",MID(TEXT(入力用科目!$A36,\"??\"),COLUMN(),1))","v":""},null,{"$f":"IF(入力用科目!$D36=\"\",\"\",MID(TEXT(入力用科目!$D36,\"???\"),1,1))","v":""},{"$f":"IF(入力用科目!$D36=\"\",\"\",MID(TEXT(入力用科目!$D36,\"???\"),2,1))","v":""},{"$f":"IF(入力用科目!$D36=\"\",\"\",MID(TEXT(入力用科目!$D36,\"???\"),3,1))","v":""},null,{"$f":"IF(入力用科目!H36=\"\",\"\",入力用科目!H36)","v":""},null,null,null,null,null,null,null,null,{"$f":"IF(入力用科目!$Q36=\"\",\"\",MID(TEXT(入力用科目!$Q36,\"???\"),1,1))","v":""},{"$f":"IF(入力用科目!$Q36=\"\",\"\",MID(TEXT(入力用科目!$Q36,\"???\"),2,1))","v":""},{"$f":"IF(入力用科目!$Q36=\"\",\"\",MID(TEXT(入力用科目!$Q36,\"???\"),3,1))","v":""},null,{"$f":"IF(入力用科目!$U36=\"\",\"\",MID(TEXT(入力用科目!$U36,\"????????\"),1,1))","v":""},{"$f":"IF(入力用科目!$U36=\"\",\"\",MID(TEXT(入力用科目!$U36,\"????????\"),2,1))","v":""},{"$f":"IF(入力用科目!$U36=\"\",\"\",MID(TEXT(入力用科目!$U36,\"????????\"),3,1))","v":""},{"$f":"IF(入力用科目!$U36=\"\",\"\",MID(TEXT(入力用科目!$U36,\"????????\"),4,1))","v":""},{"$f":"IF(入力用科目!$U36=\"\",\"\",MID(TEXT(入力用科目!$U36,\"????????\"),5,1))","v":""},{"$f":"IF(入力用科目!$U36=\"\",\"\",MID(TEXT(入力用科目!$U36,\"????????\"),6,1))","v":""},{"$f":"IF(入力用科目!$U36=\"\",\"\",MID(TEXT(入力用科目!$U36,\"????????\"),7,1))","v":""},{"$f":"IF(入力用科目!$U36=\"\",\"\",MID(TEXT(入力用科目!$U36,\"????????\"),8,1))","v":""},null,{"$f":"IF(入力用科目!$AD36=\"\",\"\",MID(TEXT(入力用科目!$AD36,\"????????\"),1,1))","v":""},{"$f":"IF(入力用科目!$AD36=\"\",\"\",MID(TEXT(入力用科目!$AD36,\"????????\"),2,1))","v":""},{"$f":"IF(入力用科目!$AD36=\"\",\"\",MID(TEXT(入力用科目!$AD36,\"????????\"),3,1))","v":""},{"$f":"IF(入力用科目!$AD36=\"\",\"\",MID(TEXT(入力用科目!$AD36,\"????????\"),4,1))","v":""},{"$f":"IF(入力用科目!$AD36=\"\",\"\",MID(TEXT(入力用科目!$AD36,\"????????\"),5,1))","v":""},{"$f":"IF(入力用科目!$AD36=\"\",\"\",MID(TEXT(入力用科目!$AD36,\"????????\"),6,1))","v":""},{"$f":"IF(入力用科目!$AD36=\"\",\"\",MID(TEXT(入力用科目!$AD36,\"????????\"),7,1))","v":""},{"$f":"IF(入力用科目!$AD36=\"\",\"\",MID(TEXT(入力用科目!$AD36,\"????????\"),8,1))","v":""},null,{"$f":"IF(入力用科目!$AM36=\"\",\"\",MID(TEXT(入力用科目!$AM36,\"????????\"),1,1))","v":" "},{"$f":"IF(入力用科目!$AM36=\"\",\"\",MID(TEXT(入力用科目!$AM36,\"????????\"),2,1))","v":" "},{"$f":"IF(入力用科目!$AM36=\"\",\"\",MID(TEXT(入力用科目!$AM36,\"????????\"),3,1))","v":" "},{"$f":"IF(入力用科目!$AM36=\"\",\"\",MID(TEXT(入力用科目!$AM36,\"????????\"),4,1))","v":" "},{"$f":"IF(入力用科目!$AM36=\"\",\"\",MID(TEXT(入力用科目!$AM36,\"????????\"),5,1))","v":" "},{"$f":"IF(入力用科目!$AM36=\"\",\"\",MID(TEXT(入力用科目!$AM36,\"????????\"),6,1))","v":" "},{"$f":"IF(入力用科目!$AM36=\"\",\"\",MID(TEXT(入力用科目!$AM36,\"????????\"),7,1))","v":" "},{"$f":"IF(入力用科目!$AM36=\"\",\"\",MID(TEXT(入力用科目!$AM36,\"????????\"),8,1))","v":" "}]
[{"$f":"IF(入力用科目!A37=\"\",\"\",MID(TEXT(入力用科目!$A37,\"??\"),COLUMN(),1))","v":""},{"$f":"IF(入力用科目!A37=\"\",\"\",MID(TEXT(入力用科目!$A37,\"??\"),COLUMN(),1))","v":""},null,{"$f":"IF(入力用科目!$D37=\"\",\"\",MID(TEXT(入力用科目!$D37,\"???\"),1,1))","v":""},{"$f":"IF(入力用科目!$D37=\"\",\"\",MID(TEXT(入力用科目!$D37,\"???\"),2,1))","v":""},{"$f":"IF(入力用科目!$D37=\"\",\"\",MID(TEXT(入力用科目!$D37,\"???\"),3,1))","v":""},null,{"$f":"IF(入力用科目!H37=\"\",\"\",入力用科目!H37)","v":"小　　　計"},null,null,null,null,null,null,null,null,{"$f":"IF(入力用科目!$Q37=\"\",\"\",MID(TEXT(入力用科目!$Q37,\"???\"),1,1))","v":""},{"$f":"IF(入力用科目!$Q37=\"\",\"\",MID(TEXT(入力用科目!$Q37,\"???\"),2,1))","v":""},{"$f":"IF(入力用科目!$Q37=\"\",\"\",MID(TEXT(入力用科目!$Q37,\"???\"),3,1))","v":""},null,{"$f":"IF(入力用科目!$U37=\"\",\"\",MID(TEXT(入力用科目!$U37,\"????????\"),1,1))","v":" "},{"$f":"IF(入力用科目!$U37=\"\",\"\",MID(TEXT(入力用科目!$U37,\"????????\"),2,1))","v":" "},{"$f":"IF(入力用科目!$U37=\"\",\"\",MID(TEXT(入力用科目!$U37,\"????????\"),3,1))","v":" "},{"$f":"IF(入力用科目!$U37=\"\",\"\",MID(TEXT(入力用科目!$U37,\"????????\"),4,1))","v":" "},{"$f":"IF(入力用科目!$U37=\"\",\"\",MID(TEXT(入力用科目!$U37,\"????????\"),5,1))","v":" "},{"$f":"IF(入力用科目!$U37=\"\",\"\",MID(TEXT(入力用科目!$U37,\"????????\"),6,1))","v":" "},{"$f":"IF(入力用科目!$U37=\"\",\"\",MID(TEXT(入力用科目!$U37,\"????????\"),7,1))","v":" "},{"$f":"IF(入力用科目!$U37=\"\",\"\",MID(TEXT(入力用科目!$U37,\"????????\"),8,1))","v":" "},null,{"$f":"IF(入力用科目!$AD37=\"\",\"\",MID(TEXT(入力用科目!$AD37,\"????????\"),1,1))","v":" "},{"$f":"IF(入力用科目!$AD37=\"\",\"\",MID(TEXT(入力用科目!$AD37,\"????????\"),2,1))","v":" "},{"$f":"IF(入力用科目!$AD37=\"\",\"\",MID(TEXT(入力用科目!$AD37,\"????????\"),3,1))","v":" "},{"$f":"IF(入力用科目!$AD37=\"\",\"\",MID(TEXT(入力用科目!$AD37,\"????????\"),4,1))","v":" "},{"$f":"IF(入力用科目!$AD37=\"\",\"\",MID(TEXT(入力用科目!$AD37,\"????????\"),5,1))","v":" "},{"$f":"IF(入力用科目!$AD37=\"\",\"\",MID(TEXT(入力用科目!$AD37,\"????????\"),6,1))","v":" "},{"$f":"IF(入力用科目!$AD37=\"\",\"\",MID(TEXT(入力用科目!$AD37,\"????????\"),7,1))","v":" "},{"$f":"IF(入力用科目!$AD37=\"\",\"\",MID(TEXT(入力用科目!$AD37,\"????????\"),8,1))","v":" "},null,{"$f":"IF(入力用科目!$AM37=\"\",\"\",MID(TEXT(入力用科目!$AM37,\"????????\"),1,1))","v":" "},{"$f":"IF(入力用科目!$AM37=\"\",\"\",MID(TEXT(入力用科目!$AM37,\"????????\"),2,1))","v":" "},{"$f":"IF(入力用科目!$AM37=\"\",\"\",MID(TEXT(入力用科目!$AM37,\"????????\"),3,1))","v":" "},{"$f":"IF(入力用科目!$AM37=\"\",\"\",MID(TEXT(入力用科目!$AM37,\"????????\"),4,1))","v":" "},{"$f":"IF(入力用科目!$AM37=\"\",\"\",MID(TEXT(入力用科目!$AM37,\"????????\"),5,1))","v":" "},{"$f":"IF(入力用科目!$AM37=\"\",\"\",MID(TEXT(入力用科目!$AM37,\"????????\"),6,1))","v":" "},{"$f":"IF(入力用科目!$AM37=\"\",\"\",MID(TEXT(入力用科目!$AM37,\"????????\"),7,1))","v":" "},{"$f":"IF(入力用科目!$AM37=\"\",\"\",MID(TEXT(入力用科目!$AM37,\"????????\"),8,1))","v":" "}]
[]
[null,{"$f":"IF(入力用科目!B39=\"\",\"\",入力用科目!B39)","v":""}]
[null,null,null,null,null,null,null,null,null,null,null,null,null,null,null,null,null,null,null,null,null,null,null,null,null,null,null,null,null,null,null,{"$f":"IF(入力用科目!$AF40=\"\",\"\",MID(TEXT(入力用科目!$AF40,\"???????\"),1,1))","v":""},{"$f":"IF(入力用科目!$AF40=\"\",\"\",MID(TEXT(入力用科目!$AF40,\"???????\"),2,1))","v":""},{"$f":"IF(入力用科目!$AF40=\"\",\"\",MID(TEXT(入力用科目!$AF40,\"???????\"),3,1))","v":""},{"$f":"IF(入力用科目!$AF40=\"\",\"\",MID(TEXT(入力用科目!$AF40,\"???????\"),4,1))","v":""},{"$f":"IF(入力用科目!$AF40=\"\",\"\",MID(TEXT(入力用科目!$AF40,\"???????\"),5,1))","v":""},{"$f":"IF(入力用科目!$AF40=\"\",\"\",MID(TEXT(入力用科目!$AF40,\"???????\"),6,1))","v":""},{"$f":"IF(入力用科目!$AF40=\"\",\"\",MID(TEXT(入力用科目!$AF40,\"???????\"),7,1))","v":""},null,{"$f":"IF(入力用科目!$AN40=\"\",\"\",MID(TEXT(入力用科目!$AN40,\"???????\"),1,1))","v":" "},{"$f":"IF(入力用科目!$AN40=\"\",\"\",MID(TEXT(入力用科目!$AN40,\"???????\"),2,1))","v":" "},{"$f":"IF(入力用科目!$AN40=\"\",\"\",MID(TEXT(入力用科目!$AN40,\"???????\"),3,1))","v":" "},{"$f":"IF(入力用科目!$AN40=\"\",\"\",MID(TEXT(入力用科目!$AN40,\"???????\"),4,1))","v":" "},{"$f":"IF(入力用科目!$AN40=\"\",\"\",MID(TEXT(入力用科目!$AN40,\"???????\"),5,1))","v":" "},{"$f":"IF(入力用科目!$AN40=\"\",\"\",MID(TEXT(入力用科目!$AN40,\"???????\"),6,1))","v":" "},{"$f":"IF(入力用科目!$AN40=\"\",\"\",MID(TEXT(入力用科目!$AN40,\"???????\"),7,1))","v":" "}]
[]
[]
[]
[]
[]
[{"$f":"IF(入力用科目!A46=\"\",\"\",入力用科目!A46)","v":0},{"$f":"IF(入力用科目!B46=\"\",\"\",入力用科目!B46)","v":6},null,{"$f":"IF(入力用科目!D46=\"\",\"\",入力用科目!D46)","v":""},{"$f":"IF(入力用科目!E46=\"\",\"\",入力用科目!E46)","v":""},null,null,null,null,null,null,null,null,null,null,null,null,null,null,null,null,null,null,null,null,null,null,null,null,null,null,null,{"$f":"IF(入力用科目!AG46=\"\",\"\",入力用科目!AG46)","v":""},null,null,null,null,null,null,null,null,{"$f":"IF(入力用科目!AP46=\"\",\"\",入力用科目!AP46)","v":""},null,{"$f":"IF(入力用科目!AR46=\"\",\"\",入力用科目!AR46)","v":""}]
[]
[]
[null,null,null,null,null,null,null,null,null,null,null,null,null,null,null,null,null,null,null,null,null,null,null,null,null,null,null,null,null,null,null,null,null,null,null,null,null,null,{"$f":"IF(入力用科目!$AM49=\"\",\"\",MID(TEXT(入力用科目!$AM49,\"????????\"),1,1))","v":" "},{"$f":"IF(入力用科目!$AM49=\"\",\"\",MID(TEXT(入力用科目!$AM49,\"????????\"),2,1))","v":" "},{"$f":"IF(入力用科目!$AM49=\"\",\"\",MID(TEXT(入力用科目!$AM49,\"????????\"),3,1))","v":" "},{"$f":"IF(入力用科目!$AM49=\"\",\"\",MID(TEXT(入力用科目!$AM49,\"????????\"),4,1))","v":" "},{"$f":"IF(入力用科目!$AM49=\"\",\"\",MID(TEXT(入力用科目!$AM49,\"????????\"),5,1))","v":" "},{"$f":"IF(入力用科目!$AM49=\"\",\"\",MID(TEXT(入力用科目!$AM49,\"????????\"),6,1))","v":" "},{"$f":"IF(入力用科目!$AM49=\"\",\"\",MID(TEXT(入力用科目!$AM49,\"????????\"),7,1))","v":" "},{"$f":"IF(入力用科目!$AM49=\"\",\"\",MID(TEXT(入力用科目!$AM49,\"????????\"),8,1))","v":" "}]
[{"$f":"IF(入力用科目!A50=\"\",\"\",MID(TEXT(入力用科目!$A50,\"??\"),COLUMN(),1))","v":""},{"$f":"IF(入力用科目!A50=\"\",\"\",MID(TEXT(入力用科目!$A50,\"??\"),COLUMN(),1))","v":""},null,{"$f":"IF(入力用科目!$D50=\"\",\"\",MID(TEXT(入力用科目!$D50,\"???\"),1,1))","v":""},{"$f":"IF(入力用科目!$D50=\"\",\"\",MID(TEXT(入力用科目!$D50,\"???\"),2,1))","v":""},{"$f":"IF(入力用科目!$D50=\"\",\"\",MID(TEXT(入力用科目!$D50,\"???\"),3,1))","v":""},null,{"$f":"IF(入力用科目!$Q50=1,\"運送収入\",IF(入力用科目!$H50=\"\",\"\",入力用科目!$H50))","v":""},null,null,null,null,null,null,null,null,{"$f":"IF(入力用科目!$Q50=\"\",\"\",MID(TEXT(入力用科目!$Q50,\"???\"),1,1))","v":""},{"$f":"IF(入力用科目!$Q50=\"\",\"\",MID(TEXT(入力用科目!$Q50,\"???\"),2,1))","v":""},{"$f":"IF(入力用科目!$Q50=\"\",\"\",MID(TEXT(入力用科目!$Q50,\"???\"),3,1))","v":""},null,{"$f":"IF(入力用科目!$U50=\"\",\"\",MID(TEXT(入力用科目!$U50,\"????????\"),1,1))","v":""},{"$f":"IF(入力用科目!$U50=\"\",\"\",MID(TEXT(入力用科目!$U50,\"????????\"),2,1))","v":""},{"$f":"IF(入力用科目!$U50=\"\",\"\",MID(TEXT(入力用科目!$U50,\"????????\"),3,1))","v":""},{"$f":"IF(入力用科目!$U50=\"\",\"\",MID(TEXT(入力用科目!$U50,\"????????\"),4,1))","v":""},{"$f":"IF(入力用科目!$U50=\"\",\"\",MID(TEXT(入力用科目!$U50,\"????????\"),5,1))","v":""},{"$f":"IF(入力用科目!$U50=\"\",\"\",MID(TEXT(入力用科目!$U50,\"????????\"),6,1))","v":""},{"$f":"IF(入力用科目!$U50=\"\",\"\",MID(TEXT(入力用科目!$U50,\"????????\"),7,1))","v":""},{"$f":"IF(入力用科目!$U50=\"\",\"\",MID(TEXT(入力用科目!$U50,\"????????\"),8,1))","v":""},null,{"$f":"IF(入力用科目!$AD50=\"\",\"\",MID(TEXT(入力用科目!$AD50,\"????????\"),1,1))","v":""},{"$f":"IF(入力用科目!$AD50=\"\",\"\",MID(TEXT(入力用科目!$AD50,\"????????\"),2,1))","v":""},{"$f":"IF(入力用科目!$AD50=\"\",\"\",MID(TEXT(入力用科目!$AD50,\"????????\"),3,1))","v":""},{"$f":"IF(入力用科目!$AD50=\"\",\"\",MID(TEXT(入力用科目!$AD50,\"????????\"),4,1))","v":""},{"$f":"IF(入力用科目!$AD50=\"\",\"\",MID(TEXT(入力用科目!$AD50,\"????????\"),5,1))","v":""},{"$f":"IF(入力用科目!$AD50=\"\",\"\",MID(TEXT(入力用科目!$AD50,\"????????\"),6,1))","v":""},{"$f":"IF(入力用科目!$AD50=\"\",\"\",MID(TEXT(入力用科目!$AD50,\"????????\"),7,1))","v":""},{"$f":"IF(入力用科目!$AD50=\"\",\"\",MID(TEXT(入力用科目!$AD50,\"????????\"),8,1))","v":""},null,{"$f":"IF(入力用科目!$AM50=\"\",\"\",MID(TEXT(入力用科目!$AM50,\"????????\"),1,1))","v":" "},{"$f":"IF(入力用科目!$AM50=\"\",\"\",MID(TEXT(入力用科目!$AM50,\"????????\"),2,1))","v":" "},{"$f":"IF(入力用科目!$AM50=\"\",\"\",MID(TEXT(入力用科目!$AM50,\"????????\"),3,1))","v":" "},{"$f":"IF(入力用科目!$AM50=\"\",\"\",MID(TEXT(入力用科目!$AM50,\"????????\"),4,1))","v":" "},{"$f":"IF(入力用科目!$AM50=\"\",\"\",MID(TEXT(入力用科目!$AM50,\"????????\"),5,1))","v":" "},{"$f":"IF(入力用科目!$AM50=\"\",\"\",MID(TEXT(入力用科目!$AM50,\"????????\"),6,1))","v":" "},{"$f":"IF(入力用科目!$AM50=\"\",\"\",MID(TEXT(入力用科目!$AM50,\"????????\"),7,1))","v":" "},{"$f":"IF(入力用科目!$AM50=\"\",\"\",MID(TEXT(入力用科目!$AM50,\"????????\"),8,1))","v":" "}]
[{"$f":"IF(入力用科目!A51=\"\",\"\",MID(TEXT(入力用科目!$A51,\"??\"),COLUMN(),1))","v":""},{"$f":"IF(入力用科目!A51=\"\",\"\",MID(TEXT(入力用科目!$A51,\"??\"),COLUMN(),1))","v":""},null,{"$f":"IF(入力用科目!$D51=\"\",\"\",MID(TEXT(入力用科目!$D51,\"???\"),1,1))","v":""},{"$f":"IF(入力用科目!$D51=\"\",\"\",MID(TEXT(入力用科目!$D51,\"???\"),2,1))","v":""},{"$f":"IF(入力用科目!$D51=\"\",\"\",MID(TEXT(入力用科目!$D51,\"???\"),3,1))","v":""},null,{"$f":"IF(入力用科目!$Q51=1,\"運送収入\",IF(入力用科目!$H51=\"\",\"\",入力用科目!$H51))","v":""},null,null,null,null,null,null,null,null,{"$f":"IF(入力用科目!$Q51=\"\",\"\",MID(TEXT(入力用科目!$Q51,\"???\"),1,1))","v":""},{"$f":"IF(入力用科目!$Q51=\"\",\"\",MID(TEXT(入力用科目!$Q51,\"???\"),2,1))","v":""},{"$f":"IF(入力用科目!$Q51=\"\",\"\",MID(TEXT(入力用科目!$Q51,\"???\"),3,1))","v":""},null,{"$f":"IF(入力用科目!$U51=\"\",\"\",MID(TEXT(入力用科目!$U51,\"????????\"),1,1))","v":""},{"$f":"IF(入力用科目!$U51=\"\",\"\",MID(TEXT(入力用科目!$U51,\"????????\"),2,1))","v":""},{"$f":"IF(入力用科目!$U51=\"\",\"\",MID(TEXT(入力用科目!$U51,\"????????\"),3,1))","v":""},{"$f":"IF(入力用科目!$U51=\"\",\"\",MID(TEXT(入力用科目!$U51,\"????????\"),4,1))","v":""},{"$f":"IF(入力用科目!$U51=\"\",\"\",MID(TEXT(入力用科目!$U51,\"????????\"),5,1))","v":""},{"$f":"IF(入力用科目!$U51=\"\",\"\",MID(TEXT(入力用科目!$U51,\"????????\"),6,1))","v":""},{"$f":"IF(入力用科目!$U51=\"\",\"\",MID(TEXT(入力用科目!$U51,\"????????\"),7,1))","v":""},{"$f":"IF(入力用科目!$U51=\"\",\"\",MID(TEXT(入力用科目!$U51,\"????????\"),8,1))","v":""},null,{"$f":"IF(入力用科目!$AD51=\"\",\"\",MID(TEXT(入力用科目!$AD51,\"????????\"),1,1))","v":""},{"$f":"IF(入力用科目!$AD51=\"\",\"\",MID(TEXT(入力用科目!$AD51,\"????????\"),2,1))","v":""},{"$f":"IF(入力用科目!$AD51=\"\",\"\",MID(TEXT(入力用科目!$AD51,\"????????\"),3,1))","v":""},{"$f":"IF(入力用科目!$AD51=\"\",\"\",MID(TEXT(入力用科目!$AD51,\"????????\"),4,1))","v":""},{"$f":"IF(入力用科目!$AD51=\"\",\"\",MID(TEXT(入力用科目!$AD51,\"????????\"),5,1))","v":""},{"$f":"IF(入力用科目!$AD51=\"\",\"\",MID(TEXT(入力用科目!$AD51,\"????????\"),6,1))","v":""},{"$f":"IF(入力用科目!$AD51=\"\",\"\",MID(TEXT(入力用科目!$AD51,\"????????\"),7,1))","v":""},{"$f":"IF(入力用科目!$AD51=\"\",\"\",MID(TEXT(入力用科目!$AD51,\"????????\"),8,1))","v":""},null,{"$f":"IF(入力用科目!$AM51=\"\",\"\",MID(TEXT(入力用科目!$AM51,\"????????\"),1,1))","v":" "},{"$f":"IF(入力用科目!$AM51=\"\",\"\",MID(TEXT(入力用科目!$AM51,\"????????\"),2,1))","v":" "},{"$f":"IF(入力用科目!$AM51=\"\",\"\",MID(TEXT(入力用科目!$AM51,\"????????\"),3,1))","v":" "},{"$f":"IF(入力用科目!$AM51=\"\",\"\",MID(TEXT(入力用科目!$AM51,\"????????\"),4,1))","v":" "},{"$f":"IF(入力用科目!$AM51=\"\",\"\",MID(TEXT(入力用科目!$AM51,\"????????\"),5,1))","v":" "},{"$f":"IF(入力用科目!$AM51=\"\",\"\",MID(TEXT(入力用科目!$AM51,\"????????\"),6,1))","v":" "},{"$f":"IF(入力用科目!$AM51=\"\",\"\",MID(TEXT(入力用科目!$AM51,\"????????\"),7,1))","v":" "},{"$f":"IF(入力用科目!$AM51=\"\",\"\",MID(TEXT(入力用科目!$AM51,\"????????\"),8,1))","v":" "}]
[{"$f":"IF(入力用科目!A52=\"\",\"\",MID(TEXT(入力用科目!$A52,\"??\"),COLUMN(),1))","v":""},{"$f":"IF(入力用科目!A52=\"\",\"\",MID(TEXT(入力用科目!$A52,\"??\"),COLUMN(),1))","v":""},null,{"$f":"IF(入力用科目!$D52=\"\",\"\",MID(TEXT(入力用科目!$D52,\"???\"),1,1))","v":""},{"$f":"IF(入力用科目!$D52=\"\",\"\",MID(TEXT(入力用科目!$D52,\"???\"),2,1))","v":""},{"$f":"IF(入力用科目!$D52=\"\",\"\",MID(TEXT(入力用科目!$D52,\"???\"),3,1))","v":""},null,{"$f":"IF(入力用科目!$Q52=1,\"運送収入\",IF(入力用科目!$H52=\"\",\"\",入力用科目!$H52))","v":""},null,null,null,null,null,null,null,null,{"$f":"IF(入力用科目!$Q52=\"\",\"\",MID(TEXT(入力用科目!$Q52,\"???\"),1,1))","v":""},{"$f":"IF(入力用科目!$Q52=\"\",\"\",MID(TEXT(入力用科目!$Q52,\"???\"),2,1))","v":""},{"$f":"IF(入力用科目!$Q52=\"\",\"\",MID(TEXT(入力用科目!$Q52,\"???\"),3,1))","v":""},null,{"$f":"IF(入力用科目!$U52=\"\",\"\",MID(TEXT(入力用科目!$U52,\"????????\"),1,1))","v":""},{"$f":"IF(入力用科目!$U52=\"\",\"\",MID(TEXT(入力用科目!$U52,\"????????\"),2,1))","v":""},{"$f":"IF(入力用科目!$U52=\"\",\"\",MID(TEXT(入力用科目!$U52,\"????????\"),3,1))","v":""},{"$f":"IF(入力用科目!$U52=\"\",\"\",MID(TEXT(入力用科目!$U52,\"????????\"),4,1))","v":""},{"$f":"IF(入力用科目!$U52=\"\",\"\",MID(TEXT(入力用科目!$U52,\"????????\"),5,1))","v":""},{"$f":"IF(入力用科目!$U52=\"\",\"\",MID(TEXT(入力用科目!$U52,\"????????\"),6,1))","v":""},{"$f":"IF(入力用科目!$U52=\"\",\"\",MID(TEXT(入力用科目!$U52,\"????????\"),7,1))","v":""},{"$f":"IF(入力用科目!$U52=\"\",\"\",MID(TEXT(入力用科目!$U52,\"????????\"),8,1))","v":""},null,{"$f":"IF(入力用科目!$AD52=\"\",\"\",MID(TEXT(入力用科目!$AD52,\"????????\"),1,1))","v":""},{"$f":"IF(入力用科目!$AD52=\"\",\"\",MID(TEXT(入力用科目!$AD52,\"????????\"),2,1))","v":""},{"$f":"IF(入力用科目!$AD52=\"\",\"\",MID(TEXT(入力用科目!$AD52,\"????????\"),3,1))","v":""},{"$f":"IF(入力用科目!$AD52=\"\",\"\",MID(TEXT(入力用科目!$AD52,\"????????\"),4,1))","v":""},{"$f":"IF(入力用科目!$AD52=\"\",\"\",MID(TEXT(入力用科目!$AD52,\"????????\"),5,1))","v":""},{"$f":"IF(入力用科目!$AD52=\"\",\"\",MID(TEXT(入力用科目!$AD52,\"????????\"),6,1))","v":""},{"$f":"IF(入力用科目!$AD52=\"\",\"\",MID(TEXT(入力用科目!$AD52,\"????????\"),7,1))","v":""},{"$f":"IF(入力用科目!$AD52=\"\",\"\",MID(TEXT(入力用科目!$AD52,\"????????\"),8,1))","v":""},null,{"$f":"IF(入力用科目!$AM52=\"\",\"\",MID(TEXT(入力用科目!$AM52,\"????????\"),1,1))","v":" "},{"$f":"IF(入力用科目!$AM52=\"\",\"\",MID(TEXT(入力用科目!$AM52,\"????????\"),2,1))","v":" "},{"$f":"IF(入力用科目!$AM52=\"\",\"\",MID(TEXT(入力用科目!$AM52,\"????????\"),3,1))","v":" "},{"$f":"IF(入力用科目!$AM52=\"\",\"\",MID(TEXT(入力用科目!$AM52,\"????????\"),4,1))","v":" "},{"$f":"IF(入力用科目!$AM52=\"\",\"\",MID(TEXT(入力用科目!$AM52,\"????????\"),5,1))","v":" "},{"$f":"IF(入力用科目!$AM52=\"\",\"\",MID(TEXT(入力用科目!$AM52,\"????????\"),6,1))","v":" "},{"$f":"IF(入力用科目!$AM52=\"\",\"\",MID(TEXT(入力用科目!$AM52,\"????????\"),7,1))","v":" "},{"$f":"IF(入力用科目!$AM52=\"\",\"\",MID(TEXT(入力用科目!$AM52,\"????????\"),8,1))","v":" "}]
[{"$f":"IF(入力用科目!A53=\"\",\"\",MID(TEXT(入力用科目!$A53,\"??\"),COLUMN(),1))","v":""},{"$f":"IF(入力用科目!A53=\"\",\"\",MID(TEXT(入力用科目!$A53,\"??\"),COLUMN(),1))","v":""},null,{"$f":"IF(入力用科目!$D53=\"\",\"\",MID(TEXT(入力用科目!$D53,\"???\"),1,1))","v":""},{"$f":"IF(入力用科目!$D53=\"\",\"\",MID(TEXT(入力用科目!$D53,\"???\"),2,1))","v":""},{"$f":"IF(入力用科目!$D53=\"\",\"\",MID(TEXT(入力用科目!$D53,\"???\"),3,1))","v":""},null,{"$f":"IF(入力用科目!$Q53=1,\"運送収入\",IF(入力用科目!$H53=\"\",\"\",入力用科目!$H53))","v":""},null,null,null,null,null,null,null,null,{"$f":"IF(入力用科目!$Q53=\"\",\"\",MID(TEXT(入力用科目!$Q53,\"???\"),1,1))","v":""},{"$f":"IF(入力用科目!$Q53=\"\",\"\",MID(TEXT(入力用科目!$Q53,\"???\"),2,1))","v":""},{"$f":"IF(入力用科目!$Q53=\"\",\"\",MID(TEXT(入力用科目!$Q53,\"???\"),3,1))","v":""},null,{"$f":"IF(入力用科目!$U53=\"\",\"\",MID(TEXT(入力用科目!$U53,\"????????\"),1,1))","v":""},{"$f":"IF(入力用科目!$U53=\"\",\"\",MID(TEXT(入力用科目!$U53,\"????????\"),2,1))","v":""},{"$f":"IF(入力用科目!$U53=\"\",\"\",MID(TEXT(入力用科目!$U53,\"????????\"),3,1))","v":""},{"$f":"IF(入力用科目!$U53=\"\",\"\",MID(TEXT(入力用科目!$U53,\"????????\"),4,1))","v":""},{"$f":"IF(入力用科目!$U53=\"\",\"\",MID(TEXT(入力用科目!$U53,\"????????\"),5,1))","v":""},{"$f":"IF(入力用科目!$U53=\"\",\"\",MID(TEXT(入力用科目!$U53,\"????????\"),6,1))","v":""},{"$f":"IF(入力用科目!$U53=\"\",\"\",MID(TEXT(入力用科目!$U53,\"????????\"),7,1))","v":""},{"$f":"IF(入力用科目!$U53=\"\",\"\",MID(TEXT(入力用科目!$U53,\"????????\"),8,1))","v":""},null,{"$f":"IF(入力用科目!$AD53=\"\",\"\",MID(TEXT(入力用科目!$AD53,\"????????\"),1,1))","v":""},{"$f":"IF(入力用科目!$AD53=\"\",\"\",MID(TEXT(入力用科目!$AD53,\"????????\"),2,1))","v":""},{"$f":"IF(入力用科目!$AD53=\"\",\"\",MID(TEXT(入力用科目!$AD53,\"????????\"),3,1))","v":""},{"$f":"IF(入力用科目!$AD53=\"\",\"\",MID(TEXT(入力用科目!$AD53,\"????????\"),4,1))","v":""},{"$f":"IF(入力用科目!$AD53=\"\",\"\",MID(TEXT(入力用科目!$AD53,\"????????\"),5,1))","v":""},{"$f":"IF(入力用科目!$AD53=\"\",\"\",MID(TEXT(入力用科目!$AD53,\"????????\"),6,1))","v":""},{"$f":"IF(入力用科目!$AD53=\"\",\"\",MID(TEXT(入力用科目!$AD53,\"????????\"),7,1))","v":""},{"$f":"IF(入力用科目!$AD53=\"\",\"\",MID(TEXT(入力用科目!$AD53,\"????????\"),8,1))","v":""},null,{"$f":"IF(入力用科目!$AM53=\"\",\"\",MID(TEXT(入力用科目!$AM53,\"????????\"),1,1))","v":" "},{"$f":"IF(入力用科目!$AM53=\"\",\"\",MID(TEXT(入力用科目!$AM53,\"????????\"),2,1))","v":" "},{"$f":"IF(入力用科目!$AM53=\"\",\"\",MID(TEXT(入力用科目!$AM53,\"????????\"),3,1))","v":" "},{"$f":"IF(入力用科目!$AM53=\"\",\"\",MID(TEXT(入力用科目!$AM53,\"????????\"),4,1))","v":" "},{"$f":"IF(入力用科目!$AM53=\"\",\"\",MID(TEXT(入力用科目!$AM53,\"????????\"),5,1))","v":" "},{"$f":"IF(入力用科目!$AM53=\"\",\"\",MID(TEXT(入力用科目!$AM53,\"????????\"),6,1))","v":" "},{"$f":"IF(入力用科目!$AM53=\"\",\"\",MID(TEXT(入力用科目!$AM53,\"????????\"),7,1))","v":" "},{"$f":"IF(入力用科目!$AM53=\"\",\"\",MID(TEXT(入力用科目!$AM53,\"????????\"),8,1))","v":" "}]
[{"$f":"IF(入力用科目!A54=\"\",\"\",MID(TEXT(入力用科目!$A54,\"??\"),COLUMN(),1))","v":""},{"$f":"IF(入力用科目!A54=\"\",\"\",MID(TEXT(入力用科目!$A54,\"??\"),COLUMN(),1))","v":""},null,{"$f":"IF(入力用科目!$D54=\"\",\"\",MID(TEXT(入力用科目!$D54,\"???\"),1,1))","v":""},{"$f":"IF(入力用科目!$D54=\"\",\"\",MID(TEXT(入力用科目!$D54,\"???\"),2,1))","v":""},{"$f":"IF(入力用科目!$D54=\"\",\"\",MID(TEXT(入力用科目!$D54,\"???\"),3,1))","v":""},null,{"$f":"IF(入力用科目!$Q54=1,\"運送収入\",IF(入力用科目!$H54=\"\",\"\",入力用科目!$H54))","v":""},null,null,null,null,null,null,null,null,{"$f":"IF(入力用科目!$Q54=\"\",\"\",MID(TEXT(入力用科目!$Q54,\"???\"),1,1))","v":""},{"$f":"IF(入力用科目!$Q54=\"\",\"\",MID(TEXT(入力用科目!$Q54,\"???\"),2,1))","v":""},{"$f":"IF(入力用科目!$Q54=\"\",\"\",MID(TEXT(入力用科目!$Q54,\"???\"),3,1))","v":""},null,{"$f":"IF(入力用科目!$U54=\"\",\"\",MID(TEXT(入力用科目!$U54,\"????????\"),1,1))","v":""},{"$f":"IF(入力用科目!$U54=\"\",\"\",MID(TEXT(入力用科目!$U54,\"????????\"),2,1))","v":""},{"$f":"IF(入力用科目!$U54=\"\",\"\",MID(TEXT(入力用科目!$U54,\"????????\"),3,1))","v":""},{"$f":"IF(入力用科目!$U54=\"\",\"\",MID(TEXT(入力用科目!$U54,\"????????\"),4,1))","v":""},{"$f":"IF(入力用科目!$U54=\"\",\"\",MID(TEXT(入力用科目!$U54,\"????????\"),5,1))","v":""},{"$f":"IF(入力用科目!$U54=\"\",\"\",MID(TEXT(入力用科目!$U54,\"????????\"),6,1))","v":""},{"$f":"IF(入力用科目!$U54=\"\",\"\",MID(TEXT(入力用科目!$U54,\"????????\"),7,1))","v":""},{"$f":"IF(入力用科目!$U54=\"\",\"\",MID(TEXT(入力用科目!$U54,\"????????\"),8,1))","v":""},null,{"$f":"IF(入力用科目!$AD54=\"\",\"\",MID(TEXT(入力用科目!$AD54,\"????????\"),1,1))","v":""},{"$f":"IF(入力用科目!$AD54=\"\",\"\",MID(TEXT(入力用科目!$AD54,\"????????\"),2,1))","v":""},{"$f":"IF(入力用科目!$AD54=\"\",\"\",MID(TEXT(入力用科目!$AD54,\"????????\"),3,1))","v":""},{"$f":"IF(入力用科目!$AD54=\"\",\"\",MID(TEXT(入力用科目!$AD54,\"????????\"),4,1))","v":""},{"$f":"IF(入力用科目!$AD54=\"\",\"\",MID(TEXT(入力用科目!$AD54,\"????????\"),5,1))","v":""},{"$f":"IF(入力用科目!$AD54=\"\",\"\",MID(TEXT(入力用科目!$AD54,\"????????\"),6,1))","v":""},{"$f":"IF(入力用科目!$AD54=\"\",\"\",MID(TEXT(入力用科目!$AD54,\"????????\"),7,1))","v":""},{"$f":"IF(入力用科目!$AD54=\"\",\"\",MID(TEXT(入力用科目!$AD54,\"????????\"),8,1))","v":""},null,{"$f":"IF(入力用科目!$AM54=\"\",\"\",MID(TEXT(入力用科目!$AM54,\"????????\"),1,1))","v":" "},{"$f":"IF(入力用科目!$AM54=\"\",\"\",MID(TEXT(入力用科目!$AM54,\"????????\"),2,1))","v":" "},{"$f":"IF(入力用科目!$AM54=\"\",\"\",MID(TEXT(入力用科目!$AM54,\"????????\"),3,1))","v":" "},{"$f":"IF(入力用科目!$AM54=\"\",\"\",MID(TEXT(入力用科目!$AM54,\"????????\"),4,1))","v":" "},{"$f":"IF(入力用科目!$AM54=\"\",\"\",MID(TEXT(入力用科目!$AM54,\"????????\"),5,1))","v":" "},{"$f":"IF(入力用科目!$AM54=\"\",\"\",MID(TEXT(入力用科目!$AM54,\"????????\"),6,1))","v":" "},{"$f":"IF(入力用科目!$AM54=\"\",\"\",MID(TEXT(入力用科目!$AM54,\"????????\"),7,1))","v":" "},{"$f":"IF(入力用科目!$AM54=\"\",\"\",MID(TEXT(入力用科目!$AM54,\"????????\"),8,1))","v":" "}]
[{"$f":"IF(入力用科目!A55=\"\",\"\",MID(TEXT(入力用科目!$A55,\"??\"),COLUMN(),1))","v":""},{"$f":"IF(入力用科目!A55=\"\",\"\",MID(TEXT(入力用科目!$A55,\"??\"),COLUMN(),1))","v":""},null,{"$f":"IF(入力用科目!$D55=\"\",\"\",MID(TEXT(入力用科目!$D55,\"???\"),1,1))","v":""},{"$f":"IF(入力用科目!$D55=\"\",\"\",MID(TEXT(入力用科目!$D55,\"???\"),2,1))","v":""},{"$f":"IF(入力用科目!$D55=\"\",\"\",MID(TEXT(入力用科目!$D55,\"???\"),3,1))","v":""},null,{"$f":"IF(入力用科目!$Q55=1,\"運送収入\",IF(入力用科目!$H55=\"\",\"\",入力用科目!$H55))","v":""},null,null,null,null,null,null,null,null,{"$f":"IF(入力用科目!$Q55=\"\",\"\",MID(TEXT(入力用科目!$Q55,\"???\"),1,1))","v":""},{"$f":"IF(入力用科目!$Q55=\"\",\"\",MID(TEXT(入力用科目!$Q55,\"???\"),2,1))","v":""},{"$f":"IF(入力用科目!$Q55=\"\",\"\",MID(TEXT(入力用科目!$Q55,\"???\"),3,1))","v":""},null,{"$f":"IF(入力用科目!$U55=\"\",\"\",MID(TEXT(入力用科目!$U55,\"????????\"),1,1))","v":""},{"$f":"IF(入力用科目!$U55=\"\",\"\",MID(TEXT(入力用科目!$U55,\"????????\"),2,1))","v":""},{"$f":"IF(入力用科目!$U55=\"\",\"\",MID(TEXT(入力用科目!$U55,\"????????\"),3,1))","v":""},{"$f":"IF(入力用科目!$U55=\"\",\"\",MID(TEXT(入力用科目!$U55,\"????????\"),4,1))","v":""},{"$f":"IF(入力用科目!$U55=\"\",\"\",MID(TEXT(入力用科目!$U55,\"????????\"),5,1))","v":""},{"$f":"IF(入力用科目!$U55=\"\",\"\",MID(TEXT(入力用科目!$U55,\"????????\"),6,1))","v":""},{"$f":"IF(入力用科目!$U55=\"\",\"\",MID(TEXT(入力用科目!$U55,\"????????\"),7,1))","v":""},{"$f":"IF(入力用科目!$U55=\"\",\"\",MID(TEXT(入力用科目!$U55,\"????????\"),8,1))","v":""},null,{"$f":"IF(入力用科目!$AD55=\"\",\"\",MID(TEXT(入力用科目!$AD55,\"????????\"),1,1))","v":""},{"$f":"IF(入力用科目!$AD55=\"\",\"\",MID(TEXT(入力用科目!$AD55,\"????????\"),2,1))","v":""},{"$f":"IF(入力用科目!$AD55=\"\",\"\",MID(TEXT(入力用科目!$AD55,\"????????\"),3,1))","v":""},{"$f":"IF(入力用科目!$AD55=\"\",\"\",MID(TEXT(入力用科目!$AD55,\"????????\"),4,1))","v":""},{"$f":"IF(入力用科目!$AD55=\"\",\"\",MID(TEXT(入力用科目!$AD55,\"????????\"),5,1))","v":""},{"$f":"IF(入力用科目!$AD55=\"\",\"\",MID(TEXT(入力用科目!$AD55,\"????????\"),6,1))","v":""},{"$f":"IF(入力用科目!$AD55=\"\",\"\",MID(TEXT(入力用科目!$AD55,\"????????\"),7,1))","v":""},{"$f":"IF(入力用科目!$AD55=\"\",\"\",MID(TEXT(入力用科目!$AD55,\"????????\"),8,1))","v":""},null,{"$f":"IF(入力用科目!$AM55=\"\",\"\",MID(TEXT(入力用科目!$AM55,\"????????\"),1,1))","v":" "},{"$f":"IF(入力用科目!$AM55=\"\",\"\",MID(TEXT(入力用科目!$AM55,\"????????\"),2,1))","v":" "},{"$f":"IF(入力用科目!$AM55=\"\",\"\",MID(TEXT(入力用科目!$AM55,\"????????\"),3,1))","v":" "},{"$f":"IF(入力用科目!$AM55=\"\",\"\",MID(TEXT(入力用科目!$AM55,\"????????\"),4,1))","v":" "},{"$f":"IF(入力用科目!$AM55=\"\",\"\",MID(TEXT(入力用科目!$AM55,\"????????\"),5,1))","v":" "},{"$f":"IF(入力用科目!$AM55=\"\",\"\",MID(TEXT(入力用科目!$AM55,\"????????\"),6,1))","v":" "},{"$f":"IF(入力用科目!$AM55=\"\",\"\",MID(TEXT(入力用科目!$AM55,\"????????\"),7,1))","v":" "},{"$f":"IF(入力用科目!$AM55=\"\",\"\",MID(TEXT(入力用科目!$AM55,\"????????\"),8,1))","v":" "}]
[{"$f":"IF(入力用科目!A56=\"\",\"\",MID(TEXT(入力用科目!$A56,\"??\"),COLUMN(),1))","v":""},{"$f":"IF(入力用科目!A56=\"\",\"\",MID(TEXT(入力用科目!$A56,\"??\"),COLUMN(),1))","v":""},null,{"$f":"IF(入力用科目!$D56=\"\",\"\",MID(TEXT(入力用科目!$D56,\"???\"),1,1))","v":""},{"$f":"IF(入力用科目!$D56=\"\",\"\",MID(TEXT(入力用科目!$D56,\"???\"),2,1))","v":""},{"$f":"IF(入力用科目!$D56=\"\",\"\",MID(TEXT(入力用科目!$D56,\"???\"),3,1))","v":""},null,{"$f":"IF(入力用科目!$Q56=1,\"運送収入\",IF(入力用科目!$H56=\"\",\"\",入力用科目!$H56))","v":""},null,null,null,null,null,null,null,null,{"$f":"IF(入力用科目!$Q56=\"\",\"\",MID(TEXT(入力用科目!$Q56,\"???\"),1,1))","v":""},{"$f":"IF(入力用科目!$Q56=\"\",\"\",MID(TEXT(入力用科目!$Q56,\"???\"),2,1))","v":""},{"$f":"IF(入力用科目!$Q56=\"\",\"\",MID(TEXT(入力用科目!$Q56,\"???\"),3,1))","v":""},null,{"$f":"IF(入力用科目!$U56=\"\",\"\",MID(TEXT(入力用科目!$U56,\"????????\"),1,1))","v":""},{"$f":"IF(入力用科目!$U56=\"\",\"\",MID(TEXT(入力用科目!$U56,\"????????\"),2,1))","v":""},{"$f":"IF(入力用科目!$U56=\"\",\"\",MID(TEXT(入力用科目!$U56,\"????????\"),3,1))","v":""},{"$f":"IF(入力用科目!$U56=\"\",\"\",MID(TEXT(入力用科目!$U56,\"????????\"),4,1))","v":""},{"$f":"IF(入力用科目!$U56=\"\",\"\",MID(TEXT(入力用科目!$U56,\"????????\"),5,1))","v":""},{"$f":"IF(入力用科目!$U56=\"\",\"\",MID(TEXT(入力用科目!$U56,\"????????\"),6,1))","v":""},{"$f":"IF(入力用科目!$U56=\"\",\"\",MID(TEXT(入力用科目!$U56,\"????????\"),7,1))","v":""},{"$f":"IF(入力用科目!$U56=\"\",\"\",MID(TEXT(入力用科目!$U56,\"????????\"),8,1))","v":""},null,{"$f":"IF(入力用科目!$AD56=\"\",\"\",MID(TEXT(入力用科目!$AD56,\"????????\"),1,1))","v":""},{"$f":"IF(入力用科目!$AD56=\"\",\"\",MID(TEXT(入力用科目!$AD56,\"????????\"),2,1))","v":""},{"$f":"IF(入力用科目!$AD56=\"\",\"\",MID(TEXT(入力用科目!$AD56,\"????????\"),3,1))","v":""},{"$f":"IF(入力用科目!$AD56=\"\",\"\",MID(TEXT(入力用科目!$AD56,\"????????\"),4,1))","v":""},{"$f":"IF(入力用科目!$AD56=\"\",\"\",MID(TEXT(入力用科目!$AD56,\"????????\"),5,1))","v":""},{"$f":"IF(入力用科目!$AD56=\"\",\"\",MID(TEXT(入力用科目!$AD56,\"????????\"),6,1))","v":""},{"$f":"IF(入力用科目!$AD56=\"\",\"\",MID(TEXT(入力用科目!$AD56,\"????????\"),7,1))","v":""},{"$f":"IF(入力用科目!$AD56=\"\",\"\",MID(TEXT(入力用科目!$AD56,\"????????\"),8,1))","v":""},null,{"$f":"IF(入力用科目!$AM56=\"\",\"\",MID(TEXT(入力用科目!$AM56,\"????????\"),1,1))","v":" "},{"$f":"IF(入力用科目!$AM56=\"\",\"\",MID(TEXT(入力用科目!$AM56,\"????????\"),2,1))","v":" "},{"$f":"IF(入力用科目!$AM56=\"\",\"\",MID(TEXT(入力用科目!$AM56,\"????????\"),3,1))","v":" "},{"$f":"IF(入力用科目!$AM56=\"\",\"\",MID(TEXT(入力用科目!$AM56,\"????????\"),4,1))","v":" "},{"$f":"IF(入力用科目!$AM56=\"\",\"\",MID(TEXT(入力用科目!$AM56,\"????????\"),5,1))","v":" "},{"$f":"IF(入力用科目!$AM56=\"\",\"\",MID(TEXT(入力用科目!$AM56,\"????????\"),6,1))","v":" "},{"$f":"IF(入力用科目!$AM56=\"\",\"\",MID(TEXT(入力用科目!$AM56,\"????????\"),7,1))","v":" "},{"$f":"IF(入力用科目!$AM56=\"\",\"\",MID(TEXT(入力用科目!$AM56,\"????????\"),8,1))","v":" "}]
[{"$f":"IF(入力用科目!A57=\"\",\"\",MID(TEXT(入力用科目!$A57,\"??\"),COLUMN(),1))","v":""},{"$f":"IF(入力用科目!A57=\"\",\"\",MID(TEXT(入力用科目!$A57,\"??\"),COLUMN(),1))","v":""},null,{"$f":"IF(入力用科目!$D57=\"\",\"\",MID(TEXT(入力用科目!$D57,\"???\"),1,1))","v":""},{"$f":"IF(入力用科目!$D57=\"\",\"\",MID(TEXT(入力用科目!$D57,\"???\"),2,1))","v":""},{"$f":"IF(入力用科目!$D57=\"\",\"\",MID(TEXT(入力用科目!$D57,\"???\"),3,1))","v":""},null,{"$f":"IF(入力用科目!$Q57=1,\"運送収入\",IF(入力用科目!$H57=\"\",\"\",入力用科目!$H57))","v":""},null,null,null,null,null,null,null,null,{"$f":"IF(入力用科目!$Q57=\"\",\"\",MID(TEXT(入力用科目!$Q57,\"???\"),1,1))","v":""},{"$f":"IF(入力用科目!$Q57=\"\",\"\",MID(TEXT(入力用科目!$Q57,\"???\"),2,1))","v":""},{"$f":"IF(入力用科目!$Q57=\"\",\"\",MID(TEXT(入力用科目!$Q57,\"???\"),3,1))","v":""},null,{"$f":"IF(入力用科目!$U57=\"\",\"\",MID(TEXT(入力用科目!$U57,\"????????\"),1,1))","v":""},{"$f":"IF(入力用科目!$U57=\"\",\"\",MID(TEXT(入力用科目!$U57,\"????????\"),2,1))","v":""},{"$f":"IF(入力用科目!$U57=\"\",\"\",MID(TEXT(入力用科目!$U57,\"????????\"),3,1))","v":""},{"$f":"IF(入力用科目!$U57=\"\",\"\",MID(TEXT(入力用科目!$U57,\"????????\"),4,1))","v":""},{"$f":"IF(入力用科目!$U57=\"\",\"\",MID(TEXT(入力用科目!$U57,\"????????\"),5,1))","v":""},{"$f":"IF(入力用科目!$U57=\"\",\"\",MID(TEXT(入力用科目!$U57,\"????????\"),6,1))","v":""},{"$f":"IF(入力用科目!$U57=\"\",\"\",MID(TEXT(入力用科目!$U57,\"????????\"),7,1))","v":""},{"$f":"IF(入力用科目!$U57=\"\",\"\",MID(TEXT(入力用科目!$U57,\"????????\"),8,1))","v":""},null,{"$f":"IF(入力用科目!$AD57=\"\",\"\",MID(TEXT(入力用科目!$AD57,\"????????\"),1,1))","v":""},{"$f":"IF(入力用科目!$AD57=\"\",\"\",MID(TEXT(入力用科目!$AD57,\"????????\"),2,1))","v":""},{"$f":"IF(入力用科目!$AD57=\"\",\"\",MID(TEXT(入力用科目!$AD57,\"????????\"),3,1))","v":""},{"$f":"IF(入力用科目!$AD57=\"\",\"\",MID(TEXT(入力用科目!$AD57,\"????????\"),4,1))","v":""},{"$f":"IF(入力用科目!$AD57=\"\",\"\",MID(TEXT(入力用科目!$AD57,\"????????\"),5,1))","v":""},{"$f":"IF(入力用科目!$AD57=\"\",\"\",MID(TEXT(入力用科目!$AD57,\"????????\"),6,1))","v":""},{"$f":"IF(入力用科目!$AD57=\"\",\"\",MID(TEXT(入力用科目!$AD57,\"????????\"),7,1))","v":""},{"$f":"IF(入力用科目!$AD57=\"\",\"\",MID(TEXT(入力用科目!$AD57,\"????????\"),8,1))","v":""},null,{"$f":"IF(入力用科目!$AM57=\"\",\"\",MID(TEXT(入力用科目!$AM57,\"????????\"),1,1))","v":" "},{"$f":"IF(入力用科目!$AM57=\"\",\"\",MID(TEXT(入力用科目!$AM57,\"????????\"),2,1))","v":" "},{"$f":"IF(入力用科目!$AM57=\"\",\"\",MID(TEXT(入力用科目!$AM57,\"????????\"),3,1))","v":" "},{"$f":"IF(入力用科目!$AM57=\"\",\"\",MID(TEXT(入力用科目!$AM57,\"????????\"),4,1))","v":" "},{"$f":"IF(入力用科目!$AM57=\"\",\"\",MID(TEXT(入力用科目!$AM57,\"????????\"),5,1))","v":" "},{"$f":"IF(入力用科目!$AM57=\"\",\"\",MID(TEXT(入力用科目!$AM57,\"????????\"),6,1))","v":" "},{"$f":"IF(入力用科目!$AM57=\"\",\"\",MID(TEXT(入力用科目!$AM57,\"????????\"),7,1))","v":" "},{"$f":"IF(入力用科目!$AM57=\"\",\"\",MID(TEXT(入力用科目!$AM57,\"????????\"),8,1))","v":" "}]
[{"$f":"IF(入力用科目!A58=\"\",\"\",MID(TEXT(入力用科目!$A58,\"??\"),COLUMN(),1))","v":""},{"$f":"IF(入力用科目!A58=\"\",\"\",MID(TEXT(入力用科目!$A58,\"??\"),COLUMN(),1))","v":""},null,{"$f":"IF(入力用科目!$D58=\"\",\"\",MID(TEXT(入力用科目!$D58,\"???\"),1,1))","v":""},{"$f":"IF(入力用科目!$D58=\"\",\"\",MID(TEXT(入力用科目!$D58,\"???\"),2,1))","v":""},{"$f":"IF(入力用科目!$D58=\"\",\"\",MID(TEXT(入力用科目!$D58,\"???\"),3,1))","v":""},null,{"$f":"IF(入力用科目!$Q58=1,\"運送収入\",IF(入力用科目!$H58=\"\",\"\",入力用科目!$H58))","v":""},null,null,null,null,null,null,null,null,{"$f":"IF(入力用科目!$Q58=\"\",\"\",MID(TEXT(入力用科目!$Q58,\"???\"),1,1))","v":""},{"$f":"IF(入力用科目!$Q58=\"\",\"\",MID(TEXT(入力用科目!$Q58,\"???\"),2,1))","v":""},{"$f":"IF(入力用科目!$Q58=\"\",\"\",MID(TEXT(入力用科目!$Q58,\"???\"),3,1))","v":""},null,{"$f":"IF(入力用科目!$U58=\"\",\"\",MID(TEXT(入力用科目!$U58,\"????????\"),1,1))","v":""},{"$f":"IF(入力用科目!$U58=\"\",\"\",MID(TEXT(入力用科目!$U58,\"????????\"),2,1))","v":""},{"$f":"IF(入力用科目!$U58=\"\",\"\",MID(TEXT(入力用科目!$U58,\"????????\"),3,1))","v":""},{"$f":"IF(入力用科目!$U58=\"\",\"\",MID(TEXT(入力用科目!$U58,\"????????\"),4,1))","v":""},{"$f":"IF(入力用科目!$U58=\"\",\"\",MID(TEXT(入力用科目!$U58,\"????????\"),5,1))","v":""},{"$f":"IF(入力用科目!$U58=\"\",\"\",MID(TEXT(入力用科目!$U58,\"????????\"),6,1))","v":""},{"$f":"IF(入力用科目!$U58=\"\",\"\",MID(TEXT(入力用科目!$U58,\"????????\"),7,1))","v":""},{"$f":"IF(入力用科目!$U58=\"\",\"\",MID(TEXT(入力用科目!$U58,\"????????\"),8,1))","v":""},null,{"$f":"IF(入力用科目!$AD58=\"\",\"\",MID(TEXT(入力用科目!$AD58,\"????????\"),1,1))","v":""},{"$f":"IF(入力用科目!$AD58=\"\",\"\",MID(TEXT(入力用科目!$AD58,\"????????\"),2,1))","v":""},{"$f":"IF(入力用科目!$AD58=\"\",\"\",MID(TEXT(入力用科目!$AD58,\"????????\"),3,1))","v":""},{"$f":"IF(入力用科目!$AD58=\"\",\"\",MID(TEXT(入力用科目!$AD58,\"????????\"),4,1))","v":""},{"$f":"IF(入力用科目!$AD58=\"\",\"\",MID(TEXT(入力用科目!$AD58,\"????????\"),5,1))","v":""},{"$f":"IF(入力用科目!$AD58=\"\",\"\",MID(TEXT(入力用科目!$AD58,\"????????\"),6,1))","v":""},{"$f":"IF(入力用科目!$AD58=\"\",\"\",MID(TEXT(入力用科目!$AD58,\"????????\"),7,1))","v":""},{"$f":"IF(入力用科目!$AD58=\"\",\"\",MID(TEXT(入力用科目!$AD58,\"????????\"),8,1))","v":""},null,{"$f":"IF(入力用科目!$AM58=\"\",\"\",MID(TEXT(入力用科目!$AM58,\"????????\"),1,1))","v":" "},{"$f":"IF(入力用科目!$AM58=\"\",\"\",MID(TEXT(入力用科目!$AM58,\"????????\"),2,1))","v":" "},{"$f":"IF(入力用科目!$AM58=\"\",\"\",MID(TEXT(入力用科目!$AM58,\"????????\"),3,1))","v":" "},{"$f":"IF(入力用科目!$AM58=\"\",\"\",MID(TEXT(入力用科目!$AM58,\"????????\"),4,1))","v":" "},{"$f":"IF(入力用科目!$AM58=\"\",\"\",MID(TEXT(入力用科目!$AM58,\"????????\"),5,1))","v":" "},{"$f":"IF(入力用科目!$AM58=\"\",\"\",MID(TEXT(入力用科目!$AM58,\"????????\"),6,1))","v":" "},{"$f":"IF(入力用科目!$AM58=\"\",\"\",MID(TEXT(入力用科目!$AM58,\"????????\"),7,1))","v":" "},{"$f":"IF(入力用科目!$AM58=\"\",\"\",MID(TEXT(入力用科目!$AM58,\"????????\"),8,1))","v":" "}]
[{"$f":"IF(入力用科目!A59=\"\",\"\",MID(TEXT(入力用科目!$A59,\"??\"),COLUMN(),1))","v":""},{"$f":"IF(入力用科目!A59=\"\",\"\",MID(TEXT(入力用科目!$A59,\"??\"),COLUMN(),1))","v":""},null,{"$f":"IF(入力用科目!$D59=\"\",\"\",MID(TEXT(入力用科目!$D59,\"???\"),1,1))","v":""},{"$f":"IF(入力用科目!$D59=\"\",\"\",MID(TEXT(入力用科目!$D59,\"???\"),2,1))","v":""},{"$f":"IF(入力用科目!$D59=\"\",\"\",MID(TEXT(入力用科目!$D59,\"???\"),3,1))","v":""},null,{"$f":"IF(入力用科目!$Q59=1,\"運送収入\",IF(入力用科目!$H59=\"\",\"\",入力用科目!$H59))","v":""},null,null,null,null,null,null,null,null,{"$f":"IF(入力用科目!$Q59=\"\",\"\",MID(TEXT(入力用科目!$Q59,\"???\"),1,1))","v":""},{"$f":"IF(入力用科目!$Q59=\"\",\"\",MID(TEXT(入力用科目!$Q59,\"???\"),2,1))","v":""},{"$f":"IF(入力用科目!$Q59=\"\",\"\",MID(TEXT(入力用科目!$Q59,\"???\"),3,1))","v":""},null,{"$f":"IF(入力用科目!$U59=\"\",\"\",MID(TEXT(入力用科目!$U59,\"????????\"),1,1))","v":""},{"$f":"IF(入力用科目!$U59=\"\",\"\",MID(TEXT(入力用科目!$U59,\"????????\"),2,1))","v":""},{"$f":"IF(入力用科目!$U59=\"\",\"\",MID(TEXT(入力用科目!$U59,\"????????\"),3,1))","v":""},{"$f":"IF(入力用科目!$U59=\"\",\"\",MID(TEXT(入力用科目!$U59,\"????????\"),4,1))","v":""},{"$f":"IF(入力用科目!$U59=\"\",\"\",MID(TEXT(入力用科目!$U59,\"????????\"),5,1))","v":""},{"$f":"IF(入力用科目!$U59=\"\",\"\",MID(TEXT(入力用科目!$U59,\"????????\"),6,1))","v":""},{"$f":"IF(入力用科目!$U59=\"\",\"\",MID(TEXT(入力用科目!$U59,\"????????\"),7,1))","v":""},{"$f":"IF(入力用科目!$U59=\"\",\"\",MID(TEXT(入力用科目!$U59,\"????????\"),8,1))","v":""},null,{"$f":"IF(入力用科目!$AD59=\"\",\"\",MID(TEXT(入力用科目!$AD59,\"????????\"),1,1))","v":""},{"$f":"IF(入力用科目!$AD59=\"\",\"\",MID(TEXT(入力用科目!$AD59,\"????????\"),2,1))","v":""},{"$f":"IF(入力用科目!$AD59=\"\",\"\",MID(TEXT(入力用科目!$AD59,\"????????\"),3,1))","v":""},{"$f":"IF(入力用科目!$AD59=\"\",\"\",MID(TEXT(入力用科目!$AD59,\"????????\"),4,1))","v":""},{"$f":"IF(入力用科目!$AD59=\"\",\"\",MID(TEXT(入力用科目!$AD59,\"????????\"),5,1))","v":""},{"$f":"IF(入力用科目!$AD59=\"\",\"\",MID(TEXT(入力用科目!$AD59,\"????????\"),6,1))","v":""},{"$f":"IF(入力用科目!$AD59=\"\",\"\",MID(TEXT(入力用科目!$AD59,\"????????\"),7,1))","v":""},{"$f":"IF(入力用科目!$AD59=\"\",\"\",MID(TEXT(入力用科目!$AD59,\"????????\"),8,1))","v":""},null,{"$f":"IF(入力用科目!$AM59=\"\",\"\",MID(TEXT(入力用科目!$AM59,\"????????\"),1,1))","v":" "},{"$f":"IF(入力用科目!$AM59=\"\",\"\",MID(TEXT(入力用科目!$AM59,\"????????\"),2,1))","v":" "},{"$f":"IF(入力用科目!$AM59=\"\",\"\",MID(TEXT(入力用科目!$AM59,\"????????\"),3,1))","v":" "},{"$f":"IF(入力用科目!$AM59=\"\",\"\",MID(TEXT(入力用科目!$AM59,\"????????\"),4,1))","v":" "},{"$f":"IF(入力用科目!$AM59=\"\",\"\",MID(TEXT(入力用科目!$AM59,\"????????\"),5,1))","v":" "},{"$f":"IF(入力用科目!$AM59=\"\",\"\",MID(TEXT(入力用科目!$AM59,\"????????\"),6,1))","v":" "},{"$f":"IF(入力用科目!$AM59=\"\",\"\",MID(TEXT(入力用科目!$AM59,\"????????\"),7,1))","v":" "},{"$f":"IF(入力用科目!$AM59=\"\",\"\",MID(TEXT(入力用科目!$AM59,\"????????\"),8,1))","v":" "}]
[{"$f":"IF(入力用科目!A60=\"\",\"\",MID(TEXT(入力用科目!$A60,\"??\"),COLUMN(),1))","v":""},{"$f":"IF(入力用科目!A60=\"\",\"\",MID(TEXT(入力用科目!$A60,\"??\"),COLUMN(),1))","v":""},null,{"$f":"IF(入力用科目!$D60=\"\",\"\",MID(TEXT(入力用科目!$D60,\"???\"),1,1))","v":""},{"$f":"IF(入力用科目!$D60=\"\",\"\",MID(TEXT(入力用科目!$D60,\"???\"),2,1))","v":""},{"$f":"IF(入力用科目!$D60=\"\",\"\",MID(TEXT(入力用科目!$D60,\"???\"),3,1))","v":""},null,{"$f":"IF(入力用科目!$Q60=1,\"運送収入\",IF(入力用科目!$H60=\"\",\"\",入力用科目!$H60))","v":""},null,null,null,null,null,null,null,null,{"$f":"IF(入力用科目!$Q60=\"\",\"\",MID(TEXT(入力用科目!$Q60,\"???\"),1,1))","v":""},{"$f":"IF(入力用科目!$Q60=\"\",\"\",MID(TEXT(入力用科目!$Q60,\"???\"),2,1))","v":""},{"$f":"IF(入力用科目!$Q60=\"\",\"\",MID(TEXT(入力用科目!$Q60,\"???\"),3,1))","v":""},null,{"$f":"IF(入力用科目!$U60=\"\",\"\",MID(TEXT(入力用科目!$U60,\"????????\"),1,1))","v":""},{"$f":"IF(入力用科目!$U60=\"\",\"\",MID(TEXT(入力用科目!$U60,\"????????\"),2,1))","v":""},{"$f":"IF(入力用科目!$U60=\"\",\"\",MID(TEXT(入力用科目!$U60,\"????????\"),3,1))","v":""},{"$f":"IF(入力用科目!$U60=\"\",\"\",MID(TEXT(入力用科目!$U60,\"????????\"),4,1))","v":""},{"$f":"IF(入力用科目!$U60=\"\",\"\",MID(TEXT(入力用科目!$U60,\"????????\"),5,1))","v":""},{"$f":"IF(入力用科目!$U60=\"\",\"\",MID(TEXT(入力用科目!$U60,\"????????\"),6,1))","v":""},{"$f":"IF(入力用科目!$U60=\"\",\"\",MID(TEXT(入力用科目!$U60,\"????????\"),7,1))","v":""},{"$f":"IF(入力用科目!$U60=\"\",\"\",MID(TEXT(入力用科目!$U60,\"????????\"),8,1))","v":""},null,{"$f":"IF(入力用科目!$AD60=\"\",\"\",MID(TEXT(入力用科目!$AD60,\"????????\"),1,1))","v":""},{"$f":"IF(入力用科目!$AD60=\"\",\"\",MID(TEXT(入力用科目!$AD60,\"????????\"),2,1))","v":""},{"$f":"IF(入力用科目!$AD60=\"\",\"\",MID(TEXT(入力用科目!$AD60,\"????????\"),3,1))","v":""},{"$f":"IF(入力用科目!$AD60=\"\",\"\",MID(TEXT(入力用科目!$AD60,\"????????\"),4,1))","v":""},{"$f":"IF(入力用科目!$AD60=\"\",\"\",MID(TEXT(入力用科目!$AD60,\"????????\"),5,1))","v":""},{"$f":"IF(入力用科目!$AD60=\"\",\"\",MID(TEXT(入力用科目!$AD60,\"????????\"),6,1))","v":""},{"$f":"IF(入力用科目!$AD60=\"\",\"\",MID(TEXT(入力用科目!$AD60,\"????????\"),7,1))","v":""},{"$f":"IF(入力用科目!$AD60=\"\",\"\",MID(TEXT(入力用科目!$AD60,\"????????\"),8,1))","v":""},null,{"$f":"IF(入力用科目!$AM60=\"\",\"\",MID(TEXT(入力用科目!$AM60,\"????????\"),1,1))","v":" "},{"$f":"IF(入力用科目!$AM60=\"\",\"\",MID(TEXT(入力用科目!$AM60,\"????????\"),2,1))","v":" "},{"$f":"IF(入力用科目!$AM60=\"\",\"\",MID(TEXT(入力用科目!$AM60,\"????????\"),3,1))","v":" "},{"$f":"IF(入力用科目!$AM60=\"\",\"\",MID(TEXT(入力用科目!$AM60,\"????????\"),4,1))","v":" "},{"$f":"IF(入力用科目!$AM60=\"\",\"\",MID(TEXT(入力用科目!$AM60,\"????????\"),5,1))","v":" "},{"$f":"IF(入力用科目!$AM60=\"\",\"\",MID(TEXT(入力用科目!$AM60,\"????????\"),6,1))","v":" "},{"$f":"IF(入力用科目!$AM60=\"\",\"\",MID(TEXT(入力用科目!$AM60,\"????????\"),7,1))","v":" "},{"$f":"IF(入力用科目!$AM60=\"\",\"\",MID(TEXT(入力用科目!$AM60,\"????????\"),8,1))","v":" "}]
[{"$f":"IF(入力用科目!A61=\"\",\"\",MID(TEXT(入力用科目!$A61,\"??\"),COLUMN(),1))","v":""},{"$f":"IF(入力用科目!A61=\"\",\"\",MID(TEXT(入力用科目!$A61,\"??\"),COLUMN(),1))","v":""},null,{"$f":"IF(入力用科目!$D61=\"\",\"\",MID(TEXT(入力用科目!$D61,\"???\"),1,1))","v":""},{"$f":"IF(入力用科目!$D61=\"\",\"\",MID(TEXT(入力用科目!$D61,\"???\"),2,1))","v":""},{"$f":"IF(入力用科目!$D61=\"\",\"\",MID(TEXT(入力用科目!$D61,\"???\"),3,1))","v":""},null,{"$f":"IF(入力用科目!$Q61=1,\"運送収入\",IF(入力用科目!$H61=\"\",\"\",入力用科目!$H61))","v":""},null,null,null,null,null,null,null,null,{"$f":"IF(入力用科目!$Q61=\"\",\"\",MID(TEXT(入力用科目!$Q61,\"???\"),1,1))","v":""},{"$f":"IF(入力用科目!$Q61=\"\",\"\",MID(TEXT(入力用科目!$Q61,\"???\"),2,1))","v":""},{"$f":"IF(入力用科目!$Q61=\"\",\"\",MID(TEXT(入力用科目!$Q61,\"???\"),3,1))","v":""},null,{"$f":"IF(入力用科目!$U61=\"\",\"\",MID(TEXT(入力用科目!$U61,\"????????\"),1,1))","v":""},{"$f":"IF(入力用科目!$U61=\"\",\"\",MID(TEXT(入力用科目!$U61,\"????????\"),2,1))","v":""},{"$f":"IF(入力用科目!$U61=\"\",\"\",MID(TEXT(入力用科目!$U61,\"????????\"),3,1))","v":""},{"$f":"IF(入力用科目!$U61=\"\",\"\",MID(TEXT(入力用科目!$U61,\"????????\"),4,1))","v":""},{"$f":"IF(入力用科目!$U61=\"\",\"\",MID(TEXT(入力用科目!$U61,\"????????\"),5,1))","v":""},{"$f":"IF(入力用科目!$U61=\"\",\"\",MID(TEXT(入力用科目!$U61,\"????????\"),6,1))","v":""},{"$f":"IF(入力用科目!$U61=\"\",\"\",MID(TEXT(入力用科目!$U61,\"????????\"),7,1))","v":""},{"$f":"IF(入力用科目!$U61=\"\",\"\",MID(TEXT(入力用科目!$U61,\"????????\"),8,1))","v":""},null,{"$f":"IF(入力用科目!$AD61=\"\",\"\",MID(TEXT(入力用科目!$AD61,\"????????\"),1,1))","v":""},{"$f":"IF(入力用科目!$AD61=\"\",\"\",MID(TEXT(入力用科目!$AD61,\"????????\"),2,1))","v":""},{"$f":"IF(入力用科目!$AD61=\"\",\"\",MID(TEXT(入力用科目!$AD61,\"????????\"),3,1))","v":""},{"$f":"IF(入力用科目!$AD61=\"\",\"\",MID(TEXT(入力用科目!$AD61,\"????????\"),4,1))","v":""},{"$f":"IF(入力用科目!$AD61=\"\",\"\",MID(TEXT(入力用科目!$AD61,\"????????\"),5,1))","v":""},{"$f":"IF(入力用科目!$AD61=\"\",\"\",MID(TEXT(入力用科目!$AD61,\"????????\"),6,1))","v":""},{"$f":"IF(入力用科目!$AD61=\"\",\"\",MID(TEXT(入力用科目!$AD61,\"????????\"),7,1))","v":""},{"$f":"IF(入力用科目!$AD61=\"\",\"\",MID(TEXT(入力用科目!$AD61,\"????????\"),8,1))","v":""},null,{"$f":"IF(入力用科目!$AM61=\"\",\"\",MID(TEXT(入力用科目!$AM61,\"????????\"),1,1))","v":" "},{"$f":"IF(入力用科目!$AM61=\"\",\"\",MID(TEXT(入力用科目!$AM61,\"????????\"),2,1))","v":" "},{"$f":"IF(入力用科目!$AM61=\"\",\"\",MID(TEXT(入力用科目!$AM61,\"????????\"),3,1))","v":" "},{"$f":"IF(入力用科目!$AM61=\"\",\"\",MID(TEXT(入力用科目!$AM61,\"????????\"),4,1))","v":" "},{"$f":"IF(入力用科目!$AM61=\"\",\"\",MID(TEXT(入力用科目!$AM61,\"????????\"),5,1))","v":" "},{"$f":"IF(入力用科目!$AM61=\"\",\"\",MID(TEXT(入力用科目!$AM61,\"????????\"),6,1))","v":" "},{"$f":"IF(入力用科目!$AM61=\"\",\"\",MID(TEXT(入力用科目!$AM61,\"????????\"),7,1))","v":" "},{"$f":"IF(入力用科目!$AM61=\"\",\"\",MID(TEXT(入力用科目!$AM61,\"????????\"),8,1))","v":" "}]
[{"$f":"IF(入力用科目!A62=\"\",\"\",MID(TEXT(入力用科目!$A62,\"??\"),COLUMN(),1))","v":""},{"$f":"IF(入力用科目!A62=\"\",\"\",MID(TEXT(入力用科目!$A62,\"??\"),COLUMN(),1))","v":""},null,{"$f":"IF(入力用科目!$D62=\"\",\"\",MID(TEXT(入力用科目!$D62,\"???\"),1,1))","v":""},{"$f":"IF(入力用科目!$D62=\"\",\"\",MID(TEXT(入力用科目!$D62,\"???\"),2,1))","v":""},{"$f":"IF(入力用科目!$D62=\"\",\"\",MID(TEXT(入力用科目!$D62,\"???\"),3,1))","v":""},null,{"$f":"IF(入力用科目!$Q62=1,\"運送収入\",IF(入力用科目!$H62=\"\",\"\",入力用科目!$H62))","v":""},null,null,null,null,null,null,null,null,{"$f":"IF(入力用科目!$Q62=\"\",\"\",MID(TEXT(入力用科目!$Q62,\"???\"),1,1))","v":""},{"$f":"IF(入力用科目!$Q62=\"\",\"\",MID(TEXT(入力用科目!$Q62,\"???\"),2,1))","v":""},{"$f":"IF(入力用科目!$Q62=\"\",\"\",MID(TEXT(入力用科目!$Q62,\"???\"),3,1))","v":""},null,{"$f":"IF(入力用科目!$U62=\"\",\"\",MID(TEXT(入力用科目!$U62,\"????????\"),1,1))","v":""},{"$f":"IF(入力用科目!$U62=\"\",\"\",MID(TEXT(入力用科目!$U62,\"????????\"),2,1))","v":""},{"$f":"IF(入力用科目!$U62=\"\",\"\",MID(TEXT(入力用科目!$U62,\"????????\"),3,1))","v":""},{"$f":"IF(入力用科目!$U62=\"\",\"\",MID(TEXT(入力用科目!$U62,\"????????\"),4,1))","v":""},{"$f":"IF(入力用科目!$U62=\"\",\"\",MID(TEXT(入力用科目!$U62,\"????????\"),5,1))","v":""},{"$f":"IF(入力用科目!$U62=\"\",\"\",MID(TEXT(入力用科目!$U62,\"????????\"),6,1))","v":""},{"$f":"IF(入力用科目!$U62=\"\",\"\",MID(TEXT(入力用科目!$U62,\"????????\"),7,1))","v":""},{"$f":"IF(入力用科目!$U62=\"\",\"\",MID(TEXT(入力用科目!$U62,\"????????\"),8,1))","v":""},null,{"$f":"IF(入力用科目!$AD62=\"\",\"\",MID(TEXT(入力用科目!$AD62,\"????????\"),1,1))","v":""},{"$f":"IF(入力用科目!$AD62=\"\",\"\",MID(TEXT(入力用科目!$AD62,\"????????\"),2,1))","v":""},{"$f":"IF(入力用科目!$AD62=\"\",\"\",MID(TEXT(入力用科目!$AD62,\"????????\"),3,1))","v":""},{"$f":"IF(入力用科目!$AD62=\"\",\"\",MID(TEXT(入力用科目!$AD62,\"????????\"),4,1))","v":""},{"$f":"IF(入力用科目!$AD62=\"\",\"\",MID(TEXT(入力用科目!$AD62,\"????????\"),5,1))","v":""},{"$f":"IF(入力用科目!$AD62=\"\",\"\",MID(TEXT(入力用科目!$AD62,\"????????\"),6,1))","v":""},{"$f":"IF(入力用科目!$AD62=\"\",\"\",MID(TEXT(入力用科目!$AD62,\"????????\"),7,1))","v":""},{"$f":"IF(入力用科目!$AD62=\"\",\"\",MID(TEXT(入力用科目!$AD62,\"????????\"),8,1))","v":""},null,{"$f":"IF(入力用科目!$AM62=\"\",\"\",MID(TEXT(入力用科目!$AM62,\"????????\"),1,1))","v":" "},{"$f":"IF(入力用科目!$AM62=\"\",\"\",MID(TEXT(入力用科目!$AM62,\"????????\"),2,1))","v":" "},{"$f":"IF(入力用科目!$AM62=\"\",\"\",MID(TEXT(入力用科目!$AM62,\"????????\"),3,1))","v":" "},{"$f":"IF(入力用科目!$AM62=\"\",\"\",MID(TEXT(入力用科目!$AM62,\"????????\"),4,1))","v":" "},{"$f":"IF(入力用科目!$AM62=\"\",\"\",MID(TEXT(入力用科目!$AM62,\"????????\"),5,1))","v":" "},{"$f":"IF(入力用科目!$AM62=\"\",\"\",MID(TEXT(入力用科目!$AM62,\"????????\"),6,1))","v":" "},{"$f":"IF(入力用科目!$AM62=\"\",\"\",MID(TEXT(入力用科目!$AM62,\"????????\"),7,1))","v":" "},{"$f":"IF(入力用科目!$AM62=\"\",\"\",MID(TEXT(入力用科目!$AM62,\"????????\"),8,1))","v":" "}]
[{"$f":"IF(入力用科目!A63=\"\",\"\",MID(TEXT(入力用科目!$A63,\"??\"),COLUMN(),1))","v":""},{"$f":"IF(入力用科目!A63=\"\",\"\",MID(TEXT(入力用科目!$A63,\"??\"),COLUMN(),1))","v":""},null,{"$f":"IF(入力用科目!$D63=\"\",\"\",MID(TEXT(入力用科目!$D63,\"???\"),1,1))","v":""},{"$f":"IF(入力用科目!$D63=\"\",\"\",MID(TEXT(入力用科目!$D63,\"???\"),2,1))","v":""},{"$f":"IF(入力用科目!$D63=\"\",\"\",MID(TEXT(入力用科目!$D63,\"???\"),3,1))","v":""},null,{"$f":"IF(入力用科目!$Q63=1,\"運送収入\",IF(入力用科目!$H63=\"\",\"\",入力用科目!$H63))","v":""},null,null,null,null,null,null,null,null,{"$f":"IF(入力用科目!$Q63=\"\",\"\",MID(TEXT(入力用科目!$Q63,\"???\"),1,1))","v":""},{"$f":"IF(入力用科目!$Q63=\"\",\"\",MID(TEXT(入力用科目!$Q63,\"???\"),2,1))","v":""},{"$f":"IF(入力用科目!$Q63=\"\",\"\",MID(TEXT(入力用科目!$Q63,\"???\"),3,1))","v":""},null,{"$f":"IF(入力用科目!$U63=\"\",\"\",MID(TEXT(入力用科目!$U63,\"????????\"),1,1))","v":""},{"$f":"IF(入力用科目!$U63=\"\",\"\",MID(TEXT(入力用科目!$U63,\"????????\"),2,1))","v":""},{"$f":"IF(入力用科目!$U63=\"\",\"\",MID(TEXT(入力用科目!$U63,\"????????\"),3,1))","v":""},{"$f":"IF(入力用科目!$U63=\"\",\"\",MID(TEXT(入力用科目!$U63,\"????????\"),4,1))","v":""},{"$f":"IF(入力用科目!$U63=\"\",\"\",MID(TEXT(入力用科目!$U63,\"????????\"),5,1))","v":""},{"$f":"IF(入力用科目!$U63=\"\",\"\",MID(TEXT(入力用科目!$U63,\"????????\"),6,1))","v":""},{"$f":"IF(入力用科目!$U63=\"\",\"\",MID(TEXT(入力用科目!$U63,\"????????\"),7,1))","v":""},{"$f":"IF(入力用科目!$U63=\"\",\"\",MID(TEXT(入力用科目!$U63,\"????????\"),8,1))","v":""},null,{"$f":"IF(入力用科目!$AD63=\"\",\"\",MID(TEXT(入力用科目!$AD63,\"????????\"),1,1))","v":""},{"$f":"IF(入力用科目!$AD63=\"\",\"\",MID(TEXT(入力用科目!$AD63,\"????????\"),2,1))","v":""},{"$f":"IF(入力用科目!$AD63=\"\",\"\",MID(TEXT(入力用科目!$AD63,\"????????\"),3,1))","v":""},{"$f":"IF(入力用科目!$AD63=\"\",\"\",MID(TEXT(入力用科目!$AD63,\"????????\"),4,1))","v":""},{"$f":"IF(入力用科目!$AD63=\"\",\"\",MID(TEXT(入力用科目!$AD63,\"????????\"),5,1))","v":""},{"$f":"IF(入力用科目!$AD63=\"\",\"\",MID(TEXT(入力用科目!$AD63,\"????????\"),6,1))","v":""},{"$f":"IF(入力用科目!$AD63=\"\",\"\",MID(TEXT(入力用科目!$AD63,\"????????\"),7,1))","v":""},{"$f":"IF(入力用科目!$AD63=\"\",\"\",MID(TEXT(入力用科目!$AD63,\"????????\"),8,1))","v":""},null,{"$f":"IF(入力用科目!$AM63=\"\",\"\",MID(TEXT(入力用科目!$AM63,\"????????\"),1,1))","v":" "},{"$f":"IF(入力用科目!$AM63=\"\",\"\",MID(TEXT(入力用科目!$AM63,\"????????\"),2,1))","v":" "},{"$f":"IF(入力用科目!$AM63=\"\",\"\",MID(TEXT(入力用科目!$AM63,\"????????\"),3,1))","v":" "},{"$f":"IF(入力用科目!$AM63=\"\",\"\",MID(TEXT(入力用科目!$AM63,\"????????\"),4,1))","v":" "},{"$f":"IF(入力用科目!$AM63=\"\",\"\",MID(TEXT(入力用科目!$AM63,\"????????\"),5,1))","v":" "},{"$f":"IF(入力用科目!$AM63=\"\",\"\",MID(TEXT(入力用科目!$AM63,\"????????\"),6,1))","v":" "},{"$f":"IF(入力用科目!$AM63=\"\",\"\",MID(TEXT(入力用科目!$AM63,\"????????\"),7,1))","v":" "},{"$f":"IF(入力用科目!$AM63=\"\",\"\",MID(TEXT(入力用科目!$AM63,\"????????\"),8,1))","v":" "}]
[{"$f":"IF(入力用科目!A64=\"\",\"\",MID(TEXT(入力用科目!$A64,\"??\"),COLUMN(),1))","v":""},{"$f":"IF(入力用科目!A64=\"\",\"\",MID(TEXT(入力用科目!$A64,\"??\"),COLUMN(),1))","v":""},null,{"$f":"IF(入力用科目!$D64=\"\",\"\",MID(TEXT(入力用科目!$D64,\"???\"),1,1))","v":""},{"$f":"IF(入力用科目!$D64=\"\",\"\",MID(TEXT(入力用科目!$D64,\"???\"),2,1))","v":""},{"$f":"IF(入力用科目!$D64=\"\",\"\",MID(TEXT(入力用科目!$D64,\"???\"),3,1))","v":""},null,{"$f":"IF(入力用科目!$Q64=1,\"運送収入\",IF(入力用科目!$H64=\"\",\"\",入力用科目!$H64))","v":""},null,null,null,null,null,null,null,null,{"$f":"IF(入力用科目!$Q64=\"\",\"\",MID(TEXT(入力用科目!$Q64,\"???\"),1,1))","v":""},{"$f":"IF(入力用科目!$Q64=\"\",\"\",MID(TEXT(入力用科目!$Q64,\"???\"),2,1))","v":""},{"$f":"IF(入力用科目!$Q64=\"\",\"\",MID(TEXT(入力用科目!$Q64,\"???\"),3,1))","v":""},null,{"$f":"IF(入力用科目!$U64=\"\",\"\",MID(TEXT(入力用科目!$U64,\"????????\"),1,1))","v":""},{"$f":"IF(入力用科目!$U64=\"\",\"\",MID(TEXT(入力用科目!$U64,\"????????\"),2,1))","v":""},{"$f":"IF(入力用科目!$U64=\"\",\"\",MID(TEXT(入力用科目!$U64,\"????????\"),3,1))","v":""},{"$f":"IF(入力用科目!$U64=\"\",\"\",MID(TEXT(入力用科目!$U64,\"????????\"),4,1))","v":""},{"$f":"IF(入力用科目!$U64=\"\",\"\",MID(TEXT(入力用科目!$U64,\"????????\"),5,1))","v":""},{"$f":"IF(入力用科目!$U64=\"\",\"\",MID(TEXT(入力用科目!$U64,\"????????\"),6,1))","v":""},{"$f":"IF(入力用科目!$U64=\"\",\"\",MID(TEXT(入力用科目!$U64,\"????????\"),7,1))","v":""},{"$f":"IF(入力用科目!$U64=\"\",\"\",MID(TEXT(入力用科目!$U64,\"????????\"),8,1))","v":""},null,{"$f":"IF(入力用科目!$AD64=\"\",\"\",MID(TEXT(入力用科目!$AD64,\"????????\"),1,1))","v":""},{"$f":"IF(入力用科目!$AD64=\"\",\"\",MID(TEXT(入力用科目!$AD64,\"????????\"),2,1))","v":""},{"$f":"IF(入力用科目!$AD64=\"\",\"\",MID(TEXT(入力用科目!$AD64,\"????????\"),3,1))","v":""},{"$f":"IF(入力用科目!$AD64=\"\",\"\",MID(TEXT(入力用科目!$AD64,\"????????\"),4,1))","v":""},{"$f":"IF(入力用科目!$AD64=\"\",\"\",MID(TEXT(入力用科目!$AD64,\"????????\"),5,1))","v":""},{"$f":"IF(入力用科目!$AD64=\"\",\"\",MID(TEXT(入力用科目!$AD64,\"????????\"),6,1))","v":""},{"$f":"IF(入力用科目!$AD64=\"\",\"\",MID(TEXT(入力用科目!$AD64,\"????????\"),7,1))","v":""},{"$f":"IF(入力用科目!$AD64=\"\",\"\",MID(TEXT(入力用科目!$AD64,\"????????\"),8,1))","v":""},null,{"$f":"IF(入力用科目!$AM64=\"\",\"\",MID(TEXT(入力用科目!$AM64,\"????????\"),1,1))","v":" "},{"$f":"IF(入力用科目!$AM64=\"\",\"\",MID(TEXT(入力用科目!$AM64,\"????????\"),2,1))","v":" "},{"$f":"IF(入力用科目!$AM64=\"\",\"\",MID(TEXT(入力用科目!$AM64,\"????????\"),3,1))","v":" "},{"$f":"IF(入力用科目!$AM64=\"\",\"\",MID(TEXT(入力用科目!$AM64,\"????????\"),4,1))","v":" "},{"$f":"IF(入力用科目!$AM64=\"\",\"\",MID(TEXT(入力用科目!$AM64,\"????????\"),5,1))","v":" "},{"$f":"IF(入力用科目!$AM64=\"\",\"\",MID(TEXT(入力用科目!$AM64,\"????????\"),6,1))","v":" "},{"$f":"IF(入力用科目!$AM64=\"\",\"\",MID(TEXT(入力用科目!$AM64,\"????????\"),7,1))","v":" "},{"$f":"IF(入力用科目!$AM64=\"\",\"\",MID(TEXT(入力用科目!$AM64,\"????????\"),8,1))","v":" "}]
[{"$f":"IF(入力用科目!A65=\"\",\"\",MID(TEXT(入力用科目!$A65,\"??\"),COLUMN(),1))","v":""},{"$f":"IF(入力用科目!A65=\"\",\"\",MID(TEXT(入力用科目!$A65,\"??\"),COLUMN(),1))","v":""},null,{"$f":"IF(入力用科目!$D65=\"\",\"\",MID(TEXT(入力用科目!$D65,\"???\"),1,1))","v":""},{"$f":"IF(入力用科目!$D65=\"\",\"\",MID(TEXT(入力用科目!$D65,\"???\"),2,1))","v":""},{"$f":"IF(入力用科目!$D65=\"\",\"\",MID(TEXT(入力用科目!$D65,\"???\"),3,1))","v":""},null,{"$f":"IF(入力用科目!$Q65=1,\"運送収入\",IF(入力用科目!$H65=\"\",\"\",入力用科目!$H65))","v":""},null,null,null,null,null,null,null,null,{"$f":"IF(入力用科目!$Q65=\"\",\"\",MID(TEXT(入力用科目!$Q65,\"???\"),1,1))","v":""},{"$f":"IF(入力用科目!$Q65=\"\",\"\",MID(TEXT(入力用科目!$Q65,\"???\"),2,1))","v":""},{"$f":"IF(入力用科目!$Q65=\"\",\"\",MID(TEXT(入力用科目!$Q65,\"???\"),3,1))","v":""},null,{"$f":"IF(入力用科目!$U65=\"\",\"\",MID(TEXT(入力用科目!$U65,\"????????\"),1,1))","v":""},{"$f":"IF(入力用科目!$U65=\"\",\"\",MID(TEXT(入力用科目!$U65,\"????????\"),2,1))","v":""},{"$f":"IF(入力用科目!$U65=\"\",\"\",MID(TEXT(入力用科目!$U65,\"????????\"),3,1))","v":""},{"$f":"IF(入力用科目!$U65=\"\",\"\",MID(TEXT(入力用科目!$U65,\"????????\"),4,1))","v":""},{"$f":"IF(入力用科目!$U65=\"\",\"\",MID(TEXT(入力用科目!$U65,\"????????\"),5,1))","v":""},{"$f":"IF(入力用科目!$U65=\"\",\"\",MID(TEXT(入力用科目!$U65,\"????????\"),6,1))","v":""},{"$f":"IF(入力用科目!$U65=\"\",\"\",MID(TEXT(入力用科目!$U65,\"????????\"),7,1))","v":""},{"$f":"IF(入力用科目!$U65=\"\",\"\",MID(TEXT(入力用科目!$U65,\"????????\"),8,1))","v":""},null,{"$f":"IF(入力用科目!$AD65=\"\",\"\",MID(TEXT(入力用科目!$AD65,\"????????\"),1,1))","v":""},{"$f":"IF(入力用科目!$AD65=\"\",\"\",MID(TEXT(入力用科目!$AD65,\"????????\"),2,1))","v":""},{"$f":"IF(入力用科目!$AD65=\"\",\"\",MID(TEXT(入力用科目!$AD65,\"????????\"),3,1))","v":""},{"$f":"IF(入力用科目!$AD65=\"\",\"\",MID(TEXT(入力用科目!$AD65,\"????????\"),4,1))","v":""},{"$f":"IF(入力用科目!$AD65=\"\",\"\",MID(TEXT(入力用科目!$AD65,\"????????\"),5,1))","v":""},{"$f":"IF(入力用科目!$AD65=\"\",\"\",MID(TEXT(入力用科目!$AD65,\"????????\"),6,1))","v":""},{"$f":"IF(入力用科目!$AD65=\"\",\"\",MID(TEXT(入力用科目!$AD65,\"????????\"),7,1))","v":""},{"$f":"IF(入力用科目!$AD65=\"\",\"\",MID(TEXT(入力用科目!$AD65,\"????????\"),8,1))","v":""},null,{"$f":"IF(入力用科目!$AM65=\"\",\"\",MID(TEXT(入力用科目!$AM65,\"????????\"),1,1))","v":" "},{"$f":"IF(入力用科目!$AM65=\"\",\"\",MID(TEXT(入力用科目!$AM65,\"????????\"),2,1))","v":" "},{"$f":"IF(入力用科目!$AM65=\"\",\"\",MID(TEXT(入力用科目!$AM65,\"????????\"),3,1))","v":" "},{"$f":"IF(入力用科目!$AM65=\"\",\"\",MID(TEXT(入力用科目!$AM65,\"????????\"),4,1))","v":" "},{"$f":"IF(入力用科目!$AM65=\"\",\"\",MID(TEXT(入力用科目!$AM65,\"????????\"),5,1))","v":" "},{"$f":"IF(入力用科目!$AM65=\"\",\"\",MID(TEXT(入力用科目!$AM65,\"????????\"),6,1))","v":" "},{"$f":"IF(入力用科目!$AM65=\"\",\"\",MID(TEXT(入力用科目!$AM65,\"????????\"),7,1))","v":" "},{"$f":"IF(入力用科目!$AM65=\"\",\"\",MID(TEXT(入力用科目!$AM65,\"????????\"),8,1))","v":" "}]
[{"$f":"IF(入力用科目!A66=\"\",\"\",MID(TEXT(入力用科目!$A66,\"??\"),COLUMN(),1))","v":""},{"$f":"IF(入力用科目!A66=\"\",\"\",MID(TEXT(入力用科目!$A66,\"??\"),COLUMN(),1))","v":""},null,{"$f":"IF(入力用科目!$D66=\"\",\"\",MID(TEXT(入力用科目!$D66,\"???\"),1,1))","v":""},{"$f":"IF(入力用科目!$D66=\"\",\"\",MID(TEXT(入力用科目!$D66,\"???\"),2,1))","v":""},{"$f":"IF(入力用科目!$D66=\"\",\"\",MID(TEXT(入力用科目!$D66,\"???\"),3,1))","v":""},null,{"$f":"IF(入力用科目!$Q66=1,\"運送収入\",IF(入力用科目!$H66=\"\",\"\",入力用科目!$H66))","v":""},null,null,null,null,null,null,null,null,{"$f":"IF(入力用科目!$Q66=\"\",\"\",MID(TEXT(入力用科目!$Q66,\"???\"),1,1))","v":""},{"$f":"IF(入力用科目!$Q66=\"\",\"\",MID(TEXT(入力用科目!$Q66,\"???\"),2,1))","v":""},{"$f":"IF(入力用科目!$Q66=\"\",\"\",MID(TEXT(入力用科目!$Q66,\"???\"),3,1))","v":""},null,{"$f":"IF(入力用科目!$U66=\"\",\"\",MID(TEXT(入力用科目!$U66,\"????????\"),1,1))","v":""},{"$f":"IF(入力用科目!$U66=\"\",\"\",MID(TEXT(入力用科目!$U66,\"????????\"),2,1))","v":""},{"$f":"IF(入力用科目!$U66=\"\",\"\",MID(TEXT(入力用科目!$U66,\"????????\"),3,1))","v":""},{"$f":"IF(入力用科目!$U66=\"\",\"\",MID(TEXT(入力用科目!$U66,\"????????\"),4,1))","v":""},{"$f":"IF(入力用科目!$U66=\"\",\"\",MID(TEXT(入力用科目!$U66,\"????????\"),5,1))","v":""},{"$f":"IF(入力用科目!$U66=\"\",\"\",MID(TEXT(入力用科目!$U66,\"????????\"),6,1))","v":""},{"$f":"IF(入力用科目!$U66=\"\",\"\",MID(TEXT(入力用科目!$U66,\"????????\"),7,1))","v":""},{"$f":"IF(入力用科目!$U66=\"\",\"\",MID(TEXT(入力用科目!$U66,\"????????\"),8,1))","v":""},null,{"$f":"IF(入力用科目!$AD66=\"\",\"\",MID(TEXT(入力用科目!$AD66,\"????????\"),1,1))","v":""},{"$f":"IF(入力用科目!$AD66=\"\",\"\",MID(TEXT(入力用科目!$AD66,\"????????\"),2,1))","v":""},{"$f":"IF(入力用科目!$AD66=\"\",\"\",MID(TEXT(入力用科目!$AD66,\"????????\"),3,1))","v":""},{"$f":"IF(入力用科目!$AD66=\"\",\"\",MID(TEXT(入力用科目!$AD66,\"????????\"),4,1))","v":""},{"$f":"IF(入力用科目!$AD66=\"\",\"\",MID(TEXT(入力用科目!$AD66,\"????????\"),5,1))","v":""},{"$f":"IF(入力用科目!$AD66=\"\",\"\",MID(TEXT(入力用科目!$AD66,\"????????\"),6,1))","v":""},{"$f":"IF(入力用科目!$AD66=\"\",\"\",MID(TEXT(入力用科目!$AD66,\"????????\"),7,1))","v":""},{"$f":"IF(入力用科目!$AD66=\"\",\"\",MID(TEXT(入力用科目!$AD66,\"????????\"),8,1))","v":""},null,{"$f":"IF(入力用科目!$AM66=\"\",\"\",MID(TEXT(入力用科目!$AM66,\"????????\"),1,1))","v":" "},{"$f":"IF(入力用科目!$AM66=\"\",\"\",MID(TEXT(入力用科目!$AM66,\"????????\"),2,1))","v":" "},{"$f":"IF(入力用科目!$AM66=\"\",\"\",MID(TEXT(入力用科目!$AM66,\"????????\"),3,1))","v":" "},{"$f":"IF(入力用科目!$AM66=\"\",\"\",MID(TEXT(入力用科目!$AM66,\"????????\"),4,1))","v":" "},{"$f":"IF(入力用科目!$AM66=\"\",\"\",MID(TEXT(入力用科目!$AM66,\"????????\"),5,1))","v":" "},{"$f":"IF(入力用科目!$AM66=\"\",\"\",MID(TEXT(入力用科目!$AM66,\"????????\"),6,1))","v":" "},{"$f":"IF(入力用科目!$AM66=\"\",\"\",MID(TEXT(入力用科目!$AM66,\"????????\"),7,1))","v":" "},{"$f":"IF(入力用科目!$AM66=\"\",\"\",MID(TEXT(入力用科目!$AM66,\"????????\"),8,1))","v":" "}]
[{"$f":"IF(入力用科目!A67=\"\",\"\",MID(TEXT(入力用科目!$A67,\"??\"),COLUMN(),1))","v":""},{"$f":"IF(入力用科目!A67=\"\",\"\",MID(TEXT(入力用科目!$A67,\"??\"),COLUMN(),1))","v":""},null,{"$f":"IF(入力用科目!$D67=\"\",\"\",MID(TEXT(入力用科目!$D67,\"???\"),1,1))","v":""},{"$f":"IF(入力用科目!$D67=\"\",\"\",MID(TEXT(入力用科目!$D67,\"???\"),2,1))","v":""},{"$f":"IF(入力用科目!$D67=\"\",\"\",MID(TEXT(入力用科目!$D67,\"???\"),3,1))","v":""},null,{"$f":"IF(入力用科目!$Q67=1,\"運送収入\",IF(入力用科目!$H67=\"\",\"\",入力用科目!$H67))","v":""},null,null,null,null,null,null,null,null,{"$f":"IF(入力用科目!$Q67=\"\",\"\",MID(TEXT(入力用科目!$Q67,\"???\"),1,1))","v":""},{"$f":"IF(入力用科目!$Q67=\"\",\"\",MID(TEXT(入力用科目!$Q67,\"???\"),2,1))","v":""},{"$f":"IF(入力用科目!$Q67=\"\",\"\",MID(TEXT(入力用科目!$Q67,\"???\"),3,1))","v":""},null,{"$f":"IF(入力用科目!$U67=\"\",\"\",MID(TEXT(入力用科目!$U67,\"????????\"),1,1))","v":""},{"$f":"IF(入力用科目!$U67=\"\",\"\",MID(TEXT(入力用科目!$U67,\"????????\"),2,1))","v":""},{"$f":"IF(入力用科目!$U67=\"\",\"\",MID(TEXT(入力用科目!$U67,\"????????\"),3,1))","v":""},{"$f":"IF(入力用科目!$U67=\"\",\"\",MID(TEXT(入力用科目!$U67,\"????????\"),4,1))","v":""},{"$f":"IF(入力用科目!$U67=\"\",\"\",MID(TEXT(入力用科目!$U67,\"????????\"),5,1))","v":""},{"$f":"IF(入力用科目!$U67=\"\",\"\",MID(TEXT(入力用科目!$U67,\"????????\"),6,1))","v":""},{"$f":"IF(入力用科目!$U67=\"\",\"\",MID(TEXT(入力用科目!$U67,\"????????\"),7,1))","v":""},{"$f":"IF(入力用科目!$U67=\"\",\"\",MID(TEXT(入力用科目!$U67,\"????????\"),8,1))","v":""},null,{"$f":"IF(入力用科目!$AD67=\"\",\"\",MID(TEXT(入力用科目!$AD67,\"????????\"),1,1))","v":""},{"$f":"IF(入力用科目!$AD67=\"\",\"\",MID(TEXT(入力用科目!$AD67,\"????????\"),2,1))","v":""},{"$f":"IF(入力用科目!$AD67=\"\",\"\",MID(TEXT(入力用科目!$AD67,\"????????\"),3,1))","v":""},{"$f":"IF(入力用科目!$AD67=\"\",\"\",MID(TEXT(入力用科目!$AD67,\"????????\"),4,1))","v":""},{"$f":"IF(入力用科目!$AD67=\"\",\"\",MID(TEXT(入力用科目!$AD67,\"????????\"),5,1))","v":""},{"$f":"IF(入力用科目!$AD67=\"\",\"\",MID(TEXT(入力用科目!$AD67,\"????????\"),6,1))","v":""},{"$f":"IF(入力用科目!$AD67=\"\",\"\",MID(TEXT(入力用科目!$AD67,\"????????\"),7,1))","v":""},{"$f":"IF(入力用科目!$AD67=\"\",\"\",MID(TEXT(入力用科目!$AD67,\"????????\"),8,1))","v":""},null,{"$f":"IF(入力用科目!$AM67=\"\",\"\",MID(TEXT(入力用科目!$AM67,\"????????\"),1,1))","v":" "},{"$f":"IF(入力用科目!$AM67=\"\",\"\",MID(TEXT(入力用科目!$AM67,\"????????\"),2,1))","v":" "},{"$f":"IF(入力用科目!$AM67=\"\",\"\",MID(TEXT(入力用科目!$AM67,\"????????\"),3,1))","v":" "},{"$f":"IF(入力用科目!$AM67=\"\",\"\",MID(TEXT(入力用科目!$AM67,\"????????\"),4,1))","v":" "},{"$f":"IF(入力用科目!$AM67=\"\",\"\",MID(TEXT(入力用科目!$AM67,\"????????\"),5,1))","v":" "},{"$f":"IF(入力用科目!$AM67=\"\",\"\",MID(TEXT(入力用科目!$AM67,\"????????\"),6,1))","v":" "},{"$f":"IF(入力用科目!$AM67=\"\",\"\",MID(TEXT(入力用科目!$AM67,\"????????\"),7,1))","v":" "},{"$f":"IF(入力用科目!$AM67=\"\",\"\",MID(TEXT(入力用科目!$AM67,\"????????\"),8,1))","v":" "}]
[{"$f":"IF(入力用科目!A68=\"\",\"\",MID(TEXT(入力用科目!$A68,\"??\"),COLUMN(),1))","v":""},{"$f":"IF(入力用科目!A68=\"\",\"\",MID(TEXT(入力用科目!$A68,\"??\"),COLUMN(),1))","v":""},null,{"$f":"IF(入力用科目!$D68=\"\",\"\",MID(TEXT(入力用科目!$D68,\"???\"),1,1))","v":""},{"$f":"IF(入力用科目!$D68=\"\",\"\",MID(TEXT(入力用科目!$D68,\"???\"),2,1))","v":""},{"$f":"IF(入力用科目!$D68=\"\",\"\",MID(TEXT(入力用科目!$D68,\"???\"),3,1))","v":""},null,{"$f":"IF(入力用科目!$Q68=1,\"運送収入\",IF(入力用科目!$H68=\"\",\"\",入力用科目!$H68))","v":""},null,null,null,null,null,null,null,null,{"$f":"IF(入力用科目!$Q68=\"\",\"\",MID(TEXT(入力用科目!$Q68,\"???\"),1,1))","v":""},{"$f":"IF(入力用科目!$Q68=\"\",\"\",MID(TEXT(入力用科目!$Q68,\"???\"),2,1))","v":""},{"$f":"IF(入力用科目!$Q68=\"\",\"\",MID(TEXT(入力用科目!$Q68,\"???\"),3,1))","v":""},null,{"$f":"IF(入力用科目!$U68=\"\",\"\",MID(TEXT(入力用科目!$U68,\"????????\"),1,1))","v":""},{"$f":"IF(入力用科目!$U68=\"\",\"\",MID(TEXT(入力用科目!$U68,\"????????\"),2,1))","v":""},{"$f":"IF(入力用科目!$U68=\"\",\"\",MID(TEXT(入力用科目!$U68,\"????????\"),3,1))","v":""},{"$f":"IF(入力用科目!$U68=\"\",\"\",MID(TEXT(入力用科目!$U68,\"????????\"),4,1))","v":""},{"$f":"IF(入力用科目!$U68=\"\",\"\",MID(TEXT(入力用科目!$U68,\"????????\"),5,1))","v":""},{"$f":"IF(入力用科目!$U68=\"\",\"\",MID(TEXT(入力用科目!$U68,\"????????\"),6,1))","v":""},{"$f":"IF(入力用科目!$U68=\"\",\"\",MID(TEXT(入力用科目!$U68,\"????????\"),7,1))","v":""},{"$f":"IF(入力用科目!$U68=\"\",\"\",MID(TEXT(入力用科目!$U68,\"????????\"),8,1))","v":""},null,{"$f":"IF(入力用科目!$AD68=\"\",\"\",MID(TEXT(入力用科目!$AD68,\"????????\"),1,1))","v":""},{"$f":"IF(入力用科目!$AD68=\"\",\"\",MID(TEXT(入力用科目!$AD68,\"????????\"),2,1))","v":""},{"$f":"IF(入力用科目!$AD68=\"\",\"\",MID(TEXT(入力用科目!$AD68,\"????????\"),3,1))","v":""},{"$f":"IF(入力用科目!$AD68=\"\",\"\",MID(TEXT(入力用科目!$AD68,\"????????\"),4,1))","v":""},{"$f":"IF(入力用科目!$AD68=\"\",\"\",MID(TEXT(入力用科目!$AD68,\"????????\"),5,1))","v":""},{"$f":"IF(入力用科目!$AD68=\"\",\"\",MID(TEXT(入力用科目!$AD68,\"????????\"),6,1))","v":""},{"$f":"IF(入力用科目!$AD68=\"\",\"\",MID(TEXT(入力用科目!$AD68,\"????????\"),7,1))","v":""},{"$f":"IF(入力用科目!$AD68=\"\",\"\",MID(TEXT(入力用科目!$AD68,\"????????\"),8,1))","v":""},null,{"$f":"IF(入力用科目!$AM68=\"\",\"\",MID(TEXT(入力用科目!$AM68,\"????????\"),1,1))","v":" "},{"$f":"IF(入力用科目!$AM68=\"\",\"\",MID(TEXT(入力用科目!$AM68,\"????????\"),2,1))","v":" "},{"$f":"IF(入力用科目!$AM68=\"\",\"\",MID(TEXT(入力用科目!$AM68,\"????????\"),3,1))","v":" "},{"$f":"IF(入力用科目!$AM68=\"\",\"\",MID(TEXT(入力用科目!$AM68,\"????????\"),4,1))","v":" "},{"$f":"IF(入力用科目!$AM68=\"\",\"\",MID(TEXT(入力用科目!$AM68,\"????????\"),5,1))","v":" "},{"$f":"IF(入力用科目!$AM68=\"\",\"\",MID(TEXT(入力用科目!$AM68,\"????????\"),6,1))","v":" "},{"$f":"IF(入力用科目!$AM68=\"\",\"\",MID(TEXT(入力用科目!$AM68,\"????????\"),7,1))","v":" "},{"$f":"IF(入力用科目!$AM68=\"\",\"\",MID(TEXT(入力用科目!$AM68,\"????????\"),8,1))","v":" "}]
[{"$f":"IF(入力用科目!A69=\"\",\"\",MID(TEXT(入力用科目!$A69,\"??\"),COLUMN(),1))","v":""},{"$f":"IF(入力用科目!A69=\"\",\"\",MID(TEXT(入力用科目!$A69,\"??\"),COLUMN(),1))","v":""},null,{"$f":"IF(入力用科目!$D69=\"\",\"\",MID(TEXT(入力用科目!$D69,\"???\"),1,1))","v":""},{"$f":"IF(入力用科目!$D69=\"\",\"\",MID(TEXT(入力用科目!$D69,\"???\"),2,1))","v":""},{"$f":"IF(入力用科目!$D69=\"\",\"\",MID(TEXT(入力用科目!$D69,\"???\"),3,1))","v":""},null,{"$f":"IF(入力用科目!$Q69=1,\"運送収入\",IF(入力用科目!$H69=\"\",\"\",入力用科目!$H69))","v":""},null,null,null,null,null,null,null,null,{"$f":"IF(入力用科目!$Q69=\"\",\"\",MID(TEXT(入力用科目!$Q69,\"???\"),1,1))","v":""},{"$f":"IF(入力用科目!$Q69=\"\",\"\",MID(TEXT(入力用科目!$Q69,\"???\"),2,1))","v":""},{"$f":"IF(入力用科目!$Q69=\"\",\"\",MID(TEXT(入力用科目!$Q69,\"???\"),3,1))","v":""},null,{"$f":"IF(入力用科目!$U69=\"\",\"\",MID(TEXT(入力用科目!$U69,\"????????\"),1,1))","v":""},{"$f":"IF(入力用科目!$U69=\"\",\"\",MID(TEXT(入力用科目!$U69,\"????????\"),2,1))","v":""},{"$f":"IF(入力用科目!$U69=\"\",\"\",MID(TEXT(入力用科目!$U69,\"????????\"),3,1))","v":""},{"$f":"IF(入力用科目!$U69=\"\",\"\",MID(TEXT(入力用科目!$U69,\"????????\"),4,1))","v":""},{"$f":"IF(入力用科目!$U69=\"\",\"\",MID(TEXT(入力用科目!$U69,\"????????\"),5,1))","v":""},{"$f":"IF(入力用科目!$U69=\"\",\"\",MID(TEXT(入力用科目!$U69,\"????????\"),6,1))","v":""},{"$f":"IF(入力用科目!$U69=\"\",\"\",MID(TEXT(入力用科目!$U69,\"????????\"),7,1))","v":""},{"$f":"IF(入力用科目!$U69=\"\",\"\",MID(TEXT(入力用科目!$U69,\"????????\"),8,1))","v":""},null,{"$f":"IF(入力用科目!$AD69=\"\",\"\",MID(TEXT(入力用科目!$AD69,\"????????\"),1,1))","v":""},{"$f":"IF(入力用科目!$AD69=\"\",\"\",MID(TEXT(入力用科目!$AD69,\"????????\"),2,1))","v":""},{"$f":"IF(入力用科目!$AD69=\"\",\"\",MID(TEXT(入力用科目!$AD69,\"????????\"),3,1))","v":""},{"$f":"IF(入力用科目!$AD69=\"\",\"\",MID(TEXT(入力用科目!$AD69,\"????????\"),4,1))","v":""},{"$f":"IF(入力用科目!$AD69=\"\",\"\",MID(TEXT(入力用科目!$AD69,\"????????\"),5,1))","v":""},{"$f":"IF(入力用科目!$AD69=\"\",\"\",MID(TEXT(入力用科目!$AD69,\"????????\"),6,1))","v":""},{"$f":"IF(入力用科目!$AD69=\"\",\"\",MID(TEXT(入力用科目!$AD69,\"????????\"),7,1))","v":""},{"$f":"IF(入力用科目!$AD69=\"\",\"\",MID(TEXT(入力用科目!$AD69,\"????????\"),8,1))","v":""},null,{"$f":"IF(入力用科目!$AM69=\"\",\"\",MID(TEXT(入力用科目!$AM69,\"????????\"),1,1))","v":" "},{"$f":"IF(入力用科目!$AM69=\"\",\"\",MID(TEXT(入力用科目!$AM69,\"????????\"),2,1))","v":" "},{"$f":"IF(入力用科目!$AM69=\"\",\"\",MID(TEXT(入力用科目!$AM69,\"????????\"),3,1))","v":" "},{"$f":"IF(入力用科目!$AM69=\"\",\"\",MID(TEXT(入力用科目!$AM69,\"????????\"),4,1))","v":" "},{"$f":"IF(入力用科目!$AM69=\"\",\"\",MID(TEXT(入力用科目!$AM69,\"????????\"),5,1))","v":" "},{"$f":"IF(入力用科目!$AM69=\"\",\"\",MID(TEXT(入力用科目!$AM69,\"????????\"),6,1))","v":" "},{"$f":"IF(入力用科目!$AM69=\"\",\"\",MID(TEXT(入力用科目!$AM69,\"????????\"),7,1))","v":" "},{"$f":"IF(入力用科目!$AM69=\"\",\"\",MID(TEXT(入力用科目!$AM69,\"????????\"),8,1))","v":" "}]
[{"$f":"IF(入力用科目!A70=\"\",\"\",MID(TEXT(入力用科目!$A70,\"??\"),COLUMN(),1))","v":""},{"$f":"IF(入力用科目!A70=\"\",\"\",MID(TEXT(入力用科目!$A70,\"??\"),COLUMN(),1))","v":""},null,{"$f":"IF(入力用科目!$D70=\"\",\"\",MID(TEXT(入力用科目!$D70,\"???\"),1,1))","v":""},{"$f":"IF(入力用科目!$D70=\"\",\"\",MID(TEXT(入力用科目!$D70,\"???\"),2,1))","v":""},{"$f":"IF(入力用科目!$D70=\"\",\"\",MID(TEXT(入力用科目!$D70,\"???\"),3,1))","v":""},null,{"$f":"IF(入力用科目!$Q70=1,\"運送収入\",IF(入力用科目!$H70=\"\",\"\",入力用科目!$H70))","v":""},null,null,null,null,null,null,null,null,{"$f":"IF(入力用科目!$Q70=\"\",\"\",MID(TEXT(入力用科目!$Q70,\"???\"),1,1))","v":""},{"$f":"IF(入力用科目!$Q70=\"\",\"\",MID(TEXT(入力用科目!$Q70,\"???\"),2,1))","v":""},{"$f":"IF(入力用科目!$Q70=\"\",\"\",MID(TEXT(入力用科目!$Q70,\"???\"),3,1))","v":""},null,{"$f":"IF(入力用科目!$U70=\"\",\"\",MID(TEXT(入力用科目!$U70,\"????????\"),1,1))","v":""},{"$f":"IF(入力用科目!$U70=\"\",\"\",MID(TEXT(入力用科目!$U70,\"????????\"),2,1))","v":""},{"$f":"IF(入力用科目!$U70=\"\",\"\",MID(TEXT(入力用科目!$U70,\"????????\"),3,1))","v":""},{"$f":"IF(入力用科目!$U70=\"\",\"\",MID(TEXT(入力用科目!$U70,\"????????\"),4,1))","v":""},{"$f":"IF(入力用科目!$U70=\"\",\"\",MID(TEXT(入力用科目!$U70,\"????????\"),5,1))","v":""},{"$f":"IF(入力用科目!$U70=\"\",\"\",MID(TEXT(入力用科目!$U70,\"????????\"),6,1))","v":""},{"$f":"IF(入力用科目!$U70=\"\",\"\",MID(TEXT(入力用科目!$U70,\"????????\"),7,1))","v":""},{"$f":"IF(入力用科目!$U70=\"\",\"\",MID(TEXT(入力用科目!$U70,\"????????\"),8,1))","v":""},null,{"$f":"IF(入力用科目!$AD70=\"\",\"\",MID(TEXT(入力用科目!$AD70,\"????????\"),1,1))","v":""},{"$f":"IF(入力用科目!$AD70=\"\",\"\",MID(TEXT(入力用科目!$AD70,\"????????\"),2,1))","v":""},{"$f":"IF(入力用科目!$AD70=\"\",\"\",MID(TEXT(入力用科目!$AD70,\"????????\"),3,1))","v":""},{"$f":"IF(入力用科目!$AD70=\"\",\"\",MID(TEXT(入力用科目!$AD70,\"????????\"),4,1))","v":""},{"$f":"IF(入力用科目!$AD70=\"\",\"\",MID(TEXT(入力用科目!$AD70,\"????????\"),5,1))","v":""},{"$f":"IF(入力用科目!$AD70=\"\",\"\",MID(TEXT(入力用科目!$AD70,\"????????\"),6,1))","v":""},{"$f":"IF(入力用科目!$AD70=\"\",\"\",MID(TEXT(入力用科目!$AD70,\"????????\"),7,1))","v":""},{"$f":"IF(入力用科目!$AD70=\"\",\"\",MID(TEXT(入力用科目!$AD70,\"????????\"),8,1))","v":""},null,{"$f":"IF(入力用科目!$AM70=\"\",\"\",MID(TEXT(入力用科目!$AM70,\"????????\"),1,1))","v":" "},{"$f":"IF(入力用科目!$AM70=\"\",\"\",MID(TEXT(入力用科目!$AM70,\"????????\"),2,1))","v":" "},{"$f":"IF(入力用科目!$AM70=\"\",\"\",MID(TEXT(入力用科目!$AM70,\"????????\"),3,1))","v":" "},{"$f":"IF(入力用科目!$AM70=\"\",\"\",MID(TEXT(入力用科目!$AM70,\"????????\"),4,1))","v":" "},{"$f":"IF(入力用科目!$AM70=\"\",\"\",MID(TEXT(入力用科目!$AM70,\"????????\"),5,1))","v":" "},{"$f":"IF(入力用科目!$AM70=\"\",\"\",MID(TEXT(入力用科目!$AM70,\"????????\"),6,1))","v":" "},{"$f":"IF(入力用科目!$AM70=\"\",\"\",MID(TEXT(入力用科目!$AM70,\"????????\"),7,1))","v":" "},{"$f":"IF(入力用科目!$AM70=\"\",\"\",MID(TEXT(入力用科目!$AM70,\"????????\"),8,1))","v":" "}]
[{"$f":"IF(入力用科目!A71=\"\",\"\",MID(TEXT(入力用科目!$A71,\"??\"),COLUMN(),1))","v":""},{"$f":"IF(入力用科目!A71=\"\",\"\",MID(TEXT(入力用科目!$A71,\"??\"),COLUMN(),1))","v":""},null,{"$f":"IF(入力用科目!$D71=\"\",\"\",MID(TEXT(入力用科目!$D71,\"???\"),1,1))","v":""},{"$f":"IF(入力用科目!$D71=\"\",\"\",MID(TEXT(入力用科目!$D71,\"???\"),2,1))","v":""},{"$f":"IF(入力用科目!$D71=\"\",\"\",MID(TEXT(入力用科目!$D71,\"???\"),3,1))","v":""},null,{"$f":"IF(入力用科目!$Q71=1,\"運送収入\",IF(入力用科目!$H71=\"\",\"\",入力用科目!$H71))","v":""},null,null,null,null,null,null,null,null,{"$f":"IF(入力用科目!$Q71=\"\",\"\",MID(TEXT(入力用科目!$Q71,\"???\"),1,1))","v":""},{"$f":"IF(入力用科目!$Q71=\"\",\"\",MID(TEXT(入力用科目!$Q71,\"???\"),2,1))","v":""},{"$f":"IF(入力用科目!$Q71=\"\",\"\",MID(TEXT(入力用科目!$Q71,\"???\"),3,1))","v":""},null,{"$f":"IF(入力用科目!$U71=\"\",\"\",MID(TEXT(入力用科目!$U71,\"????????\"),1,1))","v":""},{"$f":"IF(入力用科目!$U71=\"\",\"\",MID(TEXT(入力用科目!$U71,\"????????\"),2,1))","v":""},{"$f":"IF(入力用科目!$U71=\"\",\"\",MID(TEXT(入力用科目!$U71,\"????????\"),3,1))","v":""},{"$f":"IF(入力用科目!$U71=\"\",\"\",MID(TEXT(入力用科目!$U71,\"????????\"),4,1))","v":""},{"$f":"IF(入力用科目!$U71=\"\",\"\",MID(TEXT(入力用科目!$U71,\"????????\"),5,1))","v":""},{"$f":"IF(入力用科目!$U71=\"\",\"\",MID(TEXT(入力用科目!$U71,\"????????\"),6,1))","v":""},{"$f":"IF(入力用科目!$U71=\"\",\"\",MID(TEXT(入力用科目!$U71,\"????????\"),7,1))","v":""},{"$f":"IF(入力用科目!$U71=\"\",\"\",MID(TEXT(入力用科目!$U71,\"????????\"),8,1))","v":""},null,{"$f":"IF(入力用科目!$AD71=\"\",\"\",MID(TEXT(入力用科目!$AD71,\"????????\"),1,1))","v":""},{"$f":"IF(入力用科目!$AD71=\"\",\"\",MID(TEXT(入力用科目!$AD71,\"????????\"),2,1))","v":""},{"$f":"IF(入力用科目!$AD71=\"\",\"\",MID(TEXT(入力用科目!$AD71,\"????????\"),3,1))","v":""},{"$f":"IF(入力用科目!$AD71=\"\",\"\",MID(TEXT(入力用科目!$AD71,\"????????\"),4,1))","v":""},{"$f":"IF(入力用科目!$AD71=\"\",\"\",MID(TEXT(入力用科目!$AD71,\"????????\"),5,1))","v":""},{"$f":"IF(入力用科目!$AD71=\"\",\"\",MID(TEXT(入力用科目!$AD71,\"????????\"),6,1))","v":""},{"$f":"IF(入力用科目!$AD71=\"\",\"\",MID(TEXT(入力用科目!$AD71,\"????????\"),7,1))","v":""},{"$f":"IF(入力用科目!$AD71=\"\",\"\",MID(TEXT(入力用科目!$AD71,\"????????\"),8,1))","v":""},null,{"$f":"IF(入力用科目!$AM71=\"\",\"\",MID(TEXT(入力用科目!$AM71,\"????????\"),1,1))","v":" "},{"$f":"IF(入力用科目!$AM71=\"\",\"\",MID(TEXT(入力用科目!$AM71,\"????????\"),2,1))","v":" "},{"$f":"IF(入力用科目!$AM71=\"\",\"\",MID(TEXT(入力用科目!$AM71,\"????????\"),3,1))","v":" "},{"$f":"IF(入力用科目!$AM71=\"\",\"\",MID(TEXT(入力用科目!$AM71,\"????????\"),4,1))","v":" "},{"$f":"IF(入力用科目!$AM71=\"\",\"\",MID(TEXT(入力用科目!$AM71,\"????????\"),5,1))","v":" "},{"$f":"IF(入力用科目!$AM71=\"\",\"\",MID(TEXT(入力用科目!$AM71,\"????????\"),6,1))","v":" "},{"$f":"IF(入力用科目!$AM71=\"\",\"\",MID(TEXT(入力用科目!$AM71,\"????????\"),7,1))","v":" "},{"$f":"IF(入力用科目!$AM71=\"\",\"\",MID(TEXT(入力用科目!$AM71,\"????????\"),8,1))","v":" "}]
[{"$f":"IF(入力用科目!A72=\"\",\"\",MID(TEXT(入力用科目!$A72,\"??\"),COLUMN(),1))","v":""},{"$f":"IF(入力用科目!A72=\"\",\"\",MID(TEXT(入力用科目!$A72,\"??\"),COLUMN(),1))","v":""},null,{"$f":"IF(入力用科目!$D72=\"\",\"\",MID(TEXT(入力用科目!$D72,\"???\"),1,1))","v":""},{"$f":"IF(入力用科目!$D72=\"\",\"\",MID(TEXT(入力用科目!$D72,\"???\"),2,1))","v":""},{"$f":"IF(入力用科目!$D72=\"\",\"\",MID(TEXT(入力用科目!$D72,\"???\"),3,1))","v":""},null,{"$f":"IF(入力用科目!$Q72=1,\"運送収入\",IF(入力用科目!$H72=\"\",\"\",入力用科目!$H72))","v":""},null,null,null,null,null,null,null,null,{"$f":"IF(入力用科目!$Q72=\"\",\"\",MID(TEXT(入力用科目!$Q72,\"???\"),1,1))","v":""},{"$f":"IF(入力用科目!$Q72=\"\",\"\",MID(TEXT(入力用科目!$Q72,\"???\"),2,1))","v":""},{"$f":"IF(入力用科目!$Q72=\"\",\"\",MID(TEXT(入力用科目!$Q72,\"???\"),3,1))","v":""},null,{"$f":"IF(入力用科目!$U72=\"\",\"\",MID(TEXT(入力用科目!$U72,\"????????\"),1,1))","v":""},{"$f":"IF(入力用科目!$U72=\"\",\"\",MID(TEXT(入力用科目!$U72,\"????????\"),2,1))","v":""},{"$f":"IF(入力用科目!$U72=\"\",\"\",MID(TEXT(入力用科目!$U72,\"????????\"),3,1))","v":""},{"$f":"IF(入力用科目!$U72=\"\",\"\",MID(TEXT(入力用科目!$U72,\"????????\"),4,1))","v":""},{"$f":"IF(入力用科目!$U72=\"\",\"\",MID(TEXT(入力用科目!$U72,\"????????\"),5,1))","v":""},{"$f":"IF(入力用科目!$U72=\"\",\"\",MID(TEXT(入力用科目!$U72,\"????????\"),6,1))","v":""},{"$f":"IF(入力用科目!$U72=\"\",\"\",MID(TEXT(入力用科目!$U72,\"????????\"),7,1))","v":""},{"$f":"IF(入力用科目!$U72=\"\",\"\",MID(TEXT(入力用科目!$U72,\"????????\"),8,1))","v":""},null,{"$f":"IF(入力用科目!$AD72=\"\",\"\",MID(TEXT(入力用科目!$AD72,\"????????\"),1,1))","v":""},{"$f":"IF(入力用科目!$AD72=\"\",\"\",MID(TEXT(入力用科目!$AD72,\"????????\"),2,1))","v":""},{"$f":"IF(入力用科目!$AD72=\"\",\"\",MID(TEXT(入力用科目!$AD72,\"????????\"),3,1))","v":""},{"$f":"IF(入力用科目!$AD72=\"\",\"\",MID(TEXT(入力用科目!$AD72,\"????????\"),4,1))","v":""},{"$f":"IF(入力用科目!$AD72=\"\",\"\",MID(TEXT(入力用科目!$AD72,\"????????\"),5,1))","v":""},{"$f":"IF(入力用科目!$AD72=\"\",\"\",MID(TEXT(入力用科目!$AD72,\"????????\"),6,1))","v":""},{"$f":"IF(入力用科目!$AD72=\"\",\"\",MID(TEXT(入力用科目!$AD72,\"????????\"),7,1))","v":""},{"$f":"IF(入力用科目!$AD72=\"\",\"\",MID(TEXT(入力用科目!$AD72,\"????????\"),8,1))","v":""},null,{"$f":"IF(入力用科目!$AM72=\"\",\"\",MID(TEXT(入力用科目!$AM72,\"????????\"),1,1))","v":" "},{"$f":"IF(入力用科目!$AM72=\"\",\"\",MID(TEXT(入力用科目!$AM72,\"????????\"),2,1))","v":" "},{"$f":"IF(入力用科目!$AM72=\"\",\"\",MID(TEXT(入力用科目!$AM72,\"????????\"),3,1))","v":" "},{"$f":"IF(入力用科目!$AM72=\"\",\"\",MID(TEXT(入力用科目!$AM72,\"????????\"),4,1))","v":" "},{"$f":"IF(入力用科目!$AM72=\"\",\"\",MID(TEXT(入力用科目!$AM72,\"????????\"),5,1))","v":" "},{"$f":"IF(入力用科目!$AM72=\"\",\"\",MID(TEXT(入力用科目!$AM72,\"????????\"),6,1))","v":" "},{"$f":"IF(入力用科目!$AM72=\"\",\"\",MID(TEXT(入力用科目!$AM72,\"????????\"),7,1))","v":" "},{"$f":"IF(入力用科目!$AM72=\"\",\"\",MID(TEXT(入力用科目!$AM72,\"????????\"),8,1))","v":" "}]
[{"$f":"IF(入力用科目!A73=\"\",\"\",MID(TEXT(入力用科目!$A73,\"??\"),COLUMN(),1))","v":""},{"$f":"IF(入力用科目!A73=\"\",\"\",MID(TEXT(入力用科目!$A73,\"??\"),COLUMN(),1))","v":""},null,{"$f":"IF(入力用科目!$D73=\"\",\"\",MID(TEXT(入力用科目!$D73,\"???\"),1,1))","v":""},{"$f":"IF(入力用科目!$D73=\"\",\"\",MID(TEXT(入力用科目!$D73,\"???\"),2,1))","v":""},{"$f":"IF(入力用科目!$D73=\"\",\"\",MID(TEXT(入力用科目!$D73,\"???\"),3,1))","v":""},null,{"$f":"IF(入力用科目!$Q73=1,\"運送収入\",IF(入力用科目!$H73=\"\",\"\",入力用科目!$H73))","v":""},null,null,null,null,null,null,null,null,{"$f":"IF(入力用科目!$Q73=\"\",\"\",MID(TEXT(入力用科目!$Q73,\"???\"),1,1))","v":""},{"$f":"IF(入力用科目!$Q73=\"\",\"\",MID(TEXT(入力用科目!$Q73,\"???\"),2,1))","v":""},{"$f":"IF(入力用科目!$Q73=\"\",\"\",MID(TEXT(入力用科目!$Q73,\"???\"),3,1))","v":""},null,{"$f":"IF(入力用科目!$U73=\"\",\"\",MID(TEXT(入力用科目!$U73,\"????????\"),1,1))","v":""},{"$f":"IF(入力用科目!$U73=\"\",\"\",MID(TEXT(入力用科目!$U73,\"????????\"),2,1))","v":""},{"$f":"IF(入力用科目!$U73=\"\",\"\",MID(TEXT(入力用科目!$U73,\"????????\"),3,1))","v":""},{"$f":"IF(入力用科目!$U73=\"\",\"\",MID(TEXT(入力用科目!$U73,\"????????\"),4,1))","v":""},{"$f":"IF(入力用科目!$U73=\"\",\"\",MID(TEXT(入力用科目!$U73,\"????????\"),5,1))","v":""},{"$f":"IF(入力用科目!$U73=\"\",\"\",MID(TEXT(入力用科目!$U73,\"????????\"),6,1))","v":""},{"$f":"IF(入力用科目!$U73=\"\",\"\",MID(TEXT(入力用科目!$U73,\"????????\"),7,1))","v":""},{"$f":"IF(入力用科目!$U73=\"\",\"\",MID(TEXT(入力用科目!$U73,\"????????\"),8,1))","v":""},null,{"$f":"IF(入力用科目!$AD73=\"\",\"\",MID(TEXT(入力用科目!$AD73,\"????????\"),1,1))","v":""},{"$f":"IF(入力用科目!$AD73=\"\",\"\",MID(TEXT(入力用科目!$AD73,\"????????\"),2,1))","v":""},{"$f":"IF(入力用科目!$AD73=\"\",\"\",MID(TEXT(入力用科目!$AD73,\"????????\"),3,1))","v":""},{"$f":"IF(入力用科目!$AD73=\"\",\"\",MID(TEXT(入力用科目!$AD73,\"????????\"),4,1))","v":""},{"$f":"IF(入力用科目!$AD73=\"\",\"\",MID(TEXT(入力用科目!$AD73,\"????????\"),5,1))","v":""},{"$f":"IF(入力用科目!$AD73=\"\",\"\",MID(TEXT(入力用科目!$AD73,\"????????\"),6,1))","v":""},{"$f":"IF(入力用科目!$AD73=\"\",\"\",MID(TEXT(入力用科目!$AD73,\"????????\"),7,1))","v":""},{"$f":"IF(入力用科目!$AD73=\"\",\"\",MID(TEXT(入力用科目!$AD73,\"????????\"),8,1))","v":""},null,{"$f":"IF(入力用科目!$AM73=\"\",\"\",MID(TEXT(入力用科目!$AM73,\"????????\"),1,1))","v":" "},{"$f":"IF(入力用科目!$AM73=\"\",\"\",MID(TEXT(入力用科目!$AM73,\"????????\"),2,1))","v":" "},{"$f":"IF(入力用科目!$AM73=\"\",\"\",MID(TEXT(入力用科目!$AM73,\"????????\"),3,1))","v":" "},{"$f":"IF(入力用科目!$AM73=\"\",\"\",MID(TEXT(入力用科目!$AM73,\"????????\"),4,1))","v":" "},{"$f":"IF(入力用科目!$AM73=\"\",\"\",MID(TEXT(入力用科目!$AM73,\"????????\"),5,1))","v":" "},{"$f":"IF(入力用科目!$AM73=\"\",\"\",MID(TEXT(入力用科目!$AM73,\"????????\"),6,1))","v":" "},{"$f":"IF(入力用科目!$AM73=\"\",\"\",MID(TEXT(入力用科目!$AM73,\"????????\"),7,1))","v":" "},{"$f":"IF(入力用科目!$AM73=\"\",\"\",MID(TEXT(入力用科目!$AM73,\"????????\"),8,1))","v":" "}]
[{"$f":"IF(入力用科目!A74=\"\",\"\",MID(TEXT(入力用科目!$A74,\"??\"),COLUMN(),1))","v":""},{"$f":"IF(入力用科目!A74=\"\",\"\",MID(TEXT(入力用科目!$A74,\"??\"),COLUMN(),1))","v":""},null,{"$f":"IF(入力用科目!$D74=\"\",\"\",MID(TEXT(入力用科目!$D74,\"???\"),1,1))","v":""},{"$f":"IF(入力用科目!$D74=\"\",\"\",MID(TEXT(入力用科目!$D74,\"???\"),2,1))","v":""},{"$f":"IF(入力用科目!$D74=\"\",\"\",MID(TEXT(入力用科目!$D74,\"???\"),3,1))","v":""},null,{"$f":"IF(入力用科目!$Q74=1,\"運送収入\",IF(入力用科目!$H74=\"\",\"\",入力用科目!$H74))","v":""},null,null,null,null,null,null,null,null,{"$f":"IF(入力用科目!$Q74=\"\",\"\",MID(TEXT(入力用科目!$Q74,\"???\"),1,1))","v":""},{"$f":"IF(入力用科目!$Q74=\"\",\"\",MID(TEXT(入力用科目!$Q74,\"???\"),2,1))","v":""},{"$f":"IF(入力用科目!$Q74=\"\",\"\",MID(TEXT(入力用科目!$Q74,\"???\"),3,1))","v":""},null,{"$f":"IF(入力用科目!$U74=\"\",\"\",MID(TEXT(入力用科目!$U74,\"????????\"),1,1))","v":""},{"$f":"IF(入力用科目!$U74=\"\",\"\",MID(TEXT(入力用科目!$U74,\"????????\"),2,1))","v":""},{"$f":"IF(入力用科目!$U74=\"\",\"\",MID(TEXT(入力用科目!$U74,\"????????\"),3,1))","v":""},{"$f":"IF(入力用科目!$U74=\"\",\"\",MID(TEXT(入力用科目!$U74,\"????????\"),4,1))","v":""},{"$f":"IF(入力用科目!$U74=\"\",\"\",MID(TEXT(入力用科目!$U74,\"????????\"),5,1))","v":""},{"$f":"IF(入力用科目!$U74=\"\",\"\",MID(TEXT(入力用科目!$U74,\"????????\"),6,1))","v":""},{"$f":"IF(入力用科目!$U74=\"\",\"\",MID(TEXT(入力用科目!$U74,\"????????\"),7,1))","v":""},{"$f":"IF(入力用科目!$U74=\"\",\"\",MID(TEXT(入力用科目!$U74,\"????????\"),8,1))","v":""},null,{"$f":"IF(入力用科目!$AD74=\"\",\"\",MID(TEXT(入力用科目!$AD74,\"????????\"),1,1))","v":""},{"$f":"IF(入力用科目!$AD74=\"\",\"\",MID(TEXT(入力用科目!$AD74,\"????????\"),2,1))","v":""},{"$f":"IF(入力用科目!$AD74=\"\",\"\",MID(TEXT(入力用科目!$AD74,\"????????\"),3,1))","v":""},{"$f":"IF(入力用科目!$AD74=\"\",\"\",MID(TEXT(入力用科目!$AD74,\"????????\"),4,1))","v":""},{"$f":"IF(入力用科目!$AD74=\"\",\"\",MID(TEXT(入力用科目!$AD74,\"????????\"),5,1))","v":""},{"$f":"IF(入力用科目!$AD74=\"\",\"\",MID(TEXT(入力用科目!$AD74,\"????????\"),6,1))","v":""},{"$f":"IF(入力用科目!$AD74=\"\",\"\",MID(TEXT(入力用科目!$AD74,\"????????\"),7,1))","v":""},{"$f":"IF(入力用科目!$AD74=\"\",\"\",MID(TEXT(入力用科目!$AD74,\"????????\"),8,1))","v":""},null,{"$f":"IF(入力用科目!$AM74=\"\",\"\",MID(TEXT(入力用科目!$AM74,\"????????\"),1,1))","v":" "},{"$f":"IF(入力用科目!$AM74=\"\",\"\",MID(TEXT(入力用科目!$AM74,\"????????\"),2,1))","v":" "},{"$f":"IF(入力用科目!$AM74=\"\",\"\",MID(TEXT(入力用科目!$AM74,\"????????\"),3,1))","v":" "},{"$f":"IF(入力用科目!$AM74=\"\",\"\",MID(TEXT(入力用科目!$AM74,\"????????\"),4,1))","v":" "},{"$f":"IF(入力用科目!$AM74=\"\",\"\",MID(TEXT(入力用科目!$AM74,\"????????\"),5,1))","v":" "},{"$f":"IF(入力用科目!$AM74=\"\",\"\",MID(TEXT(入力用科目!$AM74,\"????????\"),6,1))","v":" "},{"$f":"IF(入力用科目!$AM74=\"\",\"\",MID(TEXT(入力用科目!$AM74,\"????????\"),7,1))","v":" "},{"$f":"IF(入力用科目!$AM74=\"\",\"\",MID(TEXT(入力用科目!$AM74,\"????????\"),8,1))","v":" "}]
[{"$f":"IF(入力用科目!A75=\"\",\"\",MID(TEXT(入力用科目!$A75,\"??\"),COLUMN(),1))","v":""},{"$f":"IF(入力用科目!A75=\"\",\"\",MID(TEXT(入力用科目!$A75,\"??\"),COLUMN(),1))","v":""},null,{"$f":"IF(入力用科目!$D75=\"\",\"\",MID(TEXT(入力用科目!$D75,\"???\"),1,1))","v":""},{"$f":"IF(入力用科目!$D75=\"\",\"\",MID(TEXT(入力用科目!$D75,\"???\"),2,1))","v":""},{"$f":"IF(入力用科目!$D75=\"\",\"\",MID(TEXT(入力用科目!$D75,\"???\"),3,1))","v":""},null,{"$f":"IF(入力用科目!$Q75=1,\"運送収入\",IF(入力用科目!$H75=\"\",\"\",入力用科目!$H75))","v":""},null,null,null,null,null,null,null,null,{"$f":"IF(入力用科目!$Q75=\"\",\"\",MID(TEXT(入力用科目!$Q75,\"???\"),1,1))","v":""},{"$f":"IF(入力用科目!$Q75=\"\",\"\",MID(TEXT(入力用科目!$Q75,\"???\"),2,1))","v":""},{"$f":"IF(入力用科目!$Q75=\"\",\"\",MID(TEXT(入力用科目!$Q75,\"???\"),3,1))","v":""},null,{"$f":"IF(入力用科目!$U75=\"\",\"\",MID(TEXT(入力用科目!$U75,\"????????\"),1,1))","v":""},{"$f":"IF(入力用科目!$U75=\"\",\"\",MID(TEXT(入力用科目!$U75,\"????????\"),2,1))","v":""},{"$f":"IF(入力用科目!$U75=\"\",\"\",MID(TEXT(入力用科目!$U75,\"????????\"),3,1))","v":""},{"$f":"IF(入力用科目!$U75=\"\",\"\",MID(TEXT(入力用科目!$U75,\"????????\"),4,1))","v":""},{"$f":"IF(入力用科目!$U75=\"\",\"\",MID(TEXT(入力用科目!$U75,\"????????\"),5,1))","v":""},{"$f":"IF(入力用科目!$U75=\"\",\"\",MID(TEXT(入力用科目!$U75,\"????????\"),6,1))","v":""},{"$f":"IF(入力用科目!$U75=\"\",\"\",MID(TEXT(入力用科目!$U75,\"????????\"),7,1))","v":""},{"$f":"IF(入力用科目!$U75=\"\",\"\",MID(TEXT(入力用科目!$U75,\"????????\"),8,1))","v":""},null,{"$f":"IF(入力用科目!$AD75=\"\",\"\",MID(TEXT(入力用科目!$AD75,\"????????\"),1,1))","v":""},{"$f":"IF(入力用科目!$AD75=\"\",\"\",MID(TEXT(入力用科目!$AD75,\"????????\"),2,1))","v":""},{"$f":"IF(入力用科目!$AD75=\"\",\"\",MID(TEXT(入力用科目!$AD75,\"????????\"),3,1))","v":""},{"$f":"IF(入力用科目!$AD75=\"\",\"\",MID(TEXT(入力用科目!$AD75,\"????????\"),4,1))","v":""},{"$f":"IF(入力用科目!$AD75=\"\",\"\",MID(TEXT(入力用科目!$AD75,\"????????\"),5,1))","v":""},{"$f":"IF(入力用科目!$AD75=\"\",\"\",MID(TEXT(入力用科目!$AD75,\"????????\"),6,1))","v":""},{"$f":"IF(入力用科目!$AD75=\"\",\"\",MID(TEXT(入力用科目!$AD75,\"????????\"),7,1))","v":""},{"$f":"IF(入力用科目!$AD75=\"\",\"\",MID(TEXT(入力用科目!$AD75,\"????????\"),8,1))","v":""},null,{"$f":"IF(入力用科目!$AM75=\"\",\"\",MID(TEXT(入力用科目!$AM75,\"????????\"),1,1))","v":" "},{"$f":"IF(入力用科目!$AM75=\"\",\"\",MID(TEXT(入力用科目!$AM75,\"????????\"),2,1))","v":" "},{"$f":"IF(入力用科目!$AM75=\"\",\"\",MID(TEXT(入力用科目!$AM75,\"????????\"),3,1))","v":" "},{"$f":"IF(入力用科目!$AM75=\"\",\"\",MID(TEXT(入力用科目!$AM75,\"????????\"),4,1))","v":" "},{"$f":"IF(入力用科目!$AM75=\"\",\"\",MID(TEXT(入力用科目!$AM75,\"????????\"),5,1))","v":" "},{"$f":"IF(入力用科目!$AM75=\"\",\"\",MID(TEXT(入力用科目!$AM75,\"????????\"),6,1))","v":" "},{"$f":"IF(入力用科目!$AM75=\"\",\"\",MID(TEXT(入力用科目!$AM75,\"????????\"),7,1))","v":" "},{"$f":"IF(入力用科目!$AM75=\"\",\"\",MID(TEXT(入力用科目!$AM75,\"????????\"),8,1))","v":" "}]
[{"$f":"IF(入力用科目!A76=\"\",\"\",MID(TEXT(入力用科目!$A76,\"??\"),COLUMN(),1))","v":""},{"$f":"IF(入力用科目!A76=\"\",\"\",MID(TEXT(入力用科目!$A76,\"??\"),COLUMN(),1))","v":""},null,{"$f":"IF(入力用科目!$D76=\"\",\"\",MID(TEXT(入力用科目!$D76,\"???\"),1,1))","v":""},{"$f":"IF(入力用科目!$D76=\"\",\"\",MID(TEXT(入力用科目!$D76,\"???\"),2,1))","v":""},{"$f":"IF(入力用科目!$D76=\"\",\"\",MID(TEXT(入力用科目!$D76,\"???\"),3,1))","v":""},null,{"$f":"IF(入力用科目!$Q76=1,\"運送収入\",IF(入力用科目!$H76=\"\",\"\",入力用科目!$H76))","v":""},null,null,null,null,null,null,null,null,{"$f":"IF(入力用科目!$Q76=\"\",\"\",MID(TEXT(入力用科目!$Q76,\"???\"),1,1))","v":""},{"$f":"IF(入力用科目!$Q76=\"\",\"\",MID(TEXT(入力用科目!$Q76,\"???\"),2,1))","v":""},{"$f":"IF(入力用科目!$Q76=\"\",\"\",MID(TEXT(入力用科目!$Q76,\"???\"),3,1))","v":""},null,{"$f":"IF(入力用科目!$U76=\"\",\"\",MID(TEXT(入力用科目!$U76,\"????????\"),1,1))","v":""},{"$f":"IF(入力用科目!$U76=\"\",\"\",MID(TEXT(入力用科目!$U76,\"????????\"),2,1))","v":""},{"$f":"IF(入力用科目!$U76=\"\",\"\",MID(TEXT(入力用科目!$U76,\"????????\"),3,1))","v":""},{"$f":"IF(入力用科目!$U76=\"\",\"\",MID(TEXT(入力用科目!$U76,\"????????\"),4,1))","v":""},{"$f":"IF(入力用科目!$U76=\"\",\"\",MID(TEXT(入力用科目!$U76,\"????????\"),5,1))","v":""},{"$f":"IF(入力用科目!$U76=\"\",\"\",MID(TEXT(入力用科目!$U76,\"????????\"),6,1))","v":""},{"$f":"IF(入力用科目!$U76=\"\",\"\",MID(TEXT(入力用科目!$U76,\"????????\"),7,1))","v":""},{"$f":"IF(入力用科目!$U76=\"\",\"\",MID(TEXT(入力用科目!$U76,\"????????\"),8,1))","v":""},null,{"$f":"IF(入力用科目!$AD76=\"\",\"\",MID(TEXT(入力用科目!$AD76,\"????????\"),1,1))","v":""},{"$f":"IF(入力用科目!$AD76=\"\",\"\",MID(TEXT(入力用科目!$AD76,\"????????\"),2,1))","v":""},{"$f":"IF(入力用科目!$AD76=\"\",\"\",MID(TEXT(入力用科目!$AD76,\"????????\"),3,1))","v":""},{"$f":"IF(入力用科目!$AD76=\"\",\"\",MID(TEXT(入力用科目!$AD76,\"????????\"),4,1))","v":""},{"$f":"IF(入力用科目!$AD76=\"\",\"\",MID(TEXT(入力用科目!$AD76,\"????????\"),5,1))","v":""},{"$f":"IF(入力用科目!$AD76=\"\",\"\",MID(TEXT(入力用科目!$AD76,\"????????\"),6,1))","v":""},{"$f":"IF(入力用科目!$AD76=\"\",\"\",MID(TEXT(入力用科目!$AD76,\"????????\"),7,1))","v":""},{"$f":"IF(入力用科目!$AD76=\"\",\"\",MID(TEXT(入力用科目!$AD76,\"????????\"),8,1))","v":""},null,{"$f":"IF(入力用科目!$AM76=\"\",\"\",MID(TEXT(入力用科目!$AM76,\"????????\"),1,1))","v":" "},{"$f":"IF(入力用科目!$AM76=\"\",\"\",MID(TEXT(入力用科目!$AM76,\"????????\"),2,1))","v":" "},{"$f":"IF(入力用科目!$AM76=\"\",\"\",MID(TEXT(入力用科目!$AM76,\"????????\"),3,1))","v":" "},{"$f":"IF(入力用科目!$AM76=\"\",\"\",MID(TEXT(入力用科目!$AM76,\"????????\"),4,1))","v":" "},{"$f":"IF(入力用科目!$AM76=\"\",\"\",MID(TEXT(入力用科目!$AM76,\"????????\"),5,1))","v":" "},{"$f":"IF(入力用科目!$AM76=\"\",\"\",MID(TEXT(入力用科目!$AM76,\"????????\"),6,1))","v":" "},{"$f":"IF(入力用科目!$AM76=\"\",\"\",MID(TEXT(入力用科目!$AM76,\"????????\"),7,1))","v":" "},{"$f":"IF(入力用科目!$AM76=\"\",\"\",MID(TEXT(入力用科目!$AM76,\"????????\"),8,1))","v":" "}]
[{"$f":"IF(入力用科目!A77=\"\",\"\",MID(TEXT(入力用科目!$A77,\"??\"),COLUMN(),1))","v":""},{"$f":"IF(入力用科目!A77=\"\",\"\",MID(TEXT(入力用科目!$A77,\"??\"),COLUMN(),1))","v":""},null,{"$f":"IF(入力用科目!$D77=\"\",\"\",MID(TEXT(入力用科目!$D77,\"???\"),1,1))","v":""},{"$f":"IF(入力用科目!$D77=\"\",\"\",MID(TEXT(入力用科目!$D77,\"???\"),2,1))","v":""},{"$f":"IF(入力用科目!$D77=\"\",\"\",MID(TEXT(入力用科目!$D77,\"???\"),3,1))","v":""},null,{"$f":"IF(入力用科目!$Q77=1,\"運送収入\",IF(入力用科目!$H77=\"\",\"\",入力用科目!$H77))","v":""},null,null,null,null,null,null,null,null,{"$f":"IF(入力用科目!$Q77=\"\",\"\",MID(TEXT(入力用科目!$Q77,\"???\"),1,1))","v":""},{"$f":"IF(入力用科目!$Q77=\"\",\"\",MID(TEXT(入力用科目!$Q77,\"???\"),2,1))","v":""},{"$f":"IF(入力用科目!$Q77=\"\",\"\",MID(TEXT(入力用科目!$Q77,\"???\"),3,1))","v":""},null,{"$f":"IF(入力用科目!$U77=\"\",\"\",MID(TEXT(入力用科目!$U77,\"????????\"),1,1))","v":""},{"$f":"IF(入力用科目!$U77=\"\",\"\",MID(TEXT(入力用科目!$U77,\"????????\"),2,1))","v":""},{"$f":"IF(入力用科目!$U77=\"\",\"\",MID(TEXT(入力用科目!$U77,\"????????\"),3,1))","v":""},{"$f":"IF(入力用科目!$U77=\"\",\"\",MID(TEXT(入力用科目!$U77,\"????????\"),4,1))","v":""},{"$f":"IF(入力用科目!$U77=\"\",\"\",MID(TEXT(入力用科目!$U77,\"????????\"),5,1))","v":""},{"$f":"IF(入力用科目!$U77=\"\",\"\",MID(TEXT(入力用科目!$U77,\"????????\"),6,1))","v":""},{"$f":"IF(入力用科目!$U77=\"\",\"\",MID(TEXT(入力用科目!$U77,\"????????\"),7,1))","v":""},{"$f":"IF(入力用科目!$U77=\"\",\"\",MID(TEXT(入力用科目!$U77,\"????????\"),8,1))","v":""},null,{"$f":"IF(入力用科目!$AD77=\"\",\"\",MID(TEXT(入力用科目!$AD77,\"????????\"),1,1))","v":""},{"$f":"IF(入力用科目!$AD77=\"\",\"\",MID(TEXT(入力用科目!$AD77,\"????????\"),2,1))","v":""},{"$f":"IF(入力用科目!$AD77=\"\",\"\",MID(TEXT(入力用科目!$AD77,\"????????\"),3,1))","v":""},{"$f":"IF(入力用科目!$AD77=\"\",\"\",MID(TEXT(入力用科目!$AD77,\"????????\"),4,1))","v":""},{"$f":"IF(入力用科目!$AD77=\"\",\"\",MID(TEXT(入力用科目!$AD77,\"????????\"),5,1))","v":""},{"$f":"IF(入力用科目!$AD77=\"\",\"\",MID(TEXT(入力用科目!$AD77,\"????????\"),6,1))","v":""},{"$f":"IF(入力用科目!$AD77=\"\",\"\",MID(TEXT(入力用科目!$AD77,\"????????\"),7,1))","v":""},{"$f":"IF(入力用科目!$AD77=\"\",\"\",MID(TEXT(入力用科目!$AD77,\"????????\"),8,1))","v":""},null,{"$f":"IF(入力用科目!$AM77=\"\",\"\",MID(TEXT(入力用科目!$AM77,\"????????\"),1,1))","v":" "},{"$f":"IF(入力用科目!$AM77=\"\",\"\",MID(TEXT(入力用科目!$AM77,\"????????\"),2,1))","v":" "},{"$f":"IF(入力用科目!$AM77=\"\",\"\",MID(TEXT(入力用科目!$AM77,\"????????\"),3,1))","v":" "},{"$f":"IF(入力用科目!$AM77=\"\",\"\",MID(TEXT(入力用科目!$AM77,\"????????\"),4,1))","v":" "},{"$f":"IF(入力用科目!$AM77=\"\",\"\",MID(TEXT(入力用科目!$AM77,\"????????\"),5,1))","v":" "},{"$f":"IF(入力用科目!$AM77=\"\",\"\",MID(TEXT(入力用科目!$AM77,\"????????\"),6,1))","v":" "},{"$f":"IF(入力用科目!$AM77=\"\",\"\",MID(TEXT(入力用科目!$AM77,\"????????\"),7,1))","v":" "},{"$f":"IF(入力用科目!$AM77=\"\",\"\",MID(TEXT(入力用科目!$AM77,\"????????\"),8,1))","v":" "}]
[{"$f":"IF(入力用科目!A78=\"\",\"\",MID(TEXT(入力用科目!$A78,\"??\"),COLUMN(),1))","v":""},{"$f":"IF(入力用科目!A78=\"\",\"\",MID(TEXT(入力用科目!$A78,\"??\"),COLUMN(),1))","v":""},null,{"$f":"IF(入力用科目!$D78=\"\",\"\",MID(TEXT(入力用科目!$D78,\"???\"),1,1))","v":""},{"$f":"IF(入力用科目!$D78=\"\",\"\",MID(TEXT(入力用科目!$D78,\"???\"),2,1))","v":""},{"$f":"IF(入力用科目!$D78=\"\",\"\",MID(TEXT(入力用科目!$D78,\"???\"),3,1))","v":""},null,{"$f":"IF(入力用科目!H78=\"\",\"\",入力用科目!H78)","v":""},null,null,null,null,null,null,null,null,{"$f":"IF(入力用科目!$Q78=\"\",\"\",MID(TEXT(入力用科目!$Q78,\"???\"),1,1))","v":""},{"$f":"IF(入力用科目!$Q78=\"\",\"\",MID(TEXT(入力用科目!$Q78,\"???\"),2,1))","v":""},{"$f":"IF(入力用科目!$Q78=\"\",\"\",MID(TEXT(入力用科目!$Q78,\"???\"),3,1))","v":""},null,{"$f":"IF(入力用科目!$U78=\"\",\"\",MID(TEXT(入力用科目!$U78,\"????????\"),1,1))","v":""},{"$f":"IF(入力用科目!$U78=\"\",\"\",MID(TEXT(入力用科目!$U78,\"????????\"),2,1))","v":""},{"$f":"IF(入力用科目!$U78=\"\",\"\",MID(TEXT(入力用科目!$U78,\"????????\"),3,1))","v":""},{"$f":"IF(入力用科目!$U78=\"\",\"\",MID(TEXT(入力用科目!$U78,\"????????\"),4,1))","v":""},{"$f":"IF(入力用科目!$U78=\"\",\"\",MID(TEXT(入力用科目!$U78,\"????????\"),5,1))","v":""},{"$f":"IF(入力用科目!$U78=\"\",\"\",MID(TEXT(入力用科目!$U78,\"????????\"),6,1))","v":""},{"$f":"IF(入力用科目!$U78=\"\",\"\",MID(TEXT(入力用科目!$U78,\"????????\"),7,1))","v":""},{"$f":"IF(入力用科目!$U78=\"\",\"\",MID(TEXT(入力用科目!$U78,\"????????\"),8,1))","v":""},null,{"$f":"IF(入力用科目!$AD78=\"\",\"\",MID(TEXT(入力用科目!$AD78,\"????????\"),1,1))","v":""},{"$f":"IF(入力用科目!$AD78=\"\",\"\",MID(TEXT(入力用科目!$AD78,\"????????\"),2,1))","v":""},{"$f":"IF(入力用科目!$AD78=\"\",\"\",MID(TEXT(入力用科目!$AD78,\"????????\"),3,1))","v":""},{"$f":"IF(入力用科目!$AD78=\"\",\"\",MID(TEXT(入力用科目!$AD78,\"????????\"),4,1))","v":""},{"$f":"IF(入力用科目!$AD78=\"\",\"\",MID(TEXT(入力用科目!$AD78,\"????????\"),5,1))","v":""},{"$f":"IF(入力用科目!$AD78=\"\",\"\",MID(TEXT(入力用科目!$AD78,\"????????\"),6,1))","v":""},{"$f":"IF(入力用科目!$AD78=\"\",\"\",MID(TEXT(入力用科目!$AD78,\"????????\"),7,1))","v":""},{"$f":"IF(入力用科目!$AD78=\"\",\"\",MID(TEXT(入力用科目!$AD78,\"????????\"),8,1))","v":""},null,{"$f":"IF(入力用科目!$AM78=\"\",\"\",MID(TEXT(入力用科目!$AM78,\"????????\"),1,1))","v":" "},{"$f":"IF(入力用科目!$AM78=\"\",\"\",MID(TEXT(入力用科目!$AM78,\"????????\"),2,1))","v":" "},{"$f":"IF(入力用科目!$AM78=\"\",\"\",MID(TEXT(入力用科目!$AM78,\"????????\"),3,1))","v":" "},{"$f":"IF(入力用科目!$AM78=\"\",\"\",MID(TEXT(入力用科目!$AM78,\"????????\"),4,1))","v":" "},{"$f":"IF(入力用科目!$AM78=\"\",\"\",MID(TEXT(入力用科目!$AM78,\"????????\"),5,1))","v":" "},{"$f":"IF(入力用科目!$AM78=\"\",\"\",MID(TEXT(入力用科目!$AM78,\"????????\"),6,1))","v":" "},{"$f":"IF(入力用科目!$AM78=\"\",\"\",MID(TEXT(入力用科目!$AM78,\"????????\"),7,1))","v":" "},{"$f":"IF(入力用科目!$AM78=\"\",\"\",MID(TEXT(入力用科目!$AM78,\"????????\"),8,1))","v":" "}]
[{"$f":"IF(入力用科目!A79=\"\",\"\",MID(TEXT(入力用科目!$A79,\"??\"),COLUMN(),1))","v":""},{"$f":"IF(入力用科目!A79=\"\",\"\",MID(TEXT(入力用科目!$A79,\"??\"),COLUMN(),1))","v":""},null,{"$f":"IF(入力用科目!$D79=\"\",\"\",MID(TEXT(入力用科目!$D79,\"???\"),1,1))","v":""},{"$f":"IF(入力用科目!$D79=\"\",\"\",MID(TEXT(入力用科目!$D79,\"???\"),2,1))","v":""},{"$f":"IF(入力用科目!$D79=\"\",\"\",MID(TEXT(入力用科目!$D79,\"???\"),3,1))","v":""},null,{"$f":"IF(入力用科目!H79=\"\",\"\",入力用科目!H79)","v":""},null,null,null,null,null,null,null,null,{"$f":"IF(入力用科目!$Q79=\"\",\"\",MID(TEXT(入力用科目!$Q79,\"???\"),1,1))","v":""},{"$f":"IF(入力用科目!$Q79=\"\",\"\",MID(TEXT(入力用科目!$Q79,\"???\"),2,1))","v":""},{"$f":"IF(入力用科目!$Q79=\"\",\"\",MID(TEXT(入力用科目!$Q79,\"???\"),3,1))","v":""},null,{"$f":"IF(入力用科目!$U79=\"\",\"\",MID(TEXT(入力用科目!$U79,\"????????\"),1,1))","v":""},{"$f":"IF(入力用科目!$U79=\"\",\"\",MID(TEXT(入力用科目!$U79,\"????????\"),2,1))","v":""},{"$f":"IF(入力用科目!$U79=\"\",\"\",MID(TEXT(入力用科目!$U79,\"????????\"),3,1))","v":""},{"$f":"IF(入力用科目!$U79=\"\",\"\",MID(TEXT(入力用科目!$U79,\"????????\"),4,1))","v":""},{"$f":"IF(入力用科目!$U79=\"\",\"\",MID(TEXT(入力用科目!$U79,\"????????\"),5,1))","v":""},{"$f":"IF(入力用科目!$U79=\"\",\"\",MID(TEXT(入力用科目!$U79,\"????????\"),6,1))","v":""},{"$f":"IF(入力用科目!$U79=\"\",\"\",MID(TEXT(入力用科目!$U79,\"????????\"),7,1))","v":""},{"$f":"IF(入力用科目!$U79=\"\",\"\",MID(TEXT(入力用科目!$U79,\"????????\"),8,1))","v":""},null,{"$f":"IF(入力用科目!$AD79=\"\",\"\",MID(TEXT(入力用科目!$AD79,\"????????\"),1,1))","v":""},{"$f":"IF(入力用科目!$AD79=\"\",\"\",MID(TEXT(入力用科目!$AD79,\"????????\"),2,1))","v":""},{"$f":"IF(入力用科目!$AD79=\"\",\"\",MID(TEXT(入力用科目!$AD79,\"????????\"),3,1))","v":""},{"$f":"IF(入力用科目!$AD79=\"\",\"\",MID(TEXT(入力用科目!$AD79,\"????????\"),4,1))","v":""},{"$f":"IF(入力用科目!$AD79=\"\",\"\",MID(TEXT(入力用科目!$AD79,\"????????\"),5,1))","v":""},{"$f":"IF(入力用科目!$AD79=\"\",\"\",MID(TEXT(入力用科目!$AD79,\"????????\"),6,1))","v":""},{"$f":"IF(入力用科目!$AD79=\"\",\"\",MID(TEXT(入力用科目!$AD79,\"????????\"),7,1))","v":""},{"$f":"IF(入力用科目!$AD79=\"\",\"\",MID(TEXT(入力用科目!$AD79,\"????????\"),8,1))","v":""},null,{"$f":"IF(入力用科目!$AM79=\"\",\"\",MID(TEXT(入力用科目!$AM79,\"????????\"),1,1))","v":" "},{"$f":"IF(入力用科目!$AM79=\"\",\"\",MID(TEXT(入力用科目!$AM79,\"????????\"),2,1))","v":" "},{"$f":"IF(入力用科目!$AM79=\"\",\"\",MID(TEXT(入力用科目!$AM79,\"????????\"),3,1))","v":" "},{"$f":"IF(入力用科目!$AM79=\"\",\"\",MID(TEXT(入力用科目!$AM79,\"????????\"),4,1))","v":" "},{"$f":"IF(入力用科目!$AM79=\"\",\"\",MID(TEXT(入力用科目!$AM79,\"????????\"),5,1))","v":" "},{"$f":"IF(入力用科目!$AM79=\"\",\"\",MID(TEXT(入力用科目!$AM79,\"????????\"),6,1))","v":" "},{"$f":"IF(入力用科目!$AM79=\"\",\"\",MID(TEXT(入力用科目!$AM79,\"????????\"),7,1))","v":" "},{"$f":"IF(入力用科目!$AM79=\"\",\"\",MID(TEXT(入力用科目!$AM79,\"????????\"),8,1))","v":" "}]
[{"$f":"IF(入力用科目!A80=\"\",\"\",MID(TEXT(入力用科目!$A80,\"??\"),COLUMN(),1))","v":""},{"$f":"IF(入力用科目!A80=\"\",\"\",MID(TEXT(入力用科目!$A80,\"??\"),COLUMN(),1))","v":""},null,{"$f":"IF(入力用科目!$D80=\"\",\"\",MID(TEXT(入力用科目!$D80,\"???\"),1,1))","v":""},{"$f":"IF(入力用科目!$D80=\"\",\"\",MID(TEXT(入力用科目!$D80,\"???\"),2,1))","v":""},{"$f":"IF(入力用科目!$D80=\"\",\"\",MID(TEXT(入力用科目!$D80,\"???\"),3,1))","v":""},null,{"$f":"IF(入力用科目!H80=\"\",\"\",入力用科目!H80)","v":""},null,null,null,null,null,null,null,null,{"$f":"IF(入力用科目!$Q80=\"\",\"\",MID(TEXT(入力用科目!$Q80,\"???\"),1,1))","v":""},{"$f":"IF(入力用科目!$Q80=\"\",\"\",MID(TEXT(入力用科目!$Q80,\"???\"),2,1))","v":""},{"$f":"IF(入力用科目!$Q80=\"\",\"\",MID(TEXT(入力用科目!$Q80,\"???\"),3,1))","v":""},null,{"$f":"IF(入力用科目!$U80=\"\",\"\",MID(TEXT(入力用科目!$U80,\"????????\"),1,1))","v":""},{"$f":"IF(入力用科目!$U80=\"\",\"\",MID(TEXT(入力用科目!$U80,\"????????\"),2,1))","v":""},{"$f":"IF(入力用科目!$U80=\"\",\"\",MID(TEXT(入力用科目!$U80,\"????????\"),3,1))","v":""},{"$f":"IF(入力用科目!$U80=\"\",\"\",MID(TEXT(入力用科目!$U80,\"????????\"),4,1))","v":""},{"$f":"IF(入力用科目!$U80=\"\",\"\",MID(TEXT(入力用科目!$U80,\"????????\"),5,1))","v":""},{"$f":"IF(入力用科目!$U80=\"\",\"\",MID(TEXT(入力用科目!$U80,\"????????\"),6,1))","v":""},{"$f":"IF(入力用科目!$U80=\"\",\"\",MID(TEXT(入力用科目!$U80,\"????????\"),7,1))","v":""},{"$f":"IF(入力用科目!$U80=\"\",\"\",MID(TEXT(入力用科目!$U80,\"????????\"),8,1))","v":""},null,{"$f":"IF(入力用科目!$AD80=\"\",\"\",MID(TEXT(入力用科目!$AD80,\"????????\"),1,1))","v":""},{"$f":"IF(入力用科目!$AD80=\"\",\"\",MID(TEXT(入力用科目!$AD80,\"????????\"),2,1))","v":""},{"$f":"IF(入力用科目!$AD80=\"\",\"\",MID(TEXT(入力用科目!$AD80,\"????????\"),3,1))","v":""},{"$f":"IF(入力用科目!$AD80=\"\",\"\",MID(TEXT(入力用科目!$AD80,\"????????\"),4,1))","v":""},{"$f":"IF(入力用科目!$AD80=\"\",\"\",MID(TEXT(入力用科目!$AD80,\"????????\"),5,1))","v":""},{"$f":"IF(入力用科目!$AD80=\"\",\"\",MID(TEXT(入力用科目!$AD80,\"????????\"),6,1))","v":""},{"$f":"IF(入力用科目!$AD80=\"\",\"\",MID(TEXT(入力用科目!$AD80,\"????????\"),7,1))","v":""},{"$f":"IF(入力用科目!$AD80=\"\",\"\",MID(TEXT(入力用科目!$AD80,\"????????\"),8,1))","v":""},null,{"$f":"IF(入力用科目!$AM80=\"\",\"\",MID(TEXT(入力用科目!$AM80,\"????????\"),1,1))","v":" "},{"$f":"IF(入力用科目!$AM80=\"\",\"\",MID(TEXT(入力用科目!$AM80,\"????????\"),2,1))","v":" "},{"$f":"IF(入力用科目!$AM80=\"\",\"\",MID(TEXT(入力用科目!$AM80,\"????????\"),3,1))","v":" "},{"$f":"IF(入力用科目!$AM80=\"\",\"\",MID(TEXT(入力用科目!$AM80,\"????????\"),4,1))","v":" "},{"$f":"IF(入力用科目!$AM80=\"\",\"\",MID(TEXT(入力用科目!$AM80,\"????????\"),5,1))","v":" "},{"$f":"IF(入力用科目!$AM80=\"\",\"\",MID(TEXT(入力用科目!$AM80,\"????????\"),6,1))","v":" "},{"$f":"IF(入力用科目!$AM80=\"\",\"\",MID(TEXT(入力用科目!$AM80,\"????????\"),7,1))","v":" "},{"$f":"IF(入力用科目!$AM80=\"\",\"\",MID(TEXT(入力用科目!$AM80,\"????????\"),8,1))","v":" "}]
[{"$f":"IF(入力用科目!A81=\"\",\"\",MID(TEXT(入力用科目!$A81,\"??\"),COLUMN(),1))","v":""},{"$f":"IF(入力用科目!A81=\"\",\"\",MID(TEXT(入力用科目!$A81,\"??\"),COLUMN(),1))","v":""},null,{"$f":"IF(入力用科目!$D81=\"\",\"\",MID(TEXT(入力用科目!$D81,\"???\"),1,1))","v":""},{"$f":"IF(入力用科目!$D81=\"\",\"\",MID(TEXT(入力用科目!$D81,\"???\"),2,1))","v":""},{"$f":"IF(入力用科目!$D81=\"\",\"\",MID(TEXT(入力用科目!$D81,\"???\"),3,1))","v":""},null,{"$f":"IF(入力用科目!H81=\"\",\"\",入力用科目!H81)","v":"小　　　計"},null,null,null,null,null,null,null,null,{"$f":"IF(入力用科目!$Q81=\"\",\"\",MID(TEXT(入力用科目!$Q81,\"???\"),1,1))","v":""},{"$f":"IF(入力用科目!$Q81=\"\",\"\",MID(TEXT(入力用科目!$Q81,\"???\"),2,1))","v":""},{"$f":"IF(入力用科目!$Q81=\"\",\"\",MID(TEXT(入力用科目!$Q81,\"???\"),3,1))","v":""},null,{"$f":"IF(入力用科目!$U81=\"\",\"\",MID(TEXT(入力用科目!$U81,\"????????\"),1,1))","v":" "},{"$f":"IF(入力用科目!$U81=\"\",\"\",MID(TEXT(入力用科目!$U81,\"????????\"),2,1))","v":" "},{"$f":"IF(入力用科目!$U81=\"\",\"\",MID(TEXT(入力用科目!$U81,\"????????\"),3,1))","v":" "},{"$f":"IF(入力用科目!$U81=\"\",\"\",MID(TEXT(入力用科目!$U81,\"????????\"),4,1))","v":" "},{"$f":"IF(入力用科目!$U81=\"\",\"\",MID(TEXT(入力用科目!$U81,\"????????\"),5,1))","v":" "},{"$f":"IF(入力用科目!$U81=\"\",\"\",MID(TEXT(入力用科目!$U81,\"????????\"),6,1))","v":" "},{"$f":"IF(入力用科目!$U81=\"\",\"\",MID(TEXT(入力用科目!$U81,\"????????\"),7,1))","v":" "},{"$f":"IF(入力用科目!$U81=\"\",\"\",MID(TEXT(入力用科目!$U81,\"????????\"),8,1))","v":" "},null,{"$f":"IF(入力用科目!$AD81=\"\",\"\",MID(TEXT(入力用科目!$AD81,\"????????\"),1,1))","v":" "},{"$f":"IF(入力用科目!$AD81=\"\",\"\",MID(TEXT(入力用科目!$AD81,\"????????\"),2,1))","v":" "},{"$f":"IF(入力用科目!$AD81=\"\",\"\",MID(TEXT(入力用科目!$AD81,\"????????\"),3,1))","v":" "},{"$f":"IF(入力用科目!$AD81=\"\",\"\",MID(TEXT(入力用科目!$AD81,\"????????\"),4,1))","v":" "},{"$f":"IF(入力用科目!$AD81=\"\",\"\",MID(TEXT(入力用科目!$AD81,\"????????\"),5,1))","v":" "},{"$f":"IF(入力用科目!$AD81=\"\",\"\",MID(TEXT(入力用科目!$AD81,\"????????\"),6,1))","v":" "},{"$f":"IF(入力用科目!$AD81=\"\",\"\",MID(TEXT(入力用科目!$AD81,\"????????\"),7,1))","v":" "},{"$f":"IF(入力用科目!$AD81=\"\",\"\",MID(TEXT(入力用科目!$AD81,\"????????\"),8,1))","v":" "},null,{"$f":"IF(入力用科目!$AM81=\"\",\"\",MID(TEXT(入力用科目!$AM81,\"????????\"),1,1))","v":" "},{"$f":"IF(入力用科目!$AM81=\"\",\"\",MID(TEXT(入力用科目!$AM81,\"????????\"),2,1))","v":" "},{"$f":"IF(入力用科目!$AM81=\"\",\"\",MID(TEXT(入力用科目!$AM81,\"????????\"),3,1))","v":" "},{"$f":"IF(入力用科目!$AM81=\"\",\"\",MID(TEXT(入力用科目!$AM81,\"????????\"),4,1))","v":" "},{"$f":"IF(入力用科目!$AM81=\"\",\"\",MID(TEXT(入力用科目!$AM81,\"????????\"),5,1))","v":" "},{"$f":"IF(入力用科目!$AM81=\"\",\"\",MID(TEXT(入力用科目!$AM81,\"????????\"),6,1))","v":" "},{"$f":"IF(入力用科目!$AM81=\"\",\"\",MID(TEXT(入力用科目!$AM81,\"????????\"),7,1))","v":" "},{"$f":"IF(入力用科目!$AM81=\"\",\"\",MID(TEXT(入力用科目!$AM81,\"????????\"),8,1))","v":" "}]
[]
[null,{"$f":"IF(入力用科目!B83=\"\",\"\",入力用科目!B83)","v":""}]
[null,null,null,null,null,null,null,null,null,null,null,null,null,null,null,null,null,null,null,null,null,null,null,null,null,null,null,null,null,null,null,{"$f":"IF(入力用科目!$AF84=\"\",\"\",MID(TEXT(入力用科目!$AF84,\"???????\"),1,1))","v":""},{"$f":"IF(入力用科目!$AF84=\"\",\"\",MID(TEXT(入力用科目!$AF84,\"???????\"),2,1))","v":""},{"$f":"IF(入力用科目!$AF84=\"\",\"\",MID(TEXT(入力用科目!$AF84,\"???????\"),3,1))","v":""},{"$f":"IF(入力用科目!$AF84=\"\",\"\",MID(TEXT(入力用科目!$AF84,\"???????\"),4,1))","v":""},{"$f":"IF(入力用科目!$AF84=\"\",\"\",MID(TEXT(入力用科目!$AF84,\"???????\"),5,1))","v":""},{"$f":"IF(入力用科目!$AF84=\"\",\"\",MID(TEXT(入力用科目!$AF84,\"???????\"),6,1))","v":""},{"$f":"IF(入力用科目!$AF84=\"\",\"\",MID(TEXT(入力用科目!$AF84,\"???????\"),7,1))","v":""},null,{"$f":"IF(入力用科目!$AN84=\"\",\"\",MID(TEXT(入力用科目!$AN84,\"???????\"),1,1))","v":" "},{"$f":"IF(入力用科目!$AN84=\"\",\"\",MID(TEXT(入力用科目!$AN84,\"???????\"),2,1))","v":" "},{"$f":"IF(入力用科目!$AN84=\"\",\"\",MID(TEXT(入力用科目!$AN84,\"???????\"),3,1))","v":" "},{"$f":"IF(入力用科目!$AN84=\"\",\"\",MID(TEXT(入力用科目!$AN84,\"???????\"),4,1))","v":" "},{"$f":"IF(入力用科目!$AN84=\"\",\"\",MID(TEXT(入力用科目!$AN84,\"???????\"),5,1))","v":" "},{"$f":"IF(入力用科目!$AN84=\"\",\"\",MID(TEXT(入力用科目!$AN84,\"???????\"),6,1))","v":" "},{"$f":"IF(入力用科目!$AN84=\"\",\"\",MID(TEXT(入力用科目!$AN84,\"???????\"),7,1))","v":" "}]
[]
[]
[]
[]
[]
[{"$f":"IF(入力用科目!A90=\"\",\"\",入力用科目!A90)","v":0},{"$f":"IF(入力用科目!B90=\"\",\"\",入力用科目!B90)","v":6},null,{"$f":"IF(入力用科目!D90=\"\",\"\",入力用科目!D90)","v":""},{"$f":"IF(入力用科目!E90=\"\",\"\",入力用科目!E90)","v":""},null,null,null,null,null,null,null,null,null,null,null,null,null,null,null,null,null,null,null,null,null,null,null,null,null,null,null,{"$f":"IF(入力用科目!AG90=\"\",\"\",入力用科目!AG90)","v":""},null,null,null,null,null,null,null,null,{"$f":"IF(入力用科目!AP90=\"\",\"\",入力用科目!AP90)","v":""},null,{"$f":"IF(入力用科目!AR90=\"\",\"\",入力用科目!AR90)","v":""}]
[]
[]
[null,null,null,null,null,null,null,null,null,null,null,null,null,null,null,null,null,null,null,null,null,null,null,null,null,null,null,null,null,null,null,null,null,null,null,null,null,null,{"$f":"IF(入力用科目!$AM93=\"\",\"\",MID(TEXT(入力用科目!$AM93,\"????????\"),1,1))","v":" "},{"$f":"IF(入力用科目!$AM93=\"\",\"\",MID(TEXT(入力用科目!$AM93,\"????????\"),2,1))","v":" "},{"$f":"IF(入力用科目!$AM93=\"\",\"\",MID(TEXT(入力用科目!$AM93,\"????????\"),3,1))","v":" "},{"$f":"IF(入力用科目!$AM93=\"\",\"\",MID(TEXT(入力用科目!$AM93,\"????????\"),4,1))","v":" "},{"$f":"IF(入力用科目!$AM93=\"\",\"\",MID(TEXT(入力用科目!$AM93,\"????????\"),5,1))","v":" "},{"$f":"IF(入力用科目!$AM93=\"\",\"\",MID(TEXT(入力用科目!$AM93,\"????????\"),6,1))","v":" "},{"$f":"IF(入力用科目!$AM93=\"\",\"\",MID(TEXT(入力用科目!$AM93,\"????????\"),7,1))","v":" "},{"$f":"IF(入力用科目!$AM93=\"\",\"\",MID(TEXT(入力用科目!$AM93,\"????????\"),8,1))","v":" "}]
[{"$f":"IF(入力用科目!A94=\"\",\"\",MID(TEXT(入力用科目!$A94,\"??\"),COLUMN(),1))","v":""},{"$f":"IF(入力用科目!A94=\"\",\"\",MID(TEXT(入力用科目!$A94,\"??\"),COLUMN(),1))","v":""},null,{"$f":"IF(入力用科目!$D94=\"\",\"\",MID(TEXT(入力用科目!$D94,\"???\"),1,1))","v":""},{"$f":"IF(入力用科目!$D94=\"\",\"\",MID(TEXT(入力用科目!$D94,\"???\"),2,1))","v":""},{"$f":"IF(入力用科目!$D94=\"\",\"\",MID(TEXT(入力用科目!$D94,\"???\"),3,1))","v":""},null,{"$f":"IF(入力用科目!$Q94=1,\"運送収入\",IF(入力用科目!$H94=\"\",\"\",入力用科目!$H94))","v":""},null,null,null,null,null,null,null,null,{"$f":"IF(入力用科目!$Q94=\"\",\"\",MID(TEXT(入力用科目!$Q94,\"???\"),1,1))","v":""},{"$f":"IF(入力用科目!$Q94=\"\",\"\",MID(TEXT(入力用科目!$Q94,\"???\"),2,1))","v":""},{"$f":"IF(入力用科目!$Q94=\"\",\"\",MID(TEXT(入力用科目!$Q94,\"???\"),3,1))","v":""},null,{"$f":"IF(入力用科目!$U94=\"\",\"\",MID(TEXT(入力用科目!$U94,\"????????\"),1,1))","v":""},{"$f":"IF(入力用科目!$U94=\"\",\"\",MID(TEXT(入力用科目!$U94,\"????????\"),2,1))","v":""},{"$f":"IF(入力用科目!$U94=\"\",\"\",MID(TEXT(入力用科目!$U94,\"????????\"),3,1))","v":""},{"$f":"IF(入力用科目!$U94=\"\",\"\",MID(TEXT(入力用科目!$U94,\"????????\"),4,1))","v":""},{"$f":"IF(入力用科目!$U94=\"\",\"\",MID(TEXT(入力用科目!$U94,\"????????\"),5,1))","v":""},{"$f":"IF(入力用科目!$U94=\"\",\"\",MID(TEXT(入力用科目!$U94,\"????????\"),6,1))","v":""},{"$f":"IF(入力用科目!$U94=\"\",\"\",MID(TEXT(入力用科目!$U94,\"????????\"),7,1))","v":""},{"$f":"IF(入力用科目!$U94=\"\",\"\",MID(TEXT(入力用科目!$U94,\"????????\"),8,1))","v":""},null,{"$f":"IF(入力用科目!$AD94=\"\",\"\",MID(TEXT(入力用科目!$AD94,\"????????\"),1,1))","v":""},{"$f":"IF(入力用科目!$AD94=\"\",\"\",MID(TEXT(入力用科目!$AD94,\"????????\"),2,1))","v":""},{"$f":"IF(入力用科目!$AD94=\"\",\"\",MID(TEXT(入力用科目!$AD94,\"????????\"),3,1))","v":""},{"$f":"IF(入力用科目!$AD94=\"\",\"\",MID(TEXT(入力用科目!$AD94,\"????????\"),4,1))","v":""},{"$f":"IF(入力用科目!$AD94=\"\",\"\",MID(TEXT(入力用科目!$AD94,\"????????\"),5,1))","v":""},{"$f":"IF(入力用科目!$AD94=\"\",\"\",MID(TEXT(入力用科目!$AD94,\"????????\"),6,1))","v":""},{"$f":"IF(入力用科目!$AD94=\"\",\"\",MID(TEXT(入力用科目!$AD94,\"????????\"),7,1))","v":""},{"$f":"IF(入力用科目!$AD94=\"\",\"\",MID(TEXT(入力用科目!$AD94,\"????????\"),8,1))","v":""},null,{"$f":"IF(入力用科目!$AM94=\"\",\"\",MID(TEXT(入力用科目!$AM94,\"????????\"),1,1))","v":" "},{"$f":"IF(入力用科目!$AM94=\"\",\"\",MID(TEXT(入力用科目!$AM94,\"????????\"),2,1))","v":" "},{"$f":"IF(入力用科目!$AM94=\"\",\"\",MID(TEXT(入力用科目!$AM94,\"????????\"),3,1))","v":" "},{"$f":"IF(入力用科目!$AM94=\"\",\"\",MID(TEXT(入力用科目!$AM94,\"????????\"),4,1))","v":" "},{"$f":"IF(入力用科目!$AM94=\"\",\"\",MID(TEXT(入力用科目!$AM94,\"????????\"),5,1))","v":" "},{"$f":"IF(入力用科目!$AM94=\"\",\"\",MID(TEXT(入力用科目!$AM94,\"????????\"),6,1))","v":" "},{"$f":"IF(入力用科目!$AM94=\"\",\"\",MID(TEXT(入力用科目!$AM94,\"????????\"),7,1))","v":" "},{"$f":"IF(入力用科目!$AM94=\"\",\"\",MID(TEXT(入力用科目!$AM94,\"????????\"),8,1))","v":" "}]
[{"$f":"IF(入力用科目!A95=\"\",\"\",MID(TEXT(入力用科目!$A95,\"??\"),COLUMN(),1))","v":""},{"$f":"IF(入力用科目!A95=\"\",\"\",MID(TEXT(入力用科目!$A95,\"??\"),COLUMN(),1))","v":""},null,{"$f":"IF(入力用科目!$D95=\"\",\"\",MID(TEXT(入力用科目!$D95,\"???\"),1,1))","v":""},{"$f":"IF(入力用科目!$D95=\"\",\"\",MID(TEXT(入力用科目!$D95,\"???\"),2,1))","v":""},{"$f":"IF(入力用科目!$D95=\"\",\"\",MID(TEXT(入力用科目!$D95,\"???\"),3,1))","v":""},null,{"$f":"IF(入力用科目!$Q95=1,\"運送収入\",IF(入力用科目!$H95=\"\",\"\",入力用科目!$H95))","v":""},null,null,null,null,null,null,null,null,{"$f":"IF(入力用科目!$Q95=\"\",\"\",MID(TEXT(入力用科目!$Q95,\"???\"),1,1))","v":""},{"$f":"IF(入力用科目!$Q95=\"\",\"\",MID(TEXT(入力用科目!$Q95,\"???\"),2,1))","v":""},{"$f":"IF(入力用科目!$Q95=\"\",\"\",MID(TEXT(入力用科目!$Q95,\"???\"),3,1))","v":""},null,{"$f":"IF(入力用科目!$U95=\"\",\"\",MID(TEXT(入力用科目!$U95,\"????????\"),1,1))","v":""},{"$f":"IF(入力用科目!$U95=\"\",\"\",MID(TEXT(入力用科目!$U95,\"????????\"),2,1))","v":""},{"$f":"IF(入力用科目!$U95=\"\",\"\",MID(TEXT(入力用科目!$U95,\"????????\"),3,1))","v":""},{"$f":"IF(入力用科目!$U95=\"\",\"\",MID(TEXT(入力用科目!$U95,\"????????\"),4,1))","v":""},{"$f":"IF(入力用科目!$U95=\"\",\"\",MID(TEXT(入力用科目!$U95,\"????????\"),5,1))","v":""},{"$f":"IF(入力用科目!$U95=\"\",\"\",MID(TEXT(入力用科目!$U95,\"????????\"),6,1))","v":""},{"$f":"IF(入力用科目!$U95=\"\",\"\",MID(TEXT(入力用科目!$U95,\"????????\"),7,1))","v":""},{"$f":"IF(入力用科目!$U95=\"\",\"\",MID(TEXT(入力用科目!$U95,\"????????\"),8,1))","v":""},null,{"$f":"IF(入力用科目!$AD95=\"\",\"\",MID(TEXT(入力用科目!$AD95,\"????????\"),1,1))","v":""},{"$f":"IF(入力用科目!$AD95=\"\",\"\",MID(TEXT(入力用科目!$AD95,\"????????\"),2,1))","v":""},{"$f":"IF(入力用科目!$AD95=\"\",\"\",MID(TEXT(入力用科目!$AD95,\"????????\"),3,1))","v":""},{"$f":"IF(入力用科目!$AD95=\"\",\"\",MID(TEXT(入力用科目!$AD95,\"????????\"),4,1))","v":""},{"$f":"IF(入力用科目!$AD95=\"\",\"\",MID(TEXT(入力用科目!$AD95,\"????????\"),5,1))","v":""},{"$f":"IF(入力用科目!$AD95=\"\",\"\",MID(TEXT(入力用科目!$AD95,\"????????\"),6,1))","v":""},{"$f":"IF(入力用科目!$AD95=\"\",\"\",MID(TEXT(入力用科目!$AD95,\"????????\"),7,1))","v":""},{"$f":"IF(入力用科目!$AD95=\"\",\"\",MID(TEXT(入力用科目!$AD95,\"????????\"),8,1))","v":""},null,{"$f":"IF(入力用科目!$AM95=\"\",\"\",MID(TEXT(入力用科目!$AM95,\"????????\"),1,1))","v":" "},{"$f":"IF(入力用科目!$AM95=\"\",\"\",MID(TEXT(入力用科目!$AM95,\"????????\"),2,1))","v":" "},{"$f":"IF(入力用科目!$AM95=\"\",\"\",MID(TEXT(入力用科目!$AM95,\"????????\"),3,1))","v":" "},{"$f":"IF(入力用科目!$AM95=\"\",\"\",MID(TEXT(入力用科目!$AM95,\"????????\"),4,1))","v":" "},{"$f":"IF(入力用科目!$AM95=\"\",\"\",MID(TEXT(入力用科目!$AM95,\"????????\"),5,1))","v":" "},{"$f":"IF(入力用科目!$AM95=\"\",\"\",MID(TEXT(入力用科目!$AM95,\"????????\"),6,1))","v":" "},{"$f":"IF(入力用科目!$AM95=\"\",\"\",MID(TEXT(入力用科目!$AM95,\"????????\"),7,1))","v":" "},{"$f":"IF(入力用科目!$AM95=\"\",\"\",MID(TEXT(入力用科目!$AM95,\"????????\"),8,1))","v":" "}]
[{"$f":"IF(入力用科目!A96=\"\",\"\",MID(TEXT(入力用科目!$A96,\"??\"),COLUMN(),1))","v":""},{"$f":"IF(入力用科目!A96=\"\",\"\",MID(TEXT(入力用科目!$A96,\"??\"),COLUMN(),1))","v":""},null,{"$f":"IF(入力用科目!$D96=\"\",\"\",MID(TEXT(入力用科目!$D96,\"???\"),1,1))","v":""},{"$f":"IF(入力用科目!$D96=\"\",\"\",MID(TEXT(入力用科目!$D96,\"???\"),2,1))","v":""},{"$f":"IF(入力用科目!$D96=\"\",\"\",MID(TEXT(入力用科目!$D96,\"???\"),3,1))","v":""},null,{"$f":"IF(入力用科目!$Q96=1,\"運送収入\",IF(入力用科目!$H96=\"\",\"\",入力用科目!$H96))","v":""},null,null,null,null,null,null,null,null,{"$f":"IF(入力用科目!$Q96=\"\",\"\",MID(TEXT(入力用科目!$Q96,\"???\"),1,1))","v":""},{"$f":"IF(入力用科目!$Q96=\"\",\"\",MID(TEXT(入力用科目!$Q96,\"???\"),2,1))","v":""},{"$f":"IF(入力用科目!$Q96=\"\",\"\",MID(TEXT(入力用科目!$Q96,\"???\"),3,1))","v":""},null,{"$f":"IF(入力用科目!$U96=\"\",\"\",MID(TEXT(入力用科目!$U96,\"????????\"),1,1))","v":""},{"$f":"IF(入力用科目!$U96=\"\",\"\",MID(TEXT(入力用科目!$U96,\"????????\"),2,1))","v":""},{"$f":"IF(入力用科目!$U96=\"\",\"\",MID(TEXT(入力用科目!$U96,\"????????\"),3,1))","v":""},{"$f":"IF(入力用科目!$U96=\"\",\"\",MID(TEXT(入力用科目!$U96,\"????????\"),4,1))","v":""},{"$f":"IF(入力用科目!$U96=\"\",\"\",MID(TEXT(入力用科目!$U96,\"????????\"),5,1))","v":""},{"$f":"IF(入力用科目!$U96=\"\",\"\",MID(TEXT(入力用科目!$U96,\"????????\"),6,1))","v":""},{"$f":"IF(入力用科目!$U96=\"\",\"\",MID(TEXT(入力用科目!$U96,\"????????\"),7,1))","v":""},{"$f":"IF(入力用科目!$U96=\"\",\"\",MID(TEXT(入力用科目!$U96,\"????????\"),8,1))","v":""},null,{"$f":"IF(入力用科目!$AD96=\"\",\"\",MID(TEXT(入力用科目!$AD96,\"????????\"),1,1))","v":""},{"$f":"IF(入力用科目!$AD96=\"\",\"\",MID(TEXT(入力用科目!$AD96,\"????????\"),2,1))","v":""},{"$f":"IF(入力用科目!$AD96=\"\",\"\",MID(TEXT(入力用科目!$AD96,\"????????\"),3,1))","v":""},{"$f":"IF(入力用科目!$AD96=\"\",\"\",MID(TEXT(入力用科目!$AD96,\"????????\"),4,1))","v":""},{"$f":"IF(入力用科目!$AD96=\"\",\"\",MID(TEXT(入力用科目!$AD96,\"????????\"),5,1))","v":""},{"$f":"IF(入力用科目!$AD96=\"\",\"\",MID(TEXT(入力用科目!$AD96,\"????????\"),6,1))","v":""},{"$f":"IF(入力用科目!$AD96=\"\",\"\",MID(TEXT(入力用科目!$AD96,\"????????\"),7,1))","v":""},{"$f":"IF(入力用科目!$AD96=\"\",\"\",MID(TEXT(入力用科目!$AD96,\"????????\"),8,1))","v":""},null,{"$f":"IF(入力用科目!$AM96=\"\",\"\",MID(TEXT(入力用科目!$AM96,\"????????\"),1,1))","v":" "},{"$f":"IF(入力用科目!$AM96=\"\",\"\",MID(TEXT(入力用科目!$AM96,\"????????\"),2,1))","v":" "},{"$f":"IF(入力用科目!$AM96=\"\",\"\",MID(TEXT(入力用科目!$AM96,\"????????\"),3,1))","v":" "},{"$f":"IF(入力用科目!$AM96=\"\",\"\",MID(TEXT(入力用科目!$AM96,\"????????\"),4,1))","v":" "},{"$f":"IF(入力用科目!$AM96=\"\",\"\",MID(TEXT(入力用科目!$AM96,\"????????\"),5,1))","v":" "},{"$f":"IF(入力用科目!$AM96=\"\",\"\",MID(TEXT(入力用科目!$AM96,\"????????\"),6,1))","v":" "},{"$f":"IF(入力用科目!$AM96=\"\",\"\",MID(TEXT(入力用科目!$AM96,\"????????\"),7,1))","v":" "},{"$f":"IF(入力用科目!$AM96=\"\",\"\",MID(TEXT(入力用科目!$AM96,\"????????\"),8,1))","v":" "}]
[{"$f":"IF(入力用科目!A97=\"\",\"\",MID(TEXT(入力用科目!$A97,\"??\"),COLUMN(),1))","v":""},{"$f":"IF(入力用科目!A97=\"\",\"\",MID(TEXT(入力用科目!$A97,\"??\"),COLUMN(),1))","v":""},null,{"$f":"IF(入力用科目!$D97=\"\",\"\",MID(TEXT(入力用科目!$D97,\"???\"),1,1))","v":""},{"$f":"IF(入力用科目!$D97=\"\",\"\",MID(TEXT(入力用科目!$D97,\"???\"),2,1))","v":""},{"$f":"IF(入力用科目!$D97=\"\",\"\",MID(TEXT(入力用科目!$D97,\"???\"),3,1))","v":""},null,{"$f":"IF(入力用科目!$Q97=1,\"運送収入\",IF(入力用科目!$H97=\"\",\"\",入力用科目!$H97))","v":""},null,null,null,null,null,null,null,null,{"$f":"IF(入力用科目!$Q97=\"\",\"\",MID(TEXT(入力用科目!$Q97,\"???\"),1,1))","v":""},{"$f":"IF(入力用科目!$Q97=\"\",\"\",MID(TEXT(入力用科目!$Q97,\"???\"),2,1))","v":""},{"$f":"IF(入力用科目!$Q97=\"\",\"\",MID(TEXT(入力用科目!$Q97,\"???\"),3,1))","v":""},null,{"$f":"IF(入力用科目!$U97=\"\",\"\",MID(TEXT(入力用科目!$U97,\"????????\"),1,1))","v":""},{"$f":"IF(入力用科目!$U97=\"\",\"\",MID(TEXT(入力用科目!$U97,\"????????\"),2,1))","v":""},{"$f":"IF(入力用科目!$U97=\"\",\"\",MID(TEXT(入力用科目!$U97,\"????????\"),3,1))","v":""},{"$f":"IF(入力用科目!$U97=\"\",\"\",MID(TEXT(入力用科目!$U97,\"????????\"),4,1))","v":""},{"$f":"IF(入力用科目!$U97=\"\",\"\",MID(TEXT(入力用科目!$U97,\"????????\"),5,1))","v":""},{"$f":"IF(入力用科目!$U97=\"\",\"\",MID(TEXT(入力用科目!$U97,\"????????\"),6,1))","v":""},{"$f":"IF(入力用科目!$U97=\"\",\"\",MID(TEXT(入力用科目!$U97,\"????????\"),7,1))","v":""},{"$f":"IF(入力用科目!$U97=\"\",\"\",MID(TEXT(入力用科目!$U97,\"????????\"),8,1))","v":""},null,{"$f":"IF(入力用科目!$AD97=\"\",\"\",MID(TEXT(入力用科目!$AD97,\"????????\"),1,1))","v":""},{"$f":"IF(入力用科目!$AD97=\"\",\"\",MID(TEXT(入力用科目!$AD97,\"????????\"),2,1))","v":""},{"$f":"IF(入力用科目!$AD97=\"\",\"\",MID(TEXT(入力用科目!$AD97,\"????????\"),3,1))","v":""},{"$f":"IF(入力用科目!$AD97=\"\",\"\",MID(TEXT(入力用科目!$AD97,\"????????\"),4,1))","v":""},{"$f":"IF(入力用科目!$AD97=\"\",\"\",MID(TEXT(入力用科目!$AD97,\"????????\"),5,1))","v":""},{"$f":"IF(入力用科目!$AD97=\"\",\"\",MID(TEXT(入力用科目!$AD97,\"????????\"),6,1))","v":""},{"$f":"IF(入力用科目!$AD97=\"\",\"\",MID(TEXT(入力用科目!$AD97,\"????????\"),7,1))","v":""},{"$f":"IF(入力用科目!$AD97=\"\",\"\",MID(TEXT(入力用科目!$AD97,\"????????\"),8,1))","v":""},null,{"$f":"IF(入力用科目!$AM97=\"\",\"\",MID(TEXT(入力用科目!$AM97,\"????????\"),1,1))","v":" "},{"$f":"IF(入力用科目!$AM97=\"\",\"\",MID(TEXT(入力用科目!$AM97,\"????????\"),2,1))","v":" "},{"$f":"IF(入力用科目!$AM97=\"\",\"\",MID(TEXT(入力用科目!$AM97,\"????????\"),3,1))","v":" "},{"$f":"IF(入力用科目!$AM97=\"\",\"\",MID(TEXT(入力用科目!$AM97,\"????????\"),4,1))","v":" "},{"$f":"IF(入力用科目!$AM97=\"\",\"\",MID(TEXT(入力用科目!$AM97,\"????????\"),5,1))","v":" "},{"$f":"IF(入力用科目!$AM97=\"\",\"\",MID(TEXT(入力用科目!$AM97,\"????????\"),6,1))","v":" "},{"$f":"IF(入力用科目!$AM97=\"\",\"\",MID(TEXT(入力用科目!$AM97,\"????????\"),7,1))","v":" "},{"$f":"IF(入力用科目!$AM97=\"\",\"\",MID(TEXT(入力用科目!$AM97,\"????????\"),8,1))","v":" "}]
[{"$f":"IF(入力用科目!A98=\"\",\"\",MID(TEXT(入力用科目!$A98,\"??\"),COLUMN(),1))","v":""},{"$f":"IF(入力用科目!A98=\"\",\"\",MID(TEXT(入力用科目!$A98,\"??\"),COLUMN(),1))","v":""},null,{"$f":"IF(入力用科目!$D98=\"\",\"\",MID(TEXT(入力用科目!$D98,\"???\"),1,1))","v":""},{"$f":"IF(入力用科目!$D98=\"\",\"\",MID(TEXT(入力用科目!$D98,\"???\"),2,1))","v":""},{"$f":"IF(入力用科目!$D98=\"\",\"\",MID(TEXT(入力用科目!$D98,\"???\"),3,1))","v":""},null,{"$f":"IF(入力用科目!$Q98=1,\"運送収入\",IF(入力用科目!$H98=\"\",\"\",入力用科目!$H98))","v":""},null,null,null,null,null,null,null,null,{"$f":"IF(入力用科目!$Q98=\"\",\"\",MID(TEXT(入力用科目!$Q98,\"???\"),1,1))","v":""},{"$f":"IF(入力用科目!$Q98=\"\",\"\",MID(TEXT(入力用科目!$Q98,\"???\"),2,1))","v":""},{"$f":"IF(入力用科目!$Q98=\"\",\"\",MID(TEXT(入力用科目!$Q98,\"???\"),3,1))","v":""},null,{"$f":"IF(入力用科目!$U98=\"\",\"\",MID(TEXT(入力用科目!$U98,\"????????\"),1,1))","v":""},{"$f":"IF(入力用科目!$U98=\"\",\"\",MID(TEXT(入力用科目!$U98,\"????????\"),2,1))","v":""},{"$f":"IF(入力用科目!$U98=\"\",\"\",MID(TEXT(入力用科目!$U98,\"????????\"),3,1))","v":""},{"$f":"IF(入力用科目!$U98=\"\",\"\",MID(TEXT(入力用科目!$U98,\"????????\"),4,1))","v":""},{"$f":"IF(入力用科目!$U98=\"\",\"\",MID(TEXT(入力用科目!$U98,\"????????\"),5,1))","v":""},{"$f":"IF(入力用科目!$U98=\"\",\"\",MID(TEXT(入力用科目!$U98,\"????????\"),6,1))","v":""},{"$f":"IF(入力用科目!$U98=\"\",\"\",MID(TEXT(入力用科目!$U98,\"????????\"),7,1))","v":""},{"$f":"IF(入力用科目!$U98=\"\",\"\",MID(TEXT(入力用科目!$U98,\"????????\"),8,1))","v":""},null,{"$f":"IF(入力用科目!$AD98=\"\",\"\",MID(TEXT(入力用科目!$AD98,\"????????\"),1,1))","v":""},{"$f":"IF(入力用科目!$AD98=\"\",\"\",MID(TEXT(入力用科目!$AD98,\"????????\"),2,1))","v":""},{"$f":"IF(入力用科目!$AD98=\"\",\"\",MID(TEXT(入力用科目!$AD98,\"????????\"),3,1))","v":""},{"$f":"IF(入力用科目!$AD98=\"\",\"\",MID(TEXT(入力用科目!$AD98,\"????????\"),4,1))","v":""},{"$f":"IF(入力用科目!$AD98=\"\",\"\",MID(TEXT(入力用科目!$AD98,\"????????\"),5,1))","v":""},{"$f":"IF(入力用科目!$AD98=\"\",\"\",MID(TEXT(入力用科目!$AD98,\"????????\"),6,1))","v":""},{"$f":"IF(入力用科目!$AD98=\"\",\"\",MID(TEXT(入力用科目!$AD98,\"????????\"),7,1))","v":""},{"$f":"IF(入力用科目!$AD98=\"\",\"\",MID(TEXT(入力用科目!$AD98,\"????????\"),8,1))","v":""},null,{"$f":"IF(入力用科目!$AM98=\"\",\"\",MID(TEXT(入力用科目!$AM98,\"????????\"),1,1))","v":" "},{"$f":"IF(入力用科目!$AM98=\"\",\"\",MID(TEXT(入力用科目!$AM98,\"????????\"),2,1))","v":" "},{"$f":"IF(入力用科目!$AM98=\"\",\"\",MID(TEXT(入力用科目!$AM98,\"????????\"),3,1))","v":" "},{"$f":"IF(入力用科目!$AM98=\"\",\"\",MID(TEXT(入力用科目!$AM98,\"????????\"),4,1))","v":" "},{"$f":"IF(入力用科目!$AM98=\"\",\"\",MID(TEXT(入力用科目!$AM98,\"????????\"),5,1))","v":" "},{"$f":"IF(入力用科目!$AM98=\"\",\"\",MID(TEXT(入力用科目!$AM98,\"????????\"),6,1))","v":" "},{"$f":"IF(入力用科目!$AM98=\"\",\"\",MID(TEXT(入力用科目!$AM98,\"????????\"),7,1))","v":" "},{"$f":"IF(入力用科目!$AM98=\"\",\"\",MID(TEXT(入力用科目!$AM98,\"????????\"),8,1))","v":" "}]
[{"$f":"IF(入力用科目!A99=\"\",\"\",MID(TEXT(入力用科目!$A99,\"??\"),COLUMN(),1))","v":""},{"$f":"IF(入力用科目!A99=\"\",\"\",MID(TEXT(入力用科目!$A99,\"??\"),COLUMN(),1))","v":""},null,{"$f":"IF(入力用科目!$D99=\"\",\"\",MID(TEXT(入力用科目!$D99,\"???\"),1,1))","v":""},{"$f":"IF(入力用科目!$D99=\"\",\"\",MID(TEXT(入力用科目!$D99,\"???\"),2,1))","v":""},{"$f":"IF(入力用科目!$D99=\"\",\"\",MID(TEXT(入力用科目!$D99,\"???\"),3,1))","v":""},null,{"$f":"IF(入力用科目!$Q99=1,\"運送収入\",IF(入力用科目!$H99=\"\",\"\",入力用科目!$H99))","v":""},null,null,null,null,null,null,null,null,{"$f":"IF(入力用科目!$Q99=\"\",\"\",MID(TEXT(入力用科目!$Q99,\"???\"),1,1))","v":""},{"$f":"IF(入力用科目!$Q99=\"\",\"\",MID(TEXT(入力用科目!$Q99,\"???\"),2,1))","v":""},{"$f":"IF(入力用科目!$Q99=\"\",\"\",MID(TEXT(入力用科目!$Q99,\"???\"),3,1))","v":""},null,{"$f":"IF(入力用科目!$U99=\"\",\"\",MID(TEXT(入力用科目!$U99,\"????????\"),1,1))","v":""},{"$f":"IF(入力用科目!$U99=\"\",\"\",MID(TEXT(入力用科目!$U99,\"????????\"),2,1))","v":""},{"$f":"IF(入力用科目!$U99=\"\",\"\",MID(TEXT(入力用科目!$U99,\"????????\"),3,1))","v":""},{"$f":"IF(入力用科目!$U99=\"\",\"\",MID(TEXT(入力用科目!$U99,\"????????\"),4,1))","v":""},{"$f":"IF(入力用科目!$U99=\"\",\"\",MID(TEXT(入力用科目!$U99,\"????????\"),5,1))","v":""},{"$f":"IF(入力用科目!$U99=\"\",\"\",MID(TEXT(入力用科目!$U99,\"????????\"),6,1))","v":""},{"$f":"IF(入力用科目!$U99=\"\",\"\",MID(TEXT(入力用科目!$U99,\"????????\"),7,1))","v":""},{"$f":"IF(入力用科目!$U99=\"\",\"\",MID(TEXT(入力用科目!$U99,\"????????\"),8,1))","v":""},null,{"$f":"IF(入力用科目!$AD99=\"\",\"\",MID(TEXT(入力用科目!$AD99,\"????????\"),1,1))","v":""},{"$f":"IF(入力用科目!$AD99=\"\",\"\",MID(TEXT(入力用科目!$AD99,\"????????\"),2,1))","v":""},{"$f":"IF(入力用科目!$AD99=\"\",\"\",MID(TEXT(入力用科目!$AD99,\"????????\"),3,1))","v":""},{"$f":"IF(入力用科目!$AD99=\"\",\"\",MID(TEXT(入力用科目!$AD99,\"????????\"),4,1))","v":""},{"$f":"IF(入力用科目!$AD99=\"\",\"\",MID(TEXT(入力用科目!$AD99,\"????????\"),5,1))","v":""},{"$f":"IF(入力用科目!$AD99=\"\",\"\",MID(TEXT(入力用科目!$AD99,\"????????\"),6,1))","v":""},{"$f":"IF(入力用科目!$AD99=\"\",\"\",MID(TEXT(入力用科目!$AD99,\"????????\"),7,1))","v":""},{"$f":"IF(入力用科目!$AD99=\"\",\"\",MID(TEXT(入力用科目!$AD99,\"????????\"),8,1))","v":""},null,{"$f":"IF(入力用科目!$AM99=\"\",\"\",MID(TEXT(入力用科目!$AM99,\"????????\"),1,1))","v":" "},{"$f":"IF(入力用科目!$AM99=\"\",\"\",MID(TEXT(入力用科目!$AM99,\"????????\"),2,1))","v":" "},{"$f":"IF(入力用科目!$AM99=\"\",\"\",MID(TEXT(入力用科目!$AM99,\"????????\"),3,1))","v":" "},{"$f":"IF(入力用科目!$AM99=\"\",\"\",MID(TEXT(入力用科目!$AM99,\"????????\"),4,1))","v":" "},{"$f":"IF(入力用科目!$AM99=\"\",\"\",MID(TEXT(入力用科目!$AM99,\"????????\"),5,1))","v":" "},{"$f":"IF(入力用科目!$AM99=\"\",\"\",MID(TEXT(入力用科目!$AM99,\"????????\"),6,1))","v":" "},{"$f":"IF(入力用科目!$AM99=\"\",\"\",MID(TEXT(入力用科目!$AM99,\"????????\"),7,1))","v":" "},{"$f":"IF(入力用科目!$AM99=\"\",\"\",MID(TEXT(入力用科目!$AM99,\"????????\"),8,1))","v":" "}]
[{"$f":"IF(入力用科目!A100=\"\",\"\",MID(TEXT(入力用科目!$A100,\"??\"),COLUMN(),1))","v":""},{"$f":"IF(入力用科目!A100=\"\",\"\",MID(TEXT(入力用科目!$A100,\"??\"),COLUMN(),1))","v":""},null,{"$f":"IF(入力用科目!$D100=\"\",\"\",MID(TEXT(入力用科目!$D100,\"???\"),1,1))","v":""},{"$f":"IF(入力用科目!$D100=\"\",\"\",MID(TEXT(入力用科目!$D100,\"???\"),2,1))","v":""},{"$f":"IF(入力用科目!$D100=\"\",\"\",MID(TEXT(入力用科目!$D100,\"???\"),3,1))","v":""},null,{"$f":"IF(入力用科目!$Q100=1,\"運送収入\",IF(入力用科目!$H100=\"\",\"\",入力用科目!$H100))","v":""},null,null,null,null,null,null,null,null,{"$f":"IF(入力用科目!$Q100=\"\",\"\",MID(TEXT(入力用科目!$Q100,\"???\"),1,1))","v":""},{"$f":"IF(入力用科目!$Q100=\"\",\"\",MID(TEXT(入力用科目!$Q100,\"???\"),2,1))","v":""},{"$f":"IF(入力用科目!$Q100=\"\",\"\",MID(TEXT(入力用科目!$Q100,\"???\"),3,1))","v":""},null,{"$f":"IF(入力用科目!$U100=\"\",\"\",MID(TEXT(入力用科目!$U100,\"????????\"),1,1))","v":""},{"$f":"IF(入力用科目!$U100=\"\",\"\",MID(TEXT(入力用科目!$U100,\"????????\"),2,1))","v":""},{"$f":"IF(入力用科目!$U100=\"\",\"\",MID(TEXT(入力用科目!$U100,\"????????\"),3,1))","v":""},{"$f":"IF(入力用科目!$U100=\"\",\"\",MID(TEXT(入力用科目!$U100,\"????????\"),4,1))","v":""},{"$f":"IF(入力用科目!$U100=\"\",\"\",MID(TEXT(入力用科目!$U100,\"????????\"),5,1))","v":""},{"$f":"IF(入力用科目!$U100=\"\",\"\",MID(TEXT(入力用科目!$U100,\"????????\"),6,1))","v":""},{"$f":"IF(入力用科目!$U100=\"\",\"\",MID(TEXT(入力用科目!$U100,\"????????\"),7,1))","v":""},{"$f":"IF(入力用科目!$U100=\"\",\"\",MID(TEXT(入力用科目!$U100,\"????????\"),8,1))","v":""},null,{"$f":"IF(入力用科目!$AD100=\"\",\"\",MID(TEXT(入力用科目!$AD100,\"????????\"),1,1))","v":""},{"$f":"IF(入力用科目!$AD100=\"\",\"\",MID(TEXT(入力用科目!$AD100,\"????????\"),2,1))","v":""},{"$f":"IF(入力用科目!$AD100=\"\",\"\",MID(TEXT(入力用科目!$AD100,\"????????\"),3,1))","v":""},{"$f":"IF(入力用科目!$AD100=\"\",\"\",MID(TEXT(入力用科目!$AD100,\"????????\"),4,1))","v":""},{"$f":"IF(入力用科目!$AD100=\"\",\"\",MID(TEXT(入力用科目!$AD100,\"????????\"),5,1))","v":""},{"$f":"IF(入力用科目!$AD100=\"\",\"\",MID(TEXT(入力用科目!$AD100,\"????????\"),6,1))","v":""},{"$f":"IF(入力用科目!$AD100=\"\",\"\",MID(TEXT(入力用科目!$AD100,\"????????\"),7,1))","v":""},{"$f":"IF(入力用科目!$AD100=\"\",\"\",MID(TEXT(入力用科目!$AD100,\"????????\"),8,1))","v":""},null,{"$f":"IF(入力用科目!$AM100=\"\",\"\",MID(TEXT(入力用科目!$AM100,\"????????\"),1,1))","v":" "},{"$f":"IF(入力用科目!$AM100=\"\",\"\",MID(TEXT(入力用科目!$AM100,\"????????\"),2,1))","v":" "},{"$f":"IF(入力用科目!$AM100=\"\",\"\",MID(TEXT(入力用科目!$AM100,\"????????\"),3,1))","v":" "},{"$f":"IF(入力用科目!$AM100=\"\",\"\",MID(TEXT(入力用科目!$AM100,\"????????\"),4,1))","v":" "},{"$f":"IF(入力用科目!$AM100=\"\",\"\",MID(TEXT(入力用科目!$AM100,\"????????\"),5,1))","v":" "},{"$f":"IF(入力用科目!$AM100=\"\",\"\",MID(TEXT(入力用科目!$AM100,\"????????\"),6,1))","v":" "},{"$f":"IF(入力用科目!$AM100=\"\",\"\",MID(TEXT(入力用科目!$AM100,\"????????\"),7,1))","v":" "},{"$f":"IF(入力用科目!$AM100=\"\",\"\",MID(TEXT(入力用科目!$AM100,\"????????\"),8,1))","v":" "}]
[{"$f":"IF(入力用科目!A101=\"\",\"\",MID(TEXT(入力用科目!$A101,\"??\"),COLUMN(),1))","v":""},{"$f":"IF(入力用科目!A101=\"\",\"\",MID(TEXT(入力用科目!$A101,\"??\"),COLUMN(),1))","v":""},null,{"$f":"IF(入力用科目!$D101=\"\",\"\",MID(TEXT(入力用科目!$D101,\"???\"),1,1))","v":""},{"$f":"IF(入力用科目!$D101=\"\",\"\",MID(TEXT(入力用科目!$D101,\"???\"),2,1))","v":""},{"$f":"IF(入力用科目!$D101=\"\",\"\",MID(TEXT(入力用科目!$D101,\"???\"),3,1))","v":""},null,{"$f":"IF(入力用科目!$Q101=1,\"運送収入\",IF(入力用科目!$H101=\"\",\"\",入力用科目!$H101))","v":""},null,null,null,null,null,null,null,null,{"$f":"IF(入力用科目!$Q101=\"\",\"\",MID(TEXT(入力用科目!$Q101,\"???\"),1,1))","v":""},{"$f":"IF(入力用科目!$Q101=\"\",\"\",MID(TEXT(入力用科目!$Q101,\"???\"),2,1))","v":""},{"$f":"IF(入力用科目!$Q101=\"\",\"\",MID(TEXT(入力用科目!$Q101,\"???\"),3,1))","v":""},null,{"$f":"IF(入力用科目!$U101=\"\",\"\",MID(TEXT(入力用科目!$U101,\"????????\"),1,1))","v":""},{"$f":"IF(入力用科目!$U101=\"\",\"\",MID(TEXT(入力用科目!$U101,\"????????\"),2,1))","v":""},{"$f":"IF(入力用科目!$U101=\"\",\"\",MID(TEXT(入力用科目!$U101,\"????????\"),3,1))","v":""},{"$f":"IF(入力用科目!$U101=\"\",\"\",MID(TEXT(入力用科目!$U101,\"????????\"),4,1))","v":""},{"$f":"IF(入力用科目!$U101=\"\",\"\",MID(TEXT(入力用科目!$U101,\"????????\"),5,1))","v":""},{"$f":"IF(入力用科目!$U101=\"\",\"\",MID(TEXT(入力用科目!$U101,\"????????\"),6,1))","v":""},{"$f":"IF(入力用科目!$U101=\"\",\"\",MID(TEXT(入力用科目!$U101,\"????????\"),7,1))","v":""},{"$f":"IF(入力用科目!$U101=\"\",\"\",MID(TEXT(入力用科目!$U101,\"????????\"),8,1))","v":""},null,{"$f":"IF(入力用科目!$AD101=\"\",\"\",MID(TEXT(入力用科目!$AD101,\"????????\"),1,1))","v":""},{"$f":"IF(入力用科目!$AD101=\"\",\"\",MID(TEXT(入力用科目!$AD101,\"????????\"),2,1))","v":""},{"$f":"IF(入力用科目!$AD101=\"\",\"\",MID(TEXT(入力用科目!$AD101,\"????????\"),3,1))","v":""},{"$f":"IF(入力用科目!$AD101=\"\",\"\",MID(TEXT(入力用科目!$AD101,\"????????\"),4,1))","v":""},{"$f":"IF(入力用科目!$AD101=\"\",\"\",MID(TEXT(入力用科目!$AD101,\"????????\"),5,1))","v":""},{"$f":"IF(入力用科目!$AD101=\"\",\"\",MID(TEXT(入力用科目!$AD101,\"????????\"),6,1))","v":""},{"$f":"IF(入力用科目!$AD101=\"\",\"\",MID(TEXT(入力用科目!$AD101,\"????????\"),7,1))","v":""},{"$f":"IF(入力用科目!$AD101=\"\",\"\",MID(TEXT(入力用科目!$AD101,\"????????\"),8,1))","v":""},null,{"$f":"IF(入力用科目!$AM101=\"\",\"\",MID(TEXT(入力用科目!$AM101,\"????????\"),1,1))","v":" "},{"$f":"IF(入力用科目!$AM101=\"\",\"\",MID(TEXT(入力用科目!$AM101,\"????????\"),2,1))","v":" "},{"$f":"IF(入力用科目!$AM101=\"\",\"\",MID(TEXT(入力用科目!$AM101,\"????????\"),3,1))","v":" "},{"$f":"IF(入力用科目!$AM101=\"\",\"\",MID(TEXT(入力用科目!$AM101,\"????????\"),4,1))","v":" "},{"$f":"IF(入力用科目!$AM101=\"\",\"\",MID(TEXT(入力用科目!$AM101,\"????????\"),5,1))","v":" "},{"$f":"IF(入力用科目!$AM101=\"\",\"\",MID(TEXT(入力用科目!$AM101,\"????????\"),6,1))","v":" "},{"$f":"IF(入力用科目!$AM101=\"\",\"\",MID(TEXT(入力用科目!$AM101,\"????????\"),7,1))","v":" "},{"$f":"IF(入力用科目!$AM101=\"\",\"\",MID(TEXT(入力用科目!$AM101,\"????????\"),8,1))","v":" "}]
[{"$f":"IF(入力用科目!A102=\"\",\"\",MID(TEXT(入力用科目!$A102,\"??\"),COLUMN(),1))","v":""},{"$f":"IF(入力用科目!A102=\"\",\"\",MID(TEXT(入力用科目!$A102,\"??\"),COLUMN(),1))","v":""},null,{"$f":"IF(入力用科目!$D102=\"\",\"\",MID(TEXT(入力用科目!$D102,\"???\"),1,1))","v":""},{"$f":"IF(入力用科目!$D102=\"\",\"\",MID(TEXT(入力用科目!$D102,\"???\"),2,1))","v":""},{"$f":"IF(入力用科目!$D102=\"\",\"\",MID(TEXT(入力用科目!$D102,\"???\"),3,1))","v":""},null,{"$f":"IF(入力用科目!$Q102=1,\"運送収入\",IF(入力用科目!$H102=\"\",\"\",入力用科目!$H102))","v":""},null,null,null,null,null,null,null,null,{"$f":"IF(入力用科目!$Q102=\"\",\"\",MID(TEXT(入力用科目!$Q102,\"???\"),1,1))","v":""},{"$f":"IF(入力用科目!$Q102=\"\",\"\",MID(TEXT(入力用科目!$Q102,\"???\"),2,1))","v":""},{"$f":"IF(入力用科目!$Q102=\"\",\"\",MID(TEXT(入力用科目!$Q102,\"???\"),3,1))","v":""},null,{"$f":"IF(入力用科目!$U102=\"\",\"\",MID(TEXT(入力用科目!$U102,\"????????\"),1,1))","v":""},{"$f":"IF(入力用科目!$U102=\"\",\"\",MID(TEXT(入力用科目!$U102,\"????????\"),2,1))","v":""},{"$f":"IF(入力用科目!$U102=\"\",\"\",MID(TEXT(入力用科目!$U102,\"????????\"),3,1))","v":""},{"$f":"IF(入力用科目!$U102=\"\",\"\",MID(TEXT(入力用科目!$U102,\"????????\"),4,1))","v":""},{"$f":"IF(入力用科目!$U102=\"\",\"\",MID(TEXT(入力用科目!$U102,\"????????\"),5,1))","v":""},{"$f":"IF(入力用科目!$U102=\"\",\"\",MID(TEXT(入力用科目!$U102,\"????????\"),6,1))","v":""},{"$f":"IF(入力用科目!$U102=\"\",\"\",MID(TEXT(入力用科目!$U102,\"????????\"),7,1))","v":""},{"$f":"IF(入力用科目!$U102=\"\",\"\",MID(TEXT(入力用科目!$U102,\"????????\"),8,1))","v":""},null,{"$f":"IF(入力用科目!$AD102=\"\",\"\",MID(TEXT(入力用科目!$AD102,\"????????\"),1,1))","v":""},{"$f":"IF(入力用科目!$AD102=\"\",\"\",MID(TEXT(入力用科目!$AD102,\"????????\"),2,1))","v":""},{"$f":"IF(入力用科目!$AD102=\"\",\"\",MID(TEXT(入力用科目!$AD102,\"????????\"),3,1))","v":""},{"$f":"IF(入力用科目!$AD102=\"\",\"\",MID(TEXT(入力用科目!$AD102,\"????????\"),4,1))","v":""},{"$f":"IF(入力用科目!$AD102=\"\",\"\",MID(TEXT(入力用科目!$AD102,\"????????\"),5,1))","v":""},{"$f":"IF(入力用科目!$AD102=\"\",\"\",MID(TEXT(入力用科目!$AD102,\"????????\"),6,1))","v":""},{"$f":"IF(入力用科目!$AD102=\"\",\"\",MID(TEXT(入力用科目!$AD102,\"????????\"),7,1))","v":""},{"$f":"IF(入力用科目!$AD102=\"\",\"\",MID(TEXT(入力用科目!$AD102,\"????????\"),8,1))","v":""},null,{"$f":"IF(入力用科目!$AM102=\"\",\"\",MID(TEXT(入力用科目!$AM102,\"????????\"),1,1))","v":" "},{"$f":"IF(入力用科目!$AM102=\"\",\"\",MID(TEXT(入力用科目!$AM102,\"????????\"),2,1))","v":" "},{"$f":"IF(入力用科目!$AM102=\"\",\"\",MID(TEXT(入力用科目!$AM102,\"????????\"),3,1))","v":" "},{"$f":"IF(入力用科目!$AM102=\"\",\"\",MID(TEXT(入力用科目!$AM102,\"????????\"),4,1))","v":" "},{"$f":"IF(入力用科目!$AM102=\"\",\"\",MID(TEXT(入力用科目!$AM102,\"????????\"),5,1))","v":" "},{"$f":"IF(入力用科目!$AM102=\"\",\"\",MID(TEXT(入力用科目!$AM102,\"????????\"),6,1))","v":" "},{"$f":"IF(入力用科目!$AM102=\"\",\"\",MID(TEXT(入力用科目!$AM102,\"????????\"),7,1))","v":" "},{"$f":"IF(入力用科目!$AM102=\"\",\"\",MID(TEXT(入力用科目!$AM102,\"????????\"),8,1))","v":" "}]
[{"$f":"IF(入力用科目!A103=\"\",\"\",MID(TEXT(入力用科目!$A103,\"??\"),COLUMN(),1))","v":""},{"$f":"IF(入力用科目!A103=\"\",\"\",MID(TEXT(入力用科目!$A103,\"??\"),COLUMN(),1))","v":""},null,{"$f":"IF(入力用科目!$D103=\"\",\"\",MID(TEXT(入力用科目!$D103,\"???\"),1,1))","v":""},{"$f":"IF(入力用科目!$D103=\"\",\"\",MID(TEXT(入力用科目!$D103,\"???\"),2,1))","v":""},{"$f":"IF(入力用科目!$D103=\"\",\"\",MID(TEXT(入力用科目!$D103,\"???\"),3,1))","v":""},null,{"$f":"IF(入力用科目!$Q103=1,\"運送収入\",IF(入力用科目!$H103=\"\",\"\",入力用科目!$H103))","v":""},null,null,null,null,null,null,null,null,{"$f":"IF(入力用科目!$Q103=\"\",\"\",MID(TEXT(入力用科目!$Q103,\"???\"),1,1))","v":""},{"$f":"IF(入力用科目!$Q103=\"\",\"\",MID(TEXT(入力用科目!$Q103,\"???\"),2,1))","v":""},{"$f":"IF(入力用科目!$Q103=\"\",\"\",MID(TEXT(入力用科目!$Q103,\"???\"),3,1))","v":""},null,{"$f":"IF(入力用科目!$U103=\"\",\"\",MID(TEXT(入力用科目!$U103,\"????????\"),1,1))","v":""},{"$f":"IF(入力用科目!$U103=\"\",\"\",MID(TEXT(入力用科目!$U103,\"????????\"),2,1))","v":""},{"$f":"IF(入力用科目!$U103=\"\",\"\",MID(TEXT(入力用科目!$U103,\"????????\"),3,1))","v":""},{"$f":"IF(入力用科目!$U103=\"\",\"\",MID(TEXT(入力用科目!$U103,\"????????\"),4,1))","v":""},{"$f":"IF(入力用科目!$U103=\"\",\"\",MID(TEXT(入力用科目!$U103,\"????????\"),5,1))","v":""},{"$f":"IF(入力用科目!$U103=\"\",\"\",MID(TEXT(入力用科目!$U103,\"????????\"),6,1))","v":""},{"$f":"IF(入力用科目!$U103=\"\",\"\",MID(TEXT(入力用科目!$U103,\"????????\"),7,1))","v":""},{"$f":"IF(入力用科目!$U103=\"\",\"\",MID(TEXT(入力用科目!$U103,\"????????\"),8,1))","v":""},null,{"$f":"IF(入力用科目!$AD103=\"\",\"\",MID(TEXT(入力用科目!$AD103,\"????????\"),1,1))","v":""},{"$f":"IF(入力用科目!$AD103=\"\",\"\",MID(TEXT(入力用科目!$AD103,\"????????\"),2,1))","v":""},{"$f":"IF(入力用科目!$AD103=\"\",\"\",MID(TEXT(入力用科目!$AD103,\"????????\"),3,1))","v":""},{"$f":"IF(入力用科目!$AD103=\"\",\"\",MID(TEXT(入力用科目!$AD103,\"????????\"),4,1))","v":""},{"$f":"IF(入力用科目!$AD103=\"\",\"\",MID(TEXT(入力用科目!$AD103,\"????????\"),5,1))","v":""},{"$f":"IF(入力用科目!$AD103=\"\",\"\",MID(TEXT(入力用科目!$AD103,\"????????\"),6,1))","v":""},{"$f":"IF(入力用科目!$AD103=\"\",\"\",MID(TEXT(入力用科目!$AD103,\"????????\"),7,1))","v":""},{"$f":"IF(入力用科目!$AD103=\"\",\"\",MID(TEXT(入力用科目!$AD103,\"????????\"),8,1))","v":""},null,{"$f":"IF(入力用科目!$AM103=\"\",\"\",MID(TEXT(入力用科目!$AM103,\"????????\"),1,1))","v":" "},{"$f":"IF(入力用科目!$AM103=\"\",\"\",MID(TEXT(入力用科目!$AM103,\"????????\"),2,1))","v":" "},{"$f":"IF(入力用科目!$AM103=\"\",\"\",MID(TEXT(入力用科目!$AM103,\"????????\"),3,1))","v":" "},{"$f":"IF(入力用科目!$AM103=\"\",\"\",MID(TEXT(入力用科目!$AM103,\"????????\"),4,1))","v":" "},{"$f":"IF(入力用科目!$AM103=\"\",\"\",MID(TEXT(入力用科目!$AM103,\"????????\"),5,1))","v":" "},{"$f":"IF(入力用科目!$AM103=\"\",\"\",MID(TEXT(入力用科目!$AM103,\"????????\"),6,1))","v":" "},{"$f":"IF(入力用科目!$AM103=\"\",\"\",MID(TEXT(入力用科目!$AM103,\"????????\"),7,1))","v":" "},{"$f":"IF(入力用科目!$AM103=\"\",\"\",MID(TEXT(入力用科目!$AM103,\"????????\"),8,1))","v":" "}]
[{"$f":"IF(入力用科目!A104=\"\",\"\",MID(TEXT(入力用科目!$A104,\"??\"),COLUMN(),1))","v":""},{"$f":"IF(入力用科目!A104=\"\",\"\",MID(TEXT(入力用科目!$A104,\"??\"),COLUMN(),1))","v":""},null,{"$f":"IF(入力用科目!$D104=\"\",\"\",MID(TEXT(入力用科目!$D104,\"???\"),1,1))","v":""},{"$f":"IF(入力用科目!$D104=\"\",\"\",MID(TEXT(入力用科目!$D104,\"???\"),2,1))","v":""},{"$f":"IF(入力用科目!$D104=\"\",\"\",MID(TEXT(入力用科目!$D104,\"???\"),3,1))","v":""},null,{"$f":"IF(入力用科目!$Q104=1,\"運送収入\",IF(入力用科目!$H104=\"\",\"\",入力用科目!$H104))","v":""},null,null,null,null,null,null,null,null,{"$f":"IF(入力用科目!$Q104=\"\",\"\",MID(TEXT(入力用科目!$Q104,\"???\"),1,1))","v":""},{"$f":"IF(入力用科目!$Q104=\"\",\"\",MID(TEXT(入力用科目!$Q104,\"???\"),2,1))","v":""},{"$f":"IF(入力用科目!$Q104=\"\",\"\",MID(TEXT(入力用科目!$Q104,\"???\"),3,1))","v":""},null,{"$f":"IF(入力用科目!$U104=\"\",\"\",MID(TEXT(入力用科目!$U104,\"????????\"),1,1))","v":""},{"$f":"IF(入力用科目!$U104=\"\",\"\",MID(TEXT(入力用科目!$U104,\"????????\"),2,1))","v":""},{"$f":"IF(入力用科目!$U104=\"\",\"\",MID(TEXT(入力用科目!$U104,\"????????\"),3,1))","v":""},{"$f":"IF(入力用科目!$U104=\"\",\"\",MID(TEXT(入力用科目!$U104,\"????????\"),4,1))","v":""},{"$f":"IF(入力用科目!$U104=\"\",\"\",MID(TEXT(入力用科目!$U104,\"????????\"),5,1))","v":""},{"$f":"IF(入力用科目!$U104=\"\",\"\",MID(TEXT(入力用科目!$U104,\"????????\"),6,1))","v":""},{"$f":"IF(入力用科目!$U104=\"\",\"\",MID(TEXT(入力用科目!$U104,\"????????\"),7,1))","v":""},{"$f":"IF(入力用科目!$U104=\"\",\"\",MID(TEXT(入力用科目!$U104,\"????????\"),8,1))","v":""},null,{"$f":"IF(入力用科目!$AD104=\"\",\"\",MID(TEXT(入力用科目!$AD104,\"????????\"),1,1))","v":""},{"$f":"IF(入力用科目!$AD104=\"\",\"\",MID(TEXT(入力用科目!$AD104,\"????????\"),2,1))","v":""},{"$f":"IF(入力用科目!$AD104=\"\",\"\",MID(TEXT(入力用科目!$AD104,\"????????\"),3,1))","v":""},{"$f":"IF(入力用科目!$AD104=\"\",\"\",MID(TEXT(入力用科目!$AD104,\"????????\"),4,1))","v":""},{"$f":"IF(入力用科目!$AD104=\"\",\"\",MID(TEXT(入力用科目!$AD104,\"????????\"),5,1))","v":""},{"$f":"IF(入力用科目!$AD104=\"\",\"\",MID(TEXT(入力用科目!$AD104,\"????????\"),6,1))","v":""},{"$f":"IF(入力用科目!$AD104=\"\",\"\",MID(TEXT(入力用科目!$AD104,\"????????\"),7,1))","v":""},{"$f":"IF(入力用科目!$AD104=\"\",\"\",MID(TEXT(入力用科目!$AD104,\"????????\"),8,1))","v":""},null,{"$f":"IF(入力用科目!$AM104=\"\",\"\",MID(TEXT(入力用科目!$AM104,\"????????\"),1,1))","v":" "},{"$f":"IF(入力用科目!$AM104=\"\",\"\",MID(TEXT(入力用科目!$AM104,\"????????\"),2,1))","v":" "},{"$f":"IF(入力用科目!$AM104=\"\",\"\",MID(TEXT(入力用科目!$AM104,\"????????\"),3,1))","v":" "},{"$f":"IF(入力用科目!$AM104=\"\",\"\",MID(TEXT(入力用科目!$AM104,\"????????\"),4,1))","v":" "},{"$f":"IF(入力用科目!$AM104=\"\",\"\",MID(TEXT(入力用科目!$AM104,\"????????\"),5,1))","v":" "},{"$f":"IF(入力用科目!$AM104=\"\",\"\",MID(TEXT(入力用科目!$AM104,\"????????\"),6,1))","v":" "},{"$f":"IF(入力用科目!$AM104=\"\",\"\",MID(TEXT(入力用科目!$AM104,\"????????\"),7,1))","v":" "},{"$f":"IF(入力用科目!$AM104=\"\",\"\",MID(TEXT(入力用科目!$AM104,\"????????\"),8,1))","v":" "}]
[{"$f":"IF(入力用科目!A105=\"\",\"\",MID(TEXT(入力用科目!$A105,\"??\"),COLUMN(),1))","v":""},{"$f":"IF(入力用科目!A105=\"\",\"\",MID(TEXT(入力用科目!$A105,\"??\"),COLUMN(),1))","v":""},null,{"$f":"IF(入力用科目!$D105=\"\",\"\",MID(TEXT(入力用科目!$D105,\"???\"),1,1))","v":""},{"$f":"IF(入力用科目!$D105=\"\",\"\",MID(TEXT(入力用科目!$D105,\"???\"),2,1))","v":""},{"$f":"IF(入力用科目!$D105=\"\",\"\",MID(TEXT(入力用科目!$D105,\"???\"),3,1))","v":""},null,{"$f":"IF(入力用科目!$Q105=1,\"運送収入\",IF(入力用科目!$H105=\"\",\"\",入力用科目!$H105))","v":""},null,null,null,null,null,null,null,null,{"$f":"IF(入力用科目!$Q105=\"\",\"\",MID(TEXT(入力用科目!$Q105,\"???\"),1,1))","v":""},{"$f":"IF(入力用科目!$Q105=\"\",\"\",MID(TEXT(入力用科目!$Q105,\"???\"),2,1))","v":""},{"$f":"IF(入力用科目!$Q105=\"\",\"\",MID(TEXT(入力用科目!$Q105,\"???\"),3,1))","v":""},null,{"$f":"IF(入力用科目!$U105=\"\",\"\",MID(TEXT(入力用科目!$U105,\"????????\"),1,1))","v":""},{"$f":"IF(入力用科目!$U105=\"\",\"\",MID(TEXT(入力用科目!$U105,\"????????\"),2,1))","v":""},{"$f":"IF(入力用科目!$U105=\"\",\"\",MID(TEXT(入力用科目!$U105,\"????????\"),3,1))","v":""},{"$f":"IF(入力用科目!$U105=\"\",\"\",MID(TEXT(入力用科目!$U105,\"????????\"),4,1))","v":""},{"$f":"IF(入力用科目!$U105=\"\",\"\",MID(TEXT(入力用科目!$U105,\"????????\"),5,1))","v":""},{"$f":"IF(入力用科目!$U105=\"\",\"\",MID(TEXT(入力用科目!$U105,\"????????\"),6,1))","v":""},{"$f":"IF(入力用科目!$U105=\"\",\"\",MID(TEXT(入力用科目!$U105,\"????????\"),7,1))","v":""},{"$f":"IF(入力用科目!$U105=\"\",\"\",MID(TEXT(入力用科目!$U105,\"????????\"),8,1))","v":""},null,{"$f":"IF(入力用科目!$AD105=\"\",\"\",MID(TEXT(入力用科目!$AD105,\"????????\"),1,1))","v":""},{"$f":"IF(入力用科目!$AD105=\"\",\"\",MID(TEXT(入力用科目!$AD105,\"????????\"),2,1))","v":""},{"$f":"IF(入力用科目!$AD105=\"\",\"\",MID(TEXT(入力用科目!$AD105,\"????????\"),3,1))","v":""},{"$f":"IF(入力用科目!$AD105=\"\",\"\",MID(TEXT(入力用科目!$AD105,\"????????\"),4,1))","v":""},{"$f":"IF(入力用科目!$AD105=\"\",\"\",MID(TEXT(入力用科目!$AD105,\"????????\"),5,1))","v":""},{"$f":"IF(入力用科目!$AD105=\"\",\"\",MID(TEXT(入力用科目!$AD105,\"????????\"),6,1))","v":""},{"$f":"IF(入力用科目!$AD105=\"\",\"\",MID(TEXT(入力用科目!$AD105,\"????????\"),7,1))","v":""},{"$f":"IF(入力用科目!$AD105=\"\",\"\",MID(TEXT(入力用科目!$AD105,\"????????\"),8,1))","v":""},null,{"$f":"IF(入力用科目!$AM105=\"\",\"\",MID(TEXT(入力用科目!$AM105,\"????????\"),1,1))","v":" "},{"$f":"IF(入力用科目!$AM105=\"\",\"\",MID(TEXT(入力用科目!$AM105,\"????????\"),2,1))","v":" "},{"$f":"IF(入力用科目!$AM105=\"\",\"\",MID(TEXT(入力用科目!$AM105,\"????????\"),3,1))","v":" "},{"$f":"IF(入力用科目!$AM105=\"\",\"\",MID(TEXT(入力用科目!$AM105,\"????????\"),4,1))","v":" "},{"$f":"IF(入力用科目!$AM105=\"\",\"\",MID(TEXT(入力用科目!$AM105,\"????????\"),5,1))","v":" "},{"$f":"IF(入力用科目!$AM105=\"\",\"\",MID(TEXT(入力用科目!$AM105,\"????????\"),6,1))","v":" "},{"$f":"IF(入力用科目!$AM105=\"\",\"\",MID(TEXT(入力用科目!$AM105,\"????????\"),7,1))","v":" "},{"$f":"IF(入力用科目!$AM105=\"\",\"\",MID(TEXT(入力用科目!$AM105,\"????????\"),8,1))","v":" "}]
[{"$f":"IF(入力用科目!A106=\"\",\"\",MID(TEXT(入力用科目!$A106,\"??\"),COLUMN(),1))","v":""},{"$f":"IF(入力用科目!A106=\"\",\"\",MID(TEXT(入力用科目!$A106,\"??\"),COLUMN(),1))","v":""},null,{"$f":"IF(入力用科目!$D106=\"\",\"\",MID(TEXT(入力用科目!$D106,\"???\"),1,1))","v":""},{"$f":"IF(入力用科目!$D106=\"\",\"\",MID(TEXT(入力用科目!$D106,\"???\"),2,1))","v":""},{"$f":"IF(入力用科目!$D106=\"\",\"\",MID(TEXT(入力用科目!$D106,\"???\"),3,1))","v":""},null,{"$f":"IF(入力用科目!$Q106=1,\"運送収入\",IF(入力用科目!$H106=\"\",\"\",入力用科目!$H106))","v":""},null,null,null,null,null,null,null,null,{"$f":"IF(入力用科目!$Q106=\"\",\"\",MID(TEXT(入力用科目!$Q106,\"???\"),1,1))","v":""},{"$f":"IF(入力用科目!$Q106=\"\",\"\",MID(TEXT(入力用科目!$Q106,\"???\"),2,1))","v":""},{"$f":"IF(入力用科目!$Q106=\"\",\"\",MID(TEXT(入力用科目!$Q106,\"???\"),3,1))","v":""},null,{"$f":"IF(入力用科目!$U106=\"\",\"\",MID(TEXT(入力用科目!$U106,\"????????\"),1,1))","v":""},{"$f":"IF(入力用科目!$U106=\"\",\"\",MID(TEXT(入力用科目!$U106,\"????????\"),2,1))","v":""},{"$f":"IF(入力用科目!$U106=\"\",\"\",MID(TEXT(入力用科目!$U106,\"????????\"),3,1))","v":""},{"$f":"IF(入力用科目!$U106=\"\",\"\",MID(TEXT(入力用科目!$U106,\"????????\"),4,1))","v":""},{"$f":"IF(入力用科目!$U106=\"\",\"\",MID(TEXT(入力用科目!$U106,\"????????\"),5,1))","v":""},{"$f":"IF(入力用科目!$U106=\"\",\"\",MID(TEXT(入力用科目!$U106,\"????????\"),6,1))","v":""},{"$f":"IF(入力用科目!$U106=\"\",\"\",MID(TEXT(入力用科目!$U106,\"????????\"),7,1))","v":""},{"$f":"IF(入力用科目!$U106=\"\",\"\",MID(TEXT(入力用科目!$U106,\"????????\"),8,1))","v":""},null,{"$f":"IF(入力用科目!$AD106=\"\",\"\",MID(TEXT(入力用科目!$AD106,\"????????\"),1,1))","v":""},{"$f":"IF(入力用科目!$AD106=\"\",\"\",MID(TEXT(入力用科目!$AD106,\"????????\"),2,1))","v":""},{"$f":"IF(入力用科目!$AD106=\"\",\"\",MID(TEXT(入力用科目!$AD106,\"????????\"),3,1))","v":""},{"$f":"IF(入力用科目!$AD106=\"\",\"\",MID(TEXT(入力用科目!$AD106,\"????????\"),4,1))","v":""},{"$f":"IF(入力用科目!$AD106=\"\",\"\",MID(TEXT(入力用科目!$AD106,\"????????\"),5,1))","v":""},{"$f":"IF(入力用科目!$AD106=\"\",\"\",MID(TEXT(入力用科目!$AD106,\"????????\"),6,1))","v":""},{"$f":"IF(入力用科目!$AD106=\"\",\"\",MID(TEXT(入力用科目!$AD106,\"????????\"),7,1))","v":""},{"$f":"IF(入力用科目!$AD106=\"\",\"\",MID(TEXT(入力用科目!$AD106,\"????????\"),8,1))","v":""},null,{"$f":"IF(入力用科目!$AM106=\"\",\"\",MID(TEXT(入力用科目!$AM106,\"????????\"),1,1))","v":" "},{"$f":"IF(入力用科目!$AM106=\"\",\"\",MID(TEXT(入力用科目!$AM106,\"????????\"),2,1))","v":" "},{"$f":"IF(入力用科目!$AM106=\"\",\"\",MID(TEXT(入力用科目!$AM106,\"????????\"),3,1))","v":" "},{"$f":"IF(入力用科目!$AM106=\"\",\"\",MID(TEXT(入力用科目!$AM106,\"????????\"),4,1))","v":" "},{"$f":"IF(入力用科目!$AM106=\"\",\"\",MID(TEXT(入力用科目!$AM106,\"????????\"),5,1))","v":" "},{"$f":"IF(入力用科目!$AM106=\"\",\"\",MID(TEXT(入力用科目!$AM106,\"????????\"),6,1))","v":" "},{"$f":"IF(入力用科目!$AM106=\"\",\"\",MID(TEXT(入力用科目!$AM106,\"????????\"),7,1))","v":" "},{"$f":"IF(入力用科目!$AM106=\"\",\"\",MID(TEXT(入力用科目!$AM106,\"????????\"),8,1))","v":" "}]
[{"$f":"IF(入力用科目!A107=\"\",\"\",MID(TEXT(入力用科目!$A107,\"??\"),COLUMN(),1))","v":""},{"$f":"IF(入力用科目!A107=\"\",\"\",MID(TEXT(入力用科目!$A107,\"??\"),COLUMN(),1))","v":""},null,{"$f":"IF(入力用科目!$D107=\"\",\"\",MID(TEXT(入力用科目!$D107,\"???\"),1,1))","v":""},{"$f":"IF(入力用科目!$D107=\"\",\"\",MID(TEXT(入力用科目!$D107,\"???\"),2,1))","v":""},{"$f":"IF(入力用科目!$D107=\"\",\"\",MID(TEXT(入力用科目!$D107,\"???\"),3,1))","v":""},null,{"$f":"IF(入力用科目!$Q107=1,\"運送収入\",IF(入力用科目!$H107=\"\",\"\",入力用科目!$H107))","v":""},null,null,null,null,null,null,null,null,{"$f":"IF(入力用科目!$Q107=\"\",\"\",MID(TEXT(入力用科目!$Q107,\"???\"),1,1))","v":""},{"$f":"IF(入力用科目!$Q107=\"\",\"\",MID(TEXT(入力用科目!$Q107,\"???\"),2,1))","v":""},{"$f":"IF(入力用科目!$Q107=\"\",\"\",MID(TEXT(入力用科目!$Q107,\"???\"),3,1))","v":""},null,{"$f":"IF(入力用科目!$U107=\"\",\"\",MID(TEXT(入力用科目!$U107,\"????????\"),1,1))","v":""},{"$f":"IF(入力用科目!$U107=\"\",\"\",MID(TEXT(入力用科目!$U107,\"????????\"),2,1))","v":""},{"$f":"IF(入力用科目!$U107=\"\",\"\",MID(TEXT(入力用科目!$U107,\"????????\"),3,1))","v":""},{"$f":"IF(入力用科目!$U107=\"\",\"\",MID(TEXT(入力用科目!$U107,\"????????\"),4,1))","v":""},{"$f":"IF(入力用科目!$U107=\"\",\"\",MID(TEXT(入力用科目!$U107,\"????????\"),5,1))","v":""},{"$f":"IF(入力用科目!$U107=\"\",\"\",MID(TEXT(入力用科目!$U107,\"????????\"),6,1))","v":""},{"$f":"IF(入力用科目!$U107=\"\",\"\",MID(TEXT(入力用科目!$U107,\"????????\"),7,1))","v":""},{"$f":"IF(入力用科目!$U107=\"\",\"\",MID(TEXT(入力用科目!$U107,\"????????\"),8,1))","v":""},null,{"$f":"IF(入力用科目!$AD107=\"\",\"\",MID(TEXT(入力用科目!$AD107,\"????????\"),1,1))","v":""},{"$f":"IF(入力用科目!$AD107=\"\",\"\",MID(TEXT(入力用科目!$AD107,\"????????\"),2,1))","v":""},{"$f":"IF(入力用科目!$AD107=\"\",\"\",MID(TEXT(入力用科目!$AD107,\"????????\"),3,1))","v":""},{"$f":"IF(入力用科目!$AD107=\"\",\"\",MID(TEXT(入力用科目!$AD107,\"????????\"),4,1))","v":""},{"$f":"IF(入力用科目!$AD107=\"\",\"\",MID(TEXT(入力用科目!$AD107,\"????????\"),5,1))","v":""},{"$f":"IF(入力用科目!$AD107=\"\",\"\",MID(TEXT(入力用科目!$AD107,\"????????\"),6,1))","v":""},{"$f":"IF(入力用科目!$AD107=\"\",\"\",MID(TEXT(入力用科目!$AD107,\"????????\"),7,1))","v":""},{"$f":"IF(入力用科目!$AD107=\"\",\"\",MID(TEXT(入力用科目!$AD107,\"????????\"),8,1))","v":""},null,{"$f":"IF(入力用科目!$AM107=\"\",\"\",MID(TEXT(入力用科目!$AM107,\"????????\"),1,1))","v":" "},{"$f":"IF(入力用科目!$AM107=\"\",\"\",MID(TEXT(入力用科目!$AM107,\"????????\"),2,1))","v":" "},{"$f":"IF(入力用科目!$AM107=\"\",\"\",MID(TEXT(入力用科目!$AM107,\"????????\"),3,1))","v":" "},{"$f":"IF(入力用科目!$AM107=\"\",\"\",MID(TEXT(入力用科目!$AM107,\"????????\"),4,1))","v":" "},{"$f":"IF(入力用科目!$AM107=\"\",\"\",MID(TEXT(入力用科目!$AM107,\"????????\"),5,1))","v":" "},{"$f":"IF(入力用科目!$AM107=\"\",\"\",MID(TEXT(入力用科目!$AM107,\"????????\"),6,1))","v":" "},{"$f":"IF(入力用科目!$AM107=\"\",\"\",MID(TEXT(入力用科目!$AM107,\"????????\"),7,1))","v":" "},{"$f":"IF(入力用科目!$AM107=\"\",\"\",MID(TEXT(入力用科目!$AM107,\"????????\"),8,1))","v":" "}]
[{"$f":"IF(入力用科目!A108=\"\",\"\",MID(TEXT(入力用科目!$A108,\"??\"),COLUMN(),1))","v":""},{"$f":"IF(入力用科目!A108=\"\",\"\",MID(TEXT(入力用科目!$A108,\"??\"),COLUMN(),1))","v":""},null,{"$f":"IF(入力用科目!$D108=\"\",\"\",MID(TEXT(入力用科目!$D108,\"???\"),1,1))","v":""},{"$f":"IF(入力用科目!$D108=\"\",\"\",MID(TEXT(入力用科目!$D108,\"???\"),2,1))","v":""},{"$f":"IF(入力用科目!$D108=\"\",\"\",MID(TEXT(入力用科目!$D108,\"???\"),3,1))","v":""},null,{"$f":"IF(入力用科目!$Q108=1,\"運送収入\",IF(入力用科目!$H108=\"\",\"\",入力用科目!$H108))","v":""},null,null,null,null,null,null,null,null,{"$f":"IF(入力用科目!$Q108=\"\",\"\",MID(TEXT(入力用科目!$Q108,\"???\"),1,1))","v":""},{"$f":"IF(入力用科目!$Q108=\"\",\"\",MID(TEXT(入力用科目!$Q108,\"???\"),2,1))","v":""},{"$f":"IF(入力用科目!$Q108=\"\",\"\",MID(TEXT(入力用科目!$Q108,\"???\"),3,1))","v":""},null,{"$f":"IF(入力用科目!$U108=\"\",\"\",MID(TEXT(入力用科目!$U108,\"????????\"),1,1))","v":""},{"$f":"IF(入力用科目!$U108=\"\",\"\",MID(TEXT(入力用科目!$U108,\"????????\"),2,1))","v":""},{"$f":"IF(入力用科目!$U108=\"\",\"\",MID(TEXT(入力用科目!$U108,\"????????\"),3,1))","v":""},{"$f":"IF(入力用科目!$U108=\"\",\"\",MID(TEXT(入力用科目!$U108,\"????????\"),4,1))","v":""},{"$f":"IF(入力用科目!$U108=\"\",\"\",MID(TEXT(入力用科目!$U108,\"????????\"),5,1))","v":""},{"$f":"IF(入力用科目!$U108=\"\",\"\",MID(TEXT(入力用科目!$U108,\"????????\"),6,1))","v":""},{"$f":"IF(入力用科目!$U108=\"\",\"\",MID(TEXT(入力用科目!$U108,\"????????\"),7,1))","v":""},{"$f":"IF(入力用科目!$U108=\"\",\"\",MID(TEXT(入力用科目!$U108,\"????????\"),8,1))","v":""},null,{"$f":"IF(入力用科目!$AD108=\"\",\"\",MID(TEXT(入力用科目!$AD108,\"????????\"),1,1))","v":""},{"$f":"IF(入力用科目!$AD108=\"\",\"\",MID(TEXT(入力用科目!$AD108,\"????????\"),2,1))","v":""},{"$f":"IF(入力用科目!$AD108=\"\",\"\",MID(TEXT(入力用科目!$AD108,\"????????\"),3,1))","v":""},{"$f":"IF(入力用科目!$AD108=\"\",\"\",MID(TEXT(入力用科目!$AD108,\"????????\"),4,1))","v":""},{"$f":"IF(入力用科目!$AD108=\"\",\"\",MID(TEXT(入力用科目!$AD108,\"????????\"),5,1))","v":""},{"$f":"IF(入力用科目!$AD108=\"\",\"\",MID(TEXT(入力用科目!$AD108,\"????????\"),6,1))","v":""},{"$f":"IF(入力用科目!$AD108=\"\",\"\",MID(TEXT(入力用科目!$AD108,\"????????\"),7,1))","v":""},{"$f":"IF(入力用科目!$AD108=\"\",\"\",MID(TEXT(入力用科目!$AD108,\"????????\"),8,1))","v":""},null,{"$f":"IF(入力用科目!$AM108=\"\",\"\",MID(TEXT(入力用科目!$AM108,\"????????\"),1,1))","v":" "},{"$f":"IF(入力用科目!$AM108=\"\",\"\",MID(TEXT(入力用科目!$AM108,\"????????\"),2,1))","v":" "},{"$f":"IF(入力用科目!$AM108=\"\",\"\",MID(TEXT(入力用科目!$AM108,\"????????\"),3,1))","v":" "},{"$f":"IF(入力用科目!$AM108=\"\",\"\",MID(TEXT(入力用科目!$AM108,\"????????\"),4,1))","v":" "},{"$f":"IF(入力用科目!$AM108=\"\",\"\",MID(TEXT(入力用科目!$AM108,\"????????\"),5,1))","v":" "},{"$f":"IF(入力用科目!$AM108=\"\",\"\",MID(TEXT(入力用科目!$AM108,\"????????\"),6,1))","v":" "},{"$f":"IF(入力用科目!$AM108=\"\",\"\",MID(TEXT(入力用科目!$AM108,\"????????\"),7,1))","v":" "},{"$f":"IF(入力用科目!$AM108=\"\",\"\",MID(TEXT(入力用科目!$AM108,\"????????\"),8,1))","v":" "}]
[{"$f":"IF(入力用科目!A109=\"\",\"\",MID(TEXT(入力用科目!$A109,\"??\"),COLUMN(),1))","v":""},{"$f":"IF(入力用科目!A109=\"\",\"\",MID(TEXT(入力用科目!$A109,\"??\"),COLUMN(),1))","v":""},null,{"$f":"IF(入力用科目!$D109=\"\",\"\",MID(TEXT(入力用科目!$D109,\"???\"),1,1))","v":""},{"$f":"IF(入力用科目!$D109=\"\",\"\",MID(TEXT(入力用科目!$D109,\"???\"),2,1))","v":""},{"$f":"IF(入力用科目!$D109=\"\",\"\",MID(TEXT(入力用科目!$D109,\"???\"),3,1))","v":""},null,{"$f":"IF(入力用科目!$Q109=1,\"運送収入\",IF(入力用科目!$H109=\"\",\"\",入力用科目!$H109))","v":""},null,null,null,null,null,null,null,null,{"$f":"IF(入力用科目!$Q109=\"\",\"\",MID(TEXT(入力用科目!$Q109,\"???\"),1,1))","v":""},{"$f":"IF(入力用科目!$Q109=\"\",\"\",MID(TEXT(入力用科目!$Q109,\"???\"),2,1))","v":""},{"$f":"IF(入力用科目!$Q109=\"\",\"\",MID(TEXT(入力用科目!$Q109,\"???\"),3,1))","v":""},null,{"$f":"IF(入力用科目!$U109=\"\",\"\",MID(TEXT(入力用科目!$U109,\"????????\"),1,1))","v":""},{"$f":"IF(入力用科目!$U109=\"\",\"\",MID(TEXT(入力用科目!$U109,\"????????\"),2,1))","v":""},{"$f":"IF(入力用科目!$U109=\"\",\"\",MID(TEXT(入力用科目!$U109,\"????????\"),3,1))","v":""},{"$f":"IF(入力用科目!$U109=\"\",\"\",MID(TEXT(入力用科目!$U109,\"????????\"),4,1))","v":""},{"$f":"IF(入力用科目!$U109=\"\",\"\",MID(TEXT(入力用科目!$U109,\"????????\"),5,1))","v":""},{"$f":"IF(入力用科目!$U109=\"\",\"\",MID(TEXT(入力用科目!$U109,\"????????\"),6,1))","v":""},{"$f":"IF(入力用科目!$U109=\"\",\"\",MID(TEXT(入力用科目!$U109,\"????????\"),7,1))","v":""},{"$f":"IF(入力用科目!$U109=\"\",\"\",MID(TEXT(入力用科目!$U109,\"????????\"),8,1))","v":""},null,{"$f":"IF(入力用科目!$AD109=\"\",\"\",MID(TEXT(入力用科目!$AD109,\"????????\"),1,1))","v":""},{"$f":"IF(入力用科目!$AD109=\"\",\"\",MID(TEXT(入力用科目!$AD109,\"????????\"),2,1))","v":""},{"$f":"IF(入力用科目!$AD109=\"\",\"\",MID(TEXT(入力用科目!$AD109,\"????????\"),3,1))","v":""},{"$f":"IF(入力用科目!$AD109=\"\",\"\",MID(TEXT(入力用科目!$AD109,\"????????\"),4,1))","v":""},{"$f":"IF(入力用科目!$AD109=\"\",\"\",MID(TEXT(入力用科目!$AD109,\"????????\"),5,1))","v":""},{"$f":"IF(入力用科目!$AD109=\"\",\"\",MID(TEXT(入力用科目!$AD109,\"????????\"),6,1))","v":""},{"$f":"IF(入力用科目!$AD109=\"\",\"\",MID(TEXT(入力用科目!$AD109,\"????????\"),7,1))","v":""},{"$f":"IF(入力用科目!$AD109=\"\",\"\",MID(TEXT(入力用科目!$AD109,\"????????\"),8,1))","v":""},null,{"$f":"IF(入力用科目!$AM109=\"\",\"\",MID(TEXT(入力用科目!$AM109,\"????????\"),1,1))","v":" "},{"$f":"IF(入力用科目!$AM109=\"\",\"\",MID(TEXT(入力用科目!$AM109,\"????????\"),2,1))","v":" "},{"$f":"IF(入力用科目!$AM109=\"\",\"\",MID(TEXT(入力用科目!$AM109,\"????????\"),3,1))","v":" "},{"$f":"IF(入力用科目!$AM109=\"\",\"\",MID(TEXT(入力用科目!$AM109,\"????????\"),4,1))","v":" "},{"$f":"IF(入力用科目!$AM109=\"\",\"\",MID(TEXT(入力用科目!$AM109,\"????????\"),5,1))","v":" "},{"$f":"IF(入力用科目!$AM109=\"\",\"\",MID(TEXT(入力用科目!$AM109,\"????????\"),6,1))","v":" "},{"$f":"IF(入力用科目!$AM109=\"\",\"\",MID(TEXT(入力用科目!$AM109,\"????????\"),7,1))","v":" "},{"$f":"IF(入力用科目!$AM109=\"\",\"\",MID(TEXT(入力用科目!$AM109,\"????????\"),8,1))","v":" "}]
[{"$f":"IF(入力用科目!A110=\"\",\"\",MID(TEXT(入力用科目!$A110,\"??\"),COLUMN(),1))","v":""},{"$f":"IF(入力用科目!A110=\"\",\"\",MID(TEXT(入力用科目!$A110,\"??\"),COLUMN(),1))","v":""},null,{"$f":"IF(入力用科目!$D110=\"\",\"\",MID(TEXT(入力用科目!$D110,\"???\"),1,1))","v":""},{"$f":"IF(入力用科目!$D110=\"\",\"\",MID(TEXT(入力用科目!$D110,\"???\"),2,1))","v":""},{"$f":"IF(入力用科目!$D110=\"\",\"\",MID(TEXT(入力用科目!$D110,\"???\"),3,1))","v":""},null,{"$f":"IF(入力用科目!$Q110=1,\"運送収入\",IF(入力用科目!$H110=\"\",\"\",入力用科目!$H110))","v":""},null,null,null,null,null,null,null,null,{"$f":"IF(入力用科目!$Q110=\"\",\"\",MID(TEXT(入力用科目!$Q110,\"???\"),1,1))","v":""},{"$f":"IF(入力用科目!$Q110=\"\",\"\",MID(TEXT(入力用科目!$Q110,\"???\"),2,1))","v":""},{"$f":"IF(入力用科目!$Q110=\"\",\"\",MID(TEXT(入力用科目!$Q110,\"???\"),3,1))","v":""},null,{"$f":"IF(入力用科目!$U110=\"\",\"\",MID(TEXT(入力用科目!$U110,\"????????\"),1,1))","v":""},{"$f":"IF(入力用科目!$U110=\"\",\"\",MID(TEXT(入力用科目!$U110,\"????????\"),2,1))","v":""},{"$f":"IF(入力用科目!$U110=\"\",\"\",MID(TEXT(入力用科目!$U110,\"????????\"),3,1))","v":""},{"$f":"IF(入力用科目!$U110=\"\",\"\",MID(TEXT(入力用科目!$U110,\"????????\"),4,1))","v":""},{"$f":"IF(入力用科目!$U110=\"\",\"\",MID(TEXT(入力用科目!$U110,\"????????\"),5,1))","v":""},{"$f":"IF(入力用科目!$U110=\"\",\"\",MID(TEXT(入力用科目!$U110,\"????????\"),6,1))","v":""},{"$f":"IF(入力用科目!$U110=\"\",\"\",MID(TEXT(入力用科目!$U110,\"????????\"),7,1))","v":""},{"$f":"IF(入力用科目!$U110=\"\",\"\",MID(TEXT(入力用科目!$U110,\"????????\"),8,1))","v":""},null,{"$f":"IF(入力用科目!$AD110=\"\",\"\",MID(TEXT(入力用科目!$AD110,\"????????\"),1,1))","v":""},{"$f":"IF(入力用科目!$AD110=\"\",\"\",MID(TEXT(入力用科目!$AD110,\"????????\"),2,1))","v":""},{"$f":"IF(入力用科目!$AD110=\"\",\"\",MID(TEXT(入力用科目!$AD110,\"????????\"),3,1))","v":""},{"$f":"IF(入力用科目!$AD110=\"\",\"\",MID(TEXT(入力用科目!$AD110,\"????????\"),4,1))","v":""},{"$f":"IF(入力用科目!$AD110=\"\",\"\",MID(TEXT(入力用科目!$AD110,\"????????\"),5,1))","v":""},{"$f":"IF(入力用科目!$AD110=\"\",\"\",MID(TEXT(入力用科目!$AD110,\"????????\"),6,1))","v":""},{"$f":"IF(入力用科目!$AD110=\"\",\"\",MID(TEXT(入力用科目!$AD110,\"????????\"),7,1))","v":""},{"$f":"IF(入力用科目!$AD110=\"\",\"\",MID(TEXT(入力用科目!$AD110,\"????????\"),8,1))","v":""},null,{"$f":"IF(入力用科目!$AM110=\"\",\"\",MID(TEXT(入力用科目!$AM110,\"????????\"),1,1))","v":" "},{"$f":"IF(入力用科目!$AM110=\"\",\"\",MID(TEXT(入力用科目!$AM110,\"????????\"),2,1))","v":" "},{"$f":"IF(入力用科目!$AM110=\"\",\"\",MID(TEXT(入力用科目!$AM110,\"????????\"),3,1))","v":" "},{"$f":"IF(入力用科目!$AM110=\"\",\"\",MID(TEXT(入力用科目!$AM110,\"????????\"),4,1))","v":" "},{"$f":"IF(入力用科目!$AM110=\"\",\"\",MID(TEXT(入力用科目!$AM110,\"????????\"),5,1))","v":" "},{"$f":"IF(入力用科目!$AM110=\"\",\"\",MID(TEXT(入力用科目!$AM110,\"????????\"),6,1))","v":" "},{"$f":"IF(入力用科目!$AM110=\"\",\"\",MID(TEXT(入力用科目!$AM110,\"????????\"),7,1))","v":" "},{"$f":"IF(入力用科目!$AM110=\"\",\"\",MID(TEXT(入力用科目!$AM110,\"????????\"),8,1))","v":" "}]
[{"$f":"IF(入力用科目!A111=\"\",\"\",MID(TEXT(入力用科目!$A111,\"??\"),COLUMN(),1))","v":""},{"$f":"IF(入力用科目!A111=\"\",\"\",MID(TEXT(入力用科目!$A111,\"??\"),COLUMN(),1))","v":""},null,{"$f":"IF(入力用科目!$D111=\"\",\"\",MID(TEXT(入力用科目!$D111,\"???\"),1,1))","v":""},{"$f":"IF(入力用科目!$D111=\"\",\"\",MID(TEXT(入力用科目!$D111,\"???\"),2,1))","v":""},{"$f":"IF(入力用科目!$D111=\"\",\"\",MID(TEXT(入力用科目!$D111,\"???\"),3,1))","v":""},null,{"$f":"IF(入力用科目!$Q111=1,\"運送収入\",IF(入力用科目!$H111=\"\",\"\",入力用科目!$H111))","v":""},null,null,null,null,null,null,null,null,{"$f":"IF(入力用科目!$Q111=\"\",\"\",MID(TEXT(入力用科目!$Q111,\"???\"),1,1))","v":""},{"$f":"IF(入力用科目!$Q111=\"\",\"\",MID(TEXT(入力用科目!$Q111,\"???\"),2,1))","v":""},{"$f":"IF(入力用科目!$Q111=\"\",\"\",MID(TEXT(入力用科目!$Q111,\"???\"),3,1))","v":""},null,{"$f":"IF(入力用科目!$U111=\"\",\"\",MID(TEXT(入力用科目!$U111,\"????????\"),1,1))","v":""},{"$f":"IF(入力用科目!$U111=\"\",\"\",MID(TEXT(入力用科目!$U111,\"????????\"),2,1))","v":""},{"$f":"IF(入力用科目!$U111=\"\",\"\",MID(TEXT(入力用科目!$U111,\"????????\"),3,1))","v":""},{"$f":"IF(入力用科目!$U111=\"\",\"\",MID(TEXT(入力用科目!$U111,\"????????\"),4,1))","v":""},{"$f":"IF(入力用科目!$U111=\"\",\"\",MID(TEXT(入力用科目!$U111,\"????????\"),5,1))","v":""},{"$f":"IF(入力用科目!$U111=\"\",\"\",MID(TEXT(入力用科目!$U111,\"????????\"),6,1))","v":""},{"$f":"IF(入力用科目!$U111=\"\",\"\",MID(TEXT(入力用科目!$U111,\"????????\"),7,1))","v":""},{"$f":"IF(入力用科目!$U111=\"\",\"\",MID(TEXT(入力用科目!$U111,\"????????\"),8,1))","v":""},null,{"$f":"IF(入力用科目!$AD111=\"\",\"\",MID(TEXT(入力用科目!$AD111,\"????????\"),1,1))","v":""},{"$f":"IF(入力用科目!$AD111=\"\",\"\",MID(TEXT(入力用科目!$AD111,\"????????\"),2,1))","v":""},{"$f":"IF(入力用科目!$AD111=\"\",\"\",MID(TEXT(入力用科目!$AD111,\"????????\"),3,1))","v":""},{"$f":"IF(入力用科目!$AD111=\"\",\"\",MID(TEXT(入力用科目!$AD111,\"????????\"),4,1))","v":""},{"$f":"IF(入力用科目!$AD111=\"\",\"\",MID(TEXT(入力用科目!$AD111,\"????????\"),5,1))","v":""},{"$f":"IF(入力用科目!$AD111=\"\",\"\",MID(TEXT(入力用科目!$AD111,\"????????\"),6,1))","v":""},{"$f":"IF(入力用科目!$AD111=\"\",\"\",MID(TEXT(入力用科目!$AD111,\"????????\"),7,1))","v":""},{"$f":"IF(入力用科目!$AD111=\"\",\"\",MID(TEXT(入力用科目!$AD111,\"????????\"),8,1))","v":""},null,{"$f":"IF(入力用科目!$AM111=\"\",\"\",MID(TEXT(入力用科目!$AM111,\"????????\"),1,1))","v":" "},{"$f":"IF(入力用科目!$AM111=\"\",\"\",MID(TEXT(入力用科目!$AM111,\"????????\"),2,1))","v":" "},{"$f":"IF(入力用科目!$AM111=\"\",\"\",MID(TEXT(入力用科目!$AM111,\"????????\"),3,1))","v":" "},{"$f":"IF(入力用科目!$AM111=\"\",\"\",MID(TEXT(入力用科目!$AM111,\"????????\"),4,1))","v":" "},{"$f":"IF(入力用科目!$AM111=\"\",\"\",MID(TEXT(入力用科目!$AM111,\"????????\"),5,1))","v":" "},{"$f":"IF(入力用科目!$AM111=\"\",\"\",MID(TEXT(入力用科目!$AM111,\"????????\"),6,1))","v":" "},{"$f":"IF(入力用科目!$AM111=\"\",\"\",MID(TEXT(入力用科目!$AM111,\"????????\"),7,1))","v":" "},{"$f":"IF(入力用科目!$AM111=\"\",\"\",MID(TEXT(入力用科目!$AM111,\"????????\"),8,1))","v":" "}]
[{"$f":"IF(入力用科目!A112=\"\",\"\",MID(TEXT(入力用科目!$A112,\"??\"),COLUMN(),1))","v":""},{"$f":"IF(入力用科目!A112=\"\",\"\",MID(TEXT(入力用科目!$A112,\"??\"),COLUMN(),1))","v":""},null,{"$f":"IF(入力用科目!$D112=\"\",\"\",MID(TEXT(入力用科目!$D112,\"???\"),1,1))","v":""},{"$f":"IF(入力用科目!$D112=\"\",\"\",MID(TEXT(入力用科目!$D112,\"???\"),2,1))","v":""},{"$f":"IF(入力用科目!$D112=\"\",\"\",MID(TEXT(入力用科目!$D112,\"???\"),3,1))","v":""},null,{"$f":"IF(入力用科目!$Q112=1,\"運送収入\",IF(入力用科目!$H112=\"\",\"\",入力用科目!$H112))","v":""},null,null,null,null,null,null,null,null,{"$f":"IF(入力用科目!$Q112=\"\",\"\",MID(TEXT(入力用科目!$Q112,\"???\"),1,1))","v":""},{"$f":"IF(入力用科目!$Q112=\"\",\"\",MID(TEXT(入力用科目!$Q112,\"???\"),2,1))","v":""},{"$f":"IF(入力用科目!$Q112=\"\",\"\",MID(TEXT(入力用科目!$Q112,\"???\"),3,1))","v":""},null,{"$f":"IF(入力用科目!$U112=\"\",\"\",MID(TEXT(入力用科目!$U112,\"????????\"),1,1))","v":""},{"$f":"IF(入力用科目!$U112=\"\",\"\",MID(TEXT(入力用科目!$U112,\"????????\"),2,1))","v":""},{"$f":"IF(入力用科目!$U112=\"\",\"\",MID(TEXT(入力用科目!$U112,\"????????\"),3,1))","v":""},{"$f":"IF(入力用科目!$U112=\"\",\"\",MID(TEXT(入力用科目!$U112,\"????????\"),4,1))","v":""},{"$f":"IF(入力用科目!$U112=\"\",\"\",MID(TEXT(入力用科目!$U112,\"????????\"),5,1))","v":""},{"$f":"IF(入力用科目!$U112=\"\",\"\",MID(TEXT(入力用科目!$U112,\"????????\"),6,1))","v":""},{"$f":"IF(入力用科目!$U112=\"\",\"\",MID(TEXT(入力用科目!$U112,\"????????\"),7,1))","v":""},{"$f":"IF(入力用科目!$U112=\"\",\"\",MID(TEXT(入力用科目!$U112,\"????????\"),8,1))","v":""},null,{"$f":"IF(入力用科目!$AD112=\"\",\"\",MID(TEXT(入力用科目!$AD112,\"????????\"),1,1))","v":""},{"$f":"IF(入力用科目!$AD112=\"\",\"\",MID(TEXT(入力用科目!$AD112,\"????????\"),2,1))","v":""},{"$f":"IF(入力用科目!$AD112=\"\",\"\",MID(TEXT(入力用科目!$AD112,\"????????\"),3,1))","v":""},{"$f":"IF(入力用科目!$AD112=\"\",\"\",MID(TEXT(入力用科目!$AD112,\"????????\"),4,1))","v":""},{"$f":"IF(入力用科目!$AD112=\"\",\"\",MID(TEXT(入力用科目!$AD112,\"????????\"),5,1))","v":""},{"$f":"IF(入力用科目!$AD112=\"\",\"\",MID(TEXT(入力用科目!$AD112,\"????????\"),6,1))","v":""},{"$f":"IF(入力用科目!$AD112=\"\",\"\",MID(TEXT(入力用科目!$AD112,\"????????\"),7,1))","v":""},{"$f":"IF(入力用科目!$AD112=\"\",\"\",MID(TEXT(入力用科目!$AD112,\"????????\"),8,1))","v":""},null,{"$f":"IF(入力用科目!$AM112=\"\",\"\",MID(TEXT(入力用科目!$AM112,\"????????\"),1,1))","v":" "},{"$f":"IF(入力用科目!$AM112=\"\",\"\",MID(TEXT(入力用科目!$AM112,\"????????\"),2,1))","v":" "},{"$f":"IF(入力用科目!$AM112=\"\",\"\",MID(TEXT(入力用科目!$AM112,\"????????\"),3,1))","v":" "},{"$f":"IF(入力用科目!$AM112=\"\",\"\",MID(TEXT(入力用科目!$AM112,\"????????\"),4,1))","v":" "},{"$f":"IF(入力用科目!$AM112=\"\",\"\",MID(TEXT(入力用科目!$AM112,\"????????\"),5,1))","v":" "},{"$f":"IF(入力用科目!$AM112=\"\",\"\",MID(TEXT(入力用科目!$AM112,\"????????\"),6,1))","v":" "},{"$f":"IF(入力用科目!$AM112=\"\",\"\",MID(TEXT(入力用科目!$AM112,\"????????\"),7,1))","v":" "},{"$f":"IF(入力用科目!$AM112=\"\",\"\",MID(TEXT(入力用科目!$AM112,\"????????\"),8,1))","v":" "}]
[{"$f":"IF(入力用科目!A113=\"\",\"\",MID(TEXT(入力用科目!$A113,\"??\"),COLUMN(),1))","v":""},{"$f":"IF(入力用科目!A113=\"\",\"\",MID(TEXT(入力用科目!$A113,\"??\"),COLUMN(),1))","v":""},null,{"$f":"IF(入力用科目!$D113=\"\",\"\",MID(TEXT(入力用科目!$D113,\"???\"),1,1))","v":""},{"$f":"IF(入力用科目!$D113=\"\",\"\",MID(TEXT(入力用科目!$D113,\"???\"),2,1))","v":""},{"$f":"IF(入力用科目!$D113=\"\",\"\",MID(TEXT(入力用科目!$D113,\"???\"),3,1))","v":""},null,{"$f":"IF(入力用科目!$Q113=1,\"運送収入\",IF(入力用科目!$H113=\"\",\"\",入力用科目!$H113))","v":""},null,null,null,null,null,null,null,null,{"$f":"IF(入力用科目!$Q113=\"\",\"\",MID(TEXT(入力用科目!$Q113,\"???\"),1,1))","v":""},{"$f":"IF(入力用科目!$Q113=\"\",\"\",MID(TEXT(入力用科目!$Q113,\"???\"),2,1))","v":""},{"$f":"IF(入力用科目!$Q113=\"\",\"\",MID(TEXT(入力用科目!$Q113,\"???\"),3,1))","v":""},null,{"$f":"IF(入力用科目!$U113=\"\",\"\",MID(TEXT(入力用科目!$U113,\"????????\"),1,1))","v":""},{"$f":"IF(入力用科目!$U113=\"\",\"\",MID(TEXT(入力用科目!$U113,\"????????\"),2,1))","v":""},{"$f":"IF(入力用科目!$U113=\"\",\"\",MID(TEXT(入力用科目!$U113,\"????????\"),3,1))","v":""},{"$f":"IF(入力用科目!$U113=\"\",\"\",MID(TEXT(入力用科目!$U113,\"????????\"),4,1))","v":""},{"$f":"IF(入力用科目!$U113=\"\",\"\",MID(TEXT(入力用科目!$U113,\"????????\"),5,1))","v":""},{"$f":"IF(入力用科目!$U113=\"\",\"\",MID(TEXT(入力用科目!$U113,\"????????\"),6,1))","v":""},{"$f":"IF(入力用科目!$U113=\"\",\"\",MID(TEXT(入力用科目!$U113,\"????????\"),7,1))","v":""},{"$f":"IF(入力用科目!$U113=\"\",\"\",MID(TEXT(入力用科目!$U113,\"????????\"),8,1))","v":""},null,{"$f":"IF(入力用科目!$AD113=\"\",\"\",MID(TEXT(入力用科目!$AD113,\"????????\"),1,1))","v":""},{"$f":"IF(入力用科目!$AD113=\"\",\"\",MID(TEXT(入力用科目!$AD113,\"????????\"),2,1))","v":""},{"$f":"IF(入力用科目!$AD113=\"\",\"\",MID(TEXT(入力用科目!$AD113,\"????????\"),3,1))","v":""},{"$f":"IF(入力用科目!$AD113=\"\",\"\",MID(TEXT(入力用科目!$AD113,\"????????\"),4,1))","v":""},{"$f":"IF(入力用科目!$AD113=\"\",\"\",MID(TEXT(入力用科目!$AD113,\"????????\"),5,1))","v":""},{"$f":"IF(入力用科目!$AD113=\"\",\"\",MID(TEXT(入力用科目!$AD113,\"????????\"),6,1))","v":""},{"$f":"IF(入力用科目!$AD113=\"\",\"\",MID(TEXT(入力用科目!$AD113,\"????????\"),7,1))","v":""},{"$f":"IF(入力用科目!$AD113=\"\",\"\",MID(TEXT(入力用科目!$AD113,\"????????\"),8,1))","v":""},null,{"$f":"IF(入力用科目!$AM113=\"\",\"\",MID(TEXT(入力用科目!$AM113,\"????????\"),1,1))","v":" "},{"$f":"IF(入力用科目!$AM113=\"\",\"\",MID(TEXT(入力用科目!$AM113,\"????????\"),2,1))","v":" "},{"$f":"IF(入力用科目!$AM113=\"\",\"\",MID(TEXT(入力用科目!$AM113,\"????????\"),3,1))","v":" "},{"$f":"IF(入力用科目!$AM113=\"\",\"\",MID(TEXT(入力用科目!$AM113,\"????????\"),4,1))","v":" "},{"$f":"IF(入力用科目!$AM113=\"\",\"\",MID(TEXT(入力用科目!$AM113,\"????????\"),5,1))","v":" "},{"$f":"IF(入力用科目!$AM113=\"\",\"\",MID(TEXT(入力用科目!$AM113,\"????????\"),6,1))","v":" "},{"$f":"IF(入力用科目!$AM113=\"\",\"\",MID(TEXT(入力用科目!$AM113,\"????????\"),7,1))","v":" "},{"$f":"IF(入力用科目!$AM113=\"\",\"\",MID(TEXT(入力用科目!$AM113,\"????????\"),8,1))","v":" "}]
[{"$f":"IF(入力用科目!A114=\"\",\"\",MID(TEXT(入力用科目!$A114,\"??\"),COLUMN(),1))","v":""},{"$f":"IF(入力用科目!A114=\"\",\"\",MID(TEXT(入力用科目!$A114,\"??\"),COLUMN(),1))","v":""},null,{"$f":"IF(入力用科目!$D114=\"\",\"\",MID(TEXT(入力用科目!$D114,\"???\"),1,1))","v":""},{"$f":"IF(入力用科目!$D114=\"\",\"\",MID(TEXT(入力用科目!$D114,\"???\"),2,1))","v":""},{"$f":"IF(入力用科目!$D114=\"\",\"\",MID(TEXT(入力用科目!$D114,\"???\"),3,1))","v":""},null,{"$f":"IF(入力用科目!$Q114=1,\"運送収入\",IF(入力用科目!$H114=\"\",\"\",入力用科目!$H114))","v":""},null,null,null,null,null,null,null,null,{"$f":"IF(入力用科目!$Q114=\"\",\"\",MID(TEXT(入力用科目!$Q114,\"???\"),1,1))","v":""},{"$f":"IF(入力用科目!$Q114=\"\",\"\",MID(TEXT(入力用科目!$Q114,\"???\"),2,1))","v":""},{"$f":"IF(入力用科目!$Q114=\"\",\"\",MID(TEXT(入力用科目!$Q114,\"???\"),3,1))","v":""},null,{"$f":"IF(入力用科目!$U114=\"\",\"\",MID(TEXT(入力用科目!$U114,\"????????\"),1,1))","v":""},{"$f":"IF(入力用科目!$U114=\"\",\"\",MID(TEXT(入力用科目!$U114,\"????????\"),2,1))","v":""},{"$f":"IF(入力用科目!$U114=\"\",\"\",MID(TEXT(入力用科目!$U114,\"????????\"),3,1))","v":""},{"$f":"IF(入力用科目!$U114=\"\",\"\",MID(TEXT(入力用科目!$U114,\"????????\"),4,1))","v":""},{"$f":"IF(入力用科目!$U114=\"\",\"\",MID(TEXT(入力用科目!$U114,\"????????\"),5,1))","v":""},{"$f":"IF(入力用科目!$U114=\"\",\"\",MID(TEXT(入力用科目!$U114,\"????????\"),6,1))","v":""},{"$f":"IF(入力用科目!$U114=\"\",\"\",MID(TEXT(入力用科目!$U114,\"????????\"),7,1))","v":""},{"$f":"IF(入力用科目!$U114=\"\",\"\",MID(TEXT(入力用科目!$U114,\"????????\"),8,1))","v":""},null,{"$f":"IF(入力用科目!$AD114=\"\",\"\",MID(TEXT(入力用科目!$AD114,\"????????\"),1,1))","v":""},{"$f":"IF(入力用科目!$AD114=\"\",\"\",MID(TEXT(入力用科目!$AD114,\"????????\"),2,1))","v":""},{"$f":"IF(入力用科目!$AD114=\"\",\"\",MID(TEXT(入力用科目!$AD114,\"????????\"),3,1))","v":""},{"$f":"IF(入力用科目!$AD114=\"\",\"\",MID(TEXT(入力用科目!$AD114,\"????????\"),4,1))","v":""},{"$f":"IF(入力用科目!$AD114=\"\",\"\",MID(TEXT(入力用科目!$AD114,\"????????\"),5,1))","v":""},{"$f":"IF(入力用科目!$AD114=\"\",\"\",MID(TEXT(入力用科目!$AD114,\"????????\"),6,1))","v":""},{"$f":"IF(入力用科目!$AD114=\"\",\"\",MID(TEXT(入力用科目!$AD114,\"????????\"),7,1))","v":""},{"$f":"IF(入力用科目!$AD114=\"\",\"\",MID(TEXT(入力用科目!$AD114,\"????????\"),8,1))","v":""},null,{"$f":"IF(入力用科目!$AM114=\"\",\"\",MID(TEXT(入力用科目!$AM114,\"????????\"),1,1))","v":" "},{"$f":"IF(入力用科目!$AM114=\"\",\"\",MID(TEXT(入力用科目!$AM114,\"????????\"),2,1))","v":" "},{"$f":"IF(入力用科目!$AM114=\"\",\"\",MID(TEXT(入力用科目!$AM114,\"????????\"),3,1))","v":" "},{"$f":"IF(入力用科目!$AM114=\"\",\"\",MID(TEXT(入力用科目!$AM114,\"????????\"),4,1))","v":" "},{"$f":"IF(入力用科目!$AM114=\"\",\"\",MID(TEXT(入力用科目!$AM114,\"????????\"),5,1))","v":" "},{"$f":"IF(入力用科目!$AM114=\"\",\"\",MID(TEXT(入力用科目!$AM114,\"????????\"),6,1))","v":" "},{"$f":"IF(入力用科目!$AM114=\"\",\"\",MID(TEXT(入力用科目!$AM114,\"????????\"),7,1))","v":" "},{"$f":"IF(入力用科目!$AM114=\"\",\"\",MID(TEXT(入力用科目!$AM114,\"????????\"),8,1))","v":" "}]
[{"$f":"IF(入力用科目!A115=\"\",\"\",MID(TEXT(入力用科目!$A115,\"??\"),COLUMN(),1))","v":""},{"$f":"IF(入力用科目!A115=\"\",\"\",MID(TEXT(入力用科目!$A115,\"??\"),COLUMN(),1))","v":""},null,{"$f":"IF(入力用科目!$D115=\"\",\"\",MID(TEXT(入力用科目!$D115,\"???\"),1,1))","v":""},{"$f":"IF(入力用科目!$D115=\"\",\"\",MID(TEXT(入力用科目!$D115,\"???\"),2,1))","v":""},{"$f":"IF(入力用科目!$D115=\"\",\"\",MID(TEXT(入力用科目!$D115,\"???\"),3,1))","v":""},null,{"$f":"IF(入力用科目!$Q115=1,\"運送収入\",IF(入力用科目!$H115=\"\",\"\",入力用科目!$H115))","v":""},null,null,null,null,null,null,null,null,{"$f":"IF(入力用科目!$Q115=\"\",\"\",MID(TEXT(入力用科目!$Q115,\"???\"),1,1))","v":""},{"$f":"IF(入力用科目!$Q115=\"\",\"\",MID(TEXT(入力用科目!$Q115,\"???\"),2,1))","v":""},{"$f":"IF(入力用科目!$Q115=\"\",\"\",MID(TEXT(入力用科目!$Q115,\"???\"),3,1))","v":""},null,{"$f":"IF(入力用科目!$U115=\"\",\"\",MID(TEXT(入力用科目!$U115,\"????????\"),1,1))","v":""},{"$f":"IF(入力用科目!$U115=\"\",\"\",MID(TEXT(入力用科目!$U115,\"????????\"),2,1))","v":""},{"$f":"IF(入力用科目!$U115=\"\",\"\",MID(TEXT(入力用科目!$U115,\"????????\"),3,1))","v":""},{"$f":"IF(入力用科目!$U115=\"\",\"\",MID(TEXT(入力用科目!$U115,\"????????\"),4,1))","v":""},{"$f":"IF(入力用科目!$U115=\"\",\"\",MID(TEXT(入力用科目!$U115,\"????????\"),5,1))","v":""},{"$f":"IF(入力用科目!$U115=\"\",\"\",MID(TEXT(入力用科目!$U115,\"????????\"),6,1))","v":""},{"$f":"IF(入力用科目!$U115=\"\",\"\",MID(TEXT(入力用科目!$U115,\"????????\"),7,1))","v":""},{"$f":"IF(入力用科目!$U115=\"\",\"\",MID(TEXT(入力用科目!$U115,\"????????\"),8,1))","v":""},null,{"$f":"IF(入力用科目!$AD115=\"\",\"\",MID(TEXT(入力用科目!$AD115,\"????????\"),1,1))","v":""},{"$f":"IF(入力用科目!$AD115=\"\",\"\",MID(TEXT(入力用科目!$AD115,\"????????\"),2,1))","v":""},{"$f":"IF(入力用科目!$AD115=\"\",\"\",MID(TEXT(入力用科目!$AD115,\"????????\"),3,1))","v":""},{"$f":"IF(入力用科目!$AD115=\"\",\"\",MID(TEXT(入力用科目!$AD115,\"????????\"),4,1))","v":""},{"$f":"IF(入力用科目!$AD115=\"\",\"\",MID(TEXT(入力用科目!$AD115,\"????????\"),5,1))","v":""},{"$f":"IF(入力用科目!$AD115=\"\",\"\",MID(TEXT(入力用科目!$AD115,\"????????\"),6,1))","v":""},{"$f":"IF(入力用科目!$AD115=\"\",\"\",MID(TEXT(入力用科目!$AD115,\"????????\"),7,1))","v":""},{"$f":"IF(入力用科目!$AD115=\"\",\"\",MID(TEXT(入力用科目!$AD115,\"????????\"),8,1))","v":""},null,{"$f":"IF(入力用科目!$AM115=\"\",\"\",MID(TEXT(入力用科目!$AM115,\"????????\"),1,1))","v":" "},{"$f":"IF(入力用科目!$AM115=\"\",\"\",MID(TEXT(入力用科目!$AM115,\"????????\"),2,1))","v":" "},{"$f":"IF(入力用科目!$AM115=\"\",\"\",MID(TEXT(入力用科目!$AM115,\"????????\"),3,1))","v":" "},{"$f":"IF(入力用科目!$AM115=\"\",\"\",MID(TEXT(入力用科目!$AM115,\"????????\"),4,1))","v":" "},{"$f":"IF(入力用科目!$AM115=\"\",\"\",MID(TEXT(入力用科目!$AM115,\"????????\"),5,1))","v":" "},{"$f":"IF(入力用科目!$AM115=\"\",\"\",MID(TEXT(入力用科目!$AM115,\"????????\"),6,1))","v":" "},{"$f":"IF(入力用科目!$AM115=\"\",\"\",MID(TEXT(入力用科目!$AM115,\"????????\"),7,1))","v":" "},{"$f":"IF(入力用科目!$AM115=\"\",\"\",MID(TEXT(入力用科目!$AM115,\"????????\"),8,1))","v":" "}]
[{"$f":"IF(入力用科目!A116=\"\",\"\",MID(TEXT(入力用科目!$A116,\"??\"),COLUMN(),1))","v":""},{"$f":"IF(入力用科目!A116=\"\",\"\",MID(TEXT(入力用科目!$A116,\"??\"),COLUMN(),1))","v":""},null,{"$f":"IF(入力用科目!$D116=\"\",\"\",MID(TEXT(入力用科目!$D116,\"???\"),1,1))","v":""},{"$f":"IF(入力用科目!$D116=\"\",\"\",MID(TEXT(入力用科目!$D116,\"???\"),2,1))","v":""},{"$f":"IF(入力用科目!$D116=\"\",\"\",MID(TEXT(入力用科目!$D116,\"???\"),3,1))","v":""},null,{"$f":"IF(入力用科目!$Q116=1,\"運送収入\",IF(入力用科目!$H116=\"\",\"\",入力用科目!$H116))","v":""},null,null,null,null,null,null,null,null,{"$f":"IF(入力用科目!$Q116=\"\",\"\",MID(TEXT(入力用科目!$Q116,\"???\"),1,1))","v":""},{"$f":"IF(入力用科目!$Q116=\"\",\"\",MID(TEXT(入力用科目!$Q116,\"???\"),2,1))","v":""},{"$f":"IF(入力用科目!$Q116=\"\",\"\",MID(TEXT(入力用科目!$Q116,\"???\"),3,1))","v":""},null,{"$f":"IF(入力用科目!$U116=\"\",\"\",MID(TEXT(入力用科目!$U116,\"????????\"),1,1))","v":""},{"$f":"IF(入力用科目!$U116=\"\",\"\",MID(TEXT(入力用科目!$U116,\"????????\"),2,1))","v":""},{"$f":"IF(入力用科目!$U116=\"\",\"\",MID(TEXT(入力用科目!$U116,\"????????\"),3,1))","v":""},{"$f":"IF(入力用科目!$U116=\"\",\"\",MID(TEXT(入力用科目!$U116,\"????????\"),4,1))","v":""},{"$f":"IF(入力用科目!$U116=\"\",\"\",MID(TEXT(入力用科目!$U116,\"????????\"),5,1))","v":""},{"$f":"IF(入力用科目!$U116=\"\",\"\",MID(TEXT(入力用科目!$U116,\"????????\"),6,1))","v":""},{"$f":"IF(入力用科目!$U116=\"\",\"\",MID(TEXT(入力用科目!$U116,\"????????\"),7,1))","v":""},{"$f":"IF(入力用科目!$U116=\"\",\"\",MID(TEXT(入力用科目!$U116,\"????????\"),8,1))","v":""},null,{"$f":"IF(入力用科目!$AD116=\"\",\"\",MID(TEXT(入力用科目!$AD116,\"????????\"),1,1))","v":""},{"$f":"IF(入力用科目!$AD116=\"\",\"\",MID(TEXT(入力用科目!$AD116,\"????????\"),2,1))","v":""},{"$f":"IF(入力用科目!$AD116=\"\",\"\",MID(TEXT(入力用科目!$AD116,\"????????\"),3,1))","v":""},{"$f":"IF(入力用科目!$AD116=\"\",\"\",MID(TEXT(入力用科目!$AD116,\"????????\"),4,1))","v":""},{"$f":"IF(入力用科目!$AD116=\"\",\"\",MID(TEXT(入力用科目!$AD116,\"????????\"),5,1))","v":""},{"$f":"IF(入力用科目!$AD116=\"\",\"\",MID(TEXT(入力用科目!$AD116,\"????????\"),6,1))","v":""},{"$f":"IF(入力用科目!$AD116=\"\",\"\",MID(TEXT(入力用科目!$AD116,\"????????\"),7,1))","v":""},{"$f":"IF(入力用科目!$AD116=\"\",\"\",MID(TEXT(入力用科目!$AD116,\"????????\"),8,1))","v":""},null,{"$f":"IF(入力用科目!$AM116=\"\",\"\",MID(TEXT(入力用科目!$AM116,\"????????\"),1,1))","v":" "},{"$f":"IF(入力用科目!$AM116=\"\",\"\",MID(TEXT(入力用科目!$AM116,\"????????\"),2,1))","v":" "},{"$f":"IF(入力用科目!$AM116=\"\",\"\",MID(TEXT(入力用科目!$AM116,\"????????\"),3,1))","v":" "},{"$f":"IF(入力用科目!$AM116=\"\",\"\",MID(TEXT(入力用科目!$AM116,\"????????\"),4,1))","v":" "},{"$f":"IF(入力用科目!$AM116=\"\",\"\",MID(TEXT(入力用科目!$AM116,\"????????\"),5,1))","v":" "},{"$f":"IF(入力用科目!$AM116=\"\",\"\",MID(TEXT(入力用科目!$AM116,\"????????\"),6,1))","v":" "},{"$f":"IF(入力用科目!$AM116=\"\",\"\",MID(TEXT(入力用科目!$AM116,\"????????\"),7,1))","v":" "},{"$f":"IF(入力用科目!$AM116=\"\",\"\",MID(TEXT(入力用科目!$AM116,\"????????\"),8,1))","v":" "}]
[{"$f":"IF(入力用科目!A117=\"\",\"\",MID(TEXT(入力用科目!$A117,\"??\"),COLUMN(),1))","v":""},{"$f":"IF(入力用科目!A117=\"\",\"\",MID(TEXT(入力用科目!$A117,\"??\"),COLUMN(),1))","v":""},null,{"$f":"IF(入力用科目!$D117=\"\",\"\",MID(TEXT(入力用科目!$D117,\"???\"),1,1))","v":""},{"$f":"IF(入力用科目!$D117=\"\",\"\",MID(TEXT(入力用科目!$D117,\"???\"),2,1))","v":""},{"$f":"IF(入力用科目!$D117=\"\",\"\",MID(TEXT(入力用科目!$D117,\"???\"),3,1))","v":""},null,{"$f":"IF(入力用科目!$Q117=1,\"運送収入\",IF(入力用科目!$H117=\"\",\"\",入力用科目!$H117))","v":""},null,null,null,null,null,null,null,null,{"$f":"IF(入力用科目!$Q117=\"\",\"\",MID(TEXT(入力用科目!$Q117,\"???\"),1,1))","v":""},{"$f":"IF(入力用科目!$Q117=\"\",\"\",MID(TEXT(入力用科目!$Q117,\"???\"),2,1))","v":""},{"$f":"IF(入力用科目!$Q117=\"\",\"\",MID(TEXT(入力用科目!$Q117,\"???\"),3,1))","v":""},null,{"$f":"IF(入力用科目!$U117=\"\",\"\",MID(TEXT(入力用科目!$U117,\"????????\"),1,1))","v":""},{"$f":"IF(入力用科目!$U117=\"\",\"\",MID(TEXT(入力用科目!$U117,\"????????\"),2,1))","v":""},{"$f":"IF(入力用科目!$U117=\"\",\"\",MID(TEXT(入力用科目!$U117,\"????????\"),3,1))","v":""},{"$f":"IF(入力用科目!$U117=\"\",\"\",MID(TEXT(入力用科目!$U117,\"????????\"),4,1))","v":""},{"$f":"IF(入力用科目!$U117=\"\",\"\",MID(TEXT(入力用科目!$U117,\"????????\"),5,1))","v":""},{"$f":"IF(入力用科目!$U117=\"\",\"\",MID(TEXT(入力用科目!$U117,\"????????\"),6,1))","v":""},{"$f":"IF(入力用科目!$U117=\"\",\"\",MID(TEXT(入力用科目!$U117,\"????????\"),7,1))","v":""},{"$f":"IF(入力用科目!$U117=\"\",\"\",MID(TEXT(入力用科目!$U117,\"????????\"),8,1))","v":""},null,{"$f":"IF(入力用科目!$AD117=\"\",\"\",MID(TEXT(入力用科目!$AD117,\"????????\"),1,1))","v":""},{"$f":"IF(入力用科目!$AD117=\"\",\"\",MID(TEXT(入力用科目!$AD117,\"????????\"),2,1))","v":""},{"$f":"IF(入力用科目!$AD117=\"\",\"\",MID(TEXT(入力用科目!$AD117,\"????????\"),3,1))","v":""},{"$f":"IF(入力用科目!$AD117=\"\",\"\",MID(TEXT(入力用科目!$AD117,\"????????\"),4,1))","v":""},{"$f":"IF(入力用科目!$AD117=\"\",\"\",MID(TEXT(入力用科目!$AD117,\"????????\"),5,1))","v":""},{"$f":"IF(入力用科目!$AD117=\"\",\"\",MID(TEXT(入力用科目!$AD117,\"????????\"),6,1))","v":""},{"$f":"IF(入力用科目!$AD117=\"\",\"\",MID(TEXT(入力用科目!$AD117,\"????????\"),7,1))","v":""},{"$f":"IF(入力用科目!$AD117=\"\",\"\",MID(TEXT(入力用科目!$AD117,\"????????\"),8,1))","v":""},null,{"$f":"IF(入力用科目!$AM117=\"\",\"\",MID(TEXT(入力用科目!$AM117,\"????????\"),1,1))","v":" "},{"$f":"IF(入力用科目!$AM117=\"\",\"\",MID(TEXT(入力用科目!$AM117,\"????????\"),2,1))","v":" "},{"$f":"IF(入力用科目!$AM117=\"\",\"\",MID(TEXT(入力用科目!$AM117,\"????????\"),3,1))","v":" "},{"$f":"IF(入力用科目!$AM117=\"\",\"\",MID(TEXT(入力用科目!$AM117,\"????????\"),4,1))","v":" "},{"$f":"IF(入力用科目!$AM117=\"\",\"\",MID(TEXT(入力用科目!$AM117,\"????????\"),5,1))","v":" "},{"$f":"IF(入力用科目!$AM117=\"\",\"\",MID(TEXT(入力用科目!$AM117,\"????????\"),6,1))","v":" "},{"$f":"IF(入力用科目!$AM117=\"\",\"\",MID(TEXT(入力用科目!$AM117,\"????????\"),7,1))","v":" "},{"$f":"IF(入力用科目!$AM117=\"\",\"\",MID(TEXT(入力用科目!$AM117,\"????????\"),8,1))","v":" "}]
[{"$f":"IF(入力用科目!A118=\"\",\"\",MID(TEXT(入力用科目!$A118,\"??\"),COLUMN(),1))","v":""},{"$f":"IF(入力用科目!A118=\"\",\"\",MID(TEXT(入力用科目!$A118,\"??\"),COLUMN(),1))","v":""},null,{"$f":"IF(入力用科目!$D118=\"\",\"\",MID(TEXT(入力用科目!$D118,\"???\"),1,1))","v":""},{"$f":"IF(入力用科目!$D118=\"\",\"\",MID(TEXT(入力用科目!$D118,\"???\"),2,1))","v":""},{"$f":"IF(入力用科目!$D118=\"\",\"\",MID(TEXT(入力用科目!$D118,\"???\"),3,1))","v":""},null,{"$f":"IF(入力用科目!$Q118=1,\"運送収入\",IF(入力用科目!$H118=\"\",\"\",入力用科目!$H118))","v":""},null,null,null,null,null,null,null,null,{"$f":"IF(入力用科目!$Q118=\"\",\"\",MID(TEXT(入力用科目!$Q118,\"???\"),1,1))","v":""},{"$f":"IF(入力用科目!$Q118=\"\",\"\",MID(TEXT(入力用科目!$Q118,\"???\"),2,1))","v":""},{"$f":"IF(入力用科目!$Q118=\"\",\"\",MID(TEXT(入力用科目!$Q118,\"???\"),3,1))","v":""},null,{"$f":"IF(入力用科目!$U118=\"\",\"\",MID(TEXT(入力用科目!$U118,\"????????\"),1,1))","v":""},{"$f":"IF(入力用科目!$U118=\"\",\"\",MID(TEXT(入力用科目!$U118,\"????????\"),2,1))","v":""},{"$f":"IF(入力用科目!$U118=\"\",\"\",MID(TEXT(入力用科目!$U118,\"????????\"),3,1))","v":""},{"$f":"IF(入力用科目!$U118=\"\",\"\",MID(TEXT(入力用科目!$U118,\"????????\"),4,1))","v":""},{"$f":"IF(入力用科目!$U118=\"\",\"\",MID(TEXT(入力用科目!$U118,\"????????\"),5,1))","v":""},{"$f":"IF(入力用科目!$U118=\"\",\"\",MID(TEXT(入力用科目!$U118,\"????????\"),6,1))","v":""},{"$f":"IF(入力用科目!$U118=\"\",\"\",MID(TEXT(入力用科目!$U118,\"????????\"),7,1))","v":""},{"$f":"IF(入力用科目!$U118=\"\",\"\",MID(TEXT(入力用科目!$U118,\"????????\"),8,1))","v":""},null,{"$f":"IF(入力用科目!$AD118=\"\",\"\",MID(TEXT(入力用科目!$AD118,\"????????\"),1,1))","v":""},{"$f":"IF(入力用科目!$AD118=\"\",\"\",MID(TEXT(入力用科目!$AD118,\"????????\"),2,1))","v":""},{"$f":"IF(入力用科目!$AD118=\"\",\"\",MID(TEXT(入力用科目!$AD118,\"????????\"),3,1))","v":""},{"$f":"IF(入力用科目!$AD118=\"\",\"\",MID(TEXT(入力用科目!$AD118,\"????????\"),4,1))","v":""},{"$f":"IF(入力用科目!$AD118=\"\",\"\",MID(TEXT(入力用科目!$AD118,\"????????\"),5,1))","v":""},{"$f":"IF(入力用科目!$AD118=\"\",\"\",MID(TEXT(入力用科目!$AD118,\"????????\"),6,1))","v":""},{"$f":"IF(入力用科目!$AD118=\"\",\"\",MID(TEXT(入力用科目!$AD118,\"????????\"),7,1))","v":""},{"$f":"IF(入力用科目!$AD118=\"\",\"\",MID(TEXT(入力用科目!$AD118,\"????????\"),8,1))","v":""},null,{"$f":"IF(入力用科目!$AM118=\"\",\"\",MID(TEXT(入力用科目!$AM118,\"????????\"),1,1))","v":" "},{"$f":"IF(入力用科目!$AM118=\"\",\"\",MID(TEXT(入力用科目!$AM118,\"????????\"),2,1))","v":" "},{"$f":"IF(入力用科目!$AM118=\"\",\"\",MID(TEXT(入力用科目!$AM118,\"????????\"),3,1))","v":" "},{"$f":"IF(入力用科目!$AM118=\"\",\"\",MID(TEXT(入力用科目!$AM118,\"????????\"),4,1))","v":" "},{"$f":"IF(入力用科目!$AM118=\"\",\"\",MID(TEXT(入力用科目!$AM118,\"????????\"),5,1))","v":" "},{"$f":"IF(入力用科目!$AM118=\"\",\"\",MID(TEXT(入力用科目!$AM118,\"????????\"),6,1))","v":" "},{"$f":"IF(入力用科目!$AM118=\"\",\"\",MID(TEXT(入力用科目!$AM118,\"????????\"),7,1))","v":" "},{"$f":"IF(入力用科目!$AM118=\"\",\"\",MID(TEXT(入力用科目!$AM118,\"????????\"),8,1))","v":" "}]
[{"$f":"IF(入力用科目!A119=\"\",\"\",MID(TEXT(入力用科目!$A119,\"??\"),COLUMN(),1))","v":""},{"$f":"IF(入力用科目!A119=\"\",\"\",MID(TEXT(入力用科目!$A119,\"??\"),COLUMN(),1))","v":""},null,{"$f":"IF(入力用科目!$D119=\"\",\"\",MID(TEXT(入力用科目!$D119,\"???\"),1,1))","v":""},{"$f":"IF(入力用科目!$D119=\"\",\"\",MID(TEXT(入力用科目!$D119,\"???\"),2,1))","v":""},{"$f":"IF(入力用科目!$D119=\"\",\"\",MID(TEXT(入力用科目!$D119,\"???\"),3,1))","v":""},null,{"$f":"IF(入力用科目!$Q119=1,\"運送収入\",IF(入力用科目!$H119=\"\",\"\",入力用科目!$H119))","v":""},null,null,null,null,null,null,null,null,{"$f":"IF(入力用科目!$Q119=\"\",\"\",MID(TEXT(入力用科目!$Q119,\"???\"),1,1))","v":""},{"$f":"IF(入力用科目!$Q119=\"\",\"\",MID(TEXT(入力用科目!$Q119,\"???\"),2,1))","v":""},{"$f":"IF(入力用科目!$Q119=\"\",\"\",MID(TEXT(入力用科目!$Q119,\"???\"),3,1))","v":""},null,{"$f":"IF(入力用科目!$U119=\"\",\"\",MID(TEXT(入力用科目!$U119,\"????????\"),1,1))","v":""},{"$f":"IF(入力用科目!$U119=\"\",\"\",MID(TEXT(入力用科目!$U119,\"????????\"),2,1))","v":""},{"$f":"IF(入力用科目!$U119=\"\",\"\",MID(TEXT(入力用科目!$U119,\"????????\"),3,1))","v":""},{"$f":"IF(入力用科目!$U119=\"\",\"\",MID(TEXT(入力用科目!$U119,\"????????\"),4,1))","v":""},{"$f":"IF(入力用科目!$U119=\"\",\"\",MID(TEXT(入力用科目!$U119,\"????????\"),5,1))","v":""},{"$f":"IF(入力用科目!$U119=\"\",\"\",MID(TEXT(入力用科目!$U119,\"????????\"),6,1))","v":""},{"$f":"IF(入力用科目!$U119=\"\",\"\",MID(TEXT(入力用科目!$U119,\"????????\"),7,1))","v":""},{"$f":"IF(入力用科目!$U119=\"\",\"\",MID(TEXT(入力用科目!$U119,\"????????\"),8,1))","v":""},null,{"$f":"IF(入力用科目!$AD119=\"\",\"\",MID(TEXT(入力用科目!$AD119,\"????????\"),1,1))","v":""},{"$f":"IF(入力用科目!$AD119=\"\",\"\",MID(TEXT(入力用科目!$AD119,\"????????\"),2,1))","v":""},{"$f":"IF(入力用科目!$AD119=\"\",\"\",MID(TEXT(入力用科目!$AD119,\"????????\"),3,1))","v":""},{"$f":"IF(入力用科目!$AD119=\"\",\"\",MID(TEXT(入力用科目!$AD119,\"????????\"),4,1))","v":""},{"$f":"IF(入力用科目!$AD119=\"\",\"\",MID(TEXT(入力用科目!$AD119,\"????????\"),5,1))","v":""},{"$f":"IF(入力用科目!$AD119=\"\",\"\",MID(TEXT(入力用科目!$AD119,\"????????\"),6,1))","v":""},{"$f":"IF(入力用科目!$AD119=\"\",\"\",MID(TEXT(入力用科目!$AD119,\"????????\"),7,1))","v":""},{"$f":"IF(入力用科目!$AD119=\"\",\"\",MID(TEXT(入力用科目!$AD119,\"????????\"),8,1))","v":""},null,{"$f":"IF(入力用科目!$AM119=\"\",\"\",MID(TEXT(入力用科目!$AM119,\"????????\"),1,1))","v":" "},{"$f":"IF(入力用科目!$AM119=\"\",\"\",MID(TEXT(入力用科目!$AM119,\"????????\"),2,1))","v":" "},{"$f":"IF(入力用科目!$AM119=\"\",\"\",MID(TEXT(入力用科目!$AM119,\"????????\"),3,1))","v":" "},{"$f":"IF(入力用科目!$AM119=\"\",\"\",MID(TEXT(入力用科目!$AM119,\"????????\"),4,1))","v":" "},{"$f":"IF(入力用科目!$AM119=\"\",\"\",MID(TEXT(入力用科目!$AM119,\"????????\"),5,1))","v":" "},{"$f":"IF(入力用科目!$AM119=\"\",\"\",MID(TEXT(入力用科目!$AM119,\"????????\"),6,1))","v":" "},{"$f":"IF(入力用科目!$AM119=\"\",\"\",MID(TEXT(入力用科目!$AM119,\"????????\"),7,1))","v":" "},{"$f":"IF(入力用科目!$AM119=\"\",\"\",MID(TEXT(入力用科目!$AM119,\"????????\"),8,1))","v":" "}]
[{"$f":"IF(入力用科目!A120=\"\",\"\",MID(TEXT(入力用科目!$A120,\"??\"),COLUMN(),1))","v":""},{"$f":"IF(入力用科目!A120=\"\",\"\",MID(TEXT(入力用科目!$A120,\"??\"),COLUMN(),1))","v":""},null,{"$f":"IF(入力用科目!$D120=\"\",\"\",MID(TEXT(入力用科目!$D120,\"???\"),1,1))","v":""},{"$f":"IF(入力用科目!$D120=\"\",\"\",MID(TEXT(入力用科目!$D120,\"???\"),2,1))","v":""},{"$f":"IF(入力用科目!$D120=\"\",\"\",MID(TEXT(入力用科目!$D120,\"???\"),3,1))","v":""},null,{"$f":"IF(入力用科目!$Q120=1,\"運送収入\",IF(入力用科目!$H120=\"\",\"\",入力用科目!$H120))","v":""},null,null,null,null,null,null,null,null,{"$f":"IF(入力用科目!$Q120=\"\",\"\",MID(TEXT(入力用科目!$Q120,\"???\"),1,1))","v":""},{"$f":"IF(入力用科目!$Q120=\"\",\"\",MID(TEXT(入力用科目!$Q120,\"???\"),2,1))","v":""},{"$f":"IF(入力用科目!$Q120=\"\",\"\",MID(TEXT(入力用科目!$Q120,\"???\"),3,1))","v":""},null,{"$f":"IF(入力用科目!$U120=\"\",\"\",MID(TEXT(入力用科目!$U120,\"????????\"),1,1))","v":""},{"$f":"IF(入力用科目!$U120=\"\",\"\",MID(TEXT(入力用科目!$U120,\"????????\"),2,1))","v":""},{"$f":"IF(入力用科目!$U120=\"\",\"\",MID(TEXT(入力用科目!$U120,\"????????\"),3,1))","v":""},{"$f":"IF(入力用科目!$U120=\"\",\"\",MID(TEXT(入力用科目!$U120,\"????????\"),4,1))","v":""},{"$f":"IF(入力用科目!$U120=\"\",\"\",MID(TEXT(入力用科目!$U120,\"????????\"),5,1))","v":""},{"$f":"IF(入力用科目!$U120=\"\",\"\",MID(TEXT(入力用科目!$U120,\"????????\"),6,1))","v":""},{"$f":"IF(入力用科目!$U120=\"\",\"\",MID(TEXT(入力用科目!$U120,\"????????\"),7,1))","v":""},{"$f":"IF(入力用科目!$U120=\"\",\"\",MID(TEXT(入力用科目!$U120,\"????????\"),8,1))","v":""},null,{"$f":"IF(入力用科目!$AD120=\"\",\"\",MID(TEXT(入力用科目!$AD120,\"????????\"),1,1))","v":""},{"$f":"IF(入力用科目!$AD120=\"\",\"\",MID(TEXT(入力用科目!$AD120,\"????????\"),2,1))","v":""},{"$f":"IF(入力用科目!$AD120=\"\",\"\",MID(TEXT(入力用科目!$AD120,\"????????\"),3,1))","v":""},{"$f":"IF(入力用科目!$AD120=\"\",\"\",MID(TEXT(入力用科目!$AD120,\"????????\"),4,1))","v":""},{"$f":"IF(入力用科目!$AD120=\"\",\"\",MID(TEXT(入力用科目!$AD120,\"????????\"),5,1))","v":""},{"$f":"IF(入力用科目!$AD120=\"\",\"\",MID(TEXT(入力用科目!$AD120,\"????????\"),6,1))","v":""},{"$f":"IF(入力用科目!$AD120=\"\",\"\",MID(TEXT(入力用科目!$AD120,\"????????\"),7,1))","v":""},{"$f":"IF(入力用科目!$AD120=\"\",\"\",MID(TEXT(入力用科目!$AD120,\"????????\"),8,1))","v":""},null,{"$f":"IF(入力用科目!$AM120=\"\",\"\",MID(TEXT(入力用科目!$AM120,\"????????\"),1,1))","v":" "},{"$f":"IF(入力用科目!$AM120=\"\",\"\",MID(TEXT(入力用科目!$AM120,\"????????\"),2,1))","v":" "},{"$f":"IF(入力用科目!$AM120=\"\",\"\",MID(TEXT(入力用科目!$AM120,\"????????\"),3,1))","v":" "},{"$f":"IF(入力用科目!$AM120=\"\",\"\",MID(TEXT(入力用科目!$AM120,\"????????\"),4,1))","v":" "},{"$f":"IF(入力用科目!$AM120=\"\",\"\",MID(TEXT(入力用科目!$AM120,\"????????\"),5,1))","v":" "},{"$f":"IF(入力用科目!$AM120=\"\",\"\",MID(TEXT(入力用科目!$AM120,\"????????\"),6,1))","v":" "},{"$f":"IF(入力用科目!$AM120=\"\",\"\",MID(TEXT(入力用科目!$AM120,\"????????\"),7,1))","v":" "},{"$f":"IF(入力用科目!$AM120=\"\",\"\",MID(TEXT(入力用科目!$AM120,\"????????\"),8,1))","v":" "}]
[{"$f":"IF(入力用科目!A121=\"\",\"\",MID(TEXT(入力用科目!$A121,\"??\"),COLUMN(),1))","v":""},{"$f":"IF(入力用科目!A121=\"\",\"\",MID(TEXT(入力用科目!$A121,\"??\"),COLUMN(),1))","v":""},null,{"$f":"IF(入力用科目!$D121=\"\",\"\",MID(TEXT(入力用科目!$D121,\"???\"),1,1))","v":""},{"$f":"IF(入力用科目!$D121=\"\",\"\",MID(TEXT(入力用科目!$D121,\"???\"),2,1))","v":""},{"$f":"IF(入力用科目!$D121=\"\",\"\",MID(TEXT(入力用科目!$D121,\"???\"),3,1))","v":""},null,{"$f":"IF(入力用科目!$Q121=1,\"運送収入\",IF(入力用科目!$H121=\"\",\"\",入力用科目!$H121))","v":""},null,null,null,null,null,null,null,null,{"$f":"IF(入力用科目!$Q121=\"\",\"\",MID(TEXT(入力用科目!$Q121,\"???\"),1,1))","v":""},{"$f":"IF(入力用科目!$Q121=\"\",\"\",MID(TEXT(入力用科目!$Q121,\"???\"),2,1))","v":""},{"$f":"IF(入力用科目!$Q121=\"\",\"\",MID(TEXT(入力用科目!$Q121,\"???\"),3,1))","v":""},null,{"$f":"IF(入力用科目!$U121=\"\",\"\",MID(TEXT(入力用科目!$U121,\"????????\"),1,1))","v":""},{"$f":"IF(入力用科目!$U121=\"\",\"\",MID(TEXT(入力用科目!$U121,\"????????\"),2,1))","v":""},{"$f":"IF(入力用科目!$U121=\"\",\"\",MID(TEXT(入力用科目!$U121,\"????????\"),3,1))","v":""},{"$f":"IF(入力用科目!$U121=\"\",\"\",MID(TEXT(入力用科目!$U121,\"????????\"),4,1))","v":""},{"$f":"IF(入力用科目!$U121=\"\",\"\",MID(TEXT(入力用科目!$U121,\"????????\"),5,1))","v":""},{"$f":"IF(入力用科目!$U121=\"\",\"\",MID(TEXT(入力用科目!$U121,\"????????\"),6,1))","v":""},{"$f":"IF(入力用科目!$U121=\"\",\"\",MID(TEXT(入力用科目!$U121,\"????????\"),7,1))","v":""},{"$f":"IF(入力用科目!$U121=\"\",\"\",MID(TEXT(入力用科目!$U121,\"????????\"),8,1))","v":""},null,{"$f":"IF(入力用科目!$AD121=\"\",\"\",MID(TEXT(入力用科目!$AD121,\"????????\"),1,1))","v":""},{"$f":"IF(入力用科目!$AD121=\"\",\"\",MID(TEXT(入力用科目!$AD121,\"????????\"),2,1))","v":""},{"$f":"IF(入力用科目!$AD121=\"\",\"\",MID(TEXT(入力用科目!$AD121,\"????????\"),3,1))","v":""},{"$f":"IF(入力用科目!$AD121=\"\",\"\",MID(TEXT(入力用科目!$AD121,\"????????\"),4,1))","v":""},{"$f":"IF(入力用科目!$AD121=\"\",\"\",MID(TEXT(入力用科目!$AD121,\"????????\"),5,1))","v":""},{"$f":"IF(入力用科目!$AD121=\"\",\"\",MID(TEXT(入力用科目!$AD121,\"????????\"),6,1))","v":""},{"$f":"IF(入力用科目!$AD121=\"\",\"\",MID(TEXT(入力用科目!$AD121,\"????????\"),7,1))","v":""},{"$f":"IF(入力用科目!$AD121=\"\",\"\",MID(TEXT(入力用科目!$AD121,\"????????\"),8,1))","v":""},null,{"$f":"IF(入力用科目!$AM121=\"\",\"\",MID(TEXT(入力用科目!$AM121,\"????????\"),1,1))","v":" "},{"$f":"IF(入力用科目!$AM121=\"\",\"\",MID(TEXT(入力用科目!$AM121,\"????????\"),2,1))","v":" "},{"$f":"IF(入力用科目!$AM121=\"\",\"\",MID(TEXT(入力用科目!$AM121,\"????????\"),3,1))","v":" "},{"$f":"IF(入力用科目!$AM121=\"\",\"\",MID(TEXT(入力用科目!$AM121,\"????????\"),4,1))","v":" "},{"$f":"IF(入力用科目!$AM121=\"\",\"\",MID(TEXT(入力用科目!$AM121,\"????????\"),5,1))","v":" "},{"$f":"IF(入力用科目!$AM121=\"\",\"\",MID(TEXT(入力用科目!$AM121,\"????????\"),6,1))","v":" "},{"$f":"IF(入力用科目!$AM121=\"\",\"\",MID(TEXT(入力用科目!$AM121,\"????????\"),7,1))","v":" "},{"$f":"IF(入力用科目!$AM121=\"\",\"\",MID(TEXT(入力用科目!$AM121,\"????????\"),8,1))","v":" "}]
[{"$f":"IF(入力用科目!A122=\"\",\"\",MID(TEXT(入力用科目!$A122,\"??\"),COLUMN(),1))","v":""},{"$f":"IF(入力用科目!A122=\"\",\"\",MID(TEXT(入力用科目!$A122,\"??\"),COLUMN(),1))","v":""},null,{"$f":"IF(入力用科目!$D122=\"\",\"\",MID(TEXT(入力用科目!$D122,\"???\"),1,1))","v":""},{"$f":"IF(入力用科目!$D122=\"\",\"\",MID(TEXT(入力用科目!$D122,\"???\"),2,1))","v":""},{"$f":"IF(入力用科目!$D122=\"\",\"\",MID(TEXT(入力用科目!$D122,\"???\"),3,1))","v":""},null,{"$f":"IF(入力用科目!H122=\"\",\"\",入力用科目!H122)","v":""},null,null,null,null,null,null,null,null,{"$f":"IF(入力用科目!$Q122=\"\",\"\",MID(TEXT(入力用科目!$Q122,\"???\"),1,1))","v":""},{"$f":"IF(入力用科目!$Q122=\"\",\"\",MID(TEXT(入力用科目!$Q122,\"???\"),2,1))","v":""},{"$f":"IF(入力用科目!$Q122=\"\",\"\",MID(TEXT(入力用科目!$Q122,\"???\"),3,1))","v":""},null,{"$f":"IF(入力用科目!$U122=\"\",\"\",MID(TEXT(入力用科目!$U122,\"????????\"),1,1))","v":""},{"$f":"IF(入力用科目!$U122=\"\",\"\",MID(TEXT(入力用科目!$U122,\"????????\"),2,1))","v":""},{"$f":"IF(入力用科目!$U122=\"\",\"\",MID(TEXT(入力用科目!$U122,\"????????\"),3,1))","v":""},{"$f":"IF(入力用科目!$U122=\"\",\"\",MID(TEXT(入力用科目!$U122,\"????????\"),4,1))","v":""},{"$f":"IF(入力用科目!$U122=\"\",\"\",MID(TEXT(入力用科目!$U122,\"????????\"),5,1))","v":""},{"$f":"IF(入力用科目!$U122=\"\",\"\",MID(TEXT(入力用科目!$U122,\"????????\"),6,1))","v":""},{"$f":"IF(入力用科目!$U122=\"\",\"\",MID(TEXT(入力用科目!$U122,\"????????\"),7,1))","v":""},{"$f":"IF(入力用科目!$U122=\"\",\"\",MID(TEXT(入力用科目!$U122,\"????????\"),8,1))","v":""},null,{"$f":"IF(入力用科目!$AD122=\"\",\"\",MID(TEXT(入力用科目!$AD122,\"????????\"),1,1))","v":""},{"$f":"IF(入力用科目!$AD122=\"\",\"\",MID(TEXT(入力用科目!$AD122,\"????????\"),2,1))","v":""},{"$f":"IF(入力用科目!$AD122=\"\",\"\",MID(TEXT(入力用科目!$AD122,\"????????\"),3,1))","v":""},{"$f":"IF(入力用科目!$AD122=\"\",\"\",MID(TEXT(入力用科目!$AD122,\"????????\"),4,1))","v":""},{"$f":"IF(入力用科目!$AD122=\"\",\"\",MID(TEXT(入力用科目!$AD122,\"????????\"),5,1))","v":""},{"$f":"IF(入力用科目!$AD122=\"\",\"\",MID(TEXT(入力用科目!$AD122,\"????????\"),6,1))","v":""},{"$f":"IF(入力用科目!$AD122=\"\",\"\",MID(TEXT(入力用科目!$AD122,\"????????\"),7,1))","v":""},{"$f":"IF(入力用科目!$AD122=\"\",\"\",MID(TEXT(入力用科目!$AD122,\"????????\"),8,1))","v":""},null,{"$f":"IF(入力用科目!$AM122=\"\",\"\",MID(TEXT(入力用科目!$AM122,\"????????\"),1,1))","v":" "},{"$f":"IF(入力用科目!$AM122=\"\",\"\",MID(TEXT(入力用科目!$AM122,\"????????\"),2,1))","v":" "},{"$f":"IF(入力用科目!$AM122=\"\",\"\",MID(TEXT(入力用科目!$AM122,\"????????\"),3,1))","v":" "},{"$f":"IF(入力用科目!$AM122=\"\",\"\",MID(TEXT(入力用科目!$AM122,\"????????\"),4,1))","v":" "},{"$f":"IF(入力用科目!$AM122=\"\",\"\",MID(TEXT(入力用科目!$AM122,\"????????\"),5,1))","v":" "},{"$f":"IF(入力用科目!$AM122=\"\",\"\",MID(TEXT(入力用科目!$AM122,\"????????\"),6,1))","v":" "},{"$f":"IF(入力用科目!$AM122=\"\",\"\",MID(TEXT(入力用科目!$AM122,\"????????\"),7,1))","v":" "},{"$f":"IF(入力用科目!$AM122=\"\",\"\",MID(TEXT(入力用科目!$AM122,\"????????\"),8,1))","v":" "}]
[{"$f":"IF(入力用科目!A123=\"\",\"\",MID(TEXT(入力用科目!$A123,\"??\"),COLUMN(),1))","v":""},{"$f":"IF(入力用科目!A123=\"\",\"\",MID(TEXT(入力用科目!$A123,\"??\"),COLUMN(),1))","v":""},null,{"$f":"IF(入力用科目!$D123=\"\",\"\",MID(TEXT(入力用科目!$D123,\"???\"),1,1))","v":""},{"$f":"IF(入力用科目!$D123=\"\",\"\",MID(TEXT(入力用科目!$D123,\"???\"),2,1))","v":""},{"$f":"IF(入力用科目!$D123=\"\",\"\",MID(TEXT(入力用科目!$D123,\"???\"),3,1))","v":""},null,{"$f":"IF(入力用科目!H123=\"\",\"\",入力用科目!H123)","v":""},null,null,null,null,null,null,null,null,{"$f":"IF(入力用科目!$Q123=\"\",\"\",MID(TEXT(入力用科目!$Q123,\"???\"),1,1))","v":""},{"$f":"IF(入力用科目!$Q123=\"\",\"\",MID(TEXT(入力用科目!$Q123,\"???\"),2,1))","v":""},{"$f":"IF(入力用科目!$Q123=\"\",\"\",MID(TEXT(入力用科目!$Q123,\"???\"),3,1))","v":""},null,{"$f":"IF(入力用科目!$U123=\"\",\"\",MID(TEXT(入力用科目!$U123,\"????????\"),1,1))","v":""},{"$f":"IF(入力用科目!$U123=\"\",\"\",MID(TEXT(入力用科目!$U123,\"????????\"),2,1))","v":""},{"$f":"IF(入力用科目!$U123=\"\",\"\",MID(TEXT(入力用科目!$U123,\"????????\"),3,1))","v":""},{"$f":"IF(入力用科目!$U123=\"\",\"\",MID(TEXT(入力用科目!$U123,\"????????\"),4,1))","v":""},{"$f":"IF(入力用科目!$U123=\"\",\"\",MID(TEXT(入力用科目!$U123,\"????????\"),5,1))","v":""},{"$f":"IF(入力用科目!$U123=\"\",\"\",MID(TEXT(入力用科目!$U123,\"????????\"),6,1))","v":""},{"$f":"IF(入力用科目!$U123=\"\",\"\",MID(TEXT(入力用科目!$U123,\"????????\"),7,1))","v":""},{"$f":"IF(入力用科目!$U123=\"\",\"\",MID(TEXT(入力用科目!$U123,\"????????\"),8,1))","v":""},null,{"$f":"IF(入力用科目!$AD123=\"\",\"\",MID(TEXT(入力用科目!$AD123,\"????????\"),1,1))","v":""},{"$f":"IF(入力用科目!$AD123=\"\",\"\",MID(TEXT(入力用科目!$AD123,\"????????\"),2,1))","v":""},{"$f":"IF(入力用科目!$AD123=\"\",\"\",MID(TEXT(入力用科目!$AD123,\"????????\"),3,1))","v":""},{"$f":"IF(入力用科目!$AD123=\"\",\"\",MID(TEXT(入力用科目!$AD123,\"????????\"),4,1))","v":""},{"$f":"IF(入力用科目!$AD123=\"\",\"\",MID(TEXT(入力用科目!$AD123,\"????????\"),5,1))","v":""},{"$f":"IF(入力用科目!$AD123=\"\",\"\",MID(TEXT(入力用科目!$AD123,\"????????\"),6,1))","v":""},{"$f":"IF(入力用科目!$AD123=\"\",\"\",MID(TEXT(入力用科目!$AD123,\"????????\"),7,1))","v":""},{"$f":"IF(入力用科目!$AD123=\"\",\"\",MID(TEXT(入力用科目!$AD123,\"????????\"),8,1))","v":""},null,{"$f":"IF(入力用科目!$AM123=\"\",\"\",MID(TEXT(入力用科目!$AM123,\"????????\"),1,1))","v":" "},{"$f":"IF(入力用科目!$AM123=\"\",\"\",MID(TEXT(入力用科目!$AM123,\"????????\"),2,1))","v":" "},{"$f":"IF(入力用科目!$AM123=\"\",\"\",MID(TEXT(入力用科目!$AM123,\"????????\"),3,1))","v":" "},{"$f":"IF(入力用科目!$AM123=\"\",\"\",MID(TEXT(入力用科目!$AM123,\"????????\"),4,1))","v":" "},{"$f":"IF(入力用科目!$AM123=\"\",\"\",MID(TEXT(入力用科目!$AM123,\"????????\"),5,1))","v":" "},{"$f":"IF(入力用科目!$AM123=\"\",\"\",MID(TEXT(入力用科目!$AM123,\"????????\"),6,1))","v":" "},{"$f":"IF(入力用科目!$AM123=\"\",\"\",MID(TEXT(入力用科目!$AM123,\"????????\"),7,1))","v":" "},{"$f":"IF(入力用科目!$AM123=\"\",\"\",MID(TEXT(入力用科目!$AM123,\"????????\"),8,1))","v":" "}]
[{"$f":"IF(入力用科目!A124=\"\",\"\",MID(TEXT(入力用科目!$A124,\"??\"),COLUMN(),1))","v":""},{"$f":"IF(入力用科目!A124=\"\",\"\",MID(TEXT(入力用科目!$A124,\"??\"),COLUMN(),1))","v":""},null,{"$f":"IF(入力用科目!$D124=\"\",\"\",MID(TEXT(入力用科目!$D124,\"???\"),1,1))","v":""},{"$f":"IF(入力用科目!$D124=\"\",\"\",MID(TEXT(入力用科目!$D124,\"???\"),2,1))","v":""},{"$f":"IF(入力用科目!$D124=\"\",\"\",MID(TEXT(入力用科目!$D124,\"???\"),3,1))","v":""},null,{"$f":"IF(入力用科目!H124=\"\",\"\",入力用科目!H124)","v":""},null,null,null,null,null,null,null,null,{"$f":"IF(入力用科目!$Q124=\"\",\"\",MID(TEXT(入力用科目!$Q124,\"???\"),1,1))","v":""},{"$f":"IF(入力用科目!$Q124=\"\",\"\",MID(TEXT(入力用科目!$Q124,\"???\"),2,1))","v":""},{"$f":"IF(入力用科目!$Q124=\"\",\"\",MID(TEXT(入力用科目!$Q124,\"???\"),3,1))","v":""},null,{"$f":"IF(入力用科目!$U124=\"\",\"\",MID(TEXT(入力用科目!$U124,\"????????\"),1,1))","v":""},{"$f":"IF(入力用科目!$U124=\"\",\"\",MID(TEXT(入力用科目!$U124,\"????????\"),2,1))","v":""},{"$f":"IF(入力用科目!$U124=\"\",\"\",MID(TEXT(入力用科目!$U124,\"????????\"),3,1))","v":""},{"$f":"IF(入力用科目!$U124=\"\",\"\",MID(TEXT(入力用科目!$U124,\"????????\"),4,1))","v":""},{"$f":"IF(入力用科目!$U124=\"\",\"\",MID(TEXT(入力用科目!$U124,\"????????\"),5,1))","v":""},{"$f":"IF(入力用科目!$U124=\"\",\"\",MID(TEXT(入力用科目!$U124,\"????????\"),6,1))","v":""},{"$f":"IF(入力用科目!$U124=\"\",\"\",MID(TEXT(入力用科目!$U124,\"????????\"),7,1))","v":""},{"$f":"IF(入力用科目!$U124=\"\",\"\",MID(TEXT(入力用科目!$U124,\"????????\"),8,1))","v":""},null,{"$f":"IF(入力用科目!$AD124=\"\",\"\",MID(TEXT(入力用科目!$AD124,\"????????\"),1,1))","v":""},{"$f":"IF(入力用科目!$AD124=\"\",\"\",MID(TEXT(入力用科目!$AD124,\"????????\"),2,1))","v":""},{"$f":"IF(入力用科目!$AD124=\"\",\"\",MID(TEXT(入力用科目!$AD124,\"????????\"),3,1))","v":""},{"$f":"IF(入力用科目!$AD124=\"\",\"\",MID(TEXT(入力用科目!$AD124,\"????????\"),4,1))","v":""},{"$f":"IF(入力用科目!$AD124=\"\",\"\",MID(TEXT(入力用科目!$AD124,\"????????\"),5,1))","v":""},{"$f":"IF(入力用科目!$AD124=\"\",\"\",MID(TEXT(入力用科目!$AD124,\"????????\"),6,1))","v":""},{"$f":"IF(入力用科目!$AD124=\"\",\"\",MID(TEXT(入力用科目!$AD124,\"????????\"),7,1))","v":""},{"$f":"IF(入力用科目!$AD124=\"\",\"\",MID(TEXT(入力用科目!$AD124,\"????????\"),8,1))","v":""},null,{"$f":"IF(入力用科目!$AM124=\"\",\"\",MID(TEXT(入力用科目!$AM124,\"????????\"),1,1))","v":" "},{"$f":"IF(入力用科目!$AM124=\"\",\"\",MID(TEXT(入力用科目!$AM124,\"????????\"),2,1))","v":" "},{"$f":"IF(入力用科目!$AM124=\"\",\"\",MID(TEXT(入力用科目!$AM124,\"????????\"),3,1))","v":" "},{"$f":"IF(入力用科目!$AM124=\"\",\"\",MID(TEXT(入力用科目!$AM124,\"????????\"),4,1))","v":" "},{"$f":"IF(入力用科目!$AM124=\"\",\"\",MID(TEXT(入力用科目!$AM124,\"????????\"),5,1))","v":" "},{"$f":"IF(入力用科目!$AM124=\"\",\"\",MID(TEXT(入力用科目!$AM124,\"????????\"),6,1))","v":" "},{"$f":"IF(入力用科目!$AM124=\"\",\"\",MID(TEXT(入力用科目!$AM124,\"????????\"),7,1))","v":" "},{"$f":"IF(入力用科目!$AM124=\"\",\"\",MID(TEXT(入力用科目!$AM124,\"????????\"),8,1))","v":" "}]
[{"$f":"IF(入力用科目!A125=\"\",\"\",MID(TEXT(入力用科目!$A125,\"??\"),COLUMN(),1))","v":""},{"$f":"IF(入力用科目!A125=\"\",\"\",MID(TEXT(入力用科目!$A125,\"??\"),COLUMN(),1))","v":""},null,{"$f":"IF(入力用科目!$D125=\"\",\"\",MID(TEXT(入力用科目!$D125,\"???\"),1,1))","v":""},{"$f":"IF(入力用科目!$D125=\"\",\"\",MID(TEXT(入力用科目!$D125,\"???\"),2,1))","v":""},{"$f":"IF(入力用科目!$D125=\"\",\"\",MID(TEXT(入力用科目!$D125,\"???\"),3,1))","v":""},null,{"$f":"IF(入力用科目!H125=\"\",\"\",入力用科目!H125)","v":"小　　　計"},null,null,null,null,null,null,null,null,{"$f":"IF(入力用科目!$Q125=\"\",\"\",MID(TEXT(入力用科目!$Q125,\"???\"),1,1))","v":""},{"$f":"IF(入力用科目!$Q125=\"\",\"\",MID(TEXT(入力用科目!$Q125,\"???\"),2,1))","v":""},{"$f":"IF(入力用科目!$Q125=\"\",\"\",MID(TEXT(入力用科目!$Q125,\"???\"),3,1))","v":""},null,{"$f":"IF(入力用科目!$U125=\"\",\"\",MID(TEXT(入力用科目!$U125,\"????????\"),1,1))","v":" "},{"$f":"IF(入力用科目!$U125=\"\",\"\",MID(TEXT(入力用科目!$U125,\"????????\"),2,1))","v":" "},{"$f":"IF(入力用科目!$U125=\"\",\"\",MID(TEXT(入力用科目!$U125,\"????????\"),3,1))","v":" "},{"$f":"IF(入力用科目!$U125=\"\",\"\",MID(TEXT(入力用科目!$U125,\"????????\"),4,1))","v":" "},{"$f":"IF(入力用科目!$U125=\"\",\"\",MID(TEXT(入力用科目!$U125,\"????????\"),5,1))","v":" "},{"$f":"IF(入力用科目!$U125=\"\",\"\",MID(TEXT(入力用科目!$U125,\"????????\"),6,1))","v":" "},{"$f":"IF(入力用科目!$U125=\"\",\"\",MID(TEXT(入力用科目!$U125,\"????????\"),7,1))","v":" "},{"$f":"IF(入力用科目!$U125=\"\",\"\",MID(TEXT(入力用科目!$U125,\"????????\"),8,1))","v":" "},null,{"$f":"IF(入力用科目!$AD125=\"\",\"\",MID(TEXT(入力用科目!$AD125,\"????????\"),1,1))","v":" "},{"$f":"IF(入力用科目!$AD125=\"\",\"\",MID(TEXT(入力用科目!$AD125,\"????????\"),2,1))","v":" "},{"$f":"IF(入力用科目!$AD125=\"\",\"\",MID(TEXT(入力用科目!$AD125,\"????????\"),3,1))","v":" "},{"$f":"IF(入力用科目!$AD125=\"\",\"\",MID(TEXT(入力用科目!$AD125,\"????????\"),4,1))","v":" "},{"$f":"IF(入力用科目!$AD125=\"\",\"\",MID(TEXT(入力用科目!$AD125,\"????????\"),5,1))","v":" "},{"$f":"IF(入力用科目!$AD125=\"\",\"\",MID(TEXT(入力用科目!$AD125,\"????????\"),6,1))","v":" "},{"$f":"IF(入力用科目!$AD125=\"\",\"\",MID(TEXT(入力用科目!$AD125,\"????????\"),7,1))","v":" "},{"$f":"IF(入力用科目!$AD125=\"\",\"\",MID(TEXT(入力用科目!$AD125,\"????????\"),8,1))","v":" "},null,{"$f":"IF(入力用科目!$AM125=\"\",\"\",MID(TEXT(入力用科目!$AM125,\"????????\"),1,1))","v":" "},{"$f":"IF(入力用科目!$AM125=\"\",\"\",MID(TEXT(入力用科目!$AM125,\"????????\"),2,1))","v":" "},{"$f":"IF(入力用科目!$AM125=\"\",\"\",MID(TEXT(入力用科目!$AM125,\"????????\"),3,1))","v":" "},{"$f":"IF(入力用科目!$AM125=\"\",\"\",MID(TEXT(入力用科目!$AM125,\"????????\"),4,1))","v":" "},{"$f":"IF(入力用科目!$AM125=\"\",\"\",MID(TEXT(入力用科目!$AM125,\"????????\"),5,1))","v":" "},{"$f":"IF(入力用科目!$AM125=\"\",\"\",MID(TEXT(入力用科目!$AM125,\"????????\"),6,1))","v":" "},{"$f":"IF(入力用科目!$AM125=\"\",\"\",MID(TEXT(入力用科目!$AM125,\"????????\"),7,1))","v":" "},{"$f":"IF(入力用科目!$AM125=\"\",\"\",MID(TEXT(入力用科目!$AM125,\"????????\"),8,1))","v":" "}]
[]
[null,{"$f":"IF(入力用科目!B127=\"\",\"\",入力用科目!B127)","v":""}]
[null,null,null,null,null,null,null,null,null,null,null,null,null,null,null,null,null,null,null,null,null,null,null,null,null,null,null,null,null,null,null,{"$f":"IF(入力用科目!$AF128=\"\",\"\",MID(TEXT(入力用科目!$AF128,\"???????\"),1,1))","v":""},{"$f":"IF(入力用科目!$AF128=\"\",\"\",MID(TEXT(入力用科目!$AF128,\"???????\"),2,1))","v":""},{"$f":"IF(入力用科目!$AF128=\"\",\"\",MID(TEXT(入力用科目!$AF128,\"???????\"),3,1))","v":""},{"$f":"IF(入力用科目!$AF128=\"\",\"\",MID(TEXT(入力用科目!$AF128,\"???????\"),4,1))","v":""},{"$f":"IF(入力用科目!$AF128=\"\",\"\",MID(TEXT(入力用科目!$AF128,\"???????\"),5,1))","v":""},{"$f":"IF(入力用科目!$AF128=\"\",\"\",MID(TEXT(入力用科目!$AF128,\"???????\"),6,1))","v":""},{"$f":"IF(入力用科目!$AF128=\"\",\"\",MID(TEXT(入力用科目!$AF128,\"???????\"),7,1))","v":""},null,{"$f":"IF(入力用科目!$AN128=\"\",\"\",MID(TEXT(入力用科目!$AN128,\"???????\"),1,1))","v":" "},{"$f":"IF(入力用科目!$AN128=\"\",\"\",MID(TEXT(入力用科目!$AN128,\"???????\"),2,1))","v":" "},{"$f":"IF(入力用科目!$AN128=\"\",\"\",MID(TEXT(入力用科目!$AN128,\"???????\"),3,1))","v":" "},{"$f":"IF(入力用科目!$AN128=\"\",\"\",MID(TEXT(入力用科目!$AN128,\"???????\"),4,1))","v":" "},{"$f":"IF(入力用科目!$AN128=\"\",\"\",MID(TEXT(入力用科目!$AN128,\"???????\"),5,1))","v":" "},{"$f":"IF(入力用科目!$AN128=\"\",\"\",MID(TEXT(入力用科目!$AN128,\"???????\"),6,1))","v":" "},{"$f":"IF(入力用科目!$AN128=\"\",\"\",MID(TEXT(入力用科目!$AN128,\"???????\"),7,1))","v":" "}]
[]
[]
[]
[]
[]
[{"$f":"IF(入力用科目!A134=\"\",\"\",入力用科目!A134)","v":0},{"$f":"IF(入力用科目!B134=\"\",\"\",入力用科目!B134)","v":6},null,{"$f":"IF(入力用科目!D134=\"\",\"\",入力用科目!D134)","v":""},{"$f":"IF(入力用科目!E134=\"\",\"\",入力用科目!E134)","v":""},null,null,null,null,null,null,null,null,null,null,null,null,null,null,null,null,null,null,null,null,null,null,null,null,null,null,null,{"$f":"IF(入力用科目!AG134=\"\",\"\",入力用科目!AG134)","v":""},null,null,null,null,null,null,null,null,{"$f":"IF(入力用科目!AP134=\"\",\"\",入力用科目!AP134)","v":""},null,{"$f":"IF(入力用科目!AR134=\"\",\"\",入力用科目!AR134)","v":""}]
[]
[]
[null,null,null,null,null,null,null,null,null,null,null,null,null,null,null,null,null,null,null,null,null,null,null,null,null,null,null,null,null,null,null,null,null,null,null,null,null,null,{"$f":"IF(入力用科目!$AM137=\"\",\"\",MID(TEXT(入力用科目!$AM137,\"????????\"),1,1))","v":" "},{"$f":"IF(入力用科目!$AM137=\"\",\"\",MID(TEXT(入力用科目!$AM137,\"????????\"),2,1))","v":" "},{"$f":"IF(入力用科目!$AM137=\"\",\"\",MID(TEXT(入力用科目!$AM137,\"????????\"),3,1))","v":" "},{"$f":"IF(入力用科目!$AM137=\"\",\"\",MID(TEXT(入力用科目!$AM137,\"????????\"),4,1))","v":" "},{"$f":"IF(入力用科目!$AM137=\"\",\"\",MID(TEXT(入力用科目!$AM137,\"????????\"),5,1))","v":" "},{"$f":"IF(入力用科目!$AM137=\"\",\"\",MID(TEXT(入力用科目!$AM137,\"????????\"),6,1))","v":" "},{"$f":"IF(入力用科目!$AM137=\"\",\"\",MID(TEXT(入力用科目!$AM137,\"????????\"),7,1))","v":" "},{"$f":"IF(入力用科目!$AM137=\"\",\"\",MID(TEXT(入力用科目!$AM137,\"????????\"),8,1))","v":" "}]
[{"$f":"IF(入力用科目!A138=\"\",\"\",MID(TEXT(入力用科目!$A138,\"??\"),COLUMN(),1))","v":""},{"$f":"IF(入力用科目!A138=\"\",\"\",MID(TEXT(入力用科目!$A138,\"??\"),COLUMN(),1))","v":""},null,{"$f":"IF(入力用科目!$D138=\"\",\"\",MID(TEXT(入力用科目!$D138,\"???\"),1,1))","v":""},{"$f":"IF(入力用科目!$D138=\"\",\"\",MID(TEXT(入力用科目!$D138,\"???\"),2,1))","v":""},{"$f":"IF(入力用科目!$D138=\"\",\"\",MID(TEXT(入力用科目!$D138,\"???\"),3,1))","v":""},null,{"$f":"IF(入力用科目!$Q138=1,\"運送収入\",IF(入力用科目!$H138=\"\",\"\",入力用科目!$H138))","v":""},null,null,null,null,null,null,null,null,{"$f":"IF(入力用科目!$Q138=\"\",\"\",MID(TEXT(入力用科目!$Q138,\"???\"),1,1))","v":""},{"$f":"IF(入力用科目!$Q138=\"\",\"\",MID(TEXT(入力用科目!$Q138,\"???\"),2,1))","v":""},{"$f":"IF(入力用科目!$Q138=\"\",\"\",MID(TEXT(入力用科目!$Q138,\"???\"),3,1))","v":""},null,{"$f":"IF(入力用科目!$U138=\"\",\"\",MID(TEXT(入力用科目!$U138,\"????????\"),1,1))","v":""},{"$f":"IF(入力用科目!$U138=\"\",\"\",MID(TEXT(入力用科目!$U138,\"????????\"),2,1))","v":""},{"$f":"IF(入力用科目!$U138=\"\",\"\",MID(TEXT(入力用科目!$U138,\"????????\"),3,1))","v":""},{"$f":"IF(入力用科目!$U138=\"\",\"\",MID(TEXT(入力用科目!$U138,\"????????\"),4,1))","v":""},{"$f":"IF(入力用科目!$U138=\"\",\"\",MID(TEXT(入力用科目!$U138,\"????????\"),5,1))","v":""},{"$f":"IF(入力用科目!$U138=\"\",\"\",MID(TEXT(入力用科目!$U138,\"????????\"),6,1))","v":""},{"$f":"IF(入力用科目!$U138=\"\",\"\",MID(TEXT(入力用科目!$U138,\"????????\"),7,1))","v":""},{"$f":"IF(入力用科目!$U138=\"\",\"\",MID(TEXT(入力用科目!$U138,\"????????\"),8,1))","v":""},null,{"$f":"IF(入力用科目!$AD138=\"\",\"\",MID(TEXT(入力用科目!$AD138,\"????????\"),1,1))","v":""},{"$f":"IF(入力用科目!$AD138=\"\",\"\",MID(TEXT(入力用科目!$AD138,\"????????\"),2,1))","v":""},{"$f":"IF(入力用科目!$AD138=\"\",\"\",MID(TEXT(入力用科目!$AD138,\"????????\"),3,1))","v":""},{"$f":"IF(入力用科目!$AD138=\"\",\"\",MID(TEXT(入力用科目!$AD138,\"????????\"),4,1))","v":""},{"$f":"IF(入力用科目!$AD138=\"\",\"\",MID(TEXT(入力用科目!$AD138,\"????????\"),5,1))","v":""},{"$f":"IF(入力用科目!$AD138=\"\",\"\",MID(TEXT(入力用科目!$AD138,\"????????\"),6,1))","v":""},{"$f":"IF(入力用科目!$AD138=\"\",\"\",MID(TEXT(入力用科目!$AD138,\"????????\"),7,1))","v":""},{"$f":"IF(入力用科目!$AD138=\"\",\"\",MID(TEXT(入力用科目!$AD138,\"????????\"),8,1))","v":""},null,{"$f":"IF(入力用科目!$AM138=\"\",\"\",MID(TEXT(入力用科目!$AM138,\"????????\"),1,1))","v":" "},{"$f":"IF(入力用科目!$AM138=\"\",\"\",MID(TEXT(入力用科目!$AM138,\"????????\"),2,1))","v":" "},{"$f":"IF(入力用科目!$AM138=\"\",\"\",MID(TEXT(入力用科目!$AM138,\"????????\"),3,1))","v":" "},{"$f":"IF(入力用科目!$AM138=\"\",\"\",MID(TEXT(入力用科目!$AM138,\"????????\"),4,1))","v":" "},{"$f":"IF(入力用科目!$AM138=\"\",\"\",MID(TEXT(入力用科目!$AM138,\"????????\"),5,1))","v":" "},{"$f":"IF(入力用科目!$AM138=\"\",\"\",MID(TEXT(入力用科目!$AM138,\"????????\"),6,1))","v":" "},{"$f":"IF(入力用科目!$AM138=\"\",\"\",MID(TEXT(入力用科目!$AM138,\"????????\"),7,1))","v":" "},{"$f":"IF(入力用科目!$AM138=\"\",\"\",MID(TEXT(入力用科目!$AM138,\"????????\"),8,1))","v":" "}]
[{"$f":"IF(入力用科目!A139=\"\",\"\",MID(TEXT(入力用科目!$A139,\"??\"),COLUMN(),1))","v":""},{"$f":"IF(入力用科目!A139=\"\",\"\",MID(TEXT(入力用科目!$A139,\"??\"),COLUMN(),1))","v":""},null,{"$f":"IF(入力用科目!$D139=\"\",\"\",MID(TEXT(入力用科目!$D139,\"???\"),1,1))","v":""},{"$f":"IF(入力用科目!$D139=\"\",\"\",MID(TEXT(入力用科目!$D139,\"???\"),2,1))","v":""},{"$f":"IF(入力用科目!$D139=\"\",\"\",MID(TEXT(入力用科目!$D139,\"???\"),3,1))","v":""},null,{"$f":"IF(入力用科目!$Q139=1,\"運送収入\",IF(入力用科目!$H139=\"\",\"\",入力用科目!$H139))","v":""},null,null,null,null,null,null,null,null,{"$f":"IF(入力用科目!$Q139=\"\",\"\",MID(TEXT(入力用科目!$Q139,\"???\"),1,1))","v":""},{"$f":"IF(入力用科目!$Q139=\"\",\"\",MID(TEXT(入力用科目!$Q139,\"???\"),2,1))","v":""},{"$f":"IF(入力用科目!$Q139=\"\",\"\",MID(TEXT(入力用科目!$Q139,\"???\"),3,1))","v":""},null,{"$f":"IF(入力用科目!$U139=\"\",\"\",MID(TEXT(入力用科目!$U139,\"????????\"),1,1))","v":""},{"$f":"IF(入力用科目!$U139=\"\",\"\",MID(TEXT(入力用科目!$U139,\"????????\"),2,1))","v":""},{"$f":"IF(入力用科目!$U139=\"\",\"\",MID(TEXT(入力用科目!$U139,\"????????\"),3,1))","v":""},{"$f":"IF(入力用科目!$U139=\"\",\"\",MID(TEXT(入力用科目!$U139,\"????????\"),4,1))","v":""},{"$f":"IF(入力用科目!$U139=\"\",\"\",MID(TEXT(入力用科目!$U139,\"????????\"),5,1))","v":""},{"$f":"IF(入力用科目!$U139=\"\",\"\",MID(TEXT(入力用科目!$U139,\"????????\"),6,1))","v":""},{"$f":"IF(入力用科目!$U139=\"\",\"\",MID(TEXT(入力用科目!$U139,\"????????\"),7,1))","v":""},{"$f":"IF(入力用科目!$U139=\"\",\"\",MID(TEXT(入力用科目!$U139,\"????????\"),8,1))","v":""},null,{"$f":"IF(入力用科目!$AD139=\"\",\"\",MID(TEXT(入力用科目!$AD139,\"????????\"),1,1))","v":""},{"$f":"IF(入力用科目!$AD139=\"\",\"\",MID(TEXT(入力用科目!$AD139,\"????????\"),2,1))","v":""},{"$f":"IF(入力用科目!$AD139=\"\",\"\",MID(TEXT(入力用科目!$AD139,\"????????\"),3,1))","v":""},{"$f":"IF(入力用科目!$AD139=\"\",\"\",MID(TEXT(入力用科目!$AD139,\"????????\"),4,1))","v":""},{"$f":"IF(入力用科目!$AD139=\"\",\"\",MID(TEXT(入力用科目!$AD139,\"????????\"),5,1))","v":""},{"$f":"IF(入力用科目!$AD139=\"\",\"\",MID(TEXT(入力用科目!$AD139,\"????????\"),6,1))","v":""},{"$f":"IF(入力用科目!$AD139=\"\",\"\",MID(TEXT(入力用科目!$AD139,\"????????\"),7,1))","v":""},{"$f":"IF(入力用科目!$AD139=\"\",\"\",MID(TEXT(入力用科目!$AD139,\"????????\"),8,1))","v":""},null,{"$f":"IF(入力用科目!$AM139=\"\",\"\",MID(TEXT(入力用科目!$AM139,\"????????\"),1,1))","v":" "},{"$f":"IF(入力用科目!$AM139=\"\",\"\",MID(TEXT(入力用科目!$AM139,\"????????\"),2,1))","v":" "},{"$f":"IF(入力用科目!$AM139=\"\",\"\",MID(TEXT(入力用科目!$AM139,\"????????\"),3,1))","v":" "},{"$f":"IF(入力用科目!$AM139=\"\",\"\",MID(TEXT(入力用科目!$AM139,\"????????\"),4,1))","v":" "},{"$f":"IF(入力用科目!$AM139=\"\",\"\",MID(TEXT(入力用科目!$AM139,\"????????\"),5,1))","v":" "},{"$f":"IF(入力用科目!$AM139=\"\",\"\",MID(TEXT(入力用科目!$AM139,\"????????\"),6,1))","v":" "},{"$f":"IF(入力用科目!$AM139=\"\",\"\",MID(TEXT(入力用科目!$AM139,\"????????\"),7,1))","v":" "},{"$f":"IF(入力用科目!$AM139=\"\",\"\",MID(TEXT(入力用科目!$AM139,\"????????\"),8,1))","v":" "}]
[{"$f":"IF(入力用科目!A140=\"\",\"\",MID(TEXT(入力用科目!$A140,\"??\"),COLUMN(),1))","v":""},{"$f":"IF(入力用科目!A140=\"\",\"\",MID(TEXT(入力用科目!$A140,\"??\"),COLUMN(),1))","v":""},null,{"$f":"IF(入力用科目!$D140=\"\",\"\",MID(TEXT(入力用科目!$D140,\"???\"),1,1))","v":""},{"$f":"IF(入力用科目!$D140=\"\",\"\",MID(TEXT(入力用科目!$D140,\"???\"),2,1))","v":""},{"$f":"IF(入力用科目!$D140=\"\",\"\",MID(TEXT(入力用科目!$D140,\"???\"),3,1))","v":""},null,{"$f":"IF(入力用科目!$Q140=1,\"運送収入\",IF(入力用科目!$H140=\"\",\"\",入力用科目!$H140))","v":""},null,null,null,null,null,null,null,null,{"$f":"IF(入力用科目!$Q140=\"\",\"\",MID(TEXT(入力用科目!$Q140,\"???\"),1,1))","v":""},{"$f":"IF(入力用科目!$Q140=\"\",\"\",MID(TEXT(入力用科目!$Q140,\"???\"),2,1))","v":""},{"$f":"IF(入力用科目!$Q140=\"\",\"\",MID(TEXT(入力用科目!$Q140,\"???\"),3,1))","v":""},null,{"$f":"IF(入力用科目!$U140=\"\",\"\",MID(TEXT(入力用科目!$U140,\"????????\"),1,1))","v":""},{"$f":"IF(入力用科目!$U140=\"\",\"\",MID(TEXT(入力用科目!$U140,\"????????\"),2,1))","v":""},{"$f":"IF(入力用科目!$U140=\"\",\"\",MID(TEXT(入力用科目!$U140,\"????????\"),3,1))","v":""},{"$f":"IF(入力用科目!$U140=\"\",\"\",MID(TEXT(入力用科目!$U140,\"????????\"),4,1))","v":""},{"$f":"IF(入力用科目!$U140=\"\",\"\",MID(TEXT(入力用科目!$U140,\"????????\"),5,1))","v":""},{"$f":"IF(入力用科目!$U140=\"\",\"\",MID(TEXT(入力用科目!$U140,\"????????\"),6,1))","v":""},{"$f":"IF(入力用科目!$U140=\"\",\"\",MID(TEXT(入力用科目!$U140,\"????????\"),7,1))","v":""},{"$f":"IF(入力用科目!$U140=\"\",\"\",MID(TEXT(入力用科目!$U140,\"????????\"),8,1))","v":""},null,{"$f":"IF(入力用科目!$AD140=\"\",\"\",MID(TEXT(入力用科目!$AD140,\"????????\"),1,1))","v":""},{"$f":"IF(入力用科目!$AD140=\"\",\"\",MID(TEXT(入力用科目!$AD140,\"????????\"),2,1))","v":""},{"$f":"IF(入力用科目!$AD140=\"\",\"\",MID(TEXT(入力用科目!$AD140,\"????????\"),3,1))","v":""},{"$f":"IF(入力用科目!$AD140=\"\",\"\",MID(TEXT(入力用科目!$AD140,\"????????\"),4,1))","v":""},{"$f":"IF(入力用科目!$AD140=\"\",\"\",MID(TEXT(入力用科目!$AD140,\"????????\"),5,1))","v":""},{"$f":"IF(入力用科目!$AD140=\"\",\"\",MID(TEXT(入力用科目!$AD140,\"????????\"),6,1))","v":""},{"$f":"IF(入力用科目!$AD140=\"\",\"\",MID(TEXT(入力用科目!$AD140,\"????????\"),7,1))","v":""},{"$f":"IF(入力用科目!$AD140=\"\",\"\",MID(TEXT(入力用科目!$AD140,\"????????\"),8,1))","v":""},null,{"$f":"IF(入力用科目!$AM140=\"\",\"\",MID(TEXT(入力用科目!$AM140,\"????????\"),1,1))","v":" "},{"$f":"IF(入力用科目!$AM140=\"\",\"\",MID(TEXT(入力用科目!$AM140,\"????????\"),2,1))","v":" "},{"$f":"IF(入力用科目!$AM140=\"\",\"\",MID(TEXT(入力用科目!$AM140,\"????????\"),3,1))","v":" "},{"$f":"IF(入力用科目!$AM140=\"\",\"\",MID(TEXT(入力用科目!$AM140,\"????????\"),4,1))","v":" "},{"$f":"IF(入力用科目!$AM140=\"\",\"\",MID(TEXT(入力用科目!$AM140,\"????????\"),5,1))","v":" "},{"$f":"IF(入力用科目!$AM140=\"\",\"\",MID(TEXT(入力用科目!$AM140,\"????????\"),6,1))","v":" "},{"$f":"IF(入力用科目!$AM140=\"\",\"\",MID(TEXT(入力用科目!$AM140,\"????????\"),7,1))","v":" "},{"$f":"IF(入力用科目!$AM140=\"\",\"\",MID(TEXT(入力用科目!$AM140,\"????????\"),8,1))","v":" "}]
[{"$f":"IF(入力用科目!A141=\"\",\"\",MID(TEXT(入力用科目!$A141,\"??\"),COLUMN(),1))","v":""},{"$f":"IF(入力用科目!A141=\"\",\"\",MID(TEXT(入力用科目!$A141,\"??\"),COLUMN(),1))","v":""},null,{"$f":"IF(入力用科目!$D141=\"\",\"\",MID(TEXT(入力用科目!$D141,\"???\"),1,1))","v":""},{"$f":"IF(入力用科目!$D141=\"\",\"\",MID(TEXT(入力用科目!$D141,\"???\"),2,1))","v":""},{"$f":"IF(入力用科目!$D141=\"\",\"\",MID(TEXT(入力用科目!$D141,\"???\"),3,1))","v":""},null,{"$f":"IF(入力用科目!$Q141=1,\"運送収入\",IF(入力用科目!$H141=\"\",\"\",入力用科目!$H141))","v":""},null,null,null,null,null,null,null,null,{"$f":"IF(入力用科目!$Q141=\"\",\"\",MID(TEXT(入力用科目!$Q141,\"???\"),1,1))","v":""},{"$f":"IF(入力用科目!$Q141=\"\",\"\",MID(TEXT(入力用科目!$Q141,\"???\"),2,1))","v":""},{"$f":"IF(入力用科目!$Q141=\"\",\"\",MID(TEXT(入力用科目!$Q141,\"???\"),3,1))","v":""},null,{"$f":"IF(入力用科目!$U141=\"\",\"\",MID(TEXT(入力用科目!$U141,\"????????\"),1,1))","v":""},{"$f":"IF(入力用科目!$U141=\"\",\"\",MID(TEXT(入力用科目!$U141,\"????????\"),2,1))","v":""},{"$f":"IF(入力用科目!$U141=\"\",\"\",MID(TEXT(入力用科目!$U141,\"????????\"),3,1))","v":""},{"$f":"IF(入力用科目!$U141=\"\",\"\",MID(TEXT(入力用科目!$U141,\"????????\"),4,1))","v":""},{"$f":"IF(入力用科目!$U141=\"\",\"\",MID(TEXT(入力用科目!$U141,\"????????\"),5,1))","v":""},{"$f":"IF(入力用科目!$U141=\"\",\"\",MID(TEXT(入力用科目!$U141,\"????????\"),6,1))","v":""},{"$f":"IF(入力用科目!$U141=\"\",\"\",MID(TEXT(入力用科目!$U141,\"????????\"),7,1))","v":""},{"$f":"IF(入力用科目!$U141=\"\",\"\",MID(TEXT(入力用科目!$U141,\"????????\"),8,1))","v":""},null,{"$f":"IF(入力用科目!$AD141=\"\",\"\",MID(TEXT(入力用科目!$AD141,\"????????\"),1,1))","v":""},{"$f":"IF(入力用科目!$AD141=\"\",\"\",MID(TEXT(入力用科目!$AD141,\"????????\"),2,1))","v":""},{"$f":"IF(入力用科目!$AD141=\"\",\"\",MID(TEXT(入力用科目!$AD141,\"????????\"),3,1))","v":""},{"$f":"IF(入力用科目!$AD141=\"\",\"\",MID(TEXT(入力用科目!$AD141,\"????????\"),4,1))","v":""},{"$f":"IF(入力用科目!$AD141=\"\",\"\",MID(TEXT(入力用科目!$AD141,\"????????\"),5,1))","v":""},{"$f":"IF(入力用科目!$AD141=\"\",\"\",MID(TEXT(入力用科目!$AD141,\"????????\"),6,1))","v":""},{"$f":"IF(入力用科目!$AD141=\"\",\"\",MID(TEXT(入力用科目!$AD141,\"????????\"),7,1))","v":""},{"$f":"IF(入力用科目!$AD141=\"\",\"\",MID(TEXT(入力用科目!$AD141,\"????????\"),8,1))","v":""},null,{"$f":"IF(入力用科目!$AM141=\"\",\"\",MID(TEXT(入力用科目!$AM141,\"????????\"),1,1))","v":" "},{"$f":"IF(入力用科目!$AM141=\"\",\"\",MID(TEXT(入力用科目!$AM141,\"????????\"),2,1))","v":" "},{"$f":"IF(入力用科目!$AM141=\"\",\"\",MID(TEXT(入力用科目!$AM141,\"????????\"),3,1))","v":" "},{"$f":"IF(入力用科目!$AM141=\"\",\"\",MID(TEXT(入力用科目!$AM141,\"????????\"),4,1))","v":" "},{"$f":"IF(入力用科目!$AM141=\"\",\"\",MID(TEXT(入力用科目!$AM141,\"????????\"),5,1))","v":" "},{"$f":"IF(入力用科目!$AM141=\"\",\"\",MID(TEXT(入力用科目!$AM141,\"????????\"),6,1))","v":" "},{"$f":"IF(入力用科目!$AM141=\"\",\"\",MID(TEXT(入力用科目!$AM141,\"????????\"),7,1))","v":" "},{"$f":"IF(入力用科目!$AM141=\"\",\"\",MID(TEXT(入力用科目!$AM141,\"????????\"),8,1))","v":" "}]
[{"$f":"IF(入力用科目!A142=\"\",\"\",MID(TEXT(入力用科目!$A142,\"??\"),COLUMN(),1))","v":""},{"$f":"IF(入力用科目!A142=\"\",\"\",MID(TEXT(入力用科目!$A142,\"??\"),COLUMN(),1))","v":""},null,{"$f":"IF(入力用科目!$D142=\"\",\"\",MID(TEXT(入力用科目!$D142,\"???\"),1,1))","v":""},{"$f":"IF(入力用科目!$D142=\"\",\"\",MID(TEXT(入力用科目!$D142,\"???\"),2,1))","v":""},{"$f":"IF(入力用科目!$D142=\"\",\"\",MID(TEXT(入力用科目!$D142,\"???\"),3,1))","v":""},null,{"$f":"IF(入力用科目!$Q142=1,\"運送収入\",IF(入力用科目!$H142=\"\",\"\",入力用科目!$H142))","v":""},null,null,null,null,null,null,null,null,{"$f":"IF(入力用科目!$Q142=\"\",\"\",MID(TEXT(入力用科目!$Q142,\"???\"),1,1))","v":""},{"$f":"IF(入力用科目!$Q142=\"\",\"\",MID(TEXT(入力用科目!$Q142,\"???\"),2,1))","v":""},{"$f":"IF(入力用科目!$Q142=\"\",\"\",MID(TEXT(入力用科目!$Q142,\"???\"),3,1))","v":""},null,{"$f":"IF(入力用科目!$U142=\"\",\"\",MID(TEXT(入力用科目!$U142,\"????????\"),1,1))","v":""},{"$f":"IF(入力用科目!$U142=\"\",\"\",MID(TEXT(入力用科目!$U142,\"????????\"),2,1))","v":""},{"$f":"IF(入力用科目!$U142=\"\",\"\",MID(TEXT(入力用科目!$U142,\"????????\"),3,1))","v":""},{"$f":"IF(入力用科目!$U142=\"\",\"\",MID(TEXT(入力用科目!$U142,\"????????\"),4,1))","v":""},{"$f":"IF(入力用科目!$U142=\"\",\"\",MID(TEXT(入力用科目!$U142,\"????????\"),5,1))","v":""},{"$f":"IF(入力用科目!$U142=\"\",\"\",MID(TEXT(入力用科目!$U142,\"????????\"),6,1))","v":""},{"$f":"IF(入力用科目!$U142=\"\",\"\",MID(TEXT(入力用科目!$U142,\"????????\"),7,1))","v":""},{"$f":"IF(入力用科目!$U142=\"\",\"\",MID(TEXT(入力用科目!$U142,\"????????\"),8,1))","v":""},null,{"$f":"IF(入力用科目!$AD142=\"\",\"\",MID(TEXT(入力用科目!$AD142,\"????????\"),1,1))","v":""},{"$f":"IF(入力用科目!$AD142=\"\",\"\",MID(TEXT(入力用科目!$AD142,\"????????\"),2,1))","v":""},{"$f":"IF(入力用科目!$AD142=\"\",\"\",MID(TEXT(入力用科目!$AD142,\"????????\"),3,1))","v":""},{"$f":"IF(入力用科目!$AD142=\"\",\"\",MID(TEXT(入力用科目!$AD142,\"????????\"),4,1))","v":""},{"$f":"IF(入力用科目!$AD142=\"\",\"\",MID(TEXT(入力用科目!$AD142,\"????????\"),5,1))","v":""},{"$f":"IF(入力用科目!$AD142=\"\",\"\",MID(TEXT(入力用科目!$AD142,\"????????\"),6,1))","v":""},{"$f":"IF(入力用科目!$AD142=\"\",\"\",MID(TEXT(入力用科目!$AD142,\"????????\"),7,1))","v":""},{"$f":"IF(入力用科目!$AD142=\"\",\"\",MID(TEXT(入力用科目!$AD142,\"????????\"),8,1))","v":""},null,{"$f":"IF(入力用科目!$AM142=\"\",\"\",MID(TEXT(入力用科目!$AM142,\"????????\"),1,1))","v":" "},{"$f":"IF(入力用科目!$AM142=\"\",\"\",MID(TEXT(入力用科目!$AM142,\"????????\"),2,1))","v":" "},{"$f":"IF(入力用科目!$AM142=\"\",\"\",MID(TEXT(入力用科目!$AM142,\"????????\"),3,1))","v":" "},{"$f":"IF(入力用科目!$AM142=\"\",\"\",MID(TEXT(入力用科目!$AM142,\"????????\"),4,1))","v":" "},{"$f":"IF(入力用科目!$AM142=\"\",\"\",MID(TEXT(入力用科目!$AM142,\"????????\"),5,1))","v":" "},{"$f":"IF(入力用科目!$AM142=\"\",\"\",MID(TEXT(入力用科目!$AM142,\"????????\"),6,1))","v":" "},{"$f":"IF(入力用科目!$AM142=\"\",\"\",MID(TEXT(入力用科目!$AM142,\"????????\"),7,1))","v":" "},{"$f":"IF(入力用科目!$AM142=\"\",\"\",MID(TEXT(入力用科目!$AM142,\"????????\"),8,1))","v":" "}]
[{"$f":"IF(入力用科目!A143=\"\",\"\",MID(TEXT(入力用科目!$A143,\"??\"),COLUMN(),1))","v":""},{"$f":"IF(入力用科目!A143=\"\",\"\",MID(TEXT(入力用科目!$A143,\"??\"),COLUMN(),1))","v":""},null,{"$f":"IF(入力用科目!$D143=\"\",\"\",MID(TEXT(入力用科目!$D143,\"???\"),1,1))","v":""},{"$f":"IF(入力用科目!$D143=\"\",\"\",MID(TEXT(入力用科目!$D143,\"???\"),2,1))","v":""},{"$f":"IF(入力用科目!$D143=\"\",\"\",MID(TEXT(入力用科目!$D143,\"???\"),3,1))","v":""},null,{"$f":"IF(入力用科目!$Q143=1,\"運送収入\",IF(入力用科目!$H143=\"\",\"\",入力用科目!$H143))","v":""},null,null,null,null,null,null,null,null,{"$f":"IF(入力用科目!$Q143=\"\",\"\",MID(TEXT(入力用科目!$Q143,\"???\"),1,1))","v":""},{"$f":"IF(入力用科目!$Q143=\"\",\"\",MID(TEXT(入力用科目!$Q143,\"???\"),2,1))","v":""},{"$f":"IF(入力用科目!$Q143=\"\",\"\",MID(TEXT(入力用科目!$Q143,\"???\"),3,1))","v":""},null,{"$f":"IF(入力用科目!$U143=\"\",\"\",MID(TEXT(入力用科目!$U143,\"????????\"),1,1))","v":""},{"$f":"IF(入力用科目!$U143=\"\",\"\",MID(TEXT(入力用科目!$U143,\"????????\"),2,1))","v":""},{"$f":"IF(入力用科目!$U143=\"\",\"\",MID(TEXT(入力用科目!$U143,\"????????\"),3,1))","v":""},{"$f":"IF(入力用科目!$U143=\"\",\"\",MID(TEXT(入力用科目!$U143,\"????????\"),4,1))","v":""},{"$f":"IF(入力用科目!$U143=\"\",\"\",MID(TEXT(入力用科目!$U143,\"????????\"),5,1))","v":""},{"$f":"IF(入力用科目!$U143=\"\",\"\",MID(TEXT(入力用科目!$U143,\"????????\"),6,1))","v":""},{"$f":"IF(入力用科目!$U143=\"\",\"\",MID(TEXT(入力用科目!$U143,\"????????\"),7,1))","v":""},{"$f":"IF(入力用科目!$U143=\"\",\"\",MID(TEXT(入力用科目!$U143,\"????????\"),8,1))","v":""},null,{"$f":"IF(入力用科目!$AD143=\"\",\"\",MID(TEXT(入力用科目!$AD143,\"????????\"),1,1))","v":""},{"$f":"IF(入力用科目!$AD143=\"\",\"\",MID(TEXT(入力用科目!$AD143,\"????????\"),2,1))","v":""},{"$f":"IF(入力用科目!$AD143=\"\",\"\",MID(TEXT(入力用科目!$AD143,\"????????\"),3,1))","v":""},{"$f":"IF(入力用科目!$AD143=\"\",\"\",MID(TEXT(入力用科目!$AD143,\"????????\"),4,1))","v":""},{"$f":"IF(入力用科目!$AD143=\"\",\"\",MID(TEXT(入力用科目!$AD143,\"????????\"),5,1))","v":""},{"$f":"IF(入力用科目!$AD143=\"\",\"\",MID(TEXT(入力用科目!$AD143,\"????????\"),6,1))","v":""},{"$f":"IF(入力用科目!$AD143=\"\",\"\",MID(TEXT(入力用科目!$AD143,\"????????\"),7,1))","v":""},{"$f":"IF(入力用科目!$AD143=\"\",\"\",MID(TEXT(入力用科目!$AD143,\"????????\"),8,1))","v":""},null,{"$f":"IF(入力用科目!$AM143=\"\",\"\",MID(TEXT(入力用科目!$AM143,\"????????\"),1,1))","v":" "},{"$f":"IF(入力用科目!$AM143=\"\",\"\",MID(TEXT(入力用科目!$AM143,\"????????\"),2,1))","v":" "},{"$f":"IF(入力用科目!$AM143=\"\",\"\",MID(TEXT(入力用科目!$AM143,\"????????\"),3,1))","v":" "},{"$f":"IF(入力用科目!$AM143=\"\",\"\",MID(TEXT(入力用科目!$AM143,\"????????\"),4,1))","v":" "},{"$f":"IF(入力用科目!$AM143=\"\",\"\",MID(TEXT(入力用科目!$AM143,\"????????\"),5,1))","v":" "},{"$f":"IF(入力用科目!$AM143=\"\",\"\",MID(TEXT(入力用科目!$AM143,\"????????\"),6,1))","v":" "},{"$f":"IF(入力用科目!$AM143=\"\",\"\",MID(TEXT(入力用科目!$AM143,\"????????\"),7,1))","v":" "},{"$f":"IF(入力用科目!$AM143=\"\",\"\",MID(TEXT(入力用科目!$AM143,\"????????\"),8,1))","v":" "}]
[{"$f":"IF(入力用科目!A144=\"\",\"\",MID(TEXT(入力用科目!$A144,\"??\"),COLUMN(),1))","v":""},{"$f":"IF(入力用科目!A144=\"\",\"\",MID(TEXT(入力用科目!$A144,\"??\"),COLUMN(),1))","v":""},null,{"$f":"IF(入力用科目!$D144=\"\",\"\",MID(TEXT(入力用科目!$D144,\"???\"),1,1))","v":""},{"$f":"IF(入力用科目!$D144=\"\",\"\",MID(TEXT(入力用科目!$D144,\"???\"),2,1))","v":""},{"$f":"IF(入力用科目!$D144=\"\",\"\",MID(TEXT(入力用科目!$D144,\"???\"),3,1))","v":""},null,{"$f":"IF(入力用科目!$Q144=1,\"運送収入\",IF(入力用科目!$H144=\"\",\"\",入力用科目!$H144))","v":""},null,null,null,null,null,null,null,null,{"$f":"IF(入力用科目!$Q144=\"\",\"\",MID(TEXT(入力用科目!$Q144,\"???\"),1,1))","v":""},{"$f":"IF(入力用科目!$Q144=\"\",\"\",MID(TEXT(入力用科目!$Q144,\"???\"),2,1))","v":""},{"$f":"IF(入力用科目!$Q144=\"\",\"\",MID(TEXT(入力用科目!$Q144,\"???\"),3,1))","v":""},null,{"$f":"IF(入力用科目!$U144=\"\",\"\",MID(TEXT(入力用科目!$U144,\"????????\"),1,1))","v":""},{"$f":"IF(入力用科目!$U144=\"\",\"\",MID(TEXT(入力用科目!$U144,\"????????\"),2,1))","v":""},{"$f":"IF(入力用科目!$U144=\"\",\"\",MID(TEXT(入力用科目!$U144,\"????????\"),3,1))","v":""},{"$f":"IF(入力用科目!$U144=\"\",\"\",MID(TEXT(入力用科目!$U144,\"????????\"),4,1))","v":""},{"$f":"IF(入力用科目!$U144=\"\",\"\",MID(TEXT(入力用科目!$U144,\"????????\"),5,1))","v":""},{"$f":"IF(入力用科目!$U144=\"\",\"\",MID(TEXT(入力用科目!$U144,\"????????\"),6,1))","v":""},{"$f":"IF(入力用科目!$U144=\"\",\"\",MID(TEXT(入力用科目!$U144,\"????????\"),7,1))","v":""},{"$f":"IF(入力用科目!$U144=\"\",\"\",MID(TEXT(入力用科目!$U144,\"????????\"),8,1))","v":""},null,{"$f":"IF(入力用科目!$AD144=\"\",\"\",MID(TEXT(入力用科目!$AD144,\"????????\"),1,1))","v":""},{"$f":"IF(入力用科目!$AD144=\"\",\"\",MID(TEXT(入力用科目!$AD144,\"????????\"),2,1))","v":""},{"$f":"IF(入力用科目!$AD144=\"\",\"\",MID(TEXT(入力用科目!$AD144,\"????????\"),3,1))","v":""},{"$f":"IF(入力用科目!$AD144=\"\",\"\",MID(TEXT(入力用科目!$AD144,\"????????\"),4,1))","v":""},{"$f":"IF(入力用科目!$AD144=\"\",\"\",MID(TEXT(入力用科目!$AD144,\"????????\"),5,1))","v":""},{"$f":"IF(入力用科目!$AD144=\"\",\"\",MID(TEXT(入力用科目!$AD144,\"????????\"),6,1))","v":""},{"$f":"IF(入力用科目!$AD144=\"\",\"\",MID(TEXT(入力用科目!$AD144,\"????????\"),7,1))","v":""},{"$f":"IF(入力用科目!$AD144=\"\",\"\",MID(TEXT(入力用科目!$AD144,\"????????\"),8,1))","v":""},null,{"$f":"IF(入力用科目!$AM144=\"\",\"\",MID(TEXT(入力用科目!$AM144,\"????????\"),1,1))","v":" "},{"$f":"IF(入力用科目!$AM144=\"\",\"\",MID(TEXT(入力用科目!$AM144,\"????????\"),2,1))","v":" "},{"$f":"IF(入力用科目!$AM144=\"\",\"\",MID(TEXT(入力用科目!$AM144,\"????????\"),3,1))","v":" "},{"$f":"IF(入力用科目!$AM144=\"\",\"\",MID(TEXT(入力用科目!$AM144,\"????????\"),4,1))","v":" "},{"$f":"IF(入力用科目!$AM144=\"\",\"\",MID(TEXT(入力用科目!$AM144,\"????????\"),5,1))","v":" "},{"$f":"IF(入力用科目!$AM144=\"\",\"\",MID(TEXT(入力用科目!$AM144,\"????????\"),6,1))","v":" "},{"$f":"IF(入力用科目!$AM144=\"\",\"\",MID(TEXT(入力用科目!$AM144,\"????????\"),7,1))","v":" "},{"$f":"IF(入力用科目!$AM144=\"\",\"\",MID(TEXT(入力用科目!$AM144,\"????????\"),8,1))","v":" "}]
[{"$f":"IF(入力用科目!A145=\"\",\"\",MID(TEXT(入力用科目!$A145,\"??\"),COLUMN(),1))","v":""},{"$f":"IF(入力用科目!A145=\"\",\"\",MID(TEXT(入力用科目!$A145,\"??\"),COLUMN(),1))","v":""},null,{"$f":"IF(入力用科目!$D145=\"\",\"\",MID(TEXT(入力用科目!$D145,\"???\"),1,1))","v":""},{"$f":"IF(入力用科目!$D145=\"\",\"\",MID(TEXT(入力用科目!$D145,\"???\"),2,1))","v":""},{"$f":"IF(入力用科目!$D145=\"\",\"\",MID(TEXT(入力用科目!$D145,\"???\"),3,1))","v":""},null,{"$f":"IF(入力用科目!$Q145=1,\"運送収入\",IF(入力用科目!$H145=\"\",\"\",入力用科目!$H145))","v":""},null,null,null,null,null,null,null,null,{"$f":"IF(入力用科目!$Q145=\"\",\"\",MID(TEXT(入力用科目!$Q145,\"???\"),1,1))","v":""},{"$f":"IF(入力用科目!$Q145=\"\",\"\",MID(TEXT(入力用科目!$Q145,\"???\"),2,1))","v":""},{"$f":"IF(入力用科目!$Q145=\"\",\"\",MID(TEXT(入力用科目!$Q145,\"???\"),3,1))","v":""},null,{"$f":"IF(入力用科目!$U145=\"\",\"\",MID(TEXT(入力用科目!$U145,\"????????\"),1,1))","v":""},{"$f":"IF(入力用科目!$U145=\"\",\"\",MID(TEXT(入力用科目!$U145,\"????????\"),2,1))","v":""},{"$f":"IF(入力用科目!$U145=\"\",\"\",MID(TEXT(入力用科目!$U145,\"????????\"),3,1))","v":""},{"$f":"IF(入力用科目!$U145=\"\",\"\",MID(TEXT(入力用科目!$U145,\"????????\"),4,1))","v":""},{"$f":"IF(入力用科目!$U145=\"\",\"\",MID(TEXT(入力用科目!$U145,\"????????\"),5,1))","v":""},{"$f":"IF(入力用科目!$U145=\"\",\"\",MID(TEXT(入力用科目!$U145,\"????????\"),6,1))","v":""},{"$f":"IF(入力用科目!$U145=\"\",\"\",MID(TEXT(入力用科目!$U145,\"????????\"),7,1))","v":""},{"$f":"IF(入力用科目!$U145=\"\",\"\",MID(TEXT(入力用科目!$U145,\"????????\"),8,1))","v":""},null,{"$f":"IF(入力用科目!$AD145=\"\",\"\",MID(TEXT(入力用科目!$AD145,\"????????\"),1,1))","v":""},{"$f":"IF(入力用科目!$AD145=\"\",\"\",MID(TEXT(入力用科目!$AD145,\"????????\"),2,1))","v":""},{"$f":"IF(入力用科目!$AD145=\"\",\"\",MID(TEXT(入力用科目!$AD145,\"????????\"),3,1))","v":""},{"$f":"IF(入力用科目!$AD145=\"\",\"\",MID(TEXT(入力用科目!$AD145,\"????????\"),4,1))","v":""},{"$f":"IF(入力用科目!$AD145=\"\",\"\",MID(TEXT(入力用科目!$AD145,\"????????\"),5,1))","v":""},{"$f":"IF(入力用科目!$AD145=\"\",\"\",MID(TEXT(入力用科目!$AD145,\"????????\"),6,1))","v":""},{"$f":"IF(入力用科目!$AD145=\"\",\"\",MID(TEXT(入力用科目!$AD145,\"????????\"),7,1))","v":""},{"$f":"IF(入力用科目!$AD145=\"\",\"\",MID(TEXT(入力用科目!$AD145,\"????????\"),8,1))","v":""},null,{"$f":"IF(入力用科目!$AM145=\"\",\"\",MID(TEXT(入力用科目!$AM145,\"????????\"),1,1))","v":" "},{"$f":"IF(入力用科目!$AM145=\"\",\"\",MID(TEXT(入力用科目!$AM145,\"????????\"),2,1))","v":" "},{"$f":"IF(入力用科目!$AM145=\"\",\"\",MID(TEXT(入力用科目!$AM145,\"????????\"),3,1))","v":" "},{"$f":"IF(入力用科目!$AM145=\"\",\"\",MID(TEXT(入力用科目!$AM145,\"????????\"),4,1))","v":" "},{"$f":"IF(入力用科目!$AM145=\"\",\"\",MID(TEXT(入力用科目!$AM145,\"????????\"),5,1))","v":" "},{"$f":"IF(入力用科目!$AM145=\"\",\"\",MID(TEXT(入力用科目!$AM145,\"????????\"),6,1))","v":" "},{"$f":"IF(入力用科目!$AM145=\"\",\"\",MID(TEXT(入力用科目!$AM145,\"????????\"),7,1))","v":" "},{"$f":"IF(入力用科目!$AM145=\"\",\"\",MID(TEXT(入力用科目!$AM145,\"????????\"),8,1))","v":" "}]
[{"$f":"IF(入力用科目!A146=\"\",\"\",MID(TEXT(入力用科目!$A146,\"??\"),COLUMN(),1))","v":""},{"$f":"IF(入力用科目!A146=\"\",\"\",MID(TEXT(入力用科目!$A146,\"??\"),COLUMN(),1))","v":""},null,{"$f":"IF(入力用科目!$D146=\"\",\"\",MID(TEXT(入力用科目!$D146,\"???\"),1,1))","v":""},{"$f":"IF(入力用科目!$D146=\"\",\"\",MID(TEXT(入力用科目!$D146,\"???\"),2,1))","v":""},{"$f":"IF(入力用科目!$D146=\"\",\"\",MID(TEXT(入力用科目!$D146,\"???\"),3,1))","v":""},null,{"$f":"IF(入力用科目!$Q146=1,\"運送収入\",IF(入力用科目!$H146=\"\",\"\",入力用科目!$H146))","v":""},null,null,null,null,null,null,null,null,{"$f":"IF(入力用科目!$Q146=\"\",\"\",MID(TEXT(入力用科目!$Q146,\"???\"),1,1))","v":""},{"$f":"IF(入力用科目!$Q146=\"\",\"\",MID(TEXT(入力用科目!$Q146,\"???\"),2,1))","v":""},{"$f":"IF(入力用科目!$Q146=\"\",\"\",MID(TEXT(入力用科目!$Q146,\"???\"),3,1))","v":""},null,{"$f":"IF(入力用科目!$U146=\"\",\"\",MID(TEXT(入力用科目!$U146,\"????????\"),1,1))","v":""},{"$f":"IF(入力用科目!$U146=\"\",\"\",MID(TEXT(入力用科目!$U146,\"????????\"),2,1))","v":""},{"$f":"IF(入力用科目!$U146=\"\",\"\",MID(TEXT(入力用科目!$U146,\"????????\"),3,1))","v":""},{"$f":"IF(入力用科目!$U146=\"\",\"\",MID(TEXT(入力用科目!$U146,\"????????\"),4,1))","v":""},{"$f":"IF(入力用科目!$U146=\"\",\"\",MID(TEXT(入力用科目!$U146,\"????????\"),5,1))","v":""},{"$f":"IF(入力用科目!$U146=\"\",\"\",MID(TEXT(入力用科目!$U146,\"????????\"),6,1))","v":""},{"$f":"IF(入力用科目!$U146=\"\",\"\",MID(TEXT(入力用科目!$U146,\"????????\"),7,1))","v":""},{"$f":"IF(入力用科目!$U146=\"\",\"\",MID(TEXT(入力用科目!$U146,\"????????\"),8,1))","v":""},null,{"$f":"IF(入力用科目!$AD146=\"\",\"\",MID(TEXT(入力用科目!$AD146,\"????????\"),1,1))","v":""},{"$f":"IF(入力用科目!$AD146=\"\",\"\",MID(TEXT(入力用科目!$AD146,\"????????\"),2,1))","v":""},{"$f":"IF(入力用科目!$AD146=\"\",\"\",MID(TEXT(入力用科目!$AD146,\"????????\"),3,1))","v":""},{"$f":"IF(入力用科目!$AD146=\"\",\"\",MID(TEXT(入力用科目!$AD146,\"????????\"),4,1))","v":""},{"$f":"IF(入力用科目!$AD146=\"\",\"\",MID(TEXT(入力用科目!$AD146,\"????????\"),5,1))","v":""},{"$f":"IF(入力用科目!$AD146=\"\",\"\",MID(TEXT(入力用科目!$AD146,\"????????\"),6,1))","v":""},{"$f":"IF(入力用科目!$AD146=\"\",\"\",MID(TEXT(入力用科目!$AD146,\"????????\"),7,1))","v":""},{"$f":"IF(入力用科目!$AD146=\"\",\"\",MID(TEXT(入力用科目!$AD146,\"????????\"),8,1))","v":""},null,{"$f":"IF(入力用科目!$AM146=\"\",\"\",MID(TEXT(入力用科目!$AM146,\"????????\"),1,1))","v":" "},{"$f":"IF(入力用科目!$AM146=\"\",\"\",MID(TEXT(入力用科目!$AM146,\"????????\"),2,1))","v":" "},{"$f":"IF(入力用科目!$AM146=\"\",\"\",MID(TEXT(入力用科目!$AM146,\"????????\"),3,1))","v":" "},{"$f":"IF(入力用科目!$AM146=\"\",\"\",MID(TEXT(入力用科目!$AM146,\"????????\"),4,1))","v":" "},{"$f":"IF(入力用科目!$AM146=\"\",\"\",MID(TEXT(入力用科目!$AM146,\"????????\"),5,1))","v":" "},{"$f":"IF(入力用科目!$AM146=\"\",\"\",MID(TEXT(入力用科目!$AM146,\"????????\"),6,1))","v":" "},{"$f":"IF(入力用科目!$AM146=\"\",\"\",MID(TEXT(入力用科目!$AM146,\"????????\"),7,1))","v":" "},{"$f":"IF(入力用科目!$AM146=\"\",\"\",MID(TEXT(入力用科目!$AM146,\"????????\"),8,1))","v":" "}]
[{"$f":"IF(入力用科目!A147=\"\",\"\",MID(TEXT(入力用科目!$A147,\"??\"),COLUMN(),1))","v":""},{"$f":"IF(入力用科目!A147=\"\",\"\",MID(TEXT(入力用科目!$A147,\"??\"),COLUMN(),1))","v":""},null,{"$f":"IF(入力用科目!$D147=\"\",\"\",MID(TEXT(入力用科目!$D147,\"???\"),1,1))","v":""},{"$f":"IF(入力用科目!$D147=\"\",\"\",MID(TEXT(入力用科目!$D147,\"???\"),2,1))","v":""},{"$f":"IF(入力用科目!$D147=\"\",\"\",MID(TEXT(入力用科目!$D147,\"???\"),3,1))","v":""},null,{"$f":"IF(入力用科目!$Q147=1,\"運送収入\",IF(入力用科目!$H147=\"\",\"\",入力用科目!$H147))","v":""},null,null,null,null,null,null,null,null,{"$f":"IF(入力用科目!$Q147=\"\",\"\",MID(TEXT(入力用科目!$Q147,\"???\"),1,1))","v":""},{"$f":"IF(入力用科目!$Q147=\"\",\"\",MID(TEXT(入力用科目!$Q147,\"???\"),2,1))","v":""},{"$f":"IF(入力用科目!$Q147=\"\",\"\",MID(TEXT(入力用科目!$Q147,\"???\"),3,1))","v":""},null,{"$f":"IF(入力用科目!$U147=\"\",\"\",MID(TEXT(入力用科目!$U147,\"????????\"),1,1))","v":""},{"$f":"IF(入力用科目!$U147=\"\",\"\",MID(TEXT(入力用科目!$U147,\"????????\"),2,1))","v":""},{"$f":"IF(入力用科目!$U147=\"\",\"\",MID(TEXT(入力用科目!$U147,\"????????\"),3,1))","v":""},{"$f":"IF(入力用科目!$U147=\"\",\"\",MID(TEXT(入力用科目!$U147,\"????????\"),4,1))","v":""},{"$f":"IF(入力用科目!$U147=\"\",\"\",MID(TEXT(入力用科目!$U147,\"????????\"),5,1))","v":""},{"$f":"IF(入力用科目!$U147=\"\",\"\",MID(TEXT(入力用科目!$U147,\"????????\"),6,1))","v":""},{"$f":"IF(入力用科目!$U147=\"\",\"\",MID(TEXT(入力用科目!$U147,\"????????\"),7,1))","v":""},{"$f":"IF(入力用科目!$U147=\"\",\"\",MID(TEXT(入力用科目!$U147,\"????????\"),8,1))","v":""},null,{"$f":"IF(入力用科目!$AD147=\"\",\"\",MID(TEXT(入力用科目!$AD147,\"????????\"),1,1))","v":""},{"$f":"IF(入力用科目!$AD147=\"\",\"\",MID(TEXT(入力用科目!$AD147,\"????????\"),2,1))","v":""},{"$f":"IF(入力用科目!$AD147=\"\",\"\",MID(TEXT(入力用科目!$AD147,\"????????\"),3,1))","v":""},{"$f":"IF(入力用科目!$AD147=\"\",\"\",MID(TEXT(入力用科目!$AD147,\"????????\"),4,1))","v":""},{"$f":"IF(入力用科目!$AD147=\"\",\"\",MID(TEXT(入力用科目!$AD147,\"????????\"),5,1))","v":""},{"$f":"IF(入力用科目!$AD147=\"\",\"\",MID(TEXT(入力用科目!$AD147,\"????????\"),6,1))","v":""},{"$f":"IF(入力用科目!$AD147=\"\",\"\",MID(TEXT(入力用科目!$AD147,\"????????\"),7,1))","v":""},{"$f":"IF(入力用科目!$AD147=\"\",\"\",MID(TEXT(入力用科目!$AD147,\"????????\"),8,1))","v":""},null,{"$f":"IF(入力用科目!$AM147=\"\",\"\",MID(TEXT(入力用科目!$AM147,\"????????\"),1,1))","v":" "},{"$f":"IF(入力用科目!$AM147=\"\",\"\",MID(TEXT(入力用科目!$AM147,\"????????\"),2,1))","v":" "},{"$f":"IF(入力用科目!$AM147=\"\",\"\",MID(TEXT(入力用科目!$AM147,\"????????\"),3,1))","v":" "},{"$f":"IF(入力用科目!$AM147=\"\",\"\",MID(TEXT(入力用科目!$AM147,\"????????\"),4,1))","v":" "},{"$f":"IF(入力用科目!$AM147=\"\",\"\",MID(TEXT(入力用科目!$AM147,\"????????\"),5,1))","v":" "},{"$f":"IF(入力用科目!$AM147=\"\",\"\",MID(TEXT(入力用科目!$AM147,\"????????\"),6,1))","v":" "},{"$f":"IF(入力用科目!$AM147=\"\",\"\",MID(TEXT(入力用科目!$AM147,\"????????\"),7,1))","v":" "},{"$f":"IF(入力用科目!$AM147=\"\",\"\",MID(TEXT(入力用科目!$AM147,\"????????\"),8,1))","v":" "}]
[{"$f":"IF(入力用科目!A148=\"\",\"\",MID(TEXT(入力用科目!$A148,\"??\"),COLUMN(),1))","v":""},{"$f":"IF(入力用科目!A148=\"\",\"\",MID(TEXT(入力用科目!$A148,\"??\"),COLUMN(),1))","v":""},null,{"$f":"IF(入力用科目!$D148=\"\",\"\",MID(TEXT(入力用科目!$D148,\"???\"),1,1))","v":""},{"$f":"IF(入力用科目!$D148=\"\",\"\",MID(TEXT(入力用科目!$D148,\"???\"),2,1))","v":""},{"$f":"IF(入力用科目!$D148=\"\",\"\",MID(TEXT(入力用科目!$D148,\"???\"),3,1))","v":""},null,{"$f":"IF(入力用科目!$Q148=1,\"運送収入\",IF(入力用科目!$H148=\"\",\"\",入力用科目!$H148))","v":""},null,null,null,null,null,null,null,null,{"$f":"IF(入力用科目!$Q148=\"\",\"\",MID(TEXT(入力用科目!$Q148,\"???\"),1,1))","v":""},{"$f":"IF(入力用科目!$Q148=\"\",\"\",MID(TEXT(入力用科目!$Q148,\"???\"),2,1))","v":""},{"$f":"IF(入力用科目!$Q148=\"\",\"\",MID(TEXT(入力用科目!$Q148,\"???\"),3,1))","v":""},null,{"$f":"IF(入力用科目!$U148=\"\",\"\",MID(TEXT(入力用科目!$U148,\"????????\"),1,1))","v":""},{"$f":"IF(入力用科目!$U148=\"\",\"\",MID(TEXT(入力用科目!$U148,\"????????\"),2,1))","v":""},{"$f":"IF(入力用科目!$U148=\"\",\"\",MID(TEXT(入力用科目!$U148,\"????????\"),3,1))","v":""},{"$f":"IF(入力用科目!$U148=\"\",\"\",MID(TEXT(入力用科目!$U148,\"????????\"),4,1))","v":""},{"$f":"IF(入力用科目!$U148=\"\",\"\",MID(TEXT(入力用科目!$U148,\"????????\"),5,1))","v":""},{"$f":"IF(入力用科目!$U148=\"\",\"\",MID(TEXT(入力用科目!$U148,\"????????\"),6,1))","v":""},{"$f":"IF(入力用科目!$U148=\"\",\"\",MID(TEXT(入力用科目!$U148,\"????????\"),7,1))","v":""},{"$f":"IF(入力用科目!$U148=\"\",\"\",MID(TEXT(入力用科目!$U148,\"????????\"),8,1))","v":""},null,{"$f":"IF(入力用科目!$AD148=\"\",\"\",MID(TEXT(入力用科目!$AD148,\"????????\"),1,1))","v":""},{"$f":"IF(入力用科目!$AD148=\"\",\"\",MID(TEXT(入力用科目!$AD148,\"????????\"),2,1))","v":""},{"$f":"IF(入力用科目!$AD148=\"\",\"\",MID(TEXT(入力用科目!$AD148,\"????????\"),3,1))","v":""},{"$f":"IF(入力用科目!$AD148=\"\",\"\",MID(TEXT(入力用科目!$AD148,\"????????\"),4,1))","v":""},{"$f":"IF(入力用科目!$AD148=\"\",\"\",MID(TEXT(入力用科目!$AD148,\"????????\"),5,1))","v":""},{"$f":"IF(入力用科目!$AD148=\"\",\"\",MID(TEXT(入力用科目!$AD148,\"????????\"),6,1))","v":""},{"$f":"IF(入力用科目!$AD148=\"\",\"\",MID(TEXT(入力用科目!$AD148,\"????????\"),7,1))","v":""},{"$f":"IF(入力用科目!$AD148=\"\",\"\",MID(TEXT(入力用科目!$AD148,\"????????\"),8,1))","v":""},null,{"$f":"IF(入力用科目!$AM148=\"\",\"\",MID(TEXT(入力用科目!$AM148,\"????????\"),1,1))","v":" "},{"$f":"IF(入力用科目!$AM148=\"\",\"\",MID(TEXT(入力用科目!$AM148,\"????????\"),2,1))","v":" "},{"$f":"IF(入力用科目!$AM148=\"\",\"\",MID(TEXT(入力用科目!$AM148,\"????????\"),3,1))","v":" "},{"$f":"IF(入力用科目!$AM148=\"\",\"\",MID(TEXT(入力用科目!$AM148,\"????????\"),4,1))","v":" "},{"$f":"IF(入力用科目!$AM148=\"\",\"\",MID(TEXT(入力用科目!$AM148,\"????????\"),5,1))","v":" "},{"$f":"IF(入力用科目!$AM148=\"\",\"\",MID(TEXT(入力用科目!$AM148,\"????????\"),6,1))","v":" "},{"$f":"IF(入力用科目!$AM148=\"\",\"\",MID(TEXT(入力用科目!$AM148,\"????????\"),7,1))","v":" "},{"$f":"IF(入力用科目!$AM148=\"\",\"\",MID(TEXT(入力用科目!$AM148,\"????????\"),8,1))","v":" "}]
[{"$f":"IF(入力用科目!A149=\"\",\"\",MID(TEXT(入力用科目!$A149,\"??\"),COLUMN(),1))","v":""},{"$f":"IF(入力用科目!A149=\"\",\"\",MID(TEXT(入力用科目!$A149,\"??\"),COLUMN(),1))","v":""},null,{"$f":"IF(入力用科目!$D149=\"\",\"\",MID(TEXT(入力用科目!$D149,\"???\"),1,1))","v":""},{"$f":"IF(入力用科目!$D149=\"\",\"\",MID(TEXT(入力用科目!$D149,\"???\"),2,1))","v":""},{"$f":"IF(入力用科目!$D149=\"\",\"\",MID(TEXT(入力用科目!$D149,\"???\"),3,1))","v":""},null,{"$f":"IF(入力用科目!$Q149=1,\"運送収入\",IF(入力用科目!$H149=\"\",\"\",入力用科目!$H149))","v":""},null,null,null,null,null,null,null,null,{"$f":"IF(入力用科目!$Q149=\"\",\"\",MID(TEXT(入力用科目!$Q149,\"???\"),1,1))","v":""},{"$f":"IF(入力用科目!$Q149=\"\",\"\",MID(TEXT(入力用科目!$Q149,\"???\"),2,1))","v":""},{"$f":"IF(入力用科目!$Q149=\"\",\"\",MID(TEXT(入力用科目!$Q149,\"???\"),3,1))","v":""},null,{"$f":"IF(入力用科目!$U149=\"\",\"\",MID(TEXT(入力用科目!$U149,\"????????\"),1,1))","v":""},{"$f":"IF(入力用科目!$U149=\"\",\"\",MID(TEXT(入力用科目!$U149,\"????????\"),2,1))","v":""},{"$f":"IF(入力用科目!$U149=\"\",\"\",MID(TEXT(入力用科目!$U149,\"????????\"),3,1))","v":""},{"$f":"IF(入力用科目!$U149=\"\",\"\",MID(TEXT(入力用科目!$U149,\"????????\"),4,1))","v":""},{"$f":"IF(入力用科目!$U149=\"\",\"\",MID(TEXT(入力用科目!$U149,\"????????\"),5,1))","v":""},{"$f":"IF(入力用科目!$U149=\"\",\"\",MID(TEXT(入力用科目!$U149,\"????????\"),6,1))","v":""},{"$f":"IF(入力用科目!$U149=\"\",\"\",MID(TEXT(入力用科目!$U149,\"????????\"),7,1))","v":""},{"$f":"IF(入力用科目!$U149=\"\",\"\",MID(TEXT(入力用科目!$U149,\"????????\"),8,1))","v":""},null,{"$f":"IF(入力用科目!$AD149=\"\",\"\",MID(TEXT(入力用科目!$AD149,\"????????\"),1,1))","v":""},{"$f":"IF(入力用科目!$AD149=\"\",\"\",MID(TEXT(入力用科目!$AD149,\"????????\"),2,1))","v":""},{"$f":"IF(入力用科目!$AD149=\"\",\"\",MID(TEXT(入力用科目!$AD149,\"????????\"),3,1))","v":""},{"$f":"IF(入力用科目!$AD149=\"\",\"\",MID(TEXT(入力用科目!$AD149,\"????????\"),4,1))","v":""},{"$f":"IF(入力用科目!$AD149=\"\",\"\",MID(TEXT(入力用科目!$AD149,\"????????\"),5,1))","v":""},{"$f":"IF(入力用科目!$AD149=\"\",\"\",MID(TEXT(入力用科目!$AD149,\"????????\"),6,1))","v":""},{"$f":"IF(入力用科目!$AD149=\"\",\"\",MID(TEXT(入力用科目!$AD149,\"????????\"),7,1))","v":""},{"$f":"IF(入力用科目!$AD149=\"\",\"\",MID(TEXT(入力用科目!$AD149,\"????????\"),8,1))","v":""},null,{"$f":"IF(入力用科目!$AM149=\"\",\"\",MID(TEXT(入力用科目!$AM149,\"????????\"),1,1))","v":" "},{"$f":"IF(入力用科目!$AM149=\"\",\"\",MID(TEXT(入力用科目!$AM149,\"????????\"),2,1))","v":" "},{"$f":"IF(入力用科目!$AM149=\"\",\"\",MID(TEXT(入力用科目!$AM149,\"????????\"),3,1))","v":" "},{"$f":"IF(入力用科目!$AM149=\"\",\"\",MID(TEXT(入力用科目!$AM149,\"????????\"),4,1))","v":" "},{"$f":"IF(入力用科目!$AM149=\"\",\"\",MID(TEXT(入力用科目!$AM149,\"????????\"),5,1))","v":" "},{"$f":"IF(入力用科目!$AM149=\"\",\"\",MID(TEXT(入力用科目!$AM149,\"????????\"),6,1))","v":" "},{"$f":"IF(入力用科目!$AM149=\"\",\"\",MID(TEXT(入力用科目!$AM149,\"????????\"),7,1))","v":" "},{"$f":"IF(入力用科目!$AM149=\"\",\"\",MID(TEXT(入力用科目!$AM149,\"????????\"),8,1))","v":" "}]
[{"$f":"IF(入力用科目!A150=\"\",\"\",MID(TEXT(入力用科目!$A150,\"??\"),COLUMN(),1))","v":""},{"$f":"IF(入力用科目!A150=\"\",\"\",MID(TEXT(入力用科目!$A150,\"??\"),COLUMN(),1))","v":""},null,{"$f":"IF(入力用科目!$D150=\"\",\"\",MID(TEXT(入力用科目!$D150,\"???\"),1,1))","v":""},{"$f":"IF(入力用科目!$D150=\"\",\"\",MID(TEXT(入力用科目!$D150,\"???\"),2,1))","v":""},{"$f":"IF(入力用科目!$D150=\"\",\"\",MID(TEXT(入力用科目!$D150,\"???\"),3,1))","v":""},null,{"$f":"IF(入力用科目!$Q150=1,\"運送収入\",IF(入力用科目!$H150=\"\",\"\",入力用科目!$H150))","v":""},null,null,null,null,null,null,null,null,{"$f":"IF(入力用科目!$Q150=\"\",\"\",MID(TEXT(入力用科目!$Q150,\"???\"),1,1))","v":""},{"$f":"IF(入力用科目!$Q150=\"\",\"\",MID(TEXT(入力用科目!$Q150,\"???\"),2,1))","v":""},{"$f":"IF(入力用科目!$Q150=\"\",\"\",MID(TEXT(入力用科目!$Q150,\"???\"),3,1))","v":""},null,{"$f":"IF(入力用科目!$U150=\"\",\"\",MID(TEXT(入力用科目!$U150,\"????????\"),1,1))","v":""},{"$f":"IF(入力用科目!$U150=\"\",\"\",MID(TEXT(入力用科目!$U150,\"????????\"),2,1))","v":""},{"$f":"IF(入力用科目!$U150=\"\",\"\",MID(TEXT(入力用科目!$U150,\"????????\"),3,1))","v":""},{"$f":"IF(入力用科目!$U150=\"\",\"\",MID(TEXT(入力用科目!$U150,\"????????\"),4,1))","v":""},{"$f":"IF(入力用科目!$U150=\"\",\"\",MID(TEXT(入力用科目!$U150,\"????????\"),5,1))","v":""},{"$f":"IF(入力用科目!$U150=\"\",\"\",MID(TEXT(入力用科目!$U150,\"????????\"),6,1))","v":""},{"$f":"IF(入力用科目!$U150=\"\",\"\",MID(TEXT(入力用科目!$U150,\"????????\"),7,1))","v":""},{"$f":"IF(入力用科目!$U150=\"\",\"\",MID(TEXT(入力用科目!$U150,\"????????\"),8,1))","v":""},null,{"$f":"IF(入力用科目!$AD150=\"\",\"\",MID(TEXT(入力用科目!$AD150,\"????????\"),1,1))","v":""},{"$f":"IF(入力用科目!$AD150=\"\",\"\",MID(TEXT(入力用科目!$AD150,\"????????\"),2,1))","v":""},{"$f":"IF(入力用科目!$AD150=\"\",\"\",MID(TEXT(入力用科目!$AD150,\"????????\"),3,1))","v":""},{"$f":"IF(入力用科目!$AD150=\"\",\"\",MID(TEXT(入力用科目!$AD150,\"????????\"),4,1))","v":""},{"$f":"IF(入力用科目!$AD150=\"\",\"\",MID(TEXT(入力用科目!$AD150,\"????????\"),5,1))","v":""},{"$f":"IF(入力用科目!$AD150=\"\",\"\",MID(TEXT(入力用科目!$AD150,\"????????\"),6,1))","v":""},{"$f":"IF(入力用科目!$AD150=\"\",\"\",MID(TEXT(入力用科目!$AD150,\"????????\"),7,1))","v":""},{"$f":"IF(入力用科目!$AD150=\"\",\"\",MID(TEXT(入力用科目!$AD150,\"????????\"),8,1))","v":""},null,{"$f":"IF(入力用科目!$AM150=\"\",\"\",MID(TEXT(入力用科目!$AM150,\"????????\"),1,1))","v":" "},{"$f":"IF(入力用科目!$AM150=\"\",\"\",MID(TEXT(入力用科目!$AM150,\"????????\"),2,1))","v":" "},{"$f":"IF(入力用科目!$AM150=\"\",\"\",MID(TEXT(入力用科目!$AM150,\"????????\"),3,1))","v":" "},{"$f":"IF(入力用科目!$AM150=\"\",\"\",MID(TEXT(入力用科目!$AM150,\"????????\"),4,1))","v":" "},{"$f":"IF(入力用科目!$AM150=\"\",\"\",MID(TEXT(入力用科目!$AM150,\"????????\"),5,1))","v":" "},{"$f":"IF(入力用科目!$AM150=\"\",\"\",MID(TEXT(入力用科目!$AM150,\"????????\"),6,1))","v":" "},{"$f":"IF(入力用科目!$AM150=\"\",\"\",MID(TEXT(入力用科目!$AM150,\"????????\"),7,1))","v":" "},{"$f":"IF(入力用科目!$AM150=\"\",\"\",MID(TEXT(入力用科目!$AM150,\"????????\"),8,1))","v":" "}]
[{"$f":"IF(入力用科目!A151=\"\",\"\",MID(TEXT(入力用科目!$A151,\"??\"),COLUMN(),1))","v":""},{"$f":"IF(入力用科目!A151=\"\",\"\",MID(TEXT(入力用科目!$A151,\"??\"),COLUMN(),1))","v":""},null,{"$f":"IF(入力用科目!$D151=\"\",\"\",MID(TEXT(入力用科目!$D151,\"???\"),1,1))","v":""},{"$f":"IF(入力用科目!$D151=\"\",\"\",MID(TEXT(入力用科目!$D151,\"???\"),2,1))","v":""},{"$f":"IF(入力用科目!$D151=\"\",\"\",MID(TEXT(入力用科目!$D151,\"???\"),3,1))","v":""},null,{"$f":"IF(入力用科目!$Q151=1,\"運送収入\",IF(入力用科目!$H151=\"\",\"\",入力用科目!$H151))","v":""},null,null,null,null,null,null,null,null,{"$f":"IF(入力用科目!$Q151=\"\",\"\",MID(TEXT(入力用科目!$Q151,\"???\"),1,1))","v":""},{"$f":"IF(入力用科目!$Q151=\"\",\"\",MID(TEXT(入力用科目!$Q151,\"???\"),2,1))","v":""},{"$f":"IF(入力用科目!$Q151=\"\",\"\",MID(TEXT(入力用科目!$Q151,\"???\"),3,1))","v":""},null,{"$f":"IF(入力用科目!$U151=\"\",\"\",MID(TEXT(入力用科目!$U151,\"????????\"),1,1))","v":""},{"$f":"IF(入力用科目!$U151=\"\",\"\",MID(TEXT(入力用科目!$U151,\"????????\"),2,1))","v":""},{"$f":"IF(入力用科目!$U151=\"\",\"\",MID(TEXT(入力用科目!$U151,\"????????\"),3,1))","v":""},{"$f":"IF(入力用科目!$U151=\"\",\"\",MID(TEXT(入力用科目!$U151,\"????????\"),4,1))","v":""},{"$f":"IF(入力用科目!$U151=\"\",\"\",MID(TEXT(入力用科目!$U151,\"????????\"),5,1))","v":""},{"$f":"IF(入力用科目!$U151=\"\",\"\",MID(TEXT(入力用科目!$U151,\"????????\"),6,1))","v":""},{"$f":"IF(入力用科目!$U151=\"\",\"\",MID(TEXT(入力用科目!$U151,\"????????\"),7,1))","v":""},{"$f":"IF(入力用科目!$U151=\"\",\"\",MID(TEXT(入力用科目!$U151,\"????????\"),8,1))","v":""},null,{"$f":"IF(入力用科目!$AD151=\"\",\"\",MID(TEXT(入力用科目!$AD151,\"????????\"),1,1))","v":""},{"$f":"IF(入力用科目!$AD151=\"\",\"\",MID(TEXT(入力用科目!$AD151,\"????????\"),2,1))","v":""},{"$f":"IF(入力用科目!$AD151=\"\",\"\",MID(TEXT(入力用科目!$AD151,\"????????\"),3,1))","v":""},{"$f":"IF(入力用科目!$AD151=\"\",\"\",MID(TEXT(入力用科目!$AD151,\"????????\"),4,1))","v":""},{"$f":"IF(入力用科目!$AD151=\"\",\"\",MID(TEXT(入力用科目!$AD151,\"????????\"),5,1))","v":""},{"$f":"IF(入力用科目!$AD151=\"\",\"\",MID(TEXT(入力用科目!$AD151,\"????????\"),6,1))","v":""},{"$f":"IF(入力用科目!$AD151=\"\",\"\",MID(TEXT(入力用科目!$AD151,\"????????\"),7,1))","v":""},{"$f":"IF(入力用科目!$AD151=\"\",\"\",MID(TEXT(入力用科目!$AD151,\"????????\"),8,1))","v":""},null,{"$f":"IF(入力用科目!$AM151=\"\",\"\",MID(TEXT(入力用科目!$AM151,\"????????\"),1,1))","v":" "},{"$f":"IF(入力用科目!$AM151=\"\",\"\",MID(TEXT(入力用科目!$AM151,\"????????\"),2,1))","v":" "},{"$f":"IF(入力用科目!$AM151=\"\",\"\",MID(TEXT(入力用科目!$AM151,\"????????\"),3,1))","v":" "},{"$f":"IF(入力用科目!$AM151=\"\",\"\",MID(TEXT(入力用科目!$AM151,\"????????\"),4,1))","v":" "},{"$f":"IF(入力用科目!$AM151=\"\",\"\",MID(TEXT(入力用科目!$AM151,\"????????\"),5,1))","v":" "},{"$f":"IF(入力用科目!$AM151=\"\",\"\",MID(TEXT(入力用科目!$AM151,\"????????\"),6,1))","v":" "},{"$f":"IF(入力用科目!$AM151=\"\",\"\",MID(TEXT(入力用科目!$AM151,\"????????\"),7,1))","v":" "},{"$f":"IF(入力用科目!$AM151=\"\",\"\",MID(TEXT(入力用科目!$AM151,\"????????\"),8,1))","v":" "}]
[{"$f":"IF(入力用科目!A152=\"\",\"\",MID(TEXT(入力用科目!$A152,\"??\"),COLUMN(),1))","v":""},{"$f":"IF(入力用科目!A152=\"\",\"\",MID(TEXT(入力用科目!$A152,\"??\"),COLUMN(),1))","v":""},null,{"$f":"IF(入力用科目!$D152=\"\",\"\",MID(TEXT(入力用科目!$D152,\"???\"),1,1))","v":""},{"$f":"IF(入力用科目!$D152=\"\",\"\",MID(TEXT(入力用科目!$D152,\"???\"),2,1))","v":""},{"$f":"IF(入力用科目!$D152=\"\",\"\",MID(TEXT(入力用科目!$D152,\"???\"),3,1))","v":""},null,{"$f":"IF(入力用科目!$Q152=1,\"運送収入\",IF(入力用科目!$H152=\"\",\"\",入力用科目!$H152))","v":""},null,null,null,null,null,null,null,null,{"$f":"IF(入力用科目!$Q152=\"\",\"\",MID(TEXT(入力用科目!$Q152,\"???\"),1,1))","v":""},{"$f":"IF(入力用科目!$Q152=\"\",\"\",MID(TEXT(入力用科目!$Q152,\"???\"),2,1))","v":""},{"$f":"IF(入力用科目!$Q152=\"\",\"\",MID(TEXT(入力用科目!$Q152,\"???\"),3,1))","v":""},null,{"$f":"IF(入力用科目!$U152=\"\",\"\",MID(TEXT(入力用科目!$U152,\"????????\"),1,1))","v":""},{"$f":"IF(入力用科目!$U152=\"\",\"\",MID(TEXT(入力用科目!$U152,\"????????\"),2,1))","v":""},{"$f":"IF(入力用科目!$U152=\"\",\"\",MID(TEXT(入力用科目!$U152,\"????????\"),3,1))","v":""},{"$f":"IF(入力用科目!$U152=\"\",\"\",MID(TEXT(入力用科目!$U152,\"????????\"),4,1))","v":""},{"$f":"IF(入力用科目!$U152=\"\",\"\",MID(TEXT(入力用科目!$U152,\"????????\"),5,1))","v":""},{"$f":"IF(入力用科目!$U152=\"\",\"\",MID(TEXT(入力用科目!$U152,\"????????\"),6,1))","v":""},{"$f":"IF(入力用科目!$U152=\"\",\"\",MID(TEXT(入力用科目!$U152,\"????????\"),7,1))","v":""},{"$f":"IF(入力用科目!$U152=\"\",\"\",MID(TEXT(入力用科目!$U152,\"????????\"),8,1))","v":""},null,{"$f":"IF(入力用科目!$AD152=\"\",\"\",MID(TEXT(入力用科目!$AD152,\"????????\"),1,1))","v":""},{"$f":"IF(入力用科目!$AD152=\"\",\"\",MID(TEXT(入力用科目!$AD152,\"????????\"),2,1))","v":""},{"$f":"IF(入力用科目!$AD152=\"\",\"\",MID(TEXT(入力用科目!$AD152,\"????????\"),3,1))","v":""},{"$f":"IF(入力用科目!$AD152=\"\",\"\",MID(TEXT(入力用科目!$AD152,\"????????\"),4,1))","v":""},{"$f":"IF(入力用科目!$AD152=\"\",\"\",MID(TEXT(入力用科目!$AD152,\"????????\"),5,1))","v":""},{"$f":"IF(入力用科目!$AD152=\"\",\"\",MID(TEXT(入力用科目!$AD152,\"????????\"),6,1))","v":""},{"$f":"IF(入力用科目!$AD152=\"\",\"\",MID(TEXT(入力用科目!$AD152,\"????????\"),7,1))","v":""},{"$f":"IF(入力用科目!$AD152=\"\",\"\",MID(TEXT(入力用科目!$AD152,\"????????\"),8,1))","v":""},null,{"$f":"IF(入力用科目!$AM152=\"\",\"\",MID(TEXT(入力用科目!$AM152,\"????????\"),1,1))","v":" "},{"$f":"IF(入力用科目!$AM152=\"\",\"\",MID(TEXT(入力用科目!$AM152,\"????????\"),2,1))","v":" "},{"$f":"IF(入力用科目!$AM152=\"\",\"\",MID(TEXT(入力用科目!$AM152,\"????????\"),3,1))","v":" "},{"$f":"IF(入力用科目!$AM152=\"\",\"\",MID(TEXT(入力用科目!$AM152,\"????????\"),4,1))","v":" "},{"$f":"IF(入力用科目!$AM152=\"\",\"\",MID(TEXT(入力用科目!$AM152,\"????????\"),5,1))","v":" "},{"$f":"IF(入力用科目!$AM152=\"\",\"\",MID(TEXT(入力用科目!$AM152,\"????????\"),6,1))","v":" "},{"$f":"IF(入力用科目!$AM152=\"\",\"\",MID(TEXT(入力用科目!$AM152,\"????????\"),7,1))","v":" "},{"$f":"IF(入力用科目!$AM152=\"\",\"\",MID(TEXT(入力用科目!$AM152,\"????????\"),8,1))","v":" "}]
[{"$f":"IF(入力用科目!A153=\"\",\"\",MID(TEXT(入力用科目!$A153,\"??\"),COLUMN(),1))","v":""},{"$f":"IF(入力用科目!A153=\"\",\"\",MID(TEXT(入力用科目!$A153,\"??\"),COLUMN(),1))","v":""},null,{"$f":"IF(入力用科目!$D153=\"\",\"\",MID(TEXT(入力用科目!$D153,\"???\"),1,1))","v":""},{"$f":"IF(入力用科目!$D153=\"\",\"\",MID(TEXT(入力用科目!$D153,\"???\"),2,1))","v":""},{"$f":"IF(入力用科目!$D153=\"\",\"\",MID(TEXT(入力用科目!$D153,\"???\"),3,1))","v":""},null,{"$f":"IF(入力用科目!$Q153=1,\"運送収入\",IF(入力用科目!$H153=\"\",\"\",入力用科目!$H153))","v":""},null,null,null,null,null,null,null,null,{"$f":"IF(入力用科目!$Q153=\"\",\"\",MID(TEXT(入力用科目!$Q153,\"???\"),1,1))","v":""},{"$f":"IF(入力用科目!$Q153=\"\",\"\",MID(TEXT(入力用科目!$Q153,\"???\"),2,1))","v":""},{"$f":"IF(入力用科目!$Q153=\"\",\"\",MID(TEXT(入力用科目!$Q153,\"???\"),3,1))","v":""},null,{"$f":"IF(入力用科目!$U153=\"\",\"\",MID(TEXT(入力用科目!$U153,\"????????\"),1,1))","v":""},{"$f":"IF(入力用科目!$U153=\"\",\"\",MID(TEXT(入力用科目!$U153,\"????????\"),2,1))","v":""},{"$f":"IF(入力用科目!$U153=\"\",\"\",MID(TEXT(入力用科目!$U153,\"????????\"),3,1))","v":""},{"$f":"IF(入力用科目!$U153=\"\",\"\",MID(TEXT(入力用科目!$U153,\"????????\"),4,1))","v":""},{"$f":"IF(入力用科目!$U153=\"\",\"\",MID(TEXT(入力用科目!$U153,\"????????\"),5,1))","v":""},{"$f":"IF(入力用科目!$U153=\"\",\"\",MID(TEXT(入力用科目!$U153,\"????????\"),6,1))","v":""},{"$f":"IF(入力用科目!$U153=\"\",\"\",MID(TEXT(入力用科目!$U153,\"????????\"),7,1))","v":""},{"$f":"IF(入力用科目!$U153=\"\",\"\",MID(TEXT(入力用科目!$U153,\"????????\"),8,1))","v":""},null,{"$f":"IF(入力用科目!$AD153=\"\",\"\",MID(TEXT(入力用科目!$AD153,\"????????\"),1,1))","v":""},{"$f":"IF(入力用科目!$AD153=\"\",\"\",MID(TEXT(入力用科目!$AD153,\"????????\"),2,1))","v":""},{"$f":"IF(入力用科目!$AD153=\"\",\"\",MID(TEXT(入力用科目!$AD153,\"????????\"),3,1))","v":""},{"$f":"IF(入力用科目!$AD153=\"\",\"\",MID(TEXT(入力用科目!$AD153,\"????????\"),4,1))","v":""},{"$f":"IF(入力用科目!$AD153=\"\",\"\",MID(TEXT(入力用科目!$AD153,\"????????\"),5,1))","v":""},{"$f":"IF(入力用科目!$AD153=\"\",\"\",MID(TEXT(入力用科目!$AD153,\"????????\"),6,1))","v":""},{"$f":"IF(入力用科目!$AD153=\"\",\"\",MID(TEXT(入力用科目!$AD153,\"????????\"),7,1))","v":""},{"$f":"IF(入力用科目!$AD153=\"\",\"\",MID(TEXT(入力用科目!$AD153,\"????????\"),8,1))","v":""},null,{"$f":"IF(入力用科目!$AM153=\"\",\"\",MID(TEXT(入力用科目!$AM153,\"????????\"),1,1))","v":" "},{"$f":"IF(入力用科目!$AM153=\"\",\"\",MID(TEXT(入力用科目!$AM153,\"????????\"),2,1))","v":" "},{"$f":"IF(入力用科目!$AM153=\"\",\"\",MID(TEXT(入力用科目!$AM153,\"????????\"),3,1))","v":" "},{"$f":"IF(入力用科目!$AM153=\"\",\"\",MID(TEXT(入力用科目!$AM153,\"????????\"),4,1))","v":" "},{"$f":"IF(入力用科目!$AM153=\"\",\"\",MID(TEXT(入力用科目!$AM153,\"????????\"),5,1))","v":" "},{"$f":"IF(入力用科目!$AM153=\"\",\"\",MID(TEXT(入力用科目!$AM153,\"????????\"),6,1))","v":" "},{"$f":"IF(入力用科目!$AM153=\"\",\"\",MID(TEXT(入力用科目!$AM153,\"????????\"),7,1))","v":" "},{"$f":"IF(入力用科目!$AM153=\"\",\"\",MID(TEXT(入力用科目!$AM153,\"????????\"),8,1))","v":" "}]
[{"$f":"IF(入力用科目!A154=\"\",\"\",MID(TEXT(入力用科目!$A154,\"??\"),COLUMN(),1))","v":""},{"$f":"IF(入力用科目!A154=\"\",\"\",MID(TEXT(入力用科目!$A154,\"??\"),COLUMN(),1))","v":""},null,{"$f":"IF(入力用科目!$D154=\"\",\"\",MID(TEXT(入力用科目!$D154,\"???\"),1,1))","v":""},{"$f":"IF(入力用科目!$D154=\"\",\"\",MID(TEXT(入力用科目!$D154,\"???\"),2,1))","v":""},{"$f":"IF(入力用科目!$D154=\"\",\"\",MID(TEXT(入力用科目!$D154,\"???\"),3,1))","v":""},null,{"$f":"IF(入力用科目!$Q154=1,\"運送収入\",IF(入力用科目!$H154=\"\",\"\",入力用科目!$H154))","v":""},null,null,null,null,null,null,null,null,{"$f":"IF(入力用科目!$Q154=\"\",\"\",MID(TEXT(入力用科目!$Q154,\"???\"),1,1))","v":""},{"$f":"IF(入力用科目!$Q154=\"\",\"\",MID(TEXT(入力用科目!$Q154,\"???\"),2,1))","v":""},{"$f":"IF(入力用科目!$Q154=\"\",\"\",MID(TEXT(入力用科目!$Q154,\"???\"),3,1))","v":""},null,{"$f":"IF(入力用科目!$U154=\"\",\"\",MID(TEXT(入力用科目!$U154,\"????????\"),1,1))","v":""},{"$f":"IF(入力用科目!$U154=\"\",\"\",MID(TEXT(入力用科目!$U154,\"????????\"),2,1))","v":""},{"$f":"IF(入力用科目!$U154=\"\",\"\",MID(TEXT(入力用科目!$U154,\"????????\"),3,1))","v":""},{"$f":"IF(入力用科目!$U154=\"\",\"\",MID(TEXT(入力用科目!$U154,\"????????\"),4,1))","v":""},{"$f":"IF(入力用科目!$U154=\"\",\"\",MID(TEXT(入力用科目!$U154,\"????????\"),5,1))","v":""},{"$f":"IF(入力用科目!$U154=\"\",\"\",MID(TEXT(入力用科目!$U154,\"????????\"),6,1))","v":""},{"$f":"IF(入力用科目!$U154=\"\",\"\",MID(TEXT(入力用科目!$U154,\"????????\"),7,1))","v":""},{"$f":"IF(入力用科目!$U154=\"\",\"\",MID(TEXT(入力用科目!$U154,\"????????\"),8,1))","v":""},null,{"$f":"IF(入力用科目!$AD154=\"\",\"\",MID(TEXT(入力用科目!$AD154,\"????????\"),1,1))","v":""},{"$f":"IF(入力用科目!$AD154=\"\",\"\",MID(TEXT(入力用科目!$AD154,\"????????\"),2,1))","v":""},{"$f":"IF(入力用科目!$AD154=\"\",\"\",MID(TEXT(入力用科目!$AD154,\"????????\"),3,1))","v":""},{"$f":"IF(入力用科目!$AD154=\"\",\"\",MID(TEXT(入力用科目!$AD154,\"????????\"),4,1))","v":""},{"$f":"IF(入力用科目!$AD154=\"\",\"\",MID(TEXT(入力用科目!$AD154,\"????????\"),5,1))","v":""},{"$f":"IF(入力用科目!$AD154=\"\",\"\",MID(TEXT(入力用科目!$AD154,\"????????\"),6,1))","v":""},{"$f":"IF(入力用科目!$AD154=\"\",\"\",MID(TEXT(入力用科目!$AD154,\"????????\"),7,1))","v":""},{"$f":"IF(入力用科目!$AD154=\"\",\"\",MID(TEXT(入力用科目!$AD154,\"????????\"),8,1))","v":""},null,{"$f":"IF(入力用科目!$AM154=\"\",\"\",MID(TEXT(入力用科目!$AM154,\"????????\"),1,1))","v":" "},{"$f":"IF(入力用科目!$AM154=\"\",\"\",MID(TEXT(入力用科目!$AM154,\"????????\"),2,1))","v":" "},{"$f":"IF(入力用科目!$AM154=\"\",\"\",MID(TEXT(入力用科目!$AM154,\"????????\"),3,1))","v":" "},{"$f":"IF(入力用科目!$AM154=\"\",\"\",MID(TEXT(入力用科目!$AM154,\"????????\"),4,1))","v":" "},{"$f":"IF(入力用科目!$AM154=\"\",\"\",MID(TEXT(入力用科目!$AM154,\"????????\"),5,1))","v":" "},{"$f":"IF(入力用科目!$AM154=\"\",\"\",MID(TEXT(入力用科目!$AM154,\"????????\"),6,1))","v":" "},{"$f":"IF(入力用科目!$AM154=\"\",\"\",MID(TEXT(入力用科目!$AM154,\"????????\"),7,1))","v":" "},{"$f":"IF(入力用科目!$AM154=\"\",\"\",MID(TEXT(入力用科目!$AM154,\"????????\"),8,1))","v":" "}]
[{"$f":"IF(入力用科目!A155=\"\",\"\",MID(TEXT(入力用科目!$A155,\"??\"),COLUMN(),1))","v":""},{"$f":"IF(入力用科目!A155=\"\",\"\",MID(TEXT(入力用科目!$A155,\"??\"),COLUMN(),1))","v":""},null,{"$f":"IF(入力用科目!$D155=\"\",\"\",MID(TEXT(入力用科目!$D155,\"???\"),1,1))","v":""},{"$f":"IF(入力用科目!$D155=\"\",\"\",MID(TEXT(入力用科目!$D155,\"???\"),2,1))","v":""},{"$f":"IF(入力用科目!$D155=\"\",\"\",MID(TEXT(入力用科目!$D155,\"???\"),3,1))","v":""},null,{"$f":"IF(入力用科目!$Q155=1,\"運送収入\",IF(入力用科目!$H155=\"\",\"\",入力用科目!$H155))","v":""},null,null,null,null,null,null,null,null,{"$f":"IF(入力用科目!$Q155=\"\",\"\",MID(TEXT(入力用科目!$Q155,\"???\"),1,1))","v":""},{"$f":"IF(入力用科目!$Q155=\"\",\"\",MID(TEXT(入力用科目!$Q155,\"???\"),2,1))","v":""},{"$f":"IF(入力用科目!$Q155=\"\",\"\",MID(TEXT(入力用科目!$Q155,\"???\"),3,1))","v":""},null,{"$f":"IF(入力用科目!$U155=\"\",\"\",MID(TEXT(入力用科目!$U155,\"????????\"),1,1))","v":""},{"$f":"IF(入力用科目!$U155=\"\",\"\",MID(TEXT(入力用科目!$U155,\"????????\"),2,1))","v":""},{"$f":"IF(入力用科目!$U155=\"\",\"\",MID(TEXT(入力用科目!$U155,\"????????\"),3,1))","v":""},{"$f":"IF(入力用科目!$U155=\"\",\"\",MID(TEXT(入力用科目!$U155,\"????????\"),4,1))","v":""},{"$f":"IF(入力用科目!$U155=\"\",\"\",MID(TEXT(入力用科目!$U155,\"????????\"),5,1))","v":""},{"$f":"IF(入力用科目!$U155=\"\",\"\",MID(TEXT(入力用科目!$U155,\"????????\"),6,1))","v":""},{"$f":"IF(入力用科目!$U155=\"\",\"\",MID(TEXT(入力用科目!$U155,\"????????\"),7,1))","v":""},{"$f":"IF(入力用科目!$U155=\"\",\"\",MID(TEXT(入力用科目!$U155,\"????????\"),8,1))","v":""},null,{"$f":"IF(入力用科目!$AD155=\"\",\"\",MID(TEXT(入力用科目!$AD155,\"????????\"),1,1))","v":""},{"$f":"IF(入力用科目!$AD155=\"\",\"\",MID(TEXT(入力用科目!$AD155,\"????????\"),2,1))","v":""},{"$f":"IF(入力用科目!$AD155=\"\",\"\",MID(TEXT(入力用科目!$AD155,\"????????\"),3,1))","v":""},{"$f":"IF(入力用科目!$AD155=\"\",\"\",MID(TEXT(入力用科目!$AD155,\"????????\"),4,1))","v":""},{"$f":"IF(入力用科目!$AD155=\"\",\"\",MID(TEXT(入力用科目!$AD155,\"????????\"),5,1))","v":""},{"$f":"IF(入力用科目!$AD155=\"\",\"\",MID(TEXT(入力用科目!$AD155,\"????????\"),6,1))","v":""},{"$f":"IF(入力用科目!$AD155=\"\",\"\",MID(TEXT(入力用科目!$AD155,\"????????\"),7,1))","v":""},{"$f":"IF(入力用科目!$AD155=\"\",\"\",MID(TEXT(入力用科目!$AD155,\"????????\"),8,1))","v":""},null,{"$f":"IF(入力用科目!$AM155=\"\",\"\",MID(TEXT(入力用科目!$AM155,\"????????\"),1,1))","v":" "},{"$f":"IF(入力用科目!$AM155=\"\",\"\",MID(TEXT(入力用科目!$AM155,\"????????\"),2,1))","v":" "},{"$f":"IF(入力用科目!$AM155=\"\",\"\",MID(TEXT(入力用科目!$AM155,\"????????\"),3,1))","v":" "},{"$f":"IF(入力用科目!$AM155=\"\",\"\",MID(TEXT(入力用科目!$AM155,\"????????\"),4,1))","v":" "},{"$f":"IF(入力用科目!$AM155=\"\",\"\",MID(TEXT(入力用科目!$AM155,\"????????\"),5,1))","v":" "},{"$f":"IF(入力用科目!$AM155=\"\",\"\",MID(TEXT(入力用科目!$AM155,\"????????\"),6,1))","v":" "},{"$f":"IF(入力用科目!$AM155=\"\",\"\",MID(TEXT(入力用科目!$AM155,\"????????\"),7,1))","v":" "},{"$f":"IF(入力用科目!$AM155=\"\",\"\",MID(TEXT(入力用科目!$AM155,\"????????\"),8,1))","v":" "}]
[{"$f":"IF(入力用科目!A156=\"\",\"\",MID(TEXT(入力用科目!$A156,\"??\"),COLUMN(),1))","v":""},{"$f":"IF(入力用科目!A156=\"\",\"\",MID(TEXT(入力用科目!$A156,\"??\"),COLUMN(),1))","v":""},null,{"$f":"IF(入力用科目!$D156=\"\",\"\",MID(TEXT(入力用科目!$D156,\"???\"),1,1))","v":""},{"$f":"IF(入力用科目!$D156=\"\",\"\",MID(TEXT(入力用科目!$D156,\"???\"),2,1))","v":""},{"$f":"IF(入力用科目!$D156=\"\",\"\",MID(TEXT(入力用科目!$D156,\"???\"),3,1))","v":""},null,{"$f":"IF(入力用科目!$Q156=1,\"運送収入\",IF(入力用科目!$H156=\"\",\"\",入力用科目!$H156))","v":""},null,null,null,null,null,null,null,null,{"$f":"IF(入力用科目!$Q156=\"\",\"\",MID(TEXT(入力用科目!$Q156,\"???\"),1,1))","v":""},{"$f":"IF(入力用科目!$Q156=\"\",\"\",MID(TEXT(入力用科目!$Q156,\"???\"),2,1))","v":""},{"$f":"IF(入力用科目!$Q156=\"\",\"\",MID(TEXT(入力用科目!$Q156,\"???\"),3,1))","v":""},null,{"$f":"IF(入力用科目!$U156=\"\",\"\",MID(TEXT(入力用科目!$U156,\"????????\"),1,1))","v":""},{"$f":"IF(入力用科目!$U156=\"\",\"\",MID(TEXT(入力用科目!$U156,\"????????\"),2,1))","v":""},{"$f":"IF(入力用科目!$U156=\"\",\"\",MID(TEXT(入力用科目!$U156,\"????????\"),3,1))","v":""},{"$f":"IF(入力用科目!$U156=\"\",\"\",MID(TEXT(入力用科目!$U156,\"????????\"),4,1))","v":""},{"$f":"IF(入力用科目!$U156=\"\",\"\",MID(TEXT(入力用科目!$U156,\"????????\"),5,1))","v":""},{"$f":"IF(入力用科目!$U156=\"\",\"\",MID(TEXT(入力用科目!$U156,\"????????\"),6,1))","v":""},{"$f":"IF(入力用科目!$U156=\"\",\"\",MID(TEXT(入力用科目!$U156,\"????????\"),7,1))","v":""},{"$f":"IF(入力用科目!$U156=\"\",\"\",MID(TEXT(入力用科目!$U156,\"????????\"),8,1))","v":""},null,{"$f":"IF(入力用科目!$AD156=\"\",\"\",MID(TEXT(入力用科目!$AD156,\"????????\"),1,1))","v":""},{"$f":"IF(入力用科目!$AD156=\"\",\"\",MID(TEXT(入力用科目!$AD156,\"????????\"),2,1))","v":""},{"$f":"IF(入力用科目!$AD156=\"\",\"\",MID(TEXT(入力用科目!$AD156,\"????????\"),3,1))","v":""},{"$f":"IF(入力用科目!$AD156=\"\",\"\",MID(TEXT(入力用科目!$AD156,\"????????\"),4,1))","v":""},{"$f":"IF(入力用科目!$AD156=\"\",\"\",MID(TEXT(入力用科目!$AD156,\"????????\"),5,1))","v":""},{"$f":"IF(入力用科目!$AD156=\"\",\"\",MID(TEXT(入力用科目!$AD156,\"????????\"),6,1))","v":""},{"$f":"IF(入力用科目!$AD156=\"\",\"\",MID(TEXT(入力用科目!$AD156,\"????????\"),7,1))","v":""},{"$f":"IF(入力用科目!$AD156=\"\",\"\",MID(TEXT(入力用科目!$AD156,\"????????\"),8,1))","v":""},null,{"$f":"IF(入力用科目!$AM156=\"\",\"\",MID(TEXT(入力用科目!$AM156,\"????????\"),1,1))","v":" "},{"$f":"IF(入力用科目!$AM156=\"\",\"\",MID(TEXT(入力用科目!$AM156,\"????????\"),2,1))","v":" "},{"$f":"IF(入力用科目!$AM156=\"\",\"\",MID(TEXT(入力用科目!$AM156,\"????????\"),3,1))","v":" "},{"$f":"IF(入力用科目!$AM156=\"\",\"\",MID(TEXT(入力用科目!$AM156,\"????????\"),4,1))","v":" "},{"$f":"IF(入力用科目!$AM156=\"\",\"\",MID(TEXT(入力用科目!$AM156,\"????????\"),5,1))","v":" "},{"$f":"IF(入力用科目!$AM156=\"\",\"\",MID(TEXT(入力用科目!$AM156,\"????????\"),6,1))","v":" "},{"$f":"IF(入力用科目!$AM156=\"\",\"\",MID(TEXT(入力用科目!$AM156,\"????????\"),7,1))","v":" "},{"$f":"IF(入力用科目!$AM156=\"\",\"\",MID(TEXT(入力用科目!$AM156,\"????????\"),8,1))","v":" "}]
[{"$f":"IF(入力用科目!A157=\"\",\"\",MID(TEXT(入力用科目!$A157,\"??\"),COLUMN(),1))","v":""},{"$f":"IF(入力用科目!A157=\"\",\"\",MID(TEXT(入力用科目!$A157,\"??\"),COLUMN(),1))","v":""},null,{"$f":"IF(入力用科目!$D157=\"\",\"\",MID(TEXT(入力用科目!$D157,\"???\"),1,1))","v":""},{"$f":"IF(入力用科目!$D157=\"\",\"\",MID(TEXT(入力用科目!$D157,\"???\"),2,1))","v":""},{"$f":"IF(入力用科目!$D157=\"\",\"\",MID(TEXT(入力用科目!$D157,\"???\"),3,1))","v":""},null,{"$f":"IF(入力用科目!$Q157=1,\"運送収入\",IF(入力用科目!$H157=\"\",\"\",入力用科目!$H157))","v":""},null,null,null,null,null,null,null,null,{"$f":"IF(入力用科目!$Q157=\"\",\"\",MID(TEXT(入力用科目!$Q157,\"???\"),1,1))","v":""},{"$f":"IF(入力用科目!$Q157=\"\",\"\",MID(TEXT(入力用科目!$Q157,\"???\"),2,1))","v":""},{"$f":"IF(入力用科目!$Q157=\"\",\"\",MID(TEXT(入力用科目!$Q157,\"???\"),3,1))","v":""},null,{"$f":"IF(入力用科目!$U157=\"\",\"\",MID(TEXT(入力用科目!$U157,\"????????\"),1,1))","v":""},{"$f":"IF(入力用科目!$U157=\"\",\"\",MID(TEXT(入力用科目!$U157,\"????????\"),2,1))","v":""},{"$f":"IF(入力用科目!$U157=\"\",\"\",MID(TEXT(入力用科目!$U157,\"????????\"),3,1))","v":""},{"$f":"IF(入力用科目!$U157=\"\",\"\",MID(TEXT(入力用科目!$U157,\"????????\"),4,1))","v":""},{"$f":"IF(入力用科目!$U157=\"\",\"\",MID(TEXT(入力用科目!$U157,\"????????\"),5,1))","v":""},{"$f":"IF(入力用科目!$U157=\"\",\"\",MID(TEXT(入力用科目!$U157,\"????????\"),6,1))","v":""},{"$f":"IF(入力用科目!$U157=\"\",\"\",MID(TEXT(入力用科目!$U157,\"????????\"),7,1))","v":""},{"$f":"IF(入力用科目!$U157=\"\",\"\",MID(TEXT(入力用科目!$U157,\"????????\"),8,1))","v":""},null,{"$f":"IF(入力用科目!$AD157=\"\",\"\",MID(TEXT(入力用科目!$AD157,\"????????\"),1,1))","v":""},{"$f":"IF(入力用科目!$AD157=\"\",\"\",MID(TEXT(入力用科目!$AD157,\"????????\"),2,1))","v":""},{"$f":"IF(入力用科目!$AD157=\"\",\"\",MID(TEXT(入力用科目!$AD157,\"????????\"),3,1))","v":""},{"$f":"IF(入力用科目!$AD157=\"\",\"\",MID(TEXT(入力用科目!$AD157,\"????????\"),4,1))","v":""},{"$f":"IF(入力用科目!$AD157=\"\",\"\",MID(TEXT(入力用科目!$AD157,\"????????\"),5,1))","v":""},{"$f":"IF(入力用科目!$AD157=\"\",\"\",MID(TEXT(入力用科目!$AD157,\"????????\"),6,1))","v":""},{"$f":"IF(入力用科目!$AD157=\"\",\"\",MID(TEXT(入力用科目!$AD157,\"????????\"),7,1))","v":""},{"$f":"IF(入力用科目!$AD157=\"\",\"\",MID(TEXT(入力用科目!$AD157,\"????????\"),8,1))","v":""},null,{"$f":"IF(入力用科目!$AM157=\"\",\"\",MID(TEXT(入力用科目!$AM157,\"????????\"),1,1))","v":" "},{"$f":"IF(入力用科目!$AM157=\"\",\"\",MID(TEXT(入力用科目!$AM157,\"????????\"),2,1))","v":" "},{"$f":"IF(入力用科目!$AM157=\"\",\"\",MID(TEXT(入力用科目!$AM157,\"????????\"),3,1))","v":" "},{"$f":"IF(入力用科目!$AM157=\"\",\"\",MID(TEXT(入力用科目!$AM157,\"????????\"),4,1))","v":" "},{"$f":"IF(入力用科目!$AM157=\"\",\"\",MID(TEXT(入力用科目!$AM157,\"????????\"),5,1))","v":" "},{"$f":"IF(入力用科目!$AM157=\"\",\"\",MID(TEXT(入力用科目!$AM157,\"????????\"),6,1))","v":" "},{"$f":"IF(入力用科目!$AM157=\"\",\"\",MID(TEXT(入力用科目!$AM157,\"????????\"),7,1))","v":" "},{"$f":"IF(入力用科目!$AM157=\"\",\"\",MID(TEXT(入力用科目!$AM157,\"????????\"),8,1))","v":" "}]
[{"$f":"IF(入力用科目!A158=\"\",\"\",MID(TEXT(入力用科目!$A158,\"??\"),COLUMN(),1))","v":""},{"$f":"IF(入力用科目!A158=\"\",\"\",MID(TEXT(入力用科目!$A158,\"??\"),COLUMN(),1))","v":""},null,{"$f":"IF(入力用科目!$D158=\"\",\"\",MID(TEXT(入力用科目!$D158,\"???\"),1,1))","v":""},{"$f":"IF(入力用科目!$D158=\"\",\"\",MID(TEXT(入力用科目!$D158,\"???\"),2,1))","v":""},{"$f":"IF(入力用科目!$D158=\"\",\"\",MID(TEXT(入力用科目!$D158,\"???\"),3,1))","v":""},null,{"$f":"IF(入力用科目!$Q158=1,\"運送収入\",IF(入力用科目!$H158=\"\",\"\",入力用科目!$H158))","v":""},null,null,null,null,null,null,null,null,{"$f":"IF(入力用科目!$Q158=\"\",\"\",MID(TEXT(入力用科目!$Q158,\"???\"),1,1))","v":""},{"$f":"IF(入力用科目!$Q158=\"\",\"\",MID(TEXT(入力用科目!$Q158,\"???\"),2,1))","v":""},{"$f":"IF(入力用科目!$Q158=\"\",\"\",MID(TEXT(入力用科目!$Q158,\"???\"),3,1))","v":""},null,{"$f":"IF(入力用科目!$U158=\"\",\"\",MID(TEXT(入力用科目!$U158,\"????????\"),1,1))","v":""},{"$f":"IF(入力用科目!$U158=\"\",\"\",MID(TEXT(入力用科目!$U158,\"????????\"),2,1))","v":""},{"$f":"IF(入力用科目!$U158=\"\",\"\",MID(TEXT(入力用科目!$U158,\"????????\"),3,1))","v":""},{"$f":"IF(入力用科目!$U158=\"\",\"\",MID(TEXT(入力用科目!$U158,\"????????\"),4,1))","v":""},{"$f":"IF(入力用科目!$U158=\"\",\"\",MID(TEXT(入力用科目!$U158,\"????????\"),5,1))","v":""},{"$f":"IF(入力用科目!$U158=\"\",\"\",MID(TEXT(入力用科目!$U158,\"????????\"),6,1))","v":""},{"$f":"IF(入力用科目!$U158=\"\",\"\",MID(TEXT(入力用科目!$U158,\"????????\"),7,1))","v":""},{"$f":"IF(入力用科目!$U158=\"\",\"\",MID(TEXT(入力用科目!$U158,\"????????\"),8,1))","v":""},null,{"$f":"IF(入力用科目!$AD158=\"\",\"\",MID(TEXT(入力用科目!$AD158,\"????????\"),1,1))","v":""},{"$f":"IF(入力用科目!$AD158=\"\",\"\",MID(TEXT(入力用科目!$AD158,\"????????\"),2,1))","v":""},{"$f":"IF(入力用科目!$AD158=\"\",\"\",MID(TEXT(入力用科目!$AD158,\"????????\"),3,1))","v":""},{"$f":"IF(入力用科目!$AD158=\"\",\"\",MID(TEXT(入力用科目!$AD158,\"????????\"),4,1))","v":""},{"$f":"IF(入力用科目!$AD158=\"\",\"\",MID(TEXT(入力用科目!$AD158,\"????????\"),5,1))","v":""},{"$f":"IF(入力用科目!$AD158=\"\",\"\",MID(TEXT(入力用科目!$AD158,\"????????\"),6,1))","v":""},{"$f":"IF(入力用科目!$AD158=\"\",\"\",MID(TEXT(入力用科目!$AD158,\"????????\"),7,1))","v":""},{"$f":"IF(入力用科目!$AD158=\"\",\"\",MID(TEXT(入力用科目!$AD158,\"????????\"),8,1))","v":""},null,{"$f":"IF(入力用科目!$AM158=\"\",\"\",MID(TEXT(入力用科目!$AM158,\"????????\"),1,1))","v":" "},{"$f":"IF(入力用科目!$AM158=\"\",\"\",MID(TEXT(入力用科目!$AM158,\"????????\"),2,1))","v":" "},{"$f":"IF(入力用科目!$AM158=\"\",\"\",MID(TEXT(入力用科目!$AM158,\"????????\"),3,1))","v":" "},{"$f":"IF(入力用科目!$AM158=\"\",\"\",MID(TEXT(入力用科目!$AM158,\"????????\"),4,1))","v":" "},{"$f":"IF(入力用科目!$AM158=\"\",\"\",MID(TEXT(入力用科目!$AM158,\"????????\"),5,1))","v":" "},{"$f":"IF(入力用科目!$AM158=\"\",\"\",MID(TEXT(入力用科目!$AM158,\"????????\"),6,1))","v":" "},{"$f":"IF(入力用科目!$AM158=\"\",\"\",MID(TEXT(入力用科目!$AM158,\"????????\"),7,1))","v":" "},{"$f":"IF(入力用科目!$AM158=\"\",\"\",MID(TEXT(入力用科目!$AM158,\"????????\"),8,1))","v":" "}]
[{"$f":"IF(入力用科目!A159=\"\",\"\",MID(TEXT(入力用科目!$A159,\"??\"),COLUMN(),1))","v":""},{"$f":"IF(入力用科目!A159=\"\",\"\",MID(TEXT(入力用科目!$A159,\"??\"),COLUMN(),1))","v":""},null,{"$f":"IF(入力用科目!$D159=\"\",\"\",MID(TEXT(入力用科目!$D159,\"???\"),1,1))","v":""},{"$f":"IF(入力用科目!$D159=\"\",\"\",MID(TEXT(入力用科目!$D159,\"???\"),2,1))","v":""},{"$f":"IF(入力用科目!$D159=\"\",\"\",MID(TEXT(入力用科目!$D159,\"???\"),3,1))","v":""},null,{"$f":"IF(入力用科目!$Q159=1,\"運送収入\",IF(入力用科目!$H159=\"\",\"\",入力用科目!$H159))","v":""},null,null,null,null,null,null,null,null,{"$f":"IF(入力用科目!$Q159=\"\",\"\",MID(TEXT(入力用科目!$Q159,\"???\"),1,1))","v":""},{"$f":"IF(入力用科目!$Q159=\"\",\"\",MID(TEXT(入力用科目!$Q159,\"???\"),2,1))","v":""},{"$f":"IF(入力用科目!$Q159=\"\",\"\",MID(TEXT(入力用科目!$Q159,\"???\"),3,1))","v":""},null,{"$f":"IF(入力用科目!$U159=\"\",\"\",MID(TEXT(入力用科目!$U159,\"????????\"),1,1))","v":""},{"$f":"IF(入力用科目!$U159=\"\",\"\",MID(TEXT(入力用科目!$U159,\"????????\"),2,1))","v":""},{"$f":"IF(入力用科目!$U159=\"\",\"\",MID(TEXT(入力用科目!$U159,\"????????\"),3,1))","v":""},{"$f":"IF(入力用科目!$U159=\"\",\"\",MID(TEXT(入力用科目!$U159,\"????????\"),4,1))","v":""},{"$f":"IF(入力用科目!$U159=\"\",\"\",MID(TEXT(入力用科目!$U159,\"????????\"),5,1))","v":""},{"$f":"IF(入力用科目!$U159=\"\",\"\",MID(TEXT(入力用科目!$U159,\"????????\"),6,1))","v":""},{"$f":"IF(入力用科目!$U159=\"\",\"\",MID(TEXT(入力用科目!$U159,\"????????\"),7,1))","v":""},{"$f":"IF(入力用科目!$U159=\"\",\"\",MID(TEXT(入力用科目!$U159,\"????????\"),8,1))","v":""},null,{"$f":"IF(入力用科目!$AD159=\"\",\"\",MID(TEXT(入力用科目!$AD159,\"????????\"),1,1))","v":""},{"$f":"IF(入力用科目!$AD159=\"\",\"\",MID(TEXT(入力用科目!$AD159,\"????????\"),2,1))","v":""},{"$f":"IF(入力用科目!$AD159=\"\",\"\",MID(TEXT(入力用科目!$AD159,\"????????\"),3,1))","v":""},{"$f":"IF(入力用科目!$AD159=\"\",\"\",MID(TEXT(入力用科目!$AD159,\"????????\"),4,1))","v":""},{"$f":"IF(入力用科目!$AD159=\"\",\"\",MID(TEXT(入力用科目!$AD159,\"????????\"),5,1))","v":""},{"$f":"IF(入力用科目!$AD159=\"\",\"\",MID(TEXT(入力用科目!$AD159,\"????????\"),6,1))","v":""},{"$f":"IF(入力用科目!$AD159=\"\",\"\",MID(TEXT(入力用科目!$AD159,\"????????\"),7,1))","v":""},{"$f":"IF(入力用科目!$AD159=\"\",\"\",MID(TEXT(入力用科目!$AD159,\"????????\"),8,1))","v":""},null,{"$f":"IF(入力用科目!$AM159=\"\",\"\",MID(TEXT(入力用科目!$AM159,\"????????\"),1,1))","v":" "},{"$f":"IF(入力用科目!$AM159=\"\",\"\",MID(TEXT(入力用科目!$AM159,\"????????\"),2,1))","v":" "},{"$f":"IF(入力用科目!$AM159=\"\",\"\",MID(TEXT(入力用科目!$AM159,\"????????\"),3,1))","v":" "},{"$f":"IF(入力用科目!$AM159=\"\",\"\",MID(TEXT(入力用科目!$AM159,\"????????\"),4,1))","v":" "},{"$f":"IF(入力用科目!$AM159=\"\",\"\",MID(TEXT(入力用科目!$AM159,\"????????\"),5,1))","v":" "},{"$f":"IF(入力用科目!$AM159=\"\",\"\",MID(TEXT(入力用科目!$AM159,\"????????\"),6,1))","v":" "},{"$f":"IF(入力用科目!$AM159=\"\",\"\",MID(TEXT(入力用科目!$AM159,\"????????\"),7,1))","v":" "},{"$f":"IF(入力用科目!$AM159=\"\",\"\",MID(TEXT(入力用科目!$AM159,\"????????\"),8,1))","v":" "}]
[{"$f":"IF(入力用科目!A160=\"\",\"\",MID(TEXT(入力用科目!$A160,\"??\"),COLUMN(),1))","v":""},{"$f":"IF(入力用科目!A160=\"\",\"\",MID(TEXT(入力用科目!$A160,\"??\"),COLUMN(),1))","v":""},null,{"$f":"IF(入力用科目!$D160=\"\",\"\",MID(TEXT(入力用科目!$D160,\"???\"),1,1))","v":""},{"$f":"IF(入力用科目!$D160=\"\",\"\",MID(TEXT(入力用科目!$D160,\"???\"),2,1))","v":""},{"$f":"IF(入力用科目!$D160=\"\",\"\",MID(TEXT(入力用科目!$D160,\"???\"),3,1))","v":""},null,{"$f":"IF(入力用科目!$Q160=1,\"運送収入\",IF(入力用科目!$H160=\"\",\"\",入力用科目!$H160))","v":""},null,null,null,null,null,null,null,null,{"$f":"IF(入力用科目!$Q160=\"\",\"\",MID(TEXT(入力用科目!$Q160,\"???\"),1,1))","v":""},{"$f":"IF(入力用科目!$Q160=\"\",\"\",MID(TEXT(入力用科目!$Q160,\"???\"),2,1))","v":""},{"$f":"IF(入力用科目!$Q160=\"\",\"\",MID(TEXT(入力用科目!$Q160,\"???\"),3,1))","v":""},null,{"$f":"IF(入力用科目!$U160=\"\",\"\",MID(TEXT(入力用科目!$U160,\"????????\"),1,1))","v":""},{"$f":"IF(入力用科目!$U160=\"\",\"\",MID(TEXT(入力用科目!$U160,\"????????\"),2,1))","v":""},{"$f":"IF(入力用科目!$U160=\"\",\"\",MID(TEXT(入力用科目!$U160,\"????????\"),3,1))","v":""},{"$f":"IF(入力用科目!$U160=\"\",\"\",MID(TEXT(入力用科目!$U160,\"????????\"),4,1))","v":""},{"$f":"IF(入力用科目!$U160=\"\",\"\",MID(TEXT(入力用科目!$U160,\"????????\"),5,1))","v":""},{"$f":"IF(入力用科目!$U160=\"\",\"\",MID(TEXT(入力用科目!$U160,\"????????\"),6,1))","v":""},{"$f":"IF(入力用科目!$U160=\"\",\"\",MID(TEXT(入力用科目!$U160,\"????????\"),7,1))","v":""},{"$f":"IF(入力用科目!$U160=\"\",\"\",MID(TEXT(入力用科目!$U160,\"????????\"),8,1))","v":""},null,{"$f":"IF(入力用科目!$AD160=\"\",\"\",MID(TEXT(入力用科目!$AD160,\"????????\"),1,1))","v":""},{"$f":"IF(入力用科目!$AD160=\"\",\"\",MID(TEXT(入力用科目!$AD160,\"????????\"),2,1))","v":""},{"$f":"IF(入力用科目!$AD160=\"\",\"\",MID(TEXT(入力用科目!$AD160,\"????????\"),3,1))","v":""},{"$f":"IF(入力用科目!$AD160=\"\",\"\",MID(TEXT(入力用科目!$AD160,\"????????\"),4,1))","v":""},{"$f":"IF(入力用科目!$AD160=\"\",\"\",MID(TEXT(入力用科目!$AD160,\"????????\"),5,1))","v":""},{"$f":"IF(入力用科目!$AD160=\"\",\"\",MID(TEXT(入力用科目!$AD160,\"????????\"),6,1))","v":""},{"$f":"IF(入力用科目!$AD160=\"\",\"\",MID(TEXT(入力用科目!$AD160,\"????????\"),7,1))","v":""},{"$f":"IF(入力用科目!$AD160=\"\",\"\",MID(TEXT(入力用科目!$AD160,\"????????\"),8,1))","v":""},null,{"$f":"IF(入力用科目!$AM160=\"\",\"\",MID(TEXT(入力用科目!$AM160,\"????????\"),1,1))","v":" "},{"$f":"IF(入力用科目!$AM160=\"\",\"\",MID(TEXT(入力用科目!$AM160,\"????????\"),2,1))","v":" "},{"$f":"IF(入力用科目!$AM160=\"\",\"\",MID(TEXT(入力用科目!$AM160,\"????????\"),3,1))","v":" "},{"$f":"IF(入力用科目!$AM160=\"\",\"\",MID(TEXT(入力用科目!$AM160,\"????????\"),4,1))","v":" "},{"$f":"IF(入力用科目!$AM160=\"\",\"\",MID(TEXT(入力用科目!$AM160,\"????????\"),5,1))","v":" "},{"$f":"IF(入力用科目!$AM160=\"\",\"\",MID(TEXT(入力用科目!$AM160,\"????????\"),6,1))","v":" "},{"$f":"IF(入力用科目!$AM160=\"\",\"\",MID(TEXT(入力用科目!$AM160,\"????????\"),7,1))","v":" "},{"$f":"IF(入力用科目!$AM160=\"\",\"\",MID(TEXT(入力用科目!$AM160,\"????????\"),8,1))","v":" "}]
[{"$f":"IF(入力用科目!A161=\"\",\"\",MID(TEXT(入力用科目!$A161,\"??\"),COLUMN(),1))","v":""},{"$f":"IF(入力用科目!A161=\"\",\"\",MID(TEXT(入力用科目!$A161,\"??\"),COLUMN(),1))","v":""},null,{"$f":"IF(入力用科目!$D161=\"\",\"\",MID(TEXT(入力用科目!$D161,\"???\"),1,1))","v":""},{"$f":"IF(入力用科目!$D161=\"\",\"\",MID(TEXT(入力用科目!$D161,\"???\"),2,1))","v":""},{"$f":"IF(入力用科目!$D161=\"\",\"\",MID(TEXT(入力用科目!$D161,\"???\"),3,1))","v":""},null,{"$f":"IF(入力用科目!$Q161=1,\"運送収入\",IF(入力用科目!$H161=\"\",\"\",入力用科目!$H161))","v":""},null,null,null,null,null,null,null,null,{"$f":"IF(入力用科目!$Q161=\"\",\"\",MID(TEXT(入力用科目!$Q161,\"???\"),1,1))","v":""},{"$f":"IF(入力用科目!$Q161=\"\",\"\",MID(TEXT(入力用科目!$Q161,\"???\"),2,1))","v":""},{"$f":"IF(入力用科目!$Q161=\"\",\"\",MID(TEXT(入力用科目!$Q161,\"???\"),3,1))","v":""},null,{"$f":"IF(入力用科目!$U161=\"\",\"\",MID(TEXT(入力用科目!$U161,\"????????\"),1,1))","v":""},{"$f":"IF(入力用科目!$U161=\"\",\"\",MID(TEXT(入力用科目!$U161,\"????????\"),2,1))","v":""},{"$f":"IF(入力用科目!$U161=\"\",\"\",MID(TEXT(入力用科目!$U161,\"????????\"),3,1))","v":""},{"$f":"IF(入力用科目!$U161=\"\",\"\",MID(TEXT(入力用科目!$U161,\"????????\"),4,1))","v":""},{"$f":"IF(入力用科目!$U161=\"\",\"\",MID(TEXT(入力用科目!$U161,\"????????\"),5,1))","v":""},{"$f":"IF(入力用科目!$U161=\"\",\"\",MID(TEXT(入力用科目!$U161,\"????????\"),6,1))","v":""},{"$f":"IF(入力用科目!$U161=\"\",\"\",MID(TEXT(入力用科目!$U161,\"????????\"),7,1))","v":""},{"$f":"IF(入力用科目!$U161=\"\",\"\",MID(TEXT(入力用科目!$U161,\"????????\"),8,1))","v":""},null,{"$f":"IF(入力用科目!$AD161=\"\",\"\",MID(TEXT(入力用科目!$AD161,\"????????\"),1,1))","v":""},{"$f":"IF(入力用科目!$AD161=\"\",\"\",MID(TEXT(入力用科目!$AD161,\"????????\"),2,1))","v":""},{"$f":"IF(入力用科目!$AD161=\"\",\"\",MID(TEXT(入力用科目!$AD161,\"????????\"),3,1))","v":""},{"$f":"IF(入力用科目!$AD161=\"\",\"\",MID(TEXT(入力用科目!$AD161,\"????????\"),4,1))","v":""},{"$f":"IF(入力用科目!$AD161=\"\",\"\",MID(TEXT(入力用科目!$AD161,\"????????\"),5,1))","v":""},{"$f":"IF(入力用科目!$AD161=\"\",\"\",MID(TEXT(入力用科目!$AD161,\"????????\"),6,1))","v":""},{"$f":"IF(入力用科目!$AD161=\"\",\"\",MID(TEXT(入力用科目!$AD161,\"????????\"),7,1))","v":""},{"$f":"IF(入力用科目!$AD161=\"\",\"\",MID(TEXT(入力用科目!$AD161,\"????????\"),8,1))","v":""},null,{"$f":"IF(入力用科目!$AM161=\"\",\"\",MID(TEXT(入力用科目!$AM161,\"????????\"),1,1))","v":" "},{"$f":"IF(入力用科目!$AM161=\"\",\"\",MID(TEXT(入力用科目!$AM161,\"????????\"),2,1))","v":" "},{"$f":"IF(入力用科目!$AM161=\"\",\"\",MID(TEXT(入力用科目!$AM161,\"????????\"),3,1))","v":" "},{"$f":"IF(入力用科目!$AM161=\"\",\"\",MID(TEXT(入力用科目!$AM161,\"????????\"),4,1))","v":" "},{"$f":"IF(入力用科目!$AM161=\"\",\"\",MID(TEXT(入力用科目!$AM161,\"????????\"),5,1))","v":" "},{"$f":"IF(入力用科目!$AM161=\"\",\"\",MID(TEXT(入力用科目!$AM161,\"????????\"),6,1))","v":" "},{"$f":"IF(入力用科目!$AM161=\"\",\"\",MID(TEXT(入力用科目!$AM161,\"????????\"),7,1))","v":" "},{"$f":"IF(入力用科目!$AM161=\"\",\"\",MID(TEXT(入力用科目!$AM161,\"????????\"),8,1))","v":" "}]
[{"$f":"IF(入力用科目!A162=\"\",\"\",MID(TEXT(入力用科目!$A162,\"??\"),COLUMN(),1))","v":""},{"$f":"IF(入力用科目!A162=\"\",\"\",MID(TEXT(入力用科目!$A162,\"??\"),COLUMN(),1))","v":""},null,{"$f":"IF(入力用科目!$D162=\"\",\"\",MID(TEXT(入力用科目!$D162,\"???\"),1,1))","v":""},{"$f":"IF(入力用科目!$D162=\"\",\"\",MID(TEXT(入力用科目!$D162,\"???\"),2,1))","v":""},{"$f":"IF(入力用科目!$D162=\"\",\"\",MID(TEXT(入力用科目!$D162,\"???\"),3,1))","v":""},null,{"$f":"IF(入力用科目!$Q162=1,\"運送収入\",IF(入力用科目!$H162=\"\",\"\",入力用科目!$H162))","v":""},null,null,null,null,null,null,null,null,{"$f":"IF(入力用科目!$Q162=\"\",\"\",MID(TEXT(入力用科目!$Q162,\"???\"),1,1))","v":""},{"$f":"IF(入力用科目!$Q162=\"\",\"\",MID(TEXT(入力用科目!$Q162,\"???\"),2,1))","v":""},{"$f":"IF(入力用科目!$Q162=\"\",\"\",MID(TEXT(入力用科目!$Q162,\"???\"),3,1))","v":""},null,{"$f":"IF(入力用科目!$U162=\"\",\"\",MID(TEXT(入力用科目!$U162,\"????????\"),1,1))","v":""},{"$f":"IF(入力用科目!$U162=\"\",\"\",MID(TEXT(入力用科目!$U162,\"????????\"),2,1))","v":""},{"$f":"IF(入力用科目!$U162=\"\",\"\",MID(TEXT(入力用科目!$U162,\"????????\"),3,1))","v":""},{"$f":"IF(入力用科目!$U162=\"\",\"\",MID(TEXT(入力用科目!$U162,\"????????\"),4,1))","v":""},{"$f":"IF(入力用科目!$U162=\"\",\"\",MID(TEXT(入力用科目!$U162,\"????????\"),5,1))","v":""},{"$f":"IF(入力用科目!$U162=\"\",\"\",MID(TEXT(入力用科目!$U162,\"????????\"),6,1))","v":""},{"$f":"IF(入力用科目!$U162=\"\",\"\",MID(TEXT(入力用科目!$U162,\"????????\"),7,1))","v":""},{"$f":"IF(入力用科目!$U162=\"\",\"\",MID(TEXT(入力用科目!$U162,\"????????\"),8,1))","v":""},null,{"$f":"IF(入力用科目!$AD162=\"\",\"\",MID(TEXT(入力用科目!$AD162,\"????????\"),1,1))","v":""},{"$f":"IF(入力用科目!$AD162=\"\",\"\",MID(TEXT(入力用科目!$AD162,\"????????\"),2,1))","v":""},{"$f":"IF(入力用科目!$AD162=\"\",\"\",MID(TEXT(入力用科目!$AD162,\"????????\"),3,1))","v":""},{"$f":"IF(入力用科目!$AD162=\"\",\"\",MID(TEXT(入力用科目!$AD162,\"????????\"),4,1))","v":""},{"$f":"IF(入力用科目!$AD162=\"\",\"\",MID(TEXT(入力用科目!$AD162,\"????????\"),5,1))","v":""},{"$f":"IF(入力用科目!$AD162=\"\",\"\",MID(TEXT(入力用科目!$AD162,\"????????\"),6,1))","v":""},{"$f":"IF(入力用科目!$AD162=\"\",\"\",MID(TEXT(入力用科目!$AD162,\"????????\"),7,1))","v":""},{"$f":"IF(入力用科目!$AD162=\"\",\"\",MID(TEXT(入力用科目!$AD162,\"????????\"),8,1))","v":""},null,{"$f":"IF(入力用科目!$AM162=\"\",\"\",MID(TEXT(入力用科目!$AM162,\"????????\"),1,1))","v":" "},{"$f":"IF(入力用科目!$AM162=\"\",\"\",MID(TEXT(入力用科目!$AM162,\"????????\"),2,1))","v":" "},{"$f":"IF(入力用科目!$AM162=\"\",\"\",MID(TEXT(入力用科目!$AM162,\"????????\"),3,1))","v":" "},{"$f":"IF(入力用科目!$AM162=\"\",\"\",MID(TEXT(入力用科目!$AM162,\"????????\"),4,1))","v":" "},{"$f":"IF(入力用科目!$AM162=\"\",\"\",MID(TEXT(入力用科目!$AM162,\"????????\"),5,1))","v":" "},{"$f":"IF(入力用科目!$AM162=\"\",\"\",MID(TEXT(入力用科目!$AM162,\"????????\"),6,1))","v":" "},{"$f":"IF(入力用科目!$AM162=\"\",\"\",MID(TEXT(入力用科目!$AM162,\"????????\"),7,1))","v":" "},{"$f":"IF(入力用科目!$AM162=\"\",\"\",MID(TEXT(入力用科目!$AM162,\"????????\"),8,1))","v":" "}]
[{"$f":"IF(入力用科目!A163=\"\",\"\",MID(TEXT(入力用科目!$A163,\"??\"),COLUMN(),1))","v":""},{"$f":"IF(入力用科目!A163=\"\",\"\",MID(TEXT(入力用科目!$A163,\"??\"),COLUMN(),1))","v":""},null,{"$f":"IF(入力用科目!$D163=\"\",\"\",MID(TEXT(入力用科目!$D163,\"???\"),1,1))","v":""},{"$f":"IF(入力用科目!$D163=\"\",\"\",MID(TEXT(入力用科目!$D163,\"???\"),2,1))","v":""},{"$f":"IF(入力用科目!$D163=\"\",\"\",MID(TEXT(入力用科目!$D163,\"???\"),3,1))","v":""},null,{"$f":"IF(入力用科目!$Q163=1,\"運送収入\",IF(入力用科目!$H163=\"\",\"\",入力用科目!$H163))","v":""},null,null,null,null,null,null,null,null,{"$f":"IF(入力用科目!$Q163=\"\",\"\",MID(TEXT(入力用科目!$Q163,\"???\"),1,1))","v":""},{"$f":"IF(入力用科目!$Q163=\"\",\"\",MID(TEXT(入力用科目!$Q163,\"???\"),2,1))","v":""},{"$f":"IF(入力用科目!$Q163=\"\",\"\",MID(TEXT(入力用科目!$Q163,\"???\"),3,1))","v":""},null,{"$f":"IF(入力用科目!$U163=\"\",\"\",MID(TEXT(入力用科目!$U163,\"????????\"),1,1))","v":""},{"$f":"IF(入力用科目!$U163=\"\",\"\",MID(TEXT(入力用科目!$U163,\"????????\"),2,1))","v":""},{"$f":"IF(入力用科目!$U163=\"\",\"\",MID(TEXT(入力用科目!$U163,\"????????\"),3,1))","v":""},{"$f":"IF(入力用科目!$U163=\"\",\"\",MID(TEXT(入力用科目!$U163,\"????????\"),4,1))","v":""},{"$f":"IF(入力用科目!$U163=\"\",\"\",MID(TEXT(入力用科目!$U163,\"????????\"),5,1))","v":""},{"$f":"IF(入力用科目!$U163=\"\",\"\",MID(TEXT(入力用科目!$U163,\"????????\"),6,1))","v":""},{"$f":"IF(入力用科目!$U163=\"\",\"\",MID(TEXT(入力用科目!$U163,\"????????\"),7,1))","v":""},{"$f":"IF(入力用科目!$U163=\"\",\"\",MID(TEXT(入力用科目!$U163,\"????????\"),8,1))","v":""},null,{"$f":"IF(入力用科目!$AD163=\"\",\"\",MID(TEXT(入力用科目!$AD163,\"????????\"),1,1))","v":""},{"$f":"IF(入力用科目!$AD163=\"\",\"\",MID(TEXT(入力用科目!$AD163,\"????????\"),2,1))","v":""},{"$f":"IF(入力用科目!$AD163=\"\",\"\",MID(TEXT(入力用科目!$AD163,\"????????\"),3,1))","v":""},{"$f":"IF(入力用科目!$AD163=\"\",\"\",MID(TEXT(入力用科目!$AD163,\"????????\"),4,1))","v":""},{"$f":"IF(入力用科目!$AD163=\"\",\"\",MID(TEXT(入力用科目!$AD163,\"????????\"),5,1))","v":""},{"$f":"IF(入力用科目!$AD163=\"\",\"\",MID(TEXT(入力用科目!$AD163,\"????????\"),6,1))","v":""},{"$f":"IF(入力用科目!$AD163=\"\",\"\",MID(TEXT(入力用科目!$AD163,\"????????\"),7,1))","v":""},{"$f":"IF(入力用科目!$AD163=\"\",\"\",MID(TEXT(入力用科目!$AD163,\"????????\"),8,1))","v":""},null,{"$f":"IF(入力用科目!$AM163=\"\",\"\",MID(TEXT(入力用科目!$AM163,\"????????\"),1,1))","v":" "},{"$f":"IF(入力用科目!$AM163=\"\",\"\",MID(TEXT(入力用科目!$AM163,\"????????\"),2,1))","v":" "},{"$f":"IF(入力用科目!$AM163=\"\",\"\",MID(TEXT(入力用科目!$AM163,\"????????\"),3,1))","v":" "},{"$f":"IF(入力用科目!$AM163=\"\",\"\",MID(TEXT(入力用科目!$AM163,\"????????\"),4,1))","v":" "},{"$f":"IF(入力用科目!$AM163=\"\",\"\",MID(TEXT(入力用科目!$AM163,\"????????\"),5,1))","v":" "},{"$f":"IF(入力用科目!$AM163=\"\",\"\",MID(TEXT(入力用科目!$AM163,\"????????\"),6,1))","v":" "},{"$f":"IF(入力用科目!$AM163=\"\",\"\",MID(TEXT(入力用科目!$AM163,\"????????\"),7,1))","v":" "},{"$f":"IF(入力用科目!$AM163=\"\",\"\",MID(TEXT(入力用科目!$AM163,\"????????\"),8,1))","v":" "}]
[{"$f":"IF(入力用科目!A164=\"\",\"\",MID(TEXT(入力用科目!$A164,\"??\"),COLUMN(),1))","v":""},{"$f":"IF(入力用科目!A164=\"\",\"\",MID(TEXT(入力用科目!$A164,\"??\"),COLUMN(),1))","v":""},null,{"$f":"IF(入力用科目!$D164=\"\",\"\",MID(TEXT(入力用科目!$D164,\"???\"),1,1))","v":""},{"$f":"IF(入力用科目!$D164=\"\",\"\",MID(TEXT(入力用科目!$D164,\"???\"),2,1))","v":""},{"$f":"IF(入力用科目!$D164=\"\",\"\",MID(TEXT(入力用科目!$D164,\"???\"),3,1))","v":""},null,{"$f":"IF(入力用科目!$Q164=1,\"運送収入\",IF(入力用科目!$H164=\"\",\"\",入力用科目!$H164))","v":""},null,null,null,null,null,null,null,null,{"$f":"IF(入力用科目!$Q164=\"\",\"\",MID(TEXT(入力用科目!$Q164,\"???\"),1,1))","v":""},{"$f":"IF(入力用科目!$Q164=\"\",\"\",MID(TEXT(入力用科目!$Q164,\"???\"),2,1))","v":""},{"$f":"IF(入力用科目!$Q164=\"\",\"\",MID(TEXT(入力用科目!$Q164,\"???\"),3,1))","v":""},null,{"$f":"IF(入力用科目!$U164=\"\",\"\",MID(TEXT(入力用科目!$U164,\"????????\"),1,1))","v":""},{"$f":"IF(入力用科目!$U164=\"\",\"\",MID(TEXT(入力用科目!$U164,\"????????\"),2,1))","v":""},{"$f":"IF(入力用科目!$U164=\"\",\"\",MID(TEXT(入力用科目!$U164,\"????????\"),3,1))","v":""},{"$f":"IF(入力用科目!$U164=\"\",\"\",MID(TEXT(入力用科目!$U164,\"????????\"),4,1))","v":""},{"$f":"IF(入力用科目!$U164=\"\",\"\",MID(TEXT(入力用科目!$U164,\"????????\"),5,1))","v":""},{"$f":"IF(入力用科目!$U164=\"\",\"\",MID(TEXT(入力用科目!$U164,\"????????\"),6,1))","v":""},{"$f":"IF(入力用科目!$U164=\"\",\"\",MID(TEXT(入力用科目!$U164,\"????????\"),7,1))","v":""},{"$f":"IF(入力用科目!$U164=\"\",\"\",MID(TEXT(入力用科目!$U164,\"????????\"),8,1))","v":""},null,{"$f":"IF(入力用科目!$AD164=\"\",\"\",MID(TEXT(入力用科目!$AD164,\"????????\"),1,1))","v":""},{"$f":"IF(入力用科目!$AD164=\"\",\"\",MID(TEXT(入力用科目!$AD164,\"????????\"),2,1))","v":""},{"$f":"IF(入力用科目!$AD164=\"\",\"\",MID(TEXT(入力用科目!$AD164,\"????????\"),3,1))","v":""},{"$f":"IF(入力用科目!$AD164=\"\",\"\",MID(TEXT(入力用科目!$AD164,\"????????\"),4,1))","v":""},{"$f":"IF(入力用科目!$AD164=\"\",\"\",MID(TEXT(入力用科目!$AD164,\"????????\"),5,1))","v":""},{"$f":"IF(入力用科目!$AD164=\"\",\"\",MID(TEXT(入力用科目!$AD164,\"????????\"),6,1))","v":""},{"$f":"IF(入力用科目!$AD164=\"\",\"\",MID(TEXT(入力用科目!$AD164,\"????????\"),7,1))","v":""},{"$f":"IF(入力用科目!$AD164=\"\",\"\",MID(TEXT(入力用科目!$AD164,\"????????\"),8,1))","v":""},null,{"$f":"IF(入力用科目!$AM164=\"\",\"\",MID(TEXT(入力用科目!$AM164,\"????????\"),1,1))","v":" "},{"$f":"IF(入力用科目!$AM164=\"\",\"\",MID(TEXT(入力用科目!$AM164,\"????????\"),2,1))","v":" "},{"$f":"IF(入力用科目!$AM164=\"\",\"\",MID(TEXT(入力用科目!$AM164,\"????????\"),3,1))","v":" "},{"$f":"IF(入力用科目!$AM164=\"\",\"\",MID(TEXT(入力用科目!$AM164,\"????????\"),4,1))","v":" "},{"$f":"IF(入力用科目!$AM164=\"\",\"\",MID(TEXT(入力用科目!$AM164,\"????????\"),5,1))","v":" "},{"$f":"IF(入力用科目!$AM164=\"\",\"\",MID(TEXT(入力用科目!$AM164,\"????????\"),6,1))","v":" "},{"$f":"IF(入力用科目!$AM164=\"\",\"\",MID(TEXT(入力用科目!$AM164,\"????????\"),7,1))","v":" "},{"$f":"IF(入力用科目!$AM164=\"\",\"\",MID(TEXT(入力用科目!$AM164,\"????????\"),8,1))","v":" "}]
[{"$f":"IF(入力用科目!A165=\"\",\"\",MID(TEXT(入力用科目!$A165,\"??\"),COLUMN(),1))","v":""},{"$f":"IF(入力用科目!A165=\"\",\"\",MID(TEXT(入力用科目!$A165,\"??\"),COLUMN(),1))","v":""},null,{"$f":"IF(入力用科目!$D165=\"\",\"\",MID(TEXT(入力用科目!$D165,\"???\"),1,1))","v":""},{"$f":"IF(入力用科目!$D165=\"\",\"\",MID(TEXT(入力用科目!$D165,\"???\"),2,1))","v":""},{"$f":"IF(入力用科目!$D165=\"\",\"\",MID(TEXT(入力用科目!$D165,\"???\"),3,1))","v":""},null,{"$f":"IF(入力用科目!$Q165=1,\"運送収入\",IF(入力用科目!$H165=\"\",\"\",入力用科目!$H165))","v":""},null,null,null,null,null,null,null,null,{"$f":"IF(入力用科目!$Q165=\"\",\"\",MID(TEXT(入力用科目!$Q165,\"???\"),1,1))","v":""},{"$f":"IF(入力用科目!$Q165=\"\",\"\",MID(TEXT(入力用科目!$Q165,\"???\"),2,1))","v":""},{"$f":"IF(入力用科目!$Q165=\"\",\"\",MID(TEXT(入力用科目!$Q165,\"???\"),3,1))","v":""},null,{"$f":"IF(入力用科目!$U165=\"\",\"\",MID(TEXT(入力用科目!$U165,\"????????\"),1,1))","v":""},{"$f":"IF(入力用科目!$U165=\"\",\"\",MID(TEXT(入力用科目!$U165,\"????????\"),2,1))","v":""},{"$f":"IF(入力用科目!$U165=\"\",\"\",MID(TEXT(入力用科目!$U165,\"????????\"),3,1))","v":""},{"$f":"IF(入力用科目!$U165=\"\",\"\",MID(TEXT(入力用科目!$U165,\"????????\"),4,1))","v":""},{"$f":"IF(入力用科目!$U165=\"\",\"\",MID(TEXT(入力用科目!$U165,\"????????\"),5,1))","v":""},{"$f":"IF(入力用科目!$U165=\"\",\"\",MID(TEXT(入力用科目!$U165,\"????????\"),6,1))","v":""},{"$f":"IF(入力用科目!$U165=\"\",\"\",MID(TEXT(入力用科目!$U165,\"????????\"),7,1))","v":""},{"$f":"IF(入力用科目!$U165=\"\",\"\",MID(TEXT(入力用科目!$U165,\"????????\"),8,1))","v":""},null,{"$f":"IF(入力用科目!$AD165=\"\",\"\",MID(TEXT(入力用科目!$AD165,\"????????\"),1,1))","v":""},{"$f":"IF(入力用科目!$AD165=\"\",\"\",MID(TEXT(入力用科目!$AD165,\"????????\"),2,1))","v":""},{"$f":"IF(入力用科目!$AD165=\"\",\"\",MID(TEXT(入力用科目!$AD165,\"????????\"),3,1))","v":""},{"$f":"IF(入力用科目!$AD165=\"\",\"\",MID(TEXT(入力用科目!$AD165,\"????????\"),4,1))","v":""},{"$f":"IF(入力用科目!$AD165=\"\",\"\",MID(TEXT(入力用科目!$AD165,\"????????\"),5,1))","v":""},{"$f":"IF(入力用科目!$AD165=\"\",\"\",MID(TEXT(入力用科目!$AD165,\"????????\"),6,1))","v":""},{"$f":"IF(入力用科目!$AD165=\"\",\"\",MID(TEXT(入力用科目!$AD165,\"????????\"),7,1))","v":""},{"$f":"IF(入力用科目!$AD165=\"\",\"\",MID(TEXT(入力用科目!$AD165,\"????????\"),8,1))","v":""},null,{"$f":"IF(入力用科目!$AM165=\"\",\"\",MID(TEXT(入力用科目!$AM165,\"????????\"),1,1))","v":" "},{"$f":"IF(入力用科目!$AM165=\"\",\"\",MID(TEXT(入力用科目!$AM165,\"????????\"),2,1))","v":" "},{"$f":"IF(入力用科目!$AM165=\"\",\"\",MID(TEXT(入力用科目!$AM165,\"????????\"),3,1))","v":" "},{"$f":"IF(入力用科目!$AM165=\"\",\"\",MID(TEXT(入力用科目!$AM165,\"????????\"),4,1))","v":" "},{"$f":"IF(入力用科目!$AM165=\"\",\"\",MID(TEXT(入力用科目!$AM165,\"????????\"),5,1))","v":" "},{"$f":"IF(入力用科目!$AM165=\"\",\"\",MID(TEXT(入力用科目!$AM165,\"????????\"),6,1))","v":" "},{"$f":"IF(入力用科目!$AM165=\"\",\"\",MID(TEXT(入力用科目!$AM165,\"????????\"),7,1))","v":" "},{"$f":"IF(入力用科目!$AM165=\"\",\"\",MID(TEXT(入力用科目!$AM165,\"????????\"),8,1))","v":" "}]
[{"$f":"IF(入力用科目!A166=\"\",\"\",MID(TEXT(入力用科目!$A166,\"??\"),COLUMN(),1))","v":""},{"$f":"IF(入力用科目!A166=\"\",\"\",MID(TEXT(入力用科目!$A166,\"??\"),COLUMN(),1))","v":""},null,{"$f":"IF(入力用科目!$D166=\"\",\"\",MID(TEXT(入力用科目!$D166,\"???\"),1,1))","v":""},{"$f":"IF(入力用科目!$D166=\"\",\"\",MID(TEXT(入力用科目!$D166,\"???\"),2,1))","v":""},{"$f":"IF(入力用科目!$D166=\"\",\"\",MID(TEXT(入力用科目!$D166,\"???\"),3,1))","v":""},null,{"$f":"IF(入力用科目!H166=\"\",\"\",入力用科目!H166)","v":""},null,null,null,null,null,null,null,null,{"$f":"IF(入力用科目!$Q166=\"\",\"\",MID(TEXT(入力用科目!$Q166,\"???\"),1,1))","v":""},{"$f":"IF(入力用科目!$Q166=\"\",\"\",MID(TEXT(入力用科目!$Q166,\"???\"),2,1))","v":""},{"$f":"IF(入力用科目!$Q166=\"\",\"\",MID(TEXT(入力用科目!$Q166,\"???\"),3,1))","v":""},null,{"$f":"IF(入力用科目!$U166=\"\",\"\",MID(TEXT(入力用科目!$U166,\"????????\"),1,1))","v":""},{"$f":"IF(入力用科目!$U166=\"\",\"\",MID(TEXT(入力用科目!$U166,\"????????\"),2,1))","v":""},{"$f":"IF(入力用科目!$U166=\"\",\"\",MID(TEXT(入力用科目!$U166,\"????????\"),3,1))","v":""},{"$f":"IF(入力用科目!$U166=\"\",\"\",MID(TEXT(入力用科目!$U166,\"????????\"),4,1))","v":""},{"$f":"IF(入力用科目!$U166=\"\",\"\",MID(TEXT(入力用科目!$U166,\"????????\"),5,1))","v":""},{"$f":"IF(入力用科目!$U166=\"\",\"\",MID(TEXT(入力用科目!$U166,\"????????\"),6,1))","v":""},{"$f":"IF(入力用科目!$U166=\"\",\"\",MID(TEXT(入力用科目!$U166,\"????????\"),7,1))","v":""},{"$f":"IF(入力用科目!$U166=\"\",\"\",MID(TEXT(入力用科目!$U166,\"????????\"),8,1))","v":""},null,{"$f":"IF(入力用科目!$AD166=\"\",\"\",MID(TEXT(入力用科目!$AD166,\"????????\"),1,1))","v":""},{"$f":"IF(入力用科目!$AD166=\"\",\"\",MID(TEXT(入力用科目!$AD166,\"????????\"),2,1))","v":""},{"$f":"IF(入力用科目!$AD166=\"\",\"\",MID(TEXT(入力用科目!$AD166,\"????????\"),3,1))","v":""},{"$f":"IF(入力用科目!$AD166=\"\",\"\",MID(TEXT(入力用科目!$AD166,\"????????\"),4,1))","v":""},{"$f":"IF(入力用科目!$AD166=\"\",\"\",MID(TEXT(入力用科目!$AD166,\"????????\"),5,1))","v":""},{"$f":"IF(入力用科目!$AD166=\"\",\"\",MID(TEXT(入力用科目!$AD166,\"????????\"),6,1))","v":""},{"$f":"IF(入力用科目!$AD166=\"\",\"\",MID(TEXT(入力用科目!$AD166,\"????????\"),7,1))","v":""},{"$f":"IF(入力用科目!$AD166=\"\",\"\",MID(TEXT(入力用科目!$AD166,\"????????\"),8,1))","v":""},null,{"$f":"IF(入力用科目!$AM166=\"\",\"\",MID(TEXT(入力用科目!$AM166,\"????????\"),1,1))","v":" "},{"$f":"IF(入力用科目!$AM166=\"\",\"\",MID(TEXT(入力用科目!$AM166,\"????????\"),2,1))","v":" "},{"$f":"IF(入力用科目!$AM166=\"\",\"\",MID(TEXT(入力用科目!$AM166,\"????????\"),3,1))","v":" "},{"$f":"IF(入力用科目!$AM166=\"\",\"\",MID(TEXT(入力用科目!$AM166,\"????????\"),4,1))","v":" "},{"$f":"IF(入力用科目!$AM166=\"\",\"\",MID(TEXT(入力用科目!$AM166,\"????????\"),5,1))","v":" "},{"$f":"IF(入力用科目!$AM166=\"\",\"\",MID(TEXT(入力用科目!$AM166,\"????????\"),6,1))","v":" "},{"$f":"IF(入力用科目!$AM166=\"\",\"\",MID(TEXT(入力用科目!$AM166,\"????????\"),7,1))","v":" "},{"$f":"IF(入力用科目!$AM166=\"\",\"\",MID(TEXT(入力用科目!$AM166,\"????????\"),8,1))","v":" "}]
[{"$f":"IF(入力用科目!A167=\"\",\"\",MID(TEXT(入力用科目!$A167,\"??\"),COLUMN(),1))","v":""},{"$f":"IF(入力用科目!A167=\"\",\"\",MID(TEXT(入力用科目!$A167,\"??\"),COLUMN(),1))","v":""},null,{"$f":"IF(入力用科目!$D167=\"\",\"\",MID(TEXT(入力用科目!$D167,\"???\"),1,1))","v":""},{"$f":"IF(入力用科目!$D167=\"\",\"\",MID(TEXT(入力用科目!$D167,\"???\"),2,1))","v":""},{"$f":"IF(入力用科目!$D167=\"\",\"\",MID(TEXT(入力用科目!$D167,\"???\"),3,1))","v":""},null,{"$f":"IF(入力用科目!H167=\"\",\"\",入力用科目!H167)","v":""},null,null,null,null,null,null,null,null,{"$f":"IF(入力用科目!$Q167=\"\",\"\",MID(TEXT(入力用科目!$Q167,\"???\"),1,1))","v":""},{"$f":"IF(入力用科目!$Q167=\"\",\"\",MID(TEXT(入力用科目!$Q167,\"???\"),2,1))","v":""},{"$f":"IF(入力用科目!$Q167=\"\",\"\",MID(TEXT(入力用科目!$Q167,\"???\"),3,1))","v":""},null,{"$f":"IF(入力用科目!$U167=\"\",\"\",MID(TEXT(入力用科目!$U167,\"????????\"),1,1))","v":""},{"$f":"IF(入力用科目!$U167=\"\",\"\",MID(TEXT(入力用科目!$U167,\"????????\"),2,1))","v":""},{"$f":"IF(入力用科目!$U167=\"\",\"\",MID(TEXT(入力用科目!$U167,\"????????\"),3,1))","v":""},{"$f":"IF(入力用科目!$U167=\"\",\"\",MID(TEXT(入力用科目!$U167,\"????????\"),4,1))","v":""},{"$f":"IF(入力用科目!$U167=\"\",\"\",MID(TEXT(入力用科目!$U167,\"????????\"),5,1))","v":""},{"$f":"IF(入力用科目!$U167=\"\",\"\",MID(TEXT(入力用科目!$U167,\"????????\"),6,1))","v":""},{"$f":"IF(入力用科目!$U167=\"\",\"\",MID(TEXT(入力用科目!$U167,\"????????\"),7,1))","v":""},{"$f":"IF(入力用科目!$U167=\"\",\"\",MID(TEXT(入力用科目!$U167,\"????????\"),8,1))","v":""},null,{"$f":"IF(入力用科目!$AD167=\"\",\"\",MID(TEXT(入力用科目!$AD167,\"????????\"),1,1))","v":""},{"$f":"IF(入力用科目!$AD167=\"\",\"\",MID(TEXT(入力用科目!$AD167,\"????????\"),2,1))","v":""},{"$f":"IF(入力用科目!$AD167=\"\",\"\",MID(TEXT(入力用科目!$AD167,\"????????\"),3,1))","v":""},{"$f":"IF(入力用科目!$AD167=\"\",\"\",MID(TEXT(入力用科目!$AD167,\"????????\"),4,1))","v":""},{"$f":"IF(入力用科目!$AD167=\"\",\"\",MID(TEXT(入力用科目!$AD167,\"????????\"),5,1))","v":""},{"$f":"IF(入力用科目!$AD167=\"\",\"\",MID(TEXT(入力用科目!$AD167,\"????????\"),6,1))","v":""},{"$f":"IF(入力用科目!$AD167=\"\",\"\",MID(TEXT(入力用科目!$AD167,\"????????\"),7,1))","v":""},{"$f":"IF(入力用科目!$AD167=\"\",\"\",MID(TEXT(入力用科目!$AD167,\"????????\"),8,1))","v":""},null,{"$f":"IF(入力用科目!$AM167=\"\",\"\",MID(TEXT(入力用科目!$AM167,\"????????\"),1,1))","v":" "},{"$f":"IF(入力用科目!$AM167=\"\",\"\",MID(TEXT(入力用科目!$AM167,\"????????\"),2,1))","v":" "},{"$f":"IF(入力用科目!$AM167=\"\",\"\",MID(TEXT(入力用科目!$AM167,\"????????\"),3,1))","v":" "},{"$f":"IF(入力用科目!$AM167=\"\",\"\",MID(TEXT(入力用科目!$AM167,\"????????\"),4,1))","v":" "},{"$f":"IF(入力用科目!$AM167=\"\",\"\",MID(TEXT(入力用科目!$AM167,\"????????\"),5,1))","v":" "},{"$f":"IF(入力用科目!$AM167=\"\",\"\",MID(TEXT(入力用科目!$AM167,\"????????\"),6,1))","v":" "},{"$f":"IF(入力用科目!$AM167=\"\",\"\",MID(TEXT(入力用科目!$AM167,\"????????\"),7,1))","v":" "},{"$f":"IF(入力用科目!$AM167=\"\",\"\",MID(TEXT(入力用科目!$AM167,\"????????\"),8,1))","v":" "}]
[{"$f":"IF(入力用科目!A168=\"\",\"\",MID(TEXT(入力用科目!$A168,\"??\"),COLUMN(),1))","v":""},{"$f":"IF(入力用科目!A168=\"\",\"\",MID(TEXT(入力用科目!$A168,\"??\"),COLUMN(),1))","v":""},null,{"$f":"IF(入力用科目!$D168=\"\",\"\",MID(TEXT(入力用科目!$D168,\"???\"),1,1))","v":""},{"$f":"IF(入力用科目!$D168=\"\",\"\",MID(TEXT(入力用科目!$D168,\"???\"),2,1))","v":""},{"$f":"IF(入力用科目!$D168=\"\",\"\",MID(TEXT(入力用科目!$D168,\"???\"),3,1))","v":""},null,{"$f":"IF(入力用科目!H168=\"\",\"\",入力用科目!H168)","v":""},null,null,null,null,null,null,null,null,{"$f":"IF(入力用科目!$Q168=\"\",\"\",MID(TEXT(入力用科目!$Q168,\"???\"),1,1))","v":""},{"$f":"IF(入力用科目!$Q168=\"\",\"\",MID(TEXT(入力用科目!$Q168,\"???\"),2,1))","v":""},{"$f":"IF(入力用科目!$Q168=\"\",\"\",MID(TEXT(入力用科目!$Q168,\"???\"),3,1))","v":""},null,{"$f":"IF(入力用科目!$U168=\"\",\"\",MID(TEXT(入力用科目!$U168,\"????????\"),1,1))","v":""},{"$f":"IF(入力用科目!$U168=\"\",\"\",MID(TEXT(入力用科目!$U168,\"????????\"),2,1))","v":""},{"$f":"IF(入力用科目!$U168=\"\",\"\",MID(TEXT(入力用科目!$U168,\"????????\"),3,1))","v":""},{"$f":"IF(入力用科目!$U168=\"\",\"\",MID(TEXT(入力用科目!$U168,\"????????\"),4,1))","v":""},{"$f":"IF(入力用科目!$U168=\"\",\"\",MID(TEXT(入力用科目!$U168,\"????????\"),5,1))","v":""},{"$f":"IF(入力用科目!$U168=\"\",\"\",MID(TEXT(入力用科目!$U168,\"????????\"),6,1))","v":""},{"$f":"IF(入力用科目!$U168=\"\",\"\",MID(TEXT(入力用科目!$U168,\"????????\"),7,1))","v":""},{"$f":"IF(入力用科目!$U168=\"\",\"\",MID(TEXT(入力用科目!$U168,\"????????\"),8,1))","v":""},null,{"$f":"IF(入力用科目!$AD168=\"\",\"\",MID(TEXT(入力用科目!$AD168,\"????????\"),1,1))","v":""},{"$f":"IF(入力用科目!$AD168=\"\",\"\",MID(TEXT(入力用科目!$AD168,\"????????\"),2,1))","v":""},{"$f":"IF(入力用科目!$AD168=\"\",\"\",MID(TEXT(入力用科目!$AD168,\"????????\"),3,1))","v":""},{"$f":"IF(入力用科目!$AD168=\"\",\"\",MID(TEXT(入力用科目!$AD168,\"????????\"),4,1))","v":""},{"$f":"IF(入力用科目!$AD168=\"\",\"\",MID(TEXT(入力用科目!$AD168,\"????????\"),5,1))","v":""},{"$f":"IF(入力用科目!$AD168=\"\",\"\",MID(TEXT(入力用科目!$AD168,\"????????\"),6,1))","v":""},{"$f":"IF(入力用科目!$AD168=\"\",\"\",MID(TEXT(入力用科目!$AD168,\"????????\"),7,1))","v":""},{"$f":"IF(入力用科目!$AD168=\"\",\"\",MID(TEXT(入力用科目!$AD168,\"????????\"),8,1))","v":""},null,{"$f":"IF(入力用科目!$AM168=\"\",\"\",MID(TEXT(入力用科目!$AM168,\"????????\"),1,1))","v":" "},{"$f":"IF(入力用科目!$AM168=\"\",\"\",MID(TEXT(入力用科目!$AM168,\"????????\"),2,1))","v":" "},{"$f":"IF(入力用科目!$AM168=\"\",\"\",MID(TEXT(入力用科目!$AM168,\"????????\"),3,1))","v":" "},{"$f":"IF(入力用科目!$AM168=\"\",\"\",MID(TEXT(入力用科目!$AM168,\"????????\"),4,1))","v":" "},{"$f":"IF(入力用科目!$AM168=\"\",\"\",MID(TEXT(入力用科目!$AM168,\"????????\"),5,1))","v":" "},{"$f":"IF(入力用科目!$AM168=\"\",\"\",MID(TEXT(入力用科目!$AM168,\"????????\"),6,1))","v":" "},{"$f":"IF(入力用科目!$AM168=\"\",\"\",MID(TEXT(入力用科目!$AM168,\"????????\"),7,1))","v":" "},{"$f":"IF(入力用科目!$AM168=\"\",\"\",MID(TEXT(入力用科目!$AM168,\"????????\"),8,1))","v":" "}]
[{"$f":"IF(入力用科目!A169=\"\",\"\",MID(TEXT(入力用科目!$A169,\"??\"),COLUMN(),1))","v":""},{"$f":"IF(入力用科目!A169=\"\",\"\",MID(TEXT(入力用科目!$A169,\"??\"),COLUMN(),1))","v":""},null,{"$f":"IF(入力用科目!$D169=\"\",\"\",MID(TEXT(入力用科目!$D169,\"???\"),1,1))","v":""},{"$f":"IF(入力用科目!$D169=\"\",\"\",MID(TEXT(入力用科目!$D169,\"???\"),2,1))","v":""},{"$f":"IF(入力用科目!$D169=\"\",\"\",MID(TEXT(入力用科目!$D169,\"???\"),3,1))","v":""},null,{"$f":"IF(入力用科目!H169=\"\",\"\",入力用科目!H169)","v":"小　　　計"},null,null,null,null,null,null,null,null,{"$f":"IF(入力用科目!$Q169=\"\",\"\",MID(TEXT(入力用科目!$Q169,\"???\"),1,1))","v":""},{"$f":"IF(入力用科目!$Q169=\"\",\"\",MID(TEXT(入力用科目!$Q169,\"???\"),2,1))","v":""},{"$f":"IF(入力用科目!$Q169=\"\",\"\",MID(TEXT(入力用科目!$Q169,\"???\"),3,1))","v":""},null,{"$f":"IF(入力用科目!$U169=\"\",\"\",MID(TEXT(入力用科目!$U169,\"????????\"),1,1))","v":" "},{"$f":"IF(入力用科目!$U169=\"\",\"\",MID(TEXT(入力用科目!$U169,\"????????\"),2,1))","v":" "},{"$f":"IF(入力用科目!$U169=\"\",\"\",MID(TEXT(入力用科目!$U169,\"????????\"),3,1))","v":" "},{"$f":"IF(入力用科目!$U169=\"\",\"\",MID(TEXT(入力用科目!$U169,\"????????\"),4,1))","v":" "},{"$f":"IF(入力用科目!$U169=\"\",\"\",MID(TEXT(入力用科目!$U169,\"????????\"),5,1))","v":" "},{"$f":"IF(入力用科目!$U169=\"\",\"\",MID(TEXT(入力用科目!$U169,\"????????\"),6,1))","v":" "},{"$f":"IF(入力用科目!$U169=\"\",\"\",MID(TEXT(入力用科目!$U169,\"????????\"),7,1))","v":" "},{"$f":"IF(入力用科目!$U169=\"\",\"\",MID(TEXT(入力用科目!$U169,\"????????\"),8,1))","v":" "},null,{"$f":"IF(入力用科目!$AD169=\"\",\"\",MID(TEXT(入力用科目!$AD169,\"????????\"),1,1))","v":" "},{"$f":"IF(入力用科目!$AD169=\"\",\"\",MID(TEXT(入力用科目!$AD169,\"????????\"),2,1))","v":" "},{"$f":"IF(入力用科目!$AD169=\"\",\"\",MID(TEXT(入力用科目!$AD169,\"????????\"),3,1))","v":" "},{"$f":"IF(入力用科目!$AD169=\"\",\"\",MID(TEXT(入力用科目!$AD169,\"????????\"),4,1))","v":" "},{"$f":"IF(入力用科目!$AD169=\"\",\"\",MID(TEXT(入力用科目!$AD169,\"????????\"),5,1))","v":" "},{"$f":"IF(入力用科目!$AD169=\"\",\"\",MID(TEXT(入力用科目!$AD169,\"????????\"),6,1))","v":" "},{"$f":"IF(入力用科目!$AD169=\"\",\"\",MID(TEXT(入力用科目!$AD169,\"????????\"),7,1))","v":" "},{"$f":"IF(入力用科目!$AD169=\"\",\"\",MID(TEXT(入力用科目!$AD169,\"????????\"),8,1))","v":" "},null,{"$f":"IF(入力用科目!$AM169=\"\",\"\",MID(TEXT(入力用科目!$AM169,\"????????\"),1,1))","v":" "},{"$f":"IF(入力用科目!$AM169=\"\",\"\",MID(TEXT(入力用科目!$AM169,\"????????\"),2,1))","v":" "},{"$f":"IF(入力用科目!$AM169=\"\",\"\",MID(TEXT(入力用科目!$AM169,\"????????\"),3,1))","v":" "},{"$f":"IF(入力用科目!$AM169=\"\",\"\",MID(TEXT(入力用科目!$AM169,\"????????\"),4,1))","v":" "},{"$f":"IF(入力用科目!$AM169=\"\",\"\",MID(TEXT(入力用科目!$AM169,\"????????\"),5,1))","v":" "},{"$f":"IF(入力用科目!$AM169=\"\",\"\",MID(TEXT(入力用科目!$AM169,\"????????\"),6,1))","v":" "},{"$f":"IF(入力用科目!$AM169=\"\",\"\",MID(TEXT(入力用科目!$AM169,\"????????\"),7,1))","v":" "},{"$f":"IF(入力用科目!$AM169=\"\",\"\",MID(TEXT(入力用科目!$AM169,\"????????\"),8,1))","v":" "}]
[]
[null,{"$f":"IF(入力用科目!B171=\"\",\"\",入力用科目!B171)","v":""}]
[null,null,null,null,null,null,null,null,null,null,null,null,null,null,null,null,null,null,null,null,null,null,null,null,null,null,null,null,null,null,null,{"$f":"IF(入力用科目!$AF172=\"\",\"\",MID(TEXT(入力用科目!$AF172,\"???????\"),1,1))","v":""},{"$f":"IF(入力用科目!$AF172=\"\",\"\",MID(TEXT(入力用科目!$AF172,\"???????\"),2,1))","v":""},{"$f":"IF(入力用科目!$AF172=\"\",\"\",MID(TEXT(入力用科目!$AF172,\"???????\"),3,1))","v":""},{"$f":"IF(入力用科目!$AF172=\"\",\"\",MID(TEXT(入力用科目!$AF172,\"???????\"),4,1))","v":""},{"$f":"IF(入力用科目!$AF172=\"\",\"\",MID(TEXT(入力用科目!$AF172,\"???????\"),5,1))","v":""},{"$f":"IF(入力用科目!$AF172=\"\",\"\",MID(TEXT(入力用科目!$AF172,\"???????\"),6,1))","v":""},{"$f":"IF(入力用科目!$AF172=\"\",\"\",MID(TEXT(入力用科目!$AF172,\"???????\"),7,1))","v":""},null,{"$f":"IF(入力用科目!$AN172=\"\",\"\",MID(TEXT(入力用科目!$AN172,\"???????\"),1,1))","v":" "},{"$f":"IF(入力用科目!$AN172=\"\",\"\",MID(TEXT(入力用科目!$AN172,\"???????\"),2,1))","v":" "},{"$f":"IF(入力用科目!$AN172=\"\",\"\",MID(TEXT(入力用科目!$AN172,\"???????\"),3,1))","v":" "},{"$f":"IF(入力用科目!$AN172=\"\",\"\",MID(TEXT(入力用科目!$AN172,\"???????\"),4,1))","v":" "},{"$f":"IF(入力用科目!$AN172=\"\",\"\",MID(TEXT(入力用科目!$AN172,\"???????\"),5,1))","v":" "},{"$f":"IF(入力用科目!$AN172=\"\",\"\",MID(TEXT(入力用科目!$AN172,\"???????\"),6,1))","v":" "},{"$f":"IF(入力用科目!$AN172=\"\",\"\",MID(TEXT(入力用科目!$AN172,\"???????\"),7,1))","v":" "}]
[]
[]
[]
[]
[]
[{"$f":"IF(入力用科目!A178=\"\",\"\",入力用科目!A178)","v":0},{"$f":"IF(入力用科目!B178=\"\",\"\",入力用科目!B178)","v":6},null,{"$f":"IF(入力用科目!D178=\"\",\"\",入力用科目!D178)","v":""},{"$f":"IF(入力用科目!E178=\"\",\"\",入力用科目!E178)","v":""},null,null,null,null,null,null,null,null,null,null,null,null,null,null,null,null,null,null,null,null,null,null,null,null,null,null,null,{"$f":"IF(入力用科目!AG178=\"\",\"\",入力用科目!AG178)","v":""},null,null,null,null,null,null,null,null,{"$f":"IF(入力用科目!AP178=\"\",\"\",入力用科目!AP178)","v":""},null,{"$f":"IF(入力用科目!AR178=\"\",\"\",入力用科目!AR178)","v":""}]
[]
[]
[null,null,null,null,null,null,null,null,null,null,null,null,null,null,null,null,null,null,null,null,null,null,null,null,null,null,null,null,null,null,null,null,null,null,null,null,null,null,{"$f":"IF(入力用科目!$AM181=\"\",\"\",MID(TEXT(入力用科目!$AM181,\"????????\"),1,1))","v":" "},{"$f":"IF(入力用科目!$AM181=\"\",\"\",MID(TEXT(入力用科目!$AM181,\"????????\"),2,1))","v":" "},{"$f":"IF(入力用科目!$AM181=\"\",\"\",MID(TEXT(入力用科目!$AM181,\"????????\"),3,1))","v":" "},{"$f":"IF(入力用科目!$AM181=\"\",\"\",MID(TEXT(入力用科目!$AM181,\"????????\"),4,1))","v":" "},{"$f":"IF(入力用科目!$AM181=\"\",\"\",MID(TEXT(入力用科目!$AM181,\"????????\"),5,1))","v":" "},{"$f":"IF(入力用科目!$AM181=\"\",\"\",MID(TEXT(入力用科目!$AM181,\"????????\"),6,1))","v":" "},{"$f":"IF(入力用科目!$AM181=\"\",\"\",MID(TEXT(入力用科目!$AM181,\"????????\"),7,1))","v":" "},{"$f":"IF(入力用科目!$AM181=\"\",\"\",MID(TEXT(入力用科目!$AM181,\"????????\"),8,1))","v":" "}]
[{"$f":"IF(入力用科目!A182=\"\",\"\",MID(TEXT(入力用科目!$A182,\"??\"),COLUMN(),1))","v":""},{"$f":"IF(入力用科目!A182=\"\",\"\",MID(TEXT(入力用科目!$A182,\"??\"),COLUMN(),1))","v":""},null,{"$f":"IF(入力用科目!$D182=\"\",\"\",MID(TEXT(入力用科目!$D182,\"???\"),1,1))","v":""},{"$f":"IF(入力用科目!$D182=\"\",\"\",MID(TEXT(入力用科目!$D182,\"???\"),2,1))","v":""},{"$f":"IF(入力用科目!$D182=\"\",\"\",MID(TEXT(入力用科目!$D182,\"???\"),3,1))","v":""},null,{"$f":"IF(入力用科目!$Q182=1,\"運送収入\",IF(入力用科目!$H182=\"\",\"\",入力用科目!$H182))","v":""},null,null,null,null,null,null,null,null,{"$f":"IF(入力用科目!$Q182=\"\",\"\",MID(TEXT(入力用科目!$Q182,\"???\"),1,1))","v":""},{"$f":"IF(入力用科目!$Q182=\"\",\"\",MID(TEXT(入力用科目!$Q182,\"???\"),2,1))","v":""},{"$f":"IF(入力用科目!$Q182=\"\",\"\",MID(TEXT(入力用科目!$Q182,\"???\"),3,1))","v":""},null,{"$f":"IF(入力用科目!$U182=\"\",\"\",MID(TEXT(入力用科目!$U182,\"????????\"),1,1))","v":""},{"$f":"IF(入力用科目!$U182=\"\",\"\",MID(TEXT(入力用科目!$U182,\"????????\"),2,1))","v":""},{"$f":"IF(入力用科目!$U182=\"\",\"\",MID(TEXT(入力用科目!$U182,\"????????\"),3,1))","v":""},{"$f":"IF(入力用科目!$U182=\"\",\"\",MID(TEXT(入力用科目!$U182,\"????????\"),4,1))","v":""},{"$f":"IF(入力用科目!$U182=\"\",\"\",MID(TEXT(入力用科目!$U182,\"????????\"),5,1))","v":""},{"$f":"IF(入力用科目!$U182=\"\",\"\",MID(TEXT(入力用科目!$U182,\"????????\"),6,1))","v":""},{"$f":"IF(入力用科目!$U182=\"\",\"\",MID(TEXT(入力用科目!$U182,\"????????\"),7,1))","v":""},{"$f":"IF(入力用科目!$U182=\"\",\"\",MID(TEXT(入力用科目!$U182,\"????????\"),8,1))","v":""},null,{"$f":"IF(入力用科目!$AD182=\"\",\"\",MID(TEXT(入力用科目!$AD182,\"????????\"),1,1))","v":""},{"$f":"IF(入力用科目!$AD182=\"\",\"\",MID(TEXT(入力用科目!$AD182,\"????????\"),2,1))","v":""},{"$f":"IF(入力用科目!$AD182=\"\",\"\",MID(TEXT(入力用科目!$AD182,\"????????\"),3,1))","v":""},{"$f":"IF(入力用科目!$AD182=\"\",\"\",MID(TEXT(入力用科目!$AD182,\"????????\"),4,1))","v":""},{"$f":"IF(入力用科目!$AD182=\"\",\"\",MID(TEXT(入力用科目!$AD182,\"????????\"),5,1))","v":""},{"$f":"IF(入力用科目!$AD182=\"\",\"\",MID(TEXT(入力用科目!$AD182,\"????????\"),6,1))","v":""},{"$f":"IF(入力用科目!$AD182=\"\",\"\",MID(TEXT(入力用科目!$AD182,\"????????\"),7,1))","v":""},{"$f":"IF(入力用科目!$AD182=\"\",\"\",MID(TEXT(入力用科目!$AD182,\"????????\"),8,1))","v":""},null,{"$f":"IF(入力用科目!$AM182=\"\",\"\",MID(TEXT(入力用科目!$AM182,\"????????\"),1,1))","v":" "},{"$f":"IF(入力用科目!$AM182=\"\",\"\",MID(TEXT(入力用科目!$AM182,\"????????\"),2,1))","v":" "},{"$f":"IF(入力用科目!$AM182=\"\",\"\",MID(TEXT(入力用科目!$AM182,\"????????\"),3,1))","v":" "},{"$f":"IF(入力用科目!$AM182=\"\",\"\",MID(TEXT(入力用科目!$AM182,\"????????\"),4,1))","v":" "},{"$f":"IF(入力用科目!$AM182=\"\",\"\",MID(TEXT(入力用科目!$AM182,\"????????\"),5,1))","v":" "},{"$f":"IF(入力用科目!$AM182=\"\",\"\",MID(TEXT(入力用科目!$AM182,\"????????\"),6,1))","v":" "},{"$f":"IF(入力用科目!$AM182=\"\",\"\",MID(TEXT(入力用科目!$AM182,\"????????\"),7,1))","v":" "},{"$f":"IF(入力用科目!$AM182=\"\",\"\",MID(TEXT(入力用科目!$AM182,\"????????\"),8,1))","v":" "}]
[{"$f":"IF(入力用科目!A183=\"\",\"\",MID(TEXT(入力用科目!$A183,\"??\"),COLUMN(),1))","v":""},{"$f":"IF(入力用科目!A183=\"\",\"\",MID(TEXT(入力用科目!$A183,\"??\"),COLUMN(),1))","v":""},null,{"$f":"IF(入力用科目!$D183=\"\",\"\",MID(TEXT(入力用科目!$D183,\"???\"),1,1))","v":""},{"$f":"IF(入力用科目!$D183=\"\",\"\",MID(TEXT(入力用科目!$D183,\"???\"),2,1))","v":""},{"$f":"IF(入力用科目!$D183=\"\",\"\",MID(TEXT(入力用科目!$D183,\"???\"),3,1))","v":""},null,{"$f":"IF(入力用科目!$Q183=1,\"運送収入\",IF(入力用科目!$H183=\"\",\"\",入力用科目!$H183))","v":""},null,null,null,null,null,null,null,null,{"$f":"IF(入力用科目!$Q183=\"\",\"\",MID(TEXT(入力用科目!$Q183,\"???\"),1,1))","v":""},{"$f":"IF(入力用科目!$Q183=\"\",\"\",MID(TEXT(入力用科目!$Q183,\"???\"),2,1))","v":""},{"$f":"IF(入力用科目!$Q183=\"\",\"\",MID(TEXT(入力用科目!$Q183,\"???\"),3,1))","v":""},null,{"$f":"IF(入力用科目!$U183=\"\",\"\",MID(TEXT(入力用科目!$U183,\"????????\"),1,1))","v":""},{"$f":"IF(入力用科目!$U183=\"\",\"\",MID(TEXT(入力用科目!$U183,\"????????\"),2,1))","v":""},{"$f":"IF(入力用科目!$U183=\"\",\"\",MID(TEXT(入力用科目!$U183,\"????????\"),3,1))","v":""},{"$f":"IF(入力用科目!$U183=\"\",\"\",MID(TEXT(入力用科目!$U183,\"????????\"),4,1))","v":""},{"$f":"IF(入力用科目!$U183=\"\",\"\",MID(TEXT(入力用科目!$U183,\"????????\"),5,1))","v":""},{"$f":"IF(入力用科目!$U183=\"\",\"\",MID(TEXT(入力用科目!$U183,\"????????\"),6,1))","v":""},{"$f":"IF(入力用科目!$U183=\"\",\"\",MID(TEXT(入力用科目!$U183,\"????????\"),7,1))","v":""},{"$f":"IF(入力用科目!$U183=\"\",\"\",MID(TEXT(入力用科目!$U183,\"????????\"),8,1))","v":""},null,{"$f":"IF(入力用科目!$AD183=\"\",\"\",MID(TEXT(入力用科目!$AD183,\"????????\"),1,1))","v":""},{"$f":"IF(入力用科目!$AD183=\"\",\"\",MID(TEXT(入力用科目!$AD183,\"????????\"),2,1))","v":""},{"$f":"IF(入力用科目!$AD183=\"\",\"\",MID(TEXT(入力用科目!$AD183,\"????????\"),3,1))","v":""},{"$f":"IF(入力用科目!$AD183=\"\",\"\",MID(TEXT(入力用科目!$AD183,\"????????\"),4,1))","v":""},{"$f":"IF(入力用科目!$AD183=\"\",\"\",MID(TEXT(入力用科目!$AD183,\"????????\"),5,1))","v":""},{"$f":"IF(入力用科目!$AD183=\"\",\"\",MID(TEXT(入力用科目!$AD183,\"????????\"),6,1))","v":""},{"$f":"IF(入力用科目!$AD183=\"\",\"\",MID(TEXT(入力用科目!$AD183,\"????????\"),7,1))","v":""},{"$f":"IF(入力用科目!$AD183=\"\",\"\",MID(TEXT(入力用科目!$AD183,\"????????\"),8,1))","v":""},null,{"$f":"IF(入力用科目!$AM183=\"\",\"\",MID(TEXT(入力用科目!$AM183,\"????????\"),1,1))","v":" "},{"$f":"IF(入力用科目!$AM183=\"\",\"\",MID(TEXT(入力用科目!$AM183,\"????????\"),2,1))","v":" "},{"$f":"IF(入力用科目!$AM183=\"\",\"\",MID(TEXT(入力用科目!$AM183,\"????????\"),3,1))","v":" "},{"$f":"IF(入力用科目!$AM183=\"\",\"\",MID(TEXT(入力用科目!$AM183,\"????????\"),4,1))","v":" "},{"$f":"IF(入力用科目!$AM183=\"\",\"\",MID(TEXT(入力用科目!$AM183,\"????????\"),5,1))","v":" "},{"$f":"IF(入力用科目!$AM183=\"\",\"\",MID(TEXT(入力用科目!$AM183,\"????????\"),6,1))","v":" "},{"$f":"IF(入力用科目!$AM183=\"\",\"\",MID(TEXT(入力用科目!$AM183,\"????????\"),7,1))","v":" "},{"$f":"IF(入力用科目!$AM183=\"\",\"\",MID(TEXT(入力用科目!$AM183,\"????????\"),8,1))","v":" "}]
[{"$f":"IF(入力用科目!A184=\"\",\"\",MID(TEXT(入力用科目!$A184,\"??\"),COLUMN(),1))","v":""},{"$f":"IF(入力用科目!A184=\"\",\"\",MID(TEXT(入力用科目!$A184,\"??\"),COLUMN(),1))","v":""},null,{"$f":"IF(入力用科目!$D184=\"\",\"\",MID(TEXT(入力用科目!$D184,\"???\"),1,1))","v":""},{"$f":"IF(入力用科目!$D184=\"\",\"\",MID(TEXT(入力用科目!$D184,\"???\"),2,1))","v":""},{"$f":"IF(入力用科目!$D184=\"\",\"\",MID(TEXT(入力用科目!$D184,\"???\"),3,1))","v":""},null,{"$f":"IF(入力用科目!$Q184=1,\"運送収入\",IF(入力用科目!$H184=\"\",\"\",入力用科目!$H184))","v":""},null,null,null,null,null,null,null,null,{"$f":"IF(入力用科目!$Q184=\"\",\"\",MID(TEXT(入力用科目!$Q184,\"???\"),1,1))","v":""},{"$f":"IF(入力用科目!$Q184=\"\",\"\",MID(TEXT(入力用科目!$Q184,\"???\"),2,1))","v":""},{"$f":"IF(入力用科目!$Q184=\"\",\"\",MID(TEXT(入力用科目!$Q184,\"???\"),3,1))","v":""},null,{"$f":"IF(入力用科目!$U184=\"\",\"\",MID(TEXT(入力用科目!$U184,\"????????\"),1,1))","v":""},{"$f":"IF(入力用科目!$U184=\"\",\"\",MID(TEXT(入力用科目!$U184,\"????????\"),2,1))","v":""},{"$f":"IF(入力用科目!$U184=\"\",\"\",MID(TEXT(入力用科目!$U184,\"????????\"),3,1))","v":""},{"$f":"IF(入力用科目!$U184=\"\",\"\",MID(TEXT(入力用科目!$U184,\"????????\"),4,1))","v":""},{"$f":"IF(入力用科目!$U184=\"\",\"\",MID(TEXT(入力用科目!$U184,\"????????\"),5,1))","v":""},{"$f":"IF(入力用科目!$U184=\"\",\"\",MID(TEXT(入力用科目!$U184,\"????????\"),6,1))","v":""},{"$f":"IF(入力用科目!$U184=\"\",\"\",MID(TEXT(入力用科目!$U184,\"????????\"),7,1))","v":""},{"$f":"IF(入力用科目!$U184=\"\",\"\",MID(TEXT(入力用科目!$U184,\"????????\"),8,1))","v":""},null,{"$f":"IF(入力用科目!$AD184=\"\",\"\",MID(TEXT(入力用科目!$AD184,\"????????\"),1,1))","v":""},{"$f":"IF(入力用科目!$AD184=\"\",\"\",MID(TEXT(入力用科目!$AD184,\"????????\"),2,1))","v":""},{"$f":"IF(入力用科目!$AD184=\"\",\"\",MID(TEXT(入力用科目!$AD184,\"????????\"),3,1))","v":""},{"$f":"IF(入力用科目!$AD184=\"\",\"\",MID(TEXT(入力用科目!$AD184,\"????????\"),4,1))","v":""},{"$f":"IF(入力用科目!$AD184=\"\",\"\",MID(TEXT(入力用科目!$AD184,\"????????\"),5,1))","v":""},{"$f":"IF(入力用科目!$AD184=\"\",\"\",MID(TEXT(入力用科目!$AD184,\"????????\"),6,1))","v":""},{"$f":"IF(入力用科目!$AD184=\"\",\"\",MID(TEXT(入力用科目!$AD184,\"????????\"),7,1))","v":""},{"$f":"IF(入力用科目!$AD184=\"\",\"\",MID(TEXT(入力用科目!$AD184,\"????????\"),8,1))","v":""},null,{"$f":"IF(入力用科目!$AM184=\"\",\"\",MID(TEXT(入力用科目!$AM184,\"????????\"),1,1))","v":" "},{"$f":"IF(入力用科目!$AM184=\"\",\"\",MID(TEXT(入力用科目!$AM184,\"????????\"),2,1))","v":" "},{"$f":"IF(入力用科目!$AM184=\"\",\"\",MID(TEXT(入力用科目!$AM184,\"????????\"),3,1))","v":" "},{"$f":"IF(入力用科目!$AM184=\"\",\"\",MID(TEXT(入力用科目!$AM184,\"????????\"),4,1))","v":" "},{"$f":"IF(入力用科目!$AM184=\"\",\"\",MID(TEXT(入力用科目!$AM184,\"????????\"),5,1))","v":" "},{"$f":"IF(入力用科目!$AM184=\"\",\"\",MID(TEXT(入力用科目!$AM184,\"????????\"),6,1))","v":" "},{"$f":"IF(入力用科目!$AM184=\"\",\"\",MID(TEXT(入力用科目!$AM184,\"????????\"),7,1))","v":" "},{"$f":"IF(入力用科目!$AM184=\"\",\"\",MID(TEXT(入力用科目!$AM184,\"????????\"),8,1))","v":" "}]
[{"$f":"IF(入力用科目!A185=\"\",\"\",MID(TEXT(入力用科目!$A185,\"??\"),COLUMN(),1))","v":""},{"$f":"IF(入力用科目!A185=\"\",\"\",MID(TEXT(入力用科目!$A185,\"??\"),COLUMN(),1))","v":""},null,{"$f":"IF(入力用科目!$D185=\"\",\"\",MID(TEXT(入力用科目!$D185,\"???\"),1,1))","v":""},{"$f":"IF(入力用科目!$D185=\"\",\"\",MID(TEXT(入力用科目!$D185,\"???\"),2,1))","v":""},{"$f":"IF(入力用科目!$D185=\"\",\"\",MID(TEXT(入力用科目!$D185,\"???\"),3,1))","v":""},null,{"$f":"IF(入力用科目!$Q185=1,\"運送収入\",IF(入力用科目!$H185=\"\",\"\",入力用科目!$H185))","v":""},null,null,null,null,null,null,null,null,{"$f":"IF(入力用科目!$Q185=\"\",\"\",MID(TEXT(入力用科目!$Q185,\"???\"),1,1))","v":""},{"$f":"IF(入力用科目!$Q185=\"\",\"\",MID(TEXT(入力用科目!$Q185,\"???\"),2,1))","v":""},{"$f":"IF(入力用科目!$Q185=\"\",\"\",MID(TEXT(入力用科目!$Q185,\"???\"),3,1))","v":""},null,{"$f":"IF(入力用科目!$U185=\"\",\"\",MID(TEXT(入力用科目!$U185,\"????????\"),1,1))","v":""},{"$f":"IF(入力用科目!$U185=\"\",\"\",MID(TEXT(入力用科目!$U185,\"????????\"),2,1))","v":""},{"$f":"IF(入力用科目!$U185=\"\",\"\",MID(TEXT(入力用科目!$U185,\"????????\"),3,1))","v":""},{"$f":"IF(入力用科目!$U185=\"\",\"\",MID(TEXT(入力用科目!$U185,\"????????\"),4,1))","v":""},{"$f":"IF(入力用科目!$U185=\"\",\"\",MID(TEXT(入力用科目!$U185,\"????????\"),5,1))","v":""},{"$f":"IF(入力用科目!$U185=\"\",\"\",MID(TEXT(入力用科目!$U185,\"????????\"),6,1))","v":""},{"$f":"IF(入力用科目!$U185=\"\",\"\",MID(TEXT(入力用科目!$U185,\"????????\"),7,1))","v":""},{"$f":"IF(入力用科目!$U185=\"\",\"\",MID(TEXT(入力用科目!$U185,\"????????\"),8,1))","v":""},null,{"$f":"IF(入力用科目!$AD185=\"\",\"\",MID(TEXT(入力用科目!$AD185,\"????????\"),1,1))","v":""},{"$f":"IF(入力用科目!$AD185=\"\",\"\",MID(TEXT(入力用科目!$AD185,\"????????\"),2,1))","v":""},{"$f":"IF(入力用科目!$AD185=\"\",\"\",MID(TEXT(入力用科目!$AD185,\"????????\"),3,1))","v":""},{"$f":"IF(入力用科目!$AD185=\"\",\"\",MID(TEXT(入力用科目!$AD185,\"????????\"),4,1))","v":""},{"$f":"IF(入力用科目!$AD185=\"\",\"\",MID(TEXT(入力用科目!$AD185,\"????????\"),5,1))","v":""},{"$f":"IF(入力用科目!$AD185=\"\",\"\",MID(TEXT(入力用科目!$AD185,\"????????\"),6,1))","v":""},{"$f":"IF(入力用科目!$AD185=\"\",\"\",MID(TEXT(入力用科目!$AD185,\"????????\"),7,1))","v":""},{"$f":"IF(入力用科目!$AD185=\"\",\"\",MID(TEXT(入力用科目!$AD185,\"????????\"),8,1))","v":""},null,{"$f":"IF(入力用科目!$AM185=\"\",\"\",MID(TEXT(入力用科目!$AM185,\"????????\"),1,1))","v":" "},{"$f":"IF(入力用科目!$AM185=\"\",\"\",MID(TEXT(入力用科目!$AM185,\"????????\"),2,1))","v":" "},{"$f":"IF(入力用科目!$AM185=\"\",\"\",MID(TEXT(入力用科目!$AM185,\"????????\"),3,1))","v":" "},{"$f":"IF(入力用科目!$AM185=\"\",\"\",MID(TEXT(入力用科目!$AM185,\"????????\"),4,1))","v":" "},{"$f":"IF(入力用科目!$AM185=\"\",\"\",MID(TEXT(入力用科目!$AM185,\"????????\"),5,1))","v":" "},{"$f":"IF(入力用科目!$AM185=\"\",\"\",MID(TEXT(入力用科目!$AM185,\"????????\"),6,1))","v":" "},{"$f":"IF(入力用科目!$AM185=\"\",\"\",MID(TEXT(入力用科目!$AM185,\"????????\"),7,1))","v":" "},{"$f":"IF(入力用科目!$AM185=\"\",\"\",MID(TEXT(入力用科目!$AM185,\"????????\"),8,1))","v":" "}]
[{"$f":"IF(入力用科目!A186=\"\",\"\",MID(TEXT(入力用科目!$A186,\"??\"),COLUMN(),1))","v":""},{"$f":"IF(入力用科目!A186=\"\",\"\",MID(TEXT(入力用科目!$A186,\"??\"),COLUMN(),1))","v":""},null,{"$f":"IF(入力用科目!$D186=\"\",\"\",MID(TEXT(入力用科目!$D186,\"???\"),1,1))","v":""},{"$f":"IF(入力用科目!$D186=\"\",\"\",MID(TEXT(入力用科目!$D186,\"???\"),2,1))","v":""},{"$f":"IF(入力用科目!$D186=\"\",\"\",MID(TEXT(入力用科目!$D186,\"???\"),3,1))","v":""},null,{"$f":"IF(入力用科目!$Q186=1,\"運送収入\",IF(入力用科目!$H186=\"\",\"\",入力用科目!$H186))","v":""},null,null,null,null,null,null,null,null,{"$f":"IF(入力用科目!$Q186=\"\",\"\",MID(TEXT(入力用科目!$Q186,\"???\"),1,1))","v":""},{"$f":"IF(入力用科目!$Q186=\"\",\"\",MID(TEXT(入力用科目!$Q186,\"???\"),2,1))","v":""},{"$f":"IF(入力用科目!$Q186=\"\",\"\",MID(TEXT(入力用科目!$Q186,\"???\"),3,1))","v":""},null,{"$f":"IF(入力用科目!$U186=\"\",\"\",MID(TEXT(入力用科目!$U186,\"????????\"),1,1))","v":""},{"$f":"IF(入力用科目!$U186=\"\",\"\",MID(TEXT(入力用科目!$U186,\"????????\"),2,1))","v":""},{"$f":"IF(入力用科目!$U186=\"\",\"\",MID(TEXT(入力用科目!$U186,\"????????\"),3,1))","v":""},{"$f":"IF(入力用科目!$U186=\"\",\"\",MID(TEXT(入力用科目!$U186,\"????????\"),4,1))","v":""},{"$f":"IF(入力用科目!$U186=\"\",\"\",MID(TEXT(入力用科目!$U186,\"????????\"),5,1))","v":""},{"$f":"IF(入力用科目!$U186=\"\",\"\",MID(TEXT(入力用科目!$U186,\"????????\"),6,1))","v":""},{"$f":"IF(入力用科目!$U186=\"\",\"\",MID(TEXT(入力用科目!$U186,\"????????\"),7,1))","v":""},{"$f":"IF(入力用科目!$U186=\"\",\"\",MID(TEXT(入力用科目!$U186,\"????????\"),8,1))","v":""},null,{"$f":"IF(入力用科目!$AD186=\"\",\"\",MID(TEXT(入力用科目!$AD186,\"????????\"),1,1))","v":""},{"$f":"IF(入力用科目!$AD186=\"\",\"\",MID(TEXT(入力用科目!$AD186,\"????????\"),2,1))","v":""},{"$f":"IF(入力用科目!$AD186=\"\",\"\",MID(TEXT(入力用科目!$AD186,\"????????\"),3,1))","v":""},{"$f":"IF(入力用科目!$AD186=\"\",\"\",MID(TEXT(入力用科目!$AD186,\"????????\"),4,1))","v":""},{"$f":"IF(入力用科目!$AD186=\"\",\"\",MID(TEXT(入力用科目!$AD186,\"????????\"),5,1))","v":""},{"$f":"IF(入力用科目!$AD186=\"\",\"\",MID(TEXT(入力用科目!$AD186,\"????????\"),6,1))","v":""},{"$f":"IF(入力用科目!$AD186=\"\",\"\",MID(TEXT(入力用科目!$AD186,\"????????\"),7,1))","v":""},{"$f":"IF(入力用科目!$AD186=\"\",\"\",MID(TEXT(入力用科目!$AD186,\"????????\"),8,1))","v":""},null,{"$f":"IF(入力用科目!$AM186=\"\",\"\",MID(TEXT(入力用科目!$AM186,\"????????\"),1,1))","v":" "},{"$f":"IF(入力用科目!$AM186=\"\",\"\",MID(TEXT(入力用科目!$AM186,\"????????\"),2,1))","v":" "},{"$f":"IF(入力用科目!$AM186=\"\",\"\",MID(TEXT(入力用科目!$AM186,\"????????\"),3,1))","v":" "},{"$f":"IF(入力用科目!$AM186=\"\",\"\",MID(TEXT(入力用科目!$AM186,\"????????\"),4,1))","v":" "},{"$f":"IF(入力用科目!$AM186=\"\",\"\",MID(TEXT(入力用科目!$AM186,\"????????\"),5,1))","v":" "},{"$f":"IF(入力用科目!$AM186=\"\",\"\",MID(TEXT(入力用科目!$AM186,\"????????\"),6,1))","v":" "},{"$f":"IF(入力用科目!$AM186=\"\",\"\",MID(TEXT(入力用科目!$AM186,\"????????\"),7,1))","v":" "},{"$f":"IF(入力用科目!$AM186=\"\",\"\",MID(TEXT(入力用科目!$AM186,\"????????\"),8,1))","v":" "}]
[{"$f":"IF(入力用科目!A187=\"\",\"\",MID(TEXT(入力用科目!$A187,\"??\"),COLUMN(),1))","v":""},{"$f":"IF(入力用科目!A187=\"\",\"\",MID(TEXT(入力用科目!$A187,\"??\"),COLUMN(),1))","v":""},null,{"$f":"IF(入力用科目!$D187=\"\",\"\",MID(TEXT(入力用科目!$D187,\"???\"),1,1))","v":""},{"$f":"IF(入力用科目!$D187=\"\",\"\",MID(TEXT(入力用科目!$D187,\"???\"),2,1))","v":""},{"$f":"IF(入力用科目!$D187=\"\",\"\",MID(TEXT(入力用科目!$D187,\"???\"),3,1))","v":""},null,{"$f":"IF(入力用科目!$Q187=1,\"運送収入\",IF(入力用科目!$H187=\"\",\"\",入力用科目!$H187))","v":""},null,null,null,null,null,null,null,null,{"$f":"IF(入力用科目!$Q187=\"\",\"\",MID(TEXT(入力用科目!$Q187,\"???\"),1,1))","v":""},{"$f":"IF(入力用科目!$Q187=\"\",\"\",MID(TEXT(入力用科目!$Q187,\"???\"),2,1))","v":""},{"$f":"IF(入力用科目!$Q187=\"\",\"\",MID(TEXT(入力用科目!$Q187,\"???\"),3,1))","v":""},null,{"$f":"IF(入力用科目!$U187=\"\",\"\",MID(TEXT(入力用科目!$U187,\"????????\"),1,1))","v":""},{"$f":"IF(入力用科目!$U187=\"\",\"\",MID(TEXT(入力用科目!$U187,\"????????\"),2,1))","v":""},{"$f":"IF(入力用科目!$U187=\"\",\"\",MID(TEXT(入力用科目!$U187,\"????????\"),3,1))","v":""},{"$f":"IF(入力用科目!$U187=\"\",\"\",MID(TEXT(入力用科目!$U187,\"????????\"),4,1))","v":""},{"$f":"IF(入力用科目!$U187=\"\",\"\",MID(TEXT(入力用科目!$U187,\"????????\"),5,1))","v":""},{"$f":"IF(入力用科目!$U187=\"\",\"\",MID(TEXT(入力用科目!$U187,\"????????\"),6,1))","v":""},{"$f":"IF(入力用科目!$U187=\"\",\"\",MID(TEXT(入力用科目!$U187,\"????????\"),7,1))","v":""},{"$f":"IF(入力用科目!$U187=\"\",\"\",MID(TEXT(入力用科目!$U187,\"????????\"),8,1))","v":""},null,{"$f":"IF(入力用科目!$AD187=\"\",\"\",MID(TEXT(入力用科目!$AD187,\"????????\"),1,1))","v":""},{"$f":"IF(入力用科目!$AD187=\"\",\"\",MID(TEXT(入力用科目!$AD187,\"????????\"),2,1))","v":""},{"$f":"IF(入力用科目!$AD187=\"\",\"\",MID(TEXT(入力用科目!$AD187,\"????????\"),3,1))","v":""},{"$f":"IF(入力用科目!$AD187=\"\",\"\",MID(TEXT(入力用科目!$AD187,\"????????\"),4,1))","v":""},{"$f":"IF(入力用科目!$AD187=\"\",\"\",MID(TEXT(入力用科目!$AD187,\"????????\"),5,1))","v":""},{"$f":"IF(入力用科目!$AD187=\"\",\"\",MID(TEXT(入力用科目!$AD187,\"????????\"),6,1))","v":""},{"$f":"IF(入力用科目!$AD187=\"\",\"\",MID(TEXT(入力用科目!$AD187,\"????????\"),7,1))","v":""},{"$f":"IF(入力用科目!$AD187=\"\",\"\",MID(TEXT(入力用科目!$AD187,\"????????\"),8,1))","v":""},null,{"$f":"IF(入力用科目!$AM187=\"\",\"\",MID(TEXT(入力用科目!$AM187,\"????????\"),1,1))","v":" "},{"$f":"IF(入力用科目!$AM187=\"\",\"\",MID(TEXT(入力用科目!$AM187,\"????????\"),2,1))","v":" "},{"$f":"IF(入力用科目!$AM187=\"\",\"\",MID(TEXT(入力用科目!$AM187,\"????????\"),3,1))","v":" "},{"$f":"IF(入力用科目!$AM187=\"\",\"\",MID(TEXT(入力用科目!$AM187,\"????????\"),4,1))","v":" "},{"$f":"IF(入力用科目!$AM187=\"\",\"\",MID(TEXT(入力用科目!$AM187,\"????????\"),5,1))","v":" "},{"$f":"IF(入力用科目!$AM187=\"\",\"\",MID(TEXT(入力用科目!$AM187,\"????????\"),6,1))","v":" "},{"$f":"IF(入力用科目!$AM187=\"\",\"\",MID(TEXT(入力用科目!$AM187,\"????????\"),7,1))","v":" "},{"$f":"IF(入力用科目!$AM187=\"\",\"\",MID(TEXT(入力用科目!$AM187,\"????????\"),8,1))","v":" "}]
[{"$f":"IF(入力用科目!A188=\"\",\"\",MID(TEXT(入力用科目!$A188,\"??\"),COLUMN(),1))","v":""},{"$f":"IF(入力用科目!A188=\"\",\"\",MID(TEXT(入力用科目!$A188,\"??\"),COLUMN(),1))","v":""},null,{"$f":"IF(入力用科目!$D188=\"\",\"\",MID(TEXT(入力用科目!$D188,\"???\"),1,1))","v":""},{"$f":"IF(入力用科目!$D188=\"\",\"\",MID(TEXT(入力用科目!$D188,\"???\"),2,1))","v":""},{"$f":"IF(入力用科目!$D188=\"\",\"\",MID(TEXT(入力用科目!$D188,\"???\"),3,1))","v":""},null,{"$f":"IF(入力用科目!$Q188=1,\"運送収入\",IF(入力用科目!$H188=\"\",\"\",入力用科目!$H188))","v":""},null,null,null,null,null,null,null,null,{"$f":"IF(入力用科目!$Q188=\"\",\"\",MID(TEXT(入力用科目!$Q188,\"???\"),1,1))","v":""},{"$f":"IF(入力用科目!$Q188=\"\",\"\",MID(TEXT(入力用科目!$Q188,\"???\"),2,1))","v":""},{"$f":"IF(入力用科目!$Q188=\"\",\"\",MID(TEXT(入力用科目!$Q188,\"???\"),3,1))","v":""},null,{"$f":"IF(入力用科目!$U188=\"\",\"\",MID(TEXT(入力用科目!$U188,\"????????\"),1,1))","v":""},{"$f":"IF(入力用科目!$U188=\"\",\"\",MID(TEXT(入力用科目!$U188,\"????????\"),2,1))","v":""},{"$f":"IF(入力用科目!$U188=\"\",\"\",MID(TEXT(入力用科目!$U188,\"????????\"),3,1))","v":""},{"$f":"IF(入力用科目!$U188=\"\",\"\",MID(TEXT(入力用科目!$U188,\"????????\"),4,1))","v":""},{"$f":"IF(入力用科目!$U188=\"\",\"\",MID(TEXT(入力用科目!$U188,\"????????\"),5,1))","v":""},{"$f":"IF(入力用科目!$U188=\"\",\"\",MID(TEXT(入力用科目!$U188,\"????????\"),6,1))","v":""},{"$f":"IF(入力用科目!$U188=\"\",\"\",MID(TEXT(入力用科目!$U188,\"????????\"),7,1))","v":""},{"$f":"IF(入力用科目!$U188=\"\",\"\",MID(TEXT(入力用科目!$U188,\"????????\"),8,1))","v":""},null,{"$f":"IF(入力用科目!$AD188=\"\",\"\",MID(TEXT(入力用科目!$AD188,\"????????\"),1,1))","v":""},{"$f":"IF(入力用科目!$AD188=\"\",\"\",MID(TEXT(入力用科目!$AD188,\"????????\"),2,1))","v":""},{"$f":"IF(入力用科目!$AD188=\"\",\"\",MID(TEXT(入力用科目!$AD188,\"????????\"),3,1))","v":""},{"$f":"IF(入力用科目!$AD188=\"\",\"\",MID(TEXT(入力用科目!$AD188,\"????????\"),4,1))","v":""},{"$f":"IF(入力用科目!$AD188=\"\",\"\",MID(TEXT(入力用科目!$AD188,\"????????\"),5,1))","v":""},{"$f":"IF(入力用科目!$AD188=\"\",\"\",MID(TEXT(入力用科目!$AD188,\"????????\"),6,1))","v":""},{"$f":"IF(入力用科目!$AD188=\"\",\"\",MID(TEXT(入力用科目!$AD188,\"????????\"),7,1))","v":""},{"$f":"IF(入力用科目!$AD188=\"\",\"\",MID(TEXT(入力用科目!$AD188,\"????????\"),8,1))","v":""},null,{"$f":"IF(入力用科目!$AM188=\"\",\"\",MID(TEXT(入力用科目!$AM188,\"????????\"),1,1))","v":" "},{"$f":"IF(入力用科目!$AM188=\"\",\"\",MID(TEXT(入力用科目!$AM188,\"????????\"),2,1))","v":" "},{"$f":"IF(入力用科目!$AM188=\"\",\"\",MID(TEXT(入力用科目!$AM188,\"????????\"),3,1))","v":" "},{"$f":"IF(入力用科目!$AM188=\"\",\"\",MID(TEXT(入力用科目!$AM188,\"????????\"),4,1))","v":" "},{"$f":"IF(入力用科目!$AM188=\"\",\"\",MID(TEXT(入力用科目!$AM188,\"????????\"),5,1))","v":" "},{"$f":"IF(入力用科目!$AM188=\"\",\"\",MID(TEXT(入力用科目!$AM188,\"????????\"),6,1))","v":" "},{"$f":"IF(入力用科目!$AM188=\"\",\"\",MID(TEXT(入力用科目!$AM188,\"????????\"),7,1))","v":" "},{"$f":"IF(入力用科目!$AM188=\"\",\"\",MID(TEXT(入力用科目!$AM188,\"????????\"),8,1))","v":" "}]
[{"$f":"IF(入力用科目!A189=\"\",\"\",MID(TEXT(入力用科目!$A189,\"??\"),COLUMN(),1))","v":""},{"$f":"IF(入力用科目!A189=\"\",\"\",MID(TEXT(入力用科目!$A189,\"??\"),COLUMN(),1))","v":""},null,{"$f":"IF(入力用科目!$D189=\"\",\"\",MID(TEXT(入力用科目!$D189,\"???\"),1,1))","v":""},{"$f":"IF(入力用科目!$D189=\"\",\"\",MID(TEXT(入力用科目!$D189,\"???\"),2,1))","v":""},{"$f":"IF(入力用科目!$D189=\"\",\"\",MID(TEXT(入力用科目!$D189,\"???\"),3,1))","v":""},null,{"$f":"IF(入力用科目!$Q189=1,\"運送収入\",IF(入力用科目!$H189=\"\",\"\",入力用科目!$H189))","v":""},null,null,null,null,null,null,null,null,{"$f":"IF(入力用科目!$Q189=\"\",\"\",MID(TEXT(入力用科目!$Q189,\"???\"),1,1))","v":""},{"$f":"IF(入力用科目!$Q189=\"\",\"\",MID(TEXT(入力用科目!$Q189,\"???\"),2,1))","v":""},{"$f":"IF(入力用科目!$Q189=\"\",\"\",MID(TEXT(入力用科目!$Q189,\"???\"),3,1))","v":""},null,{"$f":"IF(入力用科目!$U189=\"\",\"\",MID(TEXT(入力用科目!$U189,\"????????\"),1,1))","v":""},{"$f":"IF(入力用科目!$U189=\"\",\"\",MID(TEXT(入力用科目!$U189,\"????????\"),2,1))","v":""},{"$f":"IF(入力用科目!$U189=\"\",\"\",MID(TEXT(入力用科目!$U189,\"????????\"),3,1))","v":""},{"$f":"IF(入力用科目!$U189=\"\",\"\",MID(TEXT(入力用科目!$U189,\"????????\"),4,1))","v":""},{"$f":"IF(入力用科目!$U189=\"\",\"\",MID(TEXT(入力用科目!$U189,\"????????\"),5,1))","v":""},{"$f":"IF(入力用科目!$U189=\"\",\"\",MID(TEXT(入力用科目!$U189,\"????????\"),6,1))","v":""},{"$f":"IF(入力用科目!$U189=\"\",\"\",MID(TEXT(入力用科目!$U189,\"????????\"),7,1))","v":""},{"$f":"IF(入力用科目!$U189=\"\",\"\",MID(TEXT(入力用科目!$U189,\"????????\"),8,1))","v":""},null,{"$f":"IF(入力用科目!$AD189=\"\",\"\",MID(TEXT(入力用科目!$AD189,\"????????\"),1,1))","v":""},{"$f":"IF(入力用科目!$AD189=\"\",\"\",MID(TEXT(入力用科目!$AD189,\"????????\"),2,1))","v":""},{"$f":"IF(入力用科目!$AD189=\"\",\"\",MID(TEXT(入力用科目!$AD189,\"????????\"),3,1))","v":""},{"$f":"IF(入力用科目!$AD189=\"\",\"\",MID(TEXT(入力用科目!$AD189,\"????????\"),4,1))","v":""},{"$f":"IF(入力用科目!$AD189=\"\",\"\",MID(TEXT(入力用科目!$AD189,\"????????\"),5,1))","v":""},{"$f":"IF(入力用科目!$AD189=\"\",\"\",MID(TEXT(入力用科目!$AD189,\"????????\"),6,1))","v":""},{"$f":"IF(入力用科目!$AD189=\"\",\"\",MID(TEXT(入力用科目!$AD189,\"????????\"),7,1))","v":""},{"$f":"IF(入力用科目!$AD189=\"\",\"\",MID(TEXT(入力用科目!$AD189,\"????????\"),8,1))","v":""},null,{"$f":"IF(入力用科目!$AM189=\"\",\"\",MID(TEXT(入力用科目!$AM189,\"????????\"),1,1))","v":" "},{"$f":"IF(入力用科目!$AM189=\"\",\"\",MID(TEXT(入力用科目!$AM189,\"????????\"),2,1))","v":" "},{"$f":"IF(入力用科目!$AM189=\"\",\"\",MID(TEXT(入力用科目!$AM189,\"????????\"),3,1))","v":" "},{"$f":"IF(入力用科目!$AM189=\"\",\"\",MID(TEXT(入力用科目!$AM189,\"????????\"),4,1))","v":" "},{"$f":"IF(入力用科目!$AM189=\"\",\"\",MID(TEXT(入力用科目!$AM189,\"????????\"),5,1))","v":" "},{"$f":"IF(入力用科目!$AM189=\"\",\"\",MID(TEXT(入力用科目!$AM189,\"????????\"),6,1))","v":" "},{"$f":"IF(入力用科目!$AM189=\"\",\"\",MID(TEXT(入力用科目!$AM189,\"????????\"),7,1))","v":" "},{"$f":"IF(入力用科目!$AM189=\"\",\"\",MID(TEXT(入力用科目!$AM189,\"????????\"),8,1))","v":" "}]
[{"$f":"IF(入力用科目!A190=\"\",\"\",MID(TEXT(入力用科目!$A190,\"??\"),COLUMN(),1))","v":""},{"$f":"IF(入力用科目!A190=\"\",\"\",MID(TEXT(入力用科目!$A190,\"??\"),COLUMN(),1))","v":""},null,{"$f":"IF(入力用科目!$D190=\"\",\"\",MID(TEXT(入力用科目!$D190,\"???\"),1,1))","v":""},{"$f":"IF(入力用科目!$D190=\"\",\"\",MID(TEXT(入力用科目!$D190,\"???\"),2,1))","v":""},{"$f":"IF(入力用科目!$D190=\"\",\"\",MID(TEXT(入力用科目!$D190,\"???\"),3,1))","v":""},null,{"$f":"IF(入力用科目!$Q190=1,\"運送収入\",IF(入力用科目!$H190=\"\",\"\",入力用科目!$H190))","v":""},null,null,null,null,null,null,null,null,{"$f":"IF(入力用科目!$Q190=\"\",\"\",MID(TEXT(入力用科目!$Q190,\"???\"),1,1))","v":""},{"$f":"IF(入力用科目!$Q190=\"\",\"\",MID(TEXT(入力用科目!$Q190,\"???\"),2,1))","v":""},{"$f":"IF(入力用科目!$Q190=\"\",\"\",MID(TEXT(入力用科目!$Q190,\"???\"),3,1))","v":""},null,{"$f":"IF(入力用科目!$U190=\"\",\"\",MID(TEXT(入力用科目!$U190,\"????????\"),1,1))","v":""},{"$f":"IF(入力用科目!$U190=\"\",\"\",MID(TEXT(入力用科目!$U190,\"????????\"),2,1))","v":""},{"$f":"IF(入力用科目!$U190=\"\",\"\",MID(TEXT(入力用科目!$U190,\"????????\"),3,1))","v":""},{"$f":"IF(入力用科目!$U190=\"\",\"\",MID(TEXT(入力用科目!$U190,\"????????\"),4,1))","v":""},{"$f":"IF(入力用科目!$U190=\"\",\"\",MID(TEXT(入力用科目!$U190,\"????????\"),5,1))","v":""},{"$f":"IF(入力用科目!$U190=\"\",\"\",MID(TEXT(入力用科目!$U190,\"????????\"),6,1))","v":""},{"$f":"IF(入力用科目!$U190=\"\",\"\",MID(TEXT(入力用科目!$U190,\"????????\"),7,1))","v":""},{"$f":"IF(入力用科目!$U190=\"\",\"\",MID(TEXT(入力用科目!$U190,\"????????\"),8,1))","v":""},null,{"$f":"IF(入力用科目!$AD190=\"\",\"\",MID(TEXT(入力用科目!$AD190,\"????????\"),1,1))","v":""},{"$f":"IF(入力用科目!$AD190=\"\",\"\",MID(TEXT(入力用科目!$AD190,\"????????\"),2,1))","v":""},{"$f":"IF(入力用科目!$AD190=\"\",\"\",MID(TEXT(入力用科目!$AD190,\"????????\"),3,1))","v":""},{"$f":"IF(入力用科目!$AD190=\"\",\"\",MID(TEXT(入力用科目!$AD190,\"????????\"),4,1))","v":""},{"$f":"IF(入力用科目!$AD190=\"\",\"\",MID(TEXT(入力用科目!$AD190,\"????????\"),5,1))","v":""},{"$f":"IF(入力用科目!$AD190=\"\",\"\",MID(TEXT(入力用科目!$AD190,\"????????\"),6,1))","v":""},{"$f":"IF(入力用科目!$AD190=\"\",\"\",MID(TEXT(入力用科目!$AD190,\"????????\"),7,1))","v":""},{"$f":"IF(入力用科目!$AD190=\"\",\"\",MID(TEXT(入力用科目!$AD190,\"????????\"),8,1))","v":""},null,{"$f":"IF(入力用科目!$AM190=\"\",\"\",MID(TEXT(入力用科目!$AM190,\"????????\"),1,1))","v":" "},{"$f":"IF(入力用科目!$AM190=\"\",\"\",MID(TEXT(入力用科目!$AM190,\"????????\"),2,1))","v":" "},{"$f":"IF(入力用科目!$AM190=\"\",\"\",MID(TEXT(入力用科目!$AM190,\"????????\"),3,1))","v":" "},{"$f":"IF(入力用科目!$AM190=\"\",\"\",MID(TEXT(入力用科目!$AM190,\"????????\"),4,1))","v":" "},{"$f":"IF(入力用科目!$AM190=\"\",\"\",MID(TEXT(入力用科目!$AM190,\"????????\"),5,1))","v":" "},{"$f":"IF(入力用科目!$AM190=\"\",\"\",MID(TEXT(入力用科目!$AM190,\"????????\"),6,1))","v":" "},{"$f":"IF(入力用科目!$AM190=\"\",\"\",MID(TEXT(入力用科目!$AM190,\"????????\"),7,1))","v":" "},{"$f":"IF(入力用科目!$AM190=\"\",\"\",MID(TEXT(入力用科目!$AM190,\"????????\"),8,1))","v":" "}]
[{"$f":"IF(入力用科目!A191=\"\",\"\",MID(TEXT(入力用科目!$A191,\"??\"),COLUMN(),1))","v":""},{"$f":"IF(入力用科目!A191=\"\",\"\",MID(TEXT(入力用科目!$A191,\"??\"),COLUMN(),1))","v":""},null,{"$f":"IF(入力用科目!$D191=\"\",\"\",MID(TEXT(入力用科目!$D191,\"???\"),1,1))","v":""},{"$f":"IF(入力用科目!$D191=\"\",\"\",MID(TEXT(入力用科目!$D191,\"???\"),2,1))","v":""},{"$f":"IF(入力用科目!$D191=\"\",\"\",MID(TEXT(入力用科目!$D191,\"???\"),3,1))","v":""},null,{"$f":"IF(入力用科目!$Q191=1,\"運送収入\",IF(入力用科目!$H191=\"\",\"\",入力用科目!$H191))","v":""},null,null,null,null,null,null,null,null,{"$f":"IF(入力用科目!$Q191=\"\",\"\",MID(TEXT(入力用科目!$Q191,\"???\"),1,1))","v":""},{"$f":"IF(入力用科目!$Q191=\"\",\"\",MID(TEXT(入力用科目!$Q191,\"???\"),2,1))","v":""},{"$f":"IF(入力用科目!$Q191=\"\",\"\",MID(TEXT(入力用科目!$Q191,\"???\"),3,1))","v":""},null,{"$f":"IF(入力用科目!$U191=\"\",\"\",MID(TEXT(入力用科目!$U191,\"????????\"),1,1))","v":""},{"$f":"IF(入力用科目!$U191=\"\",\"\",MID(TEXT(入力用科目!$U191,\"????????\"),2,1))","v":""},{"$f":"IF(入力用科目!$U191=\"\",\"\",MID(TEXT(入力用科目!$U191,\"????????\"),3,1))","v":""},{"$f":"IF(入力用科目!$U191=\"\",\"\",MID(TEXT(入力用科目!$U191,\"????????\"),4,1))","v":""},{"$f":"IF(入力用科目!$U191=\"\",\"\",MID(TEXT(入力用科目!$U191,\"????????\"),5,1))","v":""},{"$f":"IF(入力用科目!$U191=\"\",\"\",MID(TEXT(入力用科目!$U191,\"????????\"),6,1))","v":""},{"$f":"IF(入力用科目!$U191=\"\",\"\",MID(TEXT(入力用科目!$U191,\"????????\"),7,1))","v":""},{"$f":"IF(入力用科目!$U191=\"\",\"\",MID(TEXT(入力用科目!$U191,\"????????\"),8,1))","v":""},null,{"$f":"IF(入力用科目!$AD191=\"\",\"\",MID(TEXT(入力用科目!$AD191,\"????????\"),1,1))","v":""},{"$f":"IF(入力用科目!$AD191=\"\",\"\",MID(TEXT(入力用科目!$AD191,\"????????\"),2,1))","v":""},{"$f":"IF(入力用科目!$AD191=\"\",\"\",MID(TEXT(入力用科目!$AD191,\"????????\"),3,1))","v":""},{"$f":"IF(入力用科目!$AD191=\"\",\"\",MID(TEXT(入力用科目!$AD191,\"????????\"),4,1))","v":""},{"$f":"IF(入力用科目!$AD191=\"\",\"\",MID(TEXT(入力用科目!$AD191,\"????????\"),5,1))","v":""},{"$f":"IF(入力用科目!$AD191=\"\",\"\",MID(TEXT(入力用科目!$AD191,\"????????\"),6,1))","v":""},{"$f":"IF(入力用科目!$AD191=\"\",\"\",MID(TEXT(入力用科目!$AD191,\"????????\"),7,1))","v":""},{"$f":"IF(入力用科目!$AD191=\"\",\"\",MID(TEXT(入力用科目!$AD191,\"????????\"),8,1))","v":""},null,{"$f":"IF(入力用科目!$AM191=\"\",\"\",MID(TEXT(入力用科目!$AM191,\"????????\"),1,1))","v":" "},{"$f":"IF(入力用科目!$AM191=\"\",\"\",MID(TEXT(入力用科目!$AM191,\"????????\"),2,1))","v":" "},{"$f":"IF(入力用科目!$AM191=\"\",\"\",MID(TEXT(入力用科目!$AM191,\"????????\"),3,1))","v":" "},{"$f":"IF(入力用科目!$AM191=\"\",\"\",MID(TEXT(入力用科目!$AM191,\"????????\"),4,1))","v":" "},{"$f":"IF(入力用科目!$AM191=\"\",\"\",MID(TEXT(入力用科目!$AM191,\"????????\"),5,1))","v":" "},{"$f":"IF(入力用科目!$AM191=\"\",\"\",MID(TEXT(入力用科目!$AM191,\"????????\"),6,1))","v":" "},{"$f":"IF(入力用科目!$AM191=\"\",\"\",MID(TEXT(入力用科目!$AM191,\"????????\"),7,1))","v":" "},{"$f":"IF(入力用科目!$AM191=\"\",\"\",MID(TEXT(入力用科目!$AM191,\"????????\"),8,1))","v":" "}]
[{"$f":"IF(入力用科目!A192=\"\",\"\",MID(TEXT(入力用科目!$A192,\"??\"),COLUMN(),1))","v":""},{"$f":"IF(入力用科目!A192=\"\",\"\",MID(TEXT(入力用科目!$A192,\"??\"),COLUMN(),1))","v":""},null,{"$f":"IF(入力用科目!$D192=\"\",\"\",MID(TEXT(入力用科目!$D192,\"???\"),1,1))","v":""},{"$f":"IF(入力用科目!$D192=\"\",\"\",MID(TEXT(入力用科目!$D192,\"???\"),2,1))","v":""},{"$f":"IF(入力用科目!$D192=\"\",\"\",MID(TEXT(入力用科目!$D192,\"???\"),3,1))","v":""},null,{"$f":"IF(入力用科目!$Q192=1,\"運送収入\",IF(入力用科目!$H192=\"\",\"\",入力用科目!$H192))","v":""},null,null,null,null,null,null,null,null,{"$f":"IF(入力用科目!$Q192=\"\",\"\",MID(TEXT(入力用科目!$Q192,\"???\"),1,1))","v":""},{"$f":"IF(入力用科目!$Q192=\"\",\"\",MID(TEXT(入力用科目!$Q192,\"???\"),2,1))","v":""},{"$f":"IF(入力用科目!$Q192=\"\",\"\",MID(TEXT(入力用科目!$Q192,\"???\"),3,1))","v":""},null,{"$f":"IF(入力用科目!$U192=\"\",\"\",MID(TEXT(入力用科目!$U192,\"????????\"),1,1))","v":""},{"$f":"IF(入力用科目!$U192=\"\",\"\",MID(TEXT(入力用科目!$U192,\"????????\"),2,1))","v":""},{"$f":"IF(入力用科目!$U192=\"\",\"\",MID(TEXT(入力用科目!$U192,\"????????\"),3,1))","v":""},{"$f":"IF(入力用科目!$U192=\"\",\"\",MID(TEXT(入力用科目!$U192,\"????????\"),4,1))","v":""},{"$f":"IF(入力用科目!$U192=\"\",\"\",MID(TEXT(入力用科目!$U192,\"????????\"),5,1))","v":""},{"$f":"IF(入力用科目!$U192=\"\",\"\",MID(TEXT(入力用科目!$U192,\"????????\"),6,1))","v":""},{"$f":"IF(入力用科目!$U192=\"\",\"\",MID(TEXT(入力用科目!$U192,\"????????\"),7,1))","v":""},{"$f":"IF(入力用科目!$U192=\"\",\"\",MID(TEXT(入力用科目!$U192,\"????????\"),8,1))","v":""},null,{"$f":"IF(入力用科目!$AD192=\"\",\"\",MID(TEXT(入力用科目!$AD192,\"????????\"),1,1))","v":""},{"$f":"IF(入力用科目!$AD192=\"\",\"\",MID(TEXT(入力用科目!$AD192,\"????????\"),2,1))","v":""},{"$f":"IF(入力用科目!$AD192=\"\",\"\",MID(TEXT(入力用科目!$AD192,\"????????\"),3,1))","v":""},{"$f":"IF(入力用科目!$AD192=\"\",\"\",MID(TEXT(入力用科目!$AD192,\"????????\"),4,1))","v":""},{"$f":"IF(入力用科目!$AD192=\"\",\"\",MID(TEXT(入力用科目!$AD192,\"????????\"),5,1))","v":""},{"$f":"IF(入力用科目!$AD192=\"\",\"\",MID(TEXT(入力用科目!$AD192,\"????????\"),6,1))","v":""},{"$f":"IF(入力用科目!$AD192=\"\",\"\",MID(TEXT(入力用科目!$AD192,\"????????\"),7,1))","v":""},{"$f":"IF(入力用科目!$AD192=\"\",\"\",MID(TEXT(入力用科目!$AD192,\"????????\"),8,1))","v":""},null,{"$f":"IF(入力用科目!$AM192=\"\",\"\",MID(TEXT(入力用科目!$AM192,\"????????\"),1,1))","v":" "},{"$f":"IF(入力用科目!$AM192=\"\",\"\",MID(TEXT(入力用科目!$AM192,\"????????\"),2,1))","v":" "},{"$f":"IF(入力用科目!$AM192=\"\",\"\",MID(TEXT(入力用科目!$AM192,\"????????\"),3,1))","v":" "},{"$f":"IF(入力用科目!$AM192=\"\",\"\",MID(TEXT(入力用科目!$AM192,\"????????\"),4,1))","v":" "},{"$f":"IF(入力用科目!$AM192=\"\",\"\",MID(TEXT(入力用科目!$AM192,\"????????\"),5,1))","v":" "},{"$f":"IF(入力用科目!$AM192=\"\",\"\",MID(TEXT(入力用科目!$AM192,\"????????\"),6,1))","v":" "},{"$f":"IF(入力用科目!$AM192=\"\",\"\",MID(TEXT(入力用科目!$AM192,\"????????\"),7,1))","v":" "},{"$f":"IF(入力用科目!$AM192=\"\",\"\",MID(TEXT(入力用科目!$AM192,\"????????\"),8,1))","v":" "}]
[{"$f":"IF(入力用科目!A193=\"\",\"\",MID(TEXT(入力用科目!$A193,\"??\"),COLUMN(),1))","v":""},{"$f":"IF(入力用科目!A193=\"\",\"\",MID(TEXT(入力用科目!$A193,\"??\"),COLUMN(),1))","v":""},null,{"$f":"IF(入力用科目!$D193=\"\",\"\",MID(TEXT(入力用科目!$D193,\"???\"),1,1))","v":""},{"$f":"IF(入力用科目!$D193=\"\",\"\",MID(TEXT(入力用科目!$D193,\"???\"),2,1))","v":""},{"$f":"IF(入力用科目!$D193=\"\",\"\",MID(TEXT(入力用科目!$D193,\"???\"),3,1))","v":""},null,{"$f":"IF(入力用科目!$Q193=1,\"運送収入\",IF(入力用科目!$H193=\"\",\"\",入力用科目!$H193))","v":""},null,null,null,null,null,null,null,null,{"$f":"IF(入力用科目!$Q193=\"\",\"\",MID(TEXT(入力用科目!$Q193,\"???\"),1,1))","v":""},{"$f":"IF(入力用科目!$Q193=\"\",\"\",MID(TEXT(入力用科目!$Q193,\"???\"),2,1))","v":""},{"$f":"IF(入力用科目!$Q193=\"\",\"\",MID(TEXT(入力用科目!$Q193,\"???\"),3,1))","v":""},null,{"$f":"IF(入力用科目!$U193=\"\",\"\",MID(TEXT(入力用科目!$U193,\"????????\"),1,1))","v":""},{"$f":"IF(入力用科目!$U193=\"\",\"\",MID(TEXT(入力用科目!$U193,\"????????\"),2,1))","v":""},{"$f":"IF(入力用科目!$U193=\"\",\"\",MID(TEXT(入力用科目!$U193,\"????????\"),3,1))","v":""},{"$f":"IF(入力用科目!$U193=\"\",\"\",MID(TEXT(入力用科目!$U193,\"????????\"),4,1))","v":""},{"$f":"IF(入力用科目!$U193=\"\",\"\",MID(TEXT(入力用科目!$U193,\"????????\"),5,1))","v":""},{"$f":"IF(入力用科目!$U193=\"\",\"\",MID(TEXT(入力用科目!$U193,\"????????\"),6,1))","v":""},{"$f":"IF(入力用科目!$U193=\"\",\"\",MID(TEXT(入力用科目!$U193,\"????????\"),7,1))","v":""},{"$f":"IF(入力用科目!$U193=\"\",\"\",MID(TEXT(入力用科目!$U193,\"????????\"),8,1))","v":""},null,{"$f":"IF(入力用科目!$AD193=\"\",\"\",MID(TEXT(入力用科目!$AD193,\"????????\"),1,1))","v":""},{"$f":"IF(入力用科目!$AD193=\"\",\"\",MID(TEXT(入力用科目!$AD193,\"????????\"),2,1))","v":""},{"$f":"IF(入力用科目!$AD193=\"\",\"\",MID(TEXT(入力用科目!$AD193,\"????????\"),3,1))","v":""},{"$f":"IF(入力用科目!$AD193=\"\",\"\",MID(TEXT(入力用科目!$AD193,\"????????\"),4,1))","v":""},{"$f":"IF(入力用科目!$AD193=\"\",\"\",MID(TEXT(入力用科目!$AD193,\"????????\"),5,1))","v":""},{"$f":"IF(入力用科目!$AD193=\"\",\"\",MID(TEXT(入力用科目!$AD193,\"????????\"),6,1))","v":""},{"$f":"IF(入力用科目!$AD193=\"\",\"\",MID(TEXT(入力用科目!$AD193,\"????????\"),7,1))","v":""},{"$f":"IF(入力用科目!$AD193=\"\",\"\",MID(TEXT(入力用科目!$AD193,\"????????\"),8,1))","v":""},null,{"$f":"IF(入力用科目!$AM193=\"\",\"\",MID(TEXT(入力用科目!$AM193,\"????????\"),1,1))","v":" "},{"$f":"IF(入力用科目!$AM193=\"\",\"\",MID(TEXT(入力用科目!$AM193,\"????????\"),2,1))","v":" "},{"$f":"IF(入力用科目!$AM193=\"\",\"\",MID(TEXT(入力用科目!$AM193,\"????????\"),3,1))","v":" "},{"$f":"IF(入力用科目!$AM193=\"\",\"\",MID(TEXT(入力用科目!$AM193,\"????????\"),4,1))","v":" "},{"$f":"IF(入力用科目!$AM193=\"\",\"\",MID(TEXT(入力用科目!$AM193,\"????????\"),5,1))","v":" "},{"$f":"IF(入力用科目!$AM193=\"\",\"\",MID(TEXT(入力用科目!$AM193,\"????????\"),6,1))","v":" "},{"$f":"IF(入力用科目!$AM193=\"\",\"\",MID(TEXT(入力用科目!$AM193,\"????????\"),7,1))","v":" "},{"$f":"IF(入力用科目!$AM193=\"\",\"\",MID(TEXT(入力用科目!$AM193,\"????????\"),8,1))","v":" "}]
[{"$f":"IF(入力用科目!A194=\"\",\"\",MID(TEXT(入力用科目!$A194,\"??\"),COLUMN(),1))","v":""},{"$f":"IF(入力用科目!A194=\"\",\"\",MID(TEXT(入力用科目!$A194,\"??\"),COLUMN(),1))","v":""},null,{"$f":"IF(入力用科目!$D194=\"\",\"\",MID(TEXT(入力用科目!$D194,\"???\"),1,1))","v":""},{"$f":"IF(入力用科目!$D194=\"\",\"\",MID(TEXT(入力用科目!$D194,\"???\"),2,1))","v":""},{"$f":"IF(入力用科目!$D194=\"\",\"\",MID(TEXT(入力用科目!$D194,\"???\"),3,1))","v":""},null,{"$f":"IF(入力用科目!$Q194=1,\"運送収入\",IF(入力用科目!$H194=\"\",\"\",入力用科目!$H194))","v":""},null,null,null,null,null,null,null,null,{"$f":"IF(入力用科目!$Q194=\"\",\"\",MID(TEXT(入力用科目!$Q194,\"???\"),1,1))","v":""},{"$f":"IF(入力用科目!$Q194=\"\",\"\",MID(TEXT(入力用科目!$Q194,\"???\"),2,1))","v":""},{"$f":"IF(入力用科目!$Q194=\"\",\"\",MID(TEXT(入力用科目!$Q194,\"???\"),3,1))","v":""},null,{"$f":"IF(入力用科目!$U194=\"\",\"\",MID(TEXT(入力用科目!$U194,\"????????\"),1,1))","v":""},{"$f":"IF(入力用科目!$U194=\"\",\"\",MID(TEXT(入力用科目!$U194,\"????????\"),2,1))","v":""},{"$f":"IF(入力用科目!$U194=\"\",\"\",MID(TEXT(入力用科目!$U194,\"????????\"),3,1))","v":""},{"$f":"IF(入力用科目!$U194=\"\",\"\",MID(TEXT(入力用科目!$U194,\"????????\"),4,1))","v":""},{"$f":"IF(入力用科目!$U194=\"\",\"\",MID(TEXT(入力用科目!$U194,\"????????\"),5,1))","v":""},{"$f":"IF(入力用科目!$U194=\"\",\"\",MID(TEXT(入力用科目!$U194,\"????????\"),6,1))","v":""},{"$f":"IF(入力用科目!$U194=\"\",\"\",MID(TEXT(入力用科目!$U194,\"????????\"),7,1))","v":""},{"$f":"IF(入力用科目!$U194=\"\",\"\",MID(TEXT(入力用科目!$U194,\"????????\"),8,1))","v":""},null,{"$f":"IF(入力用科目!$AD194=\"\",\"\",MID(TEXT(入力用科目!$AD194,\"????????\"),1,1))","v":""},{"$f":"IF(入力用科目!$AD194=\"\",\"\",MID(TEXT(入力用科目!$AD194,\"????????\"),2,1))","v":""},{"$f":"IF(入力用科目!$AD194=\"\",\"\",MID(TEXT(入力用科目!$AD194,\"????????\"),3,1))","v":""},{"$f":"IF(入力用科目!$AD194=\"\",\"\",MID(TEXT(入力用科目!$AD194,\"????????\"),4,1))","v":""},{"$f":"IF(入力用科目!$AD194=\"\",\"\",MID(TEXT(入力用科目!$AD194,\"????????\"),5,1))","v":""},{"$f":"IF(入力用科目!$AD194=\"\",\"\",MID(TEXT(入力用科目!$AD194,\"????????\"),6,1))","v":""},{"$f":"IF(入力用科目!$AD194=\"\",\"\",MID(TEXT(入力用科目!$AD194,\"????????\"),7,1))","v":""},{"$f":"IF(入力用科目!$AD194=\"\",\"\",MID(TEXT(入力用科目!$AD194,\"????????\"),8,1))","v":""},null,{"$f":"IF(入力用科目!$AM194=\"\",\"\",MID(TEXT(入力用科目!$AM194,\"????????\"),1,1))","v":" "},{"$f":"IF(入力用科目!$AM194=\"\",\"\",MID(TEXT(入力用科目!$AM194,\"????????\"),2,1))","v":" "},{"$f":"IF(入力用科目!$AM194=\"\",\"\",MID(TEXT(入力用科目!$AM194,\"????????\"),3,1))","v":" "},{"$f":"IF(入力用科目!$AM194=\"\",\"\",MID(TEXT(入力用科目!$AM194,\"????????\"),4,1))","v":" "},{"$f":"IF(入力用科目!$AM194=\"\",\"\",MID(TEXT(入力用科目!$AM194,\"????????\"),5,1))","v":" "},{"$f":"IF(入力用科目!$AM194=\"\",\"\",MID(TEXT(入力用科目!$AM194,\"????????\"),6,1))","v":" "},{"$f":"IF(入力用科目!$AM194=\"\",\"\",MID(TEXT(入力用科目!$AM194,\"????????\"),7,1))","v":" "},{"$f":"IF(入力用科目!$AM194=\"\",\"\",MID(TEXT(入力用科目!$AM194,\"????????\"),8,1))","v":" "}]
[{"$f":"IF(入力用科目!A195=\"\",\"\",MID(TEXT(入力用科目!$A195,\"??\"),COLUMN(),1))","v":""},{"$f":"IF(入力用科目!A195=\"\",\"\",MID(TEXT(入力用科目!$A195,\"??\"),COLUMN(),1))","v":""},null,{"$f":"IF(入力用科目!$D195=\"\",\"\",MID(TEXT(入力用科目!$D195,\"???\"),1,1))","v":""},{"$f":"IF(入力用科目!$D195=\"\",\"\",MID(TEXT(入力用科目!$D195,\"???\"),2,1))","v":""},{"$f":"IF(入力用科目!$D195=\"\",\"\",MID(TEXT(入力用科目!$D195,\"???\"),3,1))","v":""},null,{"$f":"IF(入力用科目!$Q195=1,\"運送収入\",IF(入力用科目!$H195=\"\",\"\",入力用科目!$H195))","v":""},null,null,null,null,null,null,null,null,{"$f":"IF(入力用科目!$Q195=\"\",\"\",MID(TEXT(入力用科目!$Q195,\"???\"),1,1))","v":""},{"$f":"IF(入力用科目!$Q195=\"\",\"\",MID(TEXT(入力用科目!$Q195,\"???\"),2,1))","v":""},{"$f":"IF(入力用科目!$Q195=\"\",\"\",MID(TEXT(入力用科目!$Q195,\"???\"),3,1))","v":""},null,{"$f":"IF(入力用科目!$U195=\"\",\"\",MID(TEXT(入力用科目!$U195,\"????????\"),1,1))","v":""},{"$f":"IF(入力用科目!$U195=\"\",\"\",MID(TEXT(入力用科目!$U195,\"????????\"),2,1))","v":""},{"$f":"IF(入力用科目!$U195=\"\",\"\",MID(TEXT(入力用科目!$U195,\"????????\"),3,1))","v":""},{"$f":"IF(入力用科目!$U195=\"\",\"\",MID(TEXT(入力用科目!$U195,\"????????\"),4,1))","v":""},{"$f":"IF(入力用科目!$U195=\"\",\"\",MID(TEXT(入力用科目!$U195,\"????????\"),5,1))","v":""},{"$f":"IF(入力用科目!$U195=\"\",\"\",MID(TEXT(入力用科目!$U195,\"????????\"),6,1))","v":""},{"$f":"IF(入力用科目!$U195=\"\",\"\",MID(TEXT(入力用科目!$U195,\"????????\"),7,1))","v":""},{"$f":"IF(入力用科目!$U195=\"\",\"\",MID(TEXT(入力用科目!$U195,\"????????\"),8,1))","v":""},null,{"$f":"IF(入力用科目!$AD195=\"\",\"\",MID(TEXT(入力用科目!$AD195,\"????????\"),1,1))","v":""},{"$f":"IF(入力用科目!$AD195=\"\",\"\",MID(TEXT(入力用科目!$AD195,\"????????\"),2,1))","v":""},{"$f":"IF(入力用科目!$AD195=\"\",\"\",MID(TEXT(入力用科目!$AD195,\"????????\"),3,1))","v":""},{"$f":"IF(入力用科目!$AD195=\"\",\"\",MID(TEXT(入力用科目!$AD195,\"????????\"),4,1))","v":""},{"$f":"IF(入力用科目!$AD195=\"\",\"\",MID(TEXT(入力用科目!$AD195,\"????????\"),5,1))","v":""},{"$f":"IF(入力用科目!$AD195=\"\",\"\",MID(TEXT(入力用科目!$AD195,\"????????\"),6,1))","v":""},{"$f":"IF(入力用科目!$AD195=\"\",\"\",MID(TEXT(入力用科目!$AD195,\"????????\"),7,1))","v":""},{"$f":"IF(入力用科目!$AD195=\"\",\"\",MID(TEXT(入力用科目!$AD195,\"????????\"),8,1))","v":""},null,{"$f":"IF(入力用科目!$AM195=\"\",\"\",MID(TEXT(入力用科目!$AM195,\"????????\"),1,1))","v":" "},{"$f":"IF(入力用科目!$AM195=\"\",\"\",MID(TEXT(入力用科目!$AM195,\"????????\"),2,1))","v":" "},{"$f":"IF(入力用科目!$AM195=\"\",\"\",MID(TEXT(入力用科目!$AM195,\"????????\"),3,1))","v":" "},{"$f":"IF(入力用科目!$AM195=\"\",\"\",MID(TEXT(入力用科目!$AM195,\"????????\"),4,1))","v":" "},{"$f":"IF(入力用科目!$AM195=\"\",\"\",MID(TEXT(入力用科目!$AM195,\"????????\"),5,1))","v":" "},{"$f":"IF(入力用科目!$AM195=\"\",\"\",MID(TEXT(入力用科目!$AM195,\"????????\"),6,1))","v":" "},{"$f":"IF(入力用科目!$AM195=\"\",\"\",MID(TEXT(入力用科目!$AM195,\"????????\"),7,1))","v":" "},{"$f":"IF(入力用科目!$AM195=\"\",\"\",MID(TEXT(入力用科目!$AM195,\"????????\"),8,1))","v":" "}]
[{"$f":"IF(入力用科目!A196=\"\",\"\",MID(TEXT(入力用科目!$A196,\"??\"),COLUMN(),1))","v":""},{"$f":"IF(入力用科目!A196=\"\",\"\",MID(TEXT(入力用科目!$A196,\"??\"),COLUMN(),1))","v":""},null,{"$f":"IF(入力用科目!$D196=\"\",\"\",MID(TEXT(入力用科目!$D196,\"???\"),1,1))","v":""},{"$f":"IF(入力用科目!$D196=\"\",\"\",MID(TEXT(入力用科目!$D196,\"???\"),2,1))","v":""},{"$f":"IF(入力用科目!$D196=\"\",\"\",MID(TEXT(入力用科目!$D196,\"???\"),3,1))","v":""},null,{"$f":"IF(入力用科目!$Q196=1,\"運送収入\",IF(入力用科目!$H196=\"\",\"\",入力用科目!$H196))","v":""},null,null,null,null,null,null,null,null,{"$f":"IF(入力用科目!$Q196=\"\",\"\",MID(TEXT(入力用科目!$Q196,\"???\"),1,1))","v":""},{"$f":"IF(入力用科目!$Q196=\"\",\"\",MID(TEXT(入力用科目!$Q196,\"???\"),2,1))","v":""},{"$f":"IF(入力用科目!$Q196=\"\",\"\",MID(TEXT(入力用科目!$Q196,\"???\"),3,1))","v":""},null,{"$f":"IF(入力用科目!$U196=\"\",\"\",MID(TEXT(入力用科目!$U196,\"????????\"),1,1))","v":""},{"$f":"IF(入力用科目!$U196=\"\",\"\",MID(TEXT(入力用科目!$U196,\"????????\"),2,1))","v":""},{"$f":"IF(入力用科目!$U196=\"\",\"\",MID(TEXT(入力用科目!$U196,\"????????\"),3,1))","v":""},{"$f":"IF(入力用科目!$U196=\"\",\"\",MID(TEXT(入力用科目!$U196,\"????????\"),4,1))","v":""},{"$f":"IF(入力用科目!$U196=\"\",\"\",MID(TEXT(入力用科目!$U196,\"????????\"),5,1))","v":""},{"$f":"IF(入力用科目!$U196=\"\",\"\",MID(TEXT(入力用科目!$U196,\"????????\"),6,1))","v":""},{"$f":"IF(入力用科目!$U196=\"\",\"\",MID(TEXT(入力用科目!$U196,\"????????\"),7,1))","v":""},{"$f":"IF(入力用科目!$U196=\"\",\"\",MID(TEXT(入力用科目!$U196,\"????????\"),8,1))","v":""},null,{"$f":"IF(入力用科目!$AD196=\"\",\"\",MID(TEXT(入力用科目!$AD196,\"????????\"),1,1))","v":""},{"$f":"IF(入力用科目!$AD196=\"\",\"\",MID(TEXT(入力用科目!$AD196,\"????????\"),2,1))","v":""},{"$f":"IF(入力用科目!$AD196=\"\",\"\",MID(TEXT(入力用科目!$AD196,\"????????\"),3,1))","v":""},{"$f":"IF(入力用科目!$AD196=\"\",\"\",MID(TEXT(入力用科目!$AD196,\"????????\"),4,1))","v":""},{"$f":"IF(入力用科目!$AD196=\"\",\"\",MID(TEXT(入力用科目!$AD196,\"????????\"),5,1))","v":""},{"$f":"IF(入力用科目!$AD196=\"\",\"\",MID(TEXT(入力用科目!$AD196,\"????????\"),6,1))","v":""},{"$f":"IF(入力用科目!$AD196=\"\",\"\",MID(TEXT(入力用科目!$AD196,\"????????\"),7,1))","v":""},{"$f":"IF(入力用科目!$AD196=\"\",\"\",MID(TEXT(入力用科目!$AD196,\"????????\"),8,1))","v":""},null,{"$f":"IF(入力用科目!$AM196=\"\",\"\",MID(TEXT(入力用科目!$AM196,\"????????\"),1,1))","v":" "},{"$f":"IF(入力用科目!$AM196=\"\",\"\",MID(TEXT(入力用科目!$AM196,\"????????\"),2,1))","v":" "},{"$f":"IF(入力用科目!$AM196=\"\",\"\",MID(TEXT(入力用科目!$AM196,\"????????\"),3,1))","v":" "},{"$f":"IF(入力用科目!$AM196=\"\",\"\",MID(TEXT(入力用科目!$AM196,\"????????\"),4,1))","v":" "},{"$f":"IF(入力用科目!$AM196=\"\",\"\",MID(TEXT(入力用科目!$AM196,\"????????\"),5,1))","v":" "},{"$f":"IF(入力用科目!$AM196=\"\",\"\",MID(TEXT(入力用科目!$AM196,\"????????\"),6,1))","v":" "},{"$f":"IF(入力用科目!$AM196=\"\",\"\",MID(TEXT(入力用科目!$AM196,\"????????\"),7,1))","v":" "},{"$f":"IF(入力用科目!$AM196=\"\",\"\",MID(TEXT(入力用科目!$AM196,\"????????\"),8,1))","v":" "}]
[{"$f":"IF(入力用科目!A197=\"\",\"\",MID(TEXT(入力用科目!$A197,\"??\"),COLUMN(),1))","v":""},{"$f":"IF(入力用科目!A197=\"\",\"\",MID(TEXT(入力用科目!$A197,\"??\"),COLUMN(),1))","v":""},null,{"$f":"IF(入力用科目!$D197=\"\",\"\",MID(TEXT(入力用科目!$D197,\"???\"),1,1))","v":""},{"$f":"IF(入力用科目!$D197=\"\",\"\",MID(TEXT(入力用科目!$D197,\"???\"),2,1))","v":""},{"$f":"IF(入力用科目!$D197=\"\",\"\",MID(TEXT(入力用科目!$D197,\"???\"),3,1))","v":""},null,{"$f":"IF(入力用科目!$Q197=1,\"運送収入\",IF(入力用科目!$H197=\"\",\"\",入力用科目!$H197))","v":""},null,null,null,null,null,null,null,null,{"$f":"IF(入力用科目!$Q197=\"\",\"\",MID(TEXT(入力用科目!$Q197,\"???\"),1,1))","v":""},{"$f":"IF(入力用科目!$Q197=\"\",\"\",MID(TEXT(入力用科目!$Q197,\"???\"),2,1))","v":""},{"$f":"IF(入力用科目!$Q197=\"\",\"\",MID(TEXT(入力用科目!$Q197,\"???\"),3,1))","v":""},null,{"$f":"IF(入力用科目!$U197=\"\",\"\",MID(TEXT(入力用科目!$U197,\"????????\"),1,1))","v":""},{"$f":"IF(入力用科目!$U197=\"\",\"\",MID(TEXT(入力用科目!$U197,\"????????\"),2,1))","v":""},{"$f":"IF(入力用科目!$U197=\"\",\"\",MID(TEXT(入力用科目!$U197,\"????????\"),3,1))","v":""},{"$f":"IF(入力用科目!$U197=\"\",\"\",MID(TEXT(入力用科目!$U197,\"????????\"),4,1))","v":""},{"$f":"IF(入力用科目!$U197=\"\",\"\",MID(TEXT(入力用科目!$U197,\"????????\"),5,1))","v":""},{"$f":"IF(入力用科目!$U197=\"\",\"\",MID(TEXT(入力用科目!$U197,\"????????\"),6,1))","v":""},{"$f":"IF(入力用科目!$U197=\"\",\"\",MID(TEXT(入力用科目!$U197,\"????????\"),7,1))","v":""},{"$f":"IF(入力用科目!$U197=\"\",\"\",MID(TEXT(入力用科目!$U197,\"????????\"),8,1))","v":""},null,{"$f":"IF(入力用科目!$AD197=\"\",\"\",MID(TEXT(入力用科目!$AD197,\"????????\"),1,1))","v":""},{"$f":"IF(入力用科目!$AD197=\"\",\"\",MID(TEXT(入力用科目!$AD197,\"????????\"),2,1))","v":""},{"$f":"IF(入力用科目!$AD197=\"\",\"\",MID(TEXT(入力用科目!$AD197,\"????????\"),3,1))","v":""},{"$f":"IF(入力用科目!$AD197=\"\",\"\",MID(TEXT(入力用科目!$AD197,\"????????\"),4,1))","v":""},{"$f":"IF(入力用科目!$AD197=\"\",\"\",MID(TEXT(入力用科目!$AD197,\"????????\"),5,1))","v":""},{"$f":"IF(入力用科目!$AD197=\"\",\"\",MID(TEXT(入力用科目!$AD197,\"????????\"),6,1))","v":""},{"$f":"IF(入力用科目!$AD197=\"\",\"\",MID(TEXT(入力用科目!$AD197,\"????????\"),7,1))","v":""},{"$f":"IF(入力用科目!$AD197=\"\",\"\",MID(TEXT(入力用科目!$AD197,\"????????\"),8,1))","v":""},null,{"$f":"IF(入力用科目!$AM197=\"\",\"\",MID(TEXT(入力用科目!$AM197,\"????????\"),1,1))","v":" "},{"$f":"IF(入力用科目!$AM197=\"\",\"\",MID(TEXT(入力用科目!$AM197,\"????????\"),2,1))","v":" "},{"$f":"IF(入力用科目!$AM197=\"\",\"\",MID(TEXT(入力用科目!$AM197,\"????????\"),3,1))","v":" "},{"$f":"IF(入力用科目!$AM197=\"\",\"\",MID(TEXT(入力用科目!$AM197,\"????????\"),4,1))","v":" "},{"$f":"IF(入力用科目!$AM197=\"\",\"\",MID(TEXT(入力用科目!$AM197,\"????????\"),5,1))","v":" "},{"$f":"IF(入力用科目!$AM197=\"\",\"\",MID(TEXT(入力用科目!$AM197,\"????????\"),6,1))","v":" "},{"$f":"IF(入力用科目!$AM197=\"\",\"\",MID(TEXT(入力用科目!$AM197,\"????????\"),7,1))","v":" "},{"$f":"IF(入力用科目!$AM197=\"\",\"\",MID(TEXT(入力用科目!$AM197,\"????????\"),8,1))","v":" "}]
[{"$f":"IF(入力用科目!A198=\"\",\"\",MID(TEXT(入力用科目!$A198,\"??\"),COLUMN(),1))","v":""},{"$f":"IF(入力用科目!A198=\"\",\"\",MID(TEXT(入力用科目!$A198,\"??\"),COLUMN(),1))","v":""},null,{"$f":"IF(入力用科目!$D198=\"\",\"\",MID(TEXT(入力用科目!$D198,\"???\"),1,1))","v":""},{"$f":"IF(入力用科目!$D198=\"\",\"\",MID(TEXT(入力用科目!$D198,\"???\"),2,1))","v":""},{"$f":"IF(入力用科目!$D198=\"\",\"\",MID(TEXT(入力用科目!$D198,\"???\"),3,1))","v":""},null,{"$f":"IF(入力用科目!$Q198=1,\"運送収入\",IF(入力用科目!$H198=\"\",\"\",入力用科目!$H198))","v":""},null,null,null,null,null,null,null,null,{"$f":"IF(入力用科目!$Q198=\"\",\"\",MID(TEXT(入力用科目!$Q198,\"???\"),1,1))","v":""},{"$f":"IF(入力用科目!$Q198=\"\",\"\",MID(TEXT(入力用科目!$Q198,\"???\"),2,1))","v":""},{"$f":"IF(入力用科目!$Q198=\"\",\"\",MID(TEXT(入力用科目!$Q198,\"???\"),3,1))","v":""},null,{"$f":"IF(入力用科目!$U198=\"\",\"\",MID(TEXT(入力用科目!$U198,\"????????\"),1,1))","v":""},{"$f":"IF(入力用科目!$U198=\"\",\"\",MID(TEXT(入力用科目!$U198,\"????????\"),2,1))","v":""},{"$f":"IF(入力用科目!$U198=\"\",\"\",MID(TEXT(入力用科目!$U198,\"????????\"),3,1))","v":""},{"$f":"IF(入力用科目!$U198=\"\",\"\",MID(TEXT(入力用科目!$U198,\"????????\"),4,1))","v":""},{"$f":"IF(入力用科目!$U198=\"\",\"\",MID(TEXT(入力用科目!$U198,\"????????\"),5,1))","v":""},{"$f":"IF(入力用科目!$U198=\"\",\"\",MID(TEXT(入力用科目!$U198,\"????????\"),6,1))","v":""},{"$f":"IF(入力用科目!$U198=\"\",\"\",MID(TEXT(入力用科目!$U198,\"????????\"),7,1))","v":""},{"$f":"IF(入力用科目!$U198=\"\",\"\",MID(TEXT(入力用科目!$U198,\"????????\"),8,1))","v":""},null,{"$f":"IF(入力用科目!$AD198=\"\",\"\",MID(TEXT(入力用科目!$AD198,\"????????\"),1,1))","v":""},{"$f":"IF(入力用科目!$AD198=\"\",\"\",MID(TEXT(入力用科目!$AD198,\"????????\"),2,1))","v":""},{"$f":"IF(入力用科目!$AD198=\"\",\"\",MID(TEXT(入力用科目!$AD198,\"????????\"),3,1))","v":""},{"$f":"IF(入力用科目!$AD198=\"\",\"\",MID(TEXT(入力用科目!$AD198,\"????????\"),4,1))","v":""},{"$f":"IF(入力用科目!$AD198=\"\",\"\",MID(TEXT(入力用科目!$AD198,\"????????\"),5,1))","v":""},{"$f":"IF(入力用科目!$AD198=\"\",\"\",MID(TEXT(入力用科目!$AD198,\"????????\"),6,1))","v":""},{"$f":"IF(入力用科目!$AD198=\"\",\"\",MID(TEXT(入力用科目!$AD198,\"????????\"),7,1))","v":""},{"$f":"IF(入力用科目!$AD198=\"\",\"\",MID(TEXT(入力用科目!$AD198,\"????????\"),8,1))","v":""},null,{"$f":"IF(入力用科目!$AM198=\"\",\"\",MID(TEXT(入力用科目!$AM198,\"????????\"),1,1))","v":" "},{"$f":"IF(入力用科目!$AM198=\"\",\"\",MID(TEXT(入力用科目!$AM198,\"????????\"),2,1))","v":" "},{"$f":"IF(入力用科目!$AM198=\"\",\"\",MID(TEXT(入力用科目!$AM198,\"????????\"),3,1))","v":" "},{"$f":"IF(入力用科目!$AM198=\"\",\"\",MID(TEXT(入力用科目!$AM198,\"????????\"),4,1))","v":" "},{"$f":"IF(入力用科目!$AM198=\"\",\"\",MID(TEXT(入力用科目!$AM198,\"????????\"),5,1))","v":" "},{"$f":"IF(入力用科目!$AM198=\"\",\"\",MID(TEXT(入力用科目!$AM198,\"????????\"),6,1))","v":" "},{"$f":"IF(入力用科目!$AM198=\"\",\"\",MID(TEXT(入力用科目!$AM198,\"????????\"),7,1))","v":" "},{"$f":"IF(入力用科目!$AM198=\"\",\"\",MID(TEXT(入力用科目!$AM198,\"????????\"),8,1))","v":" "}]
[{"$f":"IF(入力用科目!A199=\"\",\"\",MID(TEXT(入力用科目!$A199,\"??\"),COLUMN(),1))","v":""},{"$f":"IF(入力用科目!A199=\"\",\"\",MID(TEXT(入力用科目!$A199,\"??\"),COLUMN(),1))","v":""},null,{"$f":"IF(入力用科目!$D199=\"\",\"\",MID(TEXT(入力用科目!$D199,\"???\"),1,1))","v":""},{"$f":"IF(入力用科目!$D199=\"\",\"\",MID(TEXT(入力用科目!$D199,\"???\"),2,1))","v":""},{"$f":"IF(入力用科目!$D199=\"\",\"\",MID(TEXT(入力用科目!$D199,\"???\"),3,1))","v":""},null,{"$f":"IF(入力用科目!$Q199=1,\"運送収入\",IF(入力用科目!$H199=\"\",\"\",入力用科目!$H199))","v":""},null,null,null,null,null,null,null,null,{"$f":"IF(入力用科目!$Q199=\"\",\"\",MID(TEXT(入力用科目!$Q199,\"???\"),1,1))","v":""},{"$f":"IF(入力用科目!$Q199=\"\",\"\",MID(TEXT(入力用科目!$Q199,\"???\"),2,1))","v":""},{"$f":"IF(入力用科目!$Q199=\"\",\"\",MID(TEXT(入力用科目!$Q199,\"???\"),3,1))","v":""},null,{"$f":"IF(入力用科目!$U199=\"\",\"\",MID(TEXT(入力用科目!$U199,\"????????\"),1,1))","v":""},{"$f":"IF(入力用科目!$U199=\"\",\"\",MID(TEXT(入力用科目!$U199,\"????????\"),2,1))","v":""},{"$f":"IF(入力用科目!$U199=\"\",\"\",MID(TEXT(入力用科目!$U199,\"????????\"),3,1))","v":""},{"$f":"IF(入力用科目!$U199=\"\",\"\",MID(TEXT(入力用科目!$U199,\"????????\"),4,1))","v":""},{"$f":"IF(入力用科目!$U199=\"\",\"\",MID(TEXT(入力用科目!$U199,\"????????\"),5,1))","v":""},{"$f":"IF(入力用科目!$U199=\"\",\"\",MID(TEXT(入力用科目!$U199,\"????????\"),6,1))","v":""},{"$f":"IF(入力用科目!$U199=\"\",\"\",MID(TEXT(入力用科目!$U199,\"????????\"),7,1))","v":""},{"$f":"IF(入力用科目!$U199=\"\",\"\",MID(TEXT(入力用科目!$U199,\"????????\"),8,1))","v":""},null,{"$f":"IF(入力用科目!$AD199=\"\",\"\",MID(TEXT(入力用科目!$AD199,\"????????\"),1,1))","v":""},{"$f":"IF(入力用科目!$AD199=\"\",\"\",MID(TEXT(入力用科目!$AD199,\"????????\"),2,1))","v":""},{"$f":"IF(入力用科目!$AD199=\"\",\"\",MID(TEXT(入力用科目!$AD199,\"????????\"),3,1))","v":""},{"$f":"IF(入力用科目!$AD199=\"\",\"\",MID(TEXT(入力用科目!$AD199,\"????????\"),4,1))","v":""},{"$f":"IF(入力用科目!$AD199=\"\",\"\",MID(TEXT(入力用科目!$AD199,\"????????\"),5,1))","v":""},{"$f":"IF(入力用科目!$AD199=\"\",\"\",MID(TEXT(入力用科目!$AD199,\"????????\"),6,1))","v":""},{"$f":"IF(入力用科目!$AD199=\"\",\"\",MID(TEXT(入力用科目!$AD199,\"????????\"),7,1))","v":""},{"$f":"IF(入力用科目!$AD199=\"\",\"\",MID(TEXT(入力用科目!$AD199,\"????????\"),8,1))","v":""},null,{"$f":"IF(入力用科目!$AM199=\"\",\"\",MID(TEXT(入力用科目!$AM199,\"????????\"),1,1))","v":" "},{"$f":"IF(入力用科目!$AM199=\"\",\"\",MID(TEXT(入力用科目!$AM199,\"????????\"),2,1))","v":" "},{"$f":"IF(入力用科目!$AM199=\"\",\"\",MID(TEXT(入力用科目!$AM199,\"????????\"),3,1))","v":" "},{"$f":"IF(入力用科目!$AM199=\"\",\"\",MID(TEXT(入力用科目!$AM199,\"????????\"),4,1))","v":" "},{"$f":"IF(入力用科目!$AM199=\"\",\"\",MID(TEXT(入力用科目!$AM199,\"????????\"),5,1))","v":" "},{"$f":"IF(入力用科目!$AM199=\"\",\"\",MID(TEXT(入力用科目!$AM199,\"????????\"),6,1))","v":" "},{"$f":"IF(入力用科目!$AM199=\"\",\"\",MID(TEXT(入力用科目!$AM199,\"????????\"),7,1))","v":" "},{"$f":"IF(入力用科目!$AM199=\"\",\"\",MID(TEXT(入力用科目!$AM199,\"????????\"),8,1))","v":" "}]
[{"$f":"IF(入力用科目!A200=\"\",\"\",MID(TEXT(入力用科目!$A200,\"??\"),COLUMN(),1))","v":""},{"$f":"IF(入力用科目!A200=\"\",\"\",MID(TEXT(入力用科目!$A200,\"??\"),COLUMN(),1))","v":""},null,{"$f":"IF(入力用科目!$D200=\"\",\"\",MID(TEXT(入力用科目!$D200,\"???\"),1,1))","v":""},{"$f":"IF(入力用科目!$D200=\"\",\"\",MID(TEXT(入力用科目!$D200,\"???\"),2,1))","v":""},{"$f":"IF(入力用科目!$D200=\"\",\"\",MID(TEXT(入力用科目!$D200,\"???\"),3,1))","v":""},null,{"$f":"IF(入力用科目!$Q200=1,\"運送収入\",IF(入力用科目!$H200=\"\",\"\",入力用科目!$H200))","v":""},null,null,null,null,null,null,null,null,{"$f":"IF(入力用科目!$Q200=\"\",\"\",MID(TEXT(入力用科目!$Q200,\"???\"),1,1))","v":""},{"$f":"IF(入力用科目!$Q200=\"\",\"\",MID(TEXT(入力用科目!$Q200,\"???\"),2,1))","v":""},{"$f":"IF(入力用科目!$Q200=\"\",\"\",MID(TEXT(入力用科目!$Q200,\"???\"),3,1))","v":""},null,{"$f":"IF(入力用科目!$U200=\"\",\"\",MID(TEXT(入力用科目!$U200,\"????????\"),1,1))","v":""},{"$f":"IF(入力用科目!$U200=\"\",\"\",MID(TEXT(入力用科目!$U200,\"????????\"),2,1))","v":""},{"$f":"IF(入力用科目!$U200=\"\",\"\",MID(TEXT(入力用科目!$U200,\"????????\"),3,1))","v":""},{"$f":"IF(入力用科目!$U200=\"\",\"\",MID(TEXT(入力用科目!$U200,\"????????\"),4,1))","v":""},{"$f":"IF(入力用科目!$U200=\"\",\"\",MID(TEXT(入力用科目!$U200,\"????????\"),5,1))","v":""},{"$f":"IF(入力用科目!$U200=\"\",\"\",MID(TEXT(入力用科目!$U200,\"????????\"),6,1))","v":""},{"$f":"IF(入力用科目!$U200=\"\",\"\",MID(TEXT(入力用科目!$U200,\"????????\"),7,1))","v":""},{"$f":"IF(入力用科目!$U200=\"\",\"\",MID(TEXT(入力用科目!$U200,\"????????\"),8,1))","v":""},null,{"$f":"IF(入力用科目!$AD200=\"\",\"\",MID(TEXT(入力用科目!$AD200,\"????????\"),1,1))","v":""},{"$f":"IF(入力用科目!$AD200=\"\",\"\",MID(TEXT(入力用科目!$AD200,\"????????\"),2,1))","v":""},{"$f":"IF(入力用科目!$AD200=\"\",\"\",MID(TEXT(入力用科目!$AD200,\"????????\"),3,1))","v":""},{"$f":"IF(入力用科目!$AD200=\"\",\"\",MID(TEXT(入力用科目!$AD200,\"????????\"),4,1))","v":""},{"$f":"IF(入力用科目!$AD200=\"\",\"\",MID(TEXT(入力用科目!$AD200,\"????????\"),5,1))","v":""},{"$f":"IF(入力用科目!$AD200=\"\",\"\",MID(TEXT(入力用科目!$AD200,\"????????\"),6,1))","v":""},{"$f":"IF(入力用科目!$AD200=\"\",\"\",MID(TEXT(入力用科目!$AD200,\"????????\"),7,1))","v":""},{"$f":"IF(入力用科目!$AD200=\"\",\"\",MID(TEXT(入力用科目!$AD200,\"????????\"),8,1))","v":""},null,{"$f":"IF(入力用科目!$AM200=\"\",\"\",MID(TEXT(入力用科目!$AM200,\"????????\"),1,1))","v":" "},{"$f":"IF(入力用科目!$AM200=\"\",\"\",MID(TEXT(入力用科目!$AM200,\"????????\"),2,1))","v":" "},{"$f":"IF(入力用科目!$AM200=\"\",\"\",MID(TEXT(入力用科目!$AM200,\"????????\"),3,1))","v":" "},{"$f":"IF(入力用科目!$AM200=\"\",\"\",MID(TEXT(入力用科目!$AM200,\"????????\"),4,1))","v":" "},{"$f":"IF(入力用科目!$AM200=\"\",\"\",MID(TEXT(入力用科目!$AM200,\"????????\"),5,1))","v":" "},{"$f":"IF(入力用科目!$AM200=\"\",\"\",MID(TEXT(入力用科目!$AM200,\"????????\"),6,1))","v":" "},{"$f":"IF(入力用科目!$AM200=\"\",\"\",MID(TEXT(入力用科目!$AM200,\"????????\"),7,1))","v":" "},{"$f":"IF(入力用科目!$AM200=\"\",\"\",MID(TEXT(入力用科目!$AM200,\"????????\"),8,1))","v":" "}]
[{"$f":"IF(入力用科目!A201=\"\",\"\",MID(TEXT(入力用科目!$A201,\"??\"),COLUMN(),1))","v":""},{"$f":"IF(入力用科目!A201=\"\",\"\",MID(TEXT(入力用科目!$A201,\"??\"),COLUMN(),1))","v":""},null,{"$f":"IF(入力用科目!$D201=\"\",\"\",MID(TEXT(入力用科目!$D201,\"???\"),1,1))","v":""},{"$f":"IF(入力用科目!$D201=\"\",\"\",MID(TEXT(入力用科目!$D201,\"???\"),2,1))","v":""},{"$f":"IF(入力用科目!$D201=\"\",\"\",MID(TEXT(入力用科目!$D201,\"???\"),3,1))","v":""},null,{"$f":"IF(入力用科目!$Q201=1,\"運送収入\",IF(入力用科目!$H201=\"\",\"\",入力用科目!$H201))","v":""},null,null,null,null,null,null,null,null,{"$f":"IF(入力用科目!$Q201=\"\",\"\",MID(TEXT(入力用科目!$Q201,\"???\"),1,1))","v":""},{"$f":"IF(入力用科目!$Q201=\"\",\"\",MID(TEXT(入力用科目!$Q201,\"???\"),2,1))","v":""},{"$f":"IF(入力用科目!$Q201=\"\",\"\",MID(TEXT(入力用科目!$Q201,\"???\"),3,1))","v":""},null,{"$f":"IF(入力用科目!$U201=\"\",\"\",MID(TEXT(入力用科目!$U201,\"????????\"),1,1))","v":""},{"$f":"IF(入力用科目!$U201=\"\",\"\",MID(TEXT(入力用科目!$U201,\"????????\"),2,1))","v":""},{"$f":"IF(入力用科目!$U201=\"\",\"\",MID(TEXT(入力用科目!$U201,\"????????\"),3,1))","v":""},{"$f":"IF(入力用科目!$U201=\"\",\"\",MID(TEXT(入力用科目!$U201,\"????????\"),4,1))","v":""},{"$f":"IF(入力用科目!$U201=\"\",\"\",MID(TEXT(入力用科目!$U201,\"????????\"),5,1))","v":""},{"$f":"IF(入力用科目!$U201=\"\",\"\",MID(TEXT(入力用科目!$U201,\"????????\"),6,1))","v":""},{"$f":"IF(入力用科目!$U201=\"\",\"\",MID(TEXT(入力用科目!$U201,\"????????\"),7,1))","v":""},{"$f":"IF(入力用科目!$U201=\"\",\"\",MID(TEXT(入力用科目!$U201,\"????????\"),8,1))","v":""},null,{"$f":"IF(入力用科目!$AD201=\"\",\"\",MID(TEXT(入力用科目!$AD201,\"????????\"),1,1))","v":""},{"$f":"IF(入力用科目!$AD201=\"\",\"\",MID(TEXT(入力用科目!$AD201,\"????????\"),2,1))","v":""},{"$f":"IF(入力用科目!$AD201=\"\",\"\",MID(TEXT(入力用科目!$AD201,\"????????\"),3,1))","v":""},{"$f":"IF(入力用科目!$AD201=\"\",\"\",MID(TEXT(入力用科目!$AD201,\"????????\"),4,1))","v":""},{"$f":"IF(入力用科目!$AD201=\"\",\"\",MID(TEXT(入力用科目!$AD201,\"????????\"),5,1))","v":""},{"$f":"IF(入力用科目!$AD201=\"\",\"\",MID(TEXT(入力用科目!$AD201,\"????????\"),6,1))","v":""},{"$f":"IF(入力用科目!$AD201=\"\",\"\",MID(TEXT(入力用科目!$AD201,\"????????\"),7,1))","v":""},{"$f":"IF(入力用科目!$AD201=\"\",\"\",MID(TEXT(入力用科目!$AD201,\"????????\"),8,1))","v":""},null,{"$f":"IF(入力用科目!$AM201=\"\",\"\",MID(TEXT(入力用科目!$AM201,\"????????\"),1,1))","v":" "},{"$f":"IF(入力用科目!$AM201=\"\",\"\",MID(TEXT(入力用科目!$AM201,\"????????\"),2,1))","v":" "},{"$f":"IF(入力用科目!$AM201=\"\",\"\",MID(TEXT(入力用科目!$AM201,\"????????\"),3,1))","v":" "},{"$f":"IF(入力用科目!$AM201=\"\",\"\",MID(TEXT(入力用科目!$AM201,\"????????\"),4,1))","v":" "},{"$f":"IF(入力用科目!$AM201=\"\",\"\",MID(TEXT(入力用科目!$AM201,\"????????\"),5,1))","v":" "},{"$f":"IF(入力用科目!$AM201=\"\",\"\",MID(TEXT(入力用科目!$AM201,\"????????\"),6,1))","v":" "},{"$f":"IF(入力用科目!$AM201=\"\",\"\",MID(TEXT(入力用科目!$AM201,\"????????\"),7,1))","v":" "},{"$f":"IF(入力用科目!$AM201=\"\",\"\",MID(TEXT(入力用科目!$AM201,\"????????\"),8,1))","v":" "}]
[{"$f":"IF(入力用科目!A202=\"\",\"\",MID(TEXT(入力用科目!$A202,\"??\"),COLUMN(),1))","v":""},{"$f":"IF(入力用科目!A202=\"\",\"\",MID(TEXT(入力用科目!$A202,\"??\"),COLUMN(),1))","v":""},null,{"$f":"IF(入力用科目!$D202=\"\",\"\",MID(TEXT(入力用科目!$D202,\"???\"),1,1))","v":""},{"$f":"IF(入力用科目!$D202=\"\",\"\",MID(TEXT(入力用科目!$D202,\"???\"),2,1))","v":""},{"$f":"IF(入力用科目!$D202=\"\",\"\",MID(TEXT(入力用科目!$D202,\"???\"),3,1))","v":""},null,{"$f":"IF(入力用科目!$Q202=1,\"運送収入\",IF(入力用科目!$H202=\"\",\"\",入力用科目!$H202))","v":""},null,null,null,null,null,null,null,null,{"$f":"IF(入力用科目!$Q202=\"\",\"\",MID(TEXT(入力用科目!$Q202,\"???\"),1,1))","v":""},{"$f":"IF(入力用科目!$Q202=\"\",\"\",MID(TEXT(入力用科目!$Q202,\"???\"),2,1))","v":""},{"$f":"IF(入力用科目!$Q202=\"\",\"\",MID(TEXT(入力用科目!$Q202,\"???\"),3,1))","v":""},null,{"$f":"IF(入力用科目!$U202=\"\",\"\",MID(TEXT(入力用科目!$U202,\"????????\"),1,1))","v":""},{"$f":"IF(入力用科目!$U202=\"\",\"\",MID(TEXT(入力用科目!$U202,\"????????\"),2,1))","v":""},{"$f":"IF(入力用科目!$U202=\"\",\"\",MID(TEXT(入力用科目!$U202,\"????????\"),3,1))","v":""},{"$f":"IF(入力用科目!$U202=\"\",\"\",MID(TEXT(入力用科目!$U202,\"????????\"),4,1))","v":""},{"$f":"IF(入力用科目!$U202=\"\",\"\",MID(TEXT(入力用科目!$U202,\"????????\"),5,1))","v":""},{"$f":"IF(入力用科目!$U202=\"\",\"\",MID(TEXT(入力用科目!$U202,\"????????\"),6,1))","v":""},{"$f":"IF(入力用科目!$U202=\"\",\"\",MID(TEXT(入力用科目!$U202,\"????????\"),7,1))","v":""},{"$f":"IF(入力用科目!$U202=\"\",\"\",MID(TEXT(入力用科目!$U202,\"????????\"),8,1))","v":""},null,{"$f":"IF(入力用科目!$AD202=\"\",\"\",MID(TEXT(入力用科目!$AD202,\"????????\"),1,1))","v":""},{"$f":"IF(入力用科目!$AD202=\"\",\"\",MID(TEXT(入力用科目!$AD202,\"????????\"),2,1))","v":""},{"$f":"IF(入力用科目!$AD202=\"\",\"\",MID(TEXT(入力用科目!$AD202,\"????????\"),3,1))","v":""},{"$f":"IF(入力用科目!$AD202=\"\",\"\",MID(TEXT(入力用科目!$AD202,\"????????\"),4,1))","v":""},{"$f":"IF(入力用科目!$AD202=\"\",\"\",MID(TEXT(入力用科目!$AD202,\"????????\"),5,1))","v":""},{"$f":"IF(入力用科目!$AD202=\"\",\"\",MID(TEXT(入力用科目!$AD202,\"????????\"),6,1))","v":""},{"$f":"IF(入力用科目!$AD202=\"\",\"\",MID(TEXT(入力用科目!$AD202,\"????????\"),7,1))","v":""},{"$f":"IF(入力用科目!$AD202=\"\",\"\",MID(TEXT(入力用科目!$AD202,\"????????\"),8,1))","v":""},null,{"$f":"IF(入力用科目!$AM202=\"\",\"\",MID(TEXT(入力用科目!$AM202,\"????????\"),1,1))","v":" "},{"$f":"IF(入力用科目!$AM202=\"\",\"\",MID(TEXT(入力用科目!$AM202,\"????????\"),2,1))","v":" "},{"$f":"IF(入力用科目!$AM202=\"\",\"\",MID(TEXT(入力用科目!$AM202,\"????????\"),3,1))","v":" "},{"$f":"IF(入力用科目!$AM202=\"\",\"\",MID(TEXT(入力用科目!$AM202,\"????????\"),4,1))","v":" "},{"$f":"IF(入力用科目!$AM202=\"\",\"\",MID(TEXT(入力用科目!$AM202,\"????????\"),5,1))","v":" "},{"$f":"IF(入力用科目!$AM202=\"\",\"\",MID(TEXT(入力用科目!$AM202,\"????????\"),6,1))","v":" "},{"$f":"IF(入力用科目!$AM202=\"\",\"\",MID(TEXT(入力用科目!$AM202,\"????????\"),7,1))","v":" "},{"$f":"IF(入力用科目!$AM202=\"\",\"\",MID(TEXT(入力用科目!$AM202,\"????????\"),8,1))","v":" "}]
[{"$f":"IF(入力用科目!A203=\"\",\"\",MID(TEXT(入力用科目!$A203,\"??\"),COLUMN(),1))","v":""},{"$f":"IF(入力用科目!A203=\"\",\"\",MID(TEXT(入力用科目!$A203,\"??\"),COLUMN(),1))","v":""},null,{"$f":"IF(入力用科目!$D203=\"\",\"\",MID(TEXT(入力用科目!$D203,\"???\"),1,1))","v":""},{"$f":"IF(入力用科目!$D203=\"\",\"\",MID(TEXT(入力用科目!$D203,\"???\"),2,1))","v":""},{"$f":"IF(入力用科目!$D203=\"\",\"\",MID(TEXT(入力用科目!$D203,\"???\"),3,1))","v":""},null,{"$f":"IF(入力用科目!$Q203=1,\"運送収入\",IF(入力用科目!$H203=\"\",\"\",入力用科目!$H203))","v":""},null,null,null,null,null,null,null,null,{"$f":"IF(入力用科目!$Q203=\"\",\"\",MID(TEXT(入力用科目!$Q203,\"???\"),1,1))","v":""},{"$f":"IF(入力用科目!$Q203=\"\",\"\",MID(TEXT(入力用科目!$Q203,\"???\"),2,1))","v":""},{"$f":"IF(入力用科目!$Q203=\"\",\"\",MID(TEXT(入力用科目!$Q203,\"???\"),3,1))","v":""},null,{"$f":"IF(入力用科目!$U203=\"\",\"\",MID(TEXT(入力用科目!$U203,\"????????\"),1,1))","v":""},{"$f":"IF(入力用科目!$U203=\"\",\"\",MID(TEXT(入力用科目!$U203,\"????????\"),2,1))","v":""},{"$f":"IF(入力用科目!$U203=\"\",\"\",MID(TEXT(入力用科目!$U203,\"????????\"),3,1))","v":""},{"$f":"IF(入力用科目!$U203=\"\",\"\",MID(TEXT(入力用科目!$U203,\"????????\"),4,1))","v":""},{"$f":"IF(入力用科目!$U203=\"\",\"\",MID(TEXT(入力用科目!$U203,\"????????\"),5,1))","v":""},{"$f":"IF(入力用科目!$U203=\"\",\"\",MID(TEXT(入力用科目!$U203,\"????????\"),6,1))","v":""},{"$f":"IF(入力用科目!$U203=\"\",\"\",MID(TEXT(入力用科目!$U203,\"????????\"),7,1))","v":""},{"$f":"IF(入力用科目!$U203=\"\",\"\",MID(TEXT(入力用科目!$U203,\"????????\"),8,1))","v":""},null,{"$f":"IF(入力用科目!$AD203=\"\",\"\",MID(TEXT(入力用科目!$AD203,\"????????\"),1,1))","v":""},{"$f":"IF(入力用科目!$AD203=\"\",\"\",MID(TEXT(入力用科目!$AD203,\"????????\"),2,1))","v":""},{"$f":"IF(入力用科目!$AD203=\"\",\"\",MID(TEXT(入力用科目!$AD203,\"????????\"),3,1))","v":""},{"$f":"IF(入力用科目!$AD203=\"\",\"\",MID(TEXT(入力用科目!$AD203,\"????????\"),4,1))","v":""},{"$f":"IF(入力用科目!$AD203=\"\",\"\",MID(TEXT(入力用科目!$AD203,\"????????\"),5,1))","v":""},{"$f":"IF(入力用科目!$AD203=\"\",\"\",MID(TEXT(入力用科目!$AD203,\"????????\"),6,1))","v":""},{"$f":"IF(入力用科目!$AD203=\"\",\"\",MID(TEXT(入力用科目!$AD203,\"????????\"),7,1))","v":""},{"$f":"IF(入力用科目!$AD203=\"\",\"\",MID(TEXT(入力用科目!$AD203,\"????????\"),8,1))","v":""},null,{"$f":"IF(入力用科目!$AM203=\"\",\"\",MID(TEXT(入力用科目!$AM203,\"????????\"),1,1))","v":" "},{"$f":"IF(入力用科目!$AM203=\"\",\"\",MID(TEXT(入力用科目!$AM203,\"????????\"),2,1))","v":" "},{"$f":"IF(入力用科目!$AM203=\"\",\"\",MID(TEXT(入力用科目!$AM203,\"????????\"),3,1))","v":" "},{"$f":"IF(入力用科目!$AM203=\"\",\"\",MID(TEXT(入力用科目!$AM203,\"????????\"),4,1))","v":" "},{"$f":"IF(入力用科目!$AM203=\"\",\"\",MID(TEXT(入力用科目!$AM203,\"????????\"),5,1))","v":" "},{"$f":"IF(入力用科目!$AM203=\"\",\"\",MID(TEXT(入力用科目!$AM203,\"????????\"),6,1))","v":" "},{"$f":"IF(入力用科目!$AM203=\"\",\"\",MID(TEXT(入力用科目!$AM203,\"????????\"),7,1))","v":" "},{"$f":"IF(入力用科目!$AM203=\"\",\"\",MID(TEXT(入力用科目!$AM203,\"????????\"),8,1))","v":" "}]
[{"$f":"IF(入力用科目!A204=\"\",\"\",MID(TEXT(入力用科目!$A204,\"??\"),COLUMN(),1))","v":""},{"$f":"IF(入力用科目!A204=\"\",\"\",MID(TEXT(入力用科目!$A204,\"??\"),COLUMN(),1))","v":""},null,{"$f":"IF(入力用科目!$D204=\"\",\"\",MID(TEXT(入力用科目!$D204,\"???\"),1,1))","v":""},{"$f":"IF(入力用科目!$D204=\"\",\"\",MID(TEXT(入力用科目!$D204,\"???\"),2,1))","v":""},{"$f":"IF(入力用科目!$D204=\"\",\"\",MID(TEXT(入力用科目!$D204,\"???\"),3,1))","v":""},null,{"$f":"IF(入力用科目!$Q204=1,\"運送収入\",IF(入力用科目!$H204=\"\",\"\",入力用科目!$H204))","v":""},null,null,null,null,null,null,null,null,{"$f":"IF(入力用科目!$Q204=\"\",\"\",MID(TEXT(入力用科目!$Q204,\"???\"),1,1))","v":""},{"$f":"IF(入力用科目!$Q204=\"\",\"\",MID(TEXT(入力用科目!$Q204,\"???\"),2,1))","v":""},{"$f":"IF(入力用科目!$Q204=\"\",\"\",MID(TEXT(入力用科目!$Q204,\"???\"),3,1))","v":""},null,{"$f":"IF(入力用科目!$U204=\"\",\"\",MID(TEXT(入力用科目!$U204,\"????????\"),1,1))","v":""},{"$f":"IF(入力用科目!$U204=\"\",\"\",MID(TEXT(入力用科目!$U204,\"????????\"),2,1))","v":""},{"$f":"IF(入力用科目!$U204=\"\",\"\",MID(TEXT(入力用科目!$U204,\"????????\"),3,1))","v":""},{"$f":"IF(入力用科目!$U204=\"\",\"\",MID(TEXT(入力用科目!$U204,\"????????\"),4,1))","v":""},{"$f":"IF(入力用科目!$U204=\"\",\"\",MID(TEXT(入力用科目!$U204,\"????????\"),5,1))","v":""},{"$f":"IF(入力用科目!$U204=\"\",\"\",MID(TEXT(入力用科目!$U204,\"????????\"),6,1))","v":""},{"$f":"IF(入力用科目!$U204=\"\",\"\",MID(TEXT(入力用科目!$U204,\"????????\"),7,1))","v":""},{"$f":"IF(入力用科目!$U204=\"\",\"\",MID(TEXT(入力用科目!$U204,\"????????\"),8,1))","v":""},null,{"$f":"IF(入力用科目!$AD204=\"\",\"\",MID(TEXT(入力用科目!$AD204,\"????????\"),1,1))","v":""},{"$f":"IF(入力用科目!$AD204=\"\",\"\",MID(TEXT(入力用科目!$AD204,\"????????\"),2,1))","v":""},{"$f":"IF(入力用科目!$AD204=\"\",\"\",MID(TEXT(入力用科目!$AD204,\"????????\"),3,1))","v":""},{"$f":"IF(入力用科目!$AD204=\"\",\"\",MID(TEXT(入力用科目!$AD204,\"????????\"),4,1))","v":""},{"$f":"IF(入力用科目!$AD204=\"\",\"\",MID(TEXT(入力用科目!$AD204,\"????????\"),5,1))","v":""},{"$f":"IF(入力用科目!$AD204=\"\",\"\",MID(TEXT(入力用科目!$AD204,\"????????\"),6,1))","v":""},{"$f":"IF(入力用科目!$AD204=\"\",\"\",MID(TEXT(入力用科目!$AD204,\"????????\"),7,1))","v":""},{"$f":"IF(入力用科目!$AD204=\"\",\"\",MID(TEXT(入力用科目!$AD204,\"????????\"),8,1))","v":""},null,{"$f":"IF(入力用科目!$AM204=\"\",\"\",MID(TEXT(入力用科目!$AM204,\"????????\"),1,1))","v":" "},{"$f":"IF(入力用科目!$AM204=\"\",\"\",MID(TEXT(入力用科目!$AM204,\"????????\"),2,1))","v":" "},{"$f":"IF(入力用科目!$AM204=\"\",\"\",MID(TEXT(入力用科目!$AM204,\"????????\"),3,1))","v":" "},{"$f":"IF(入力用科目!$AM204=\"\",\"\",MID(TEXT(入力用科目!$AM204,\"????????\"),4,1))","v":" "},{"$f":"IF(入力用科目!$AM204=\"\",\"\",MID(TEXT(入力用科目!$AM204,\"????????\"),5,1))","v":" "},{"$f":"IF(入力用科目!$AM204=\"\",\"\",MID(TEXT(入力用科目!$AM204,\"????????\"),6,1))","v":" "},{"$f":"IF(入力用科目!$AM204=\"\",\"\",MID(TEXT(入力用科目!$AM204,\"????????\"),7,1))","v":" "},{"$f":"IF(入力用科目!$AM204=\"\",\"\",MID(TEXT(入力用科目!$AM204,\"????????\"),8,1))","v":" "}]
[{"$f":"IF(入力用科目!A205=\"\",\"\",MID(TEXT(入力用科目!$A205,\"??\"),COLUMN(),1))","v":""},{"$f":"IF(入力用科目!A205=\"\",\"\",MID(TEXT(入力用科目!$A205,\"??\"),COLUMN(),1))","v":""},null,{"$f":"IF(入力用科目!$D205=\"\",\"\",MID(TEXT(入力用科目!$D205,\"???\"),1,1))","v":""},{"$f":"IF(入力用科目!$D205=\"\",\"\",MID(TEXT(入力用科目!$D205,\"???\"),2,1))","v":""},{"$f":"IF(入力用科目!$D205=\"\",\"\",MID(TEXT(入力用科目!$D205,\"???\"),3,1))","v":""},null,{"$f":"IF(入力用科目!$Q205=1,\"運送収入\",IF(入力用科目!$H205=\"\",\"\",入力用科目!$H205))","v":""},null,null,null,null,null,null,null,null,{"$f":"IF(入力用科目!$Q205=\"\",\"\",MID(TEXT(入力用科目!$Q205,\"???\"),1,1))","v":""},{"$f":"IF(入力用科目!$Q205=\"\",\"\",MID(TEXT(入力用科目!$Q205,\"???\"),2,1))","v":""},{"$f":"IF(入力用科目!$Q205=\"\",\"\",MID(TEXT(入力用科目!$Q205,\"???\"),3,1))","v":""},null,{"$f":"IF(入力用科目!$U205=\"\",\"\",MID(TEXT(入力用科目!$U205,\"????????\"),1,1))","v":""},{"$f":"IF(入力用科目!$U205=\"\",\"\",MID(TEXT(入力用科目!$U205,\"????????\"),2,1))","v":""},{"$f":"IF(入力用科目!$U205=\"\",\"\",MID(TEXT(入力用科目!$U205,\"????????\"),3,1))","v":""},{"$f":"IF(入力用科目!$U205=\"\",\"\",MID(TEXT(入力用科目!$U205,\"????????\"),4,1))","v":""},{"$f":"IF(入力用科目!$U205=\"\",\"\",MID(TEXT(入力用科目!$U205,\"????????\"),5,1))","v":""},{"$f":"IF(入力用科目!$U205=\"\",\"\",MID(TEXT(入力用科目!$U205,\"????????\"),6,1))","v":""},{"$f":"IF(入力用科目!$U205=\"\",\"\",MID(TEXT(入力用科目!$U205,\"????????\"),7,1))","v":""},{"$f":"IF(入力用科目!$U205=\"\",\"\",MID(TEXT(入力用科目!$U205,\"????????\"),8,1))","v":""},null,{"$f":"IF(入力用科目!$AD205=\"\",\"\",MID(TEXT(入力用科目!$AD205,\"????????\"),1,1))","v":""},{"$f":"IF(入力用科目!$AD205=\"\",\"\",MID(TEXT(入力用科目!$AD205,\"????????\"),2,1))","v":""},{"$f":"IF(入力用科目!$AD205=\"\",\"\",MID(TEXT(入力用科目!$AD205,\"????????\"),3,1))","v":""},{"$f":"IF(入力用科目!$AD205=\"\",\"\",MID(TEXT(入力用科目!$AD205,\"????????\"),4,1))","v":""},{"$f":"IF(入力用科目!$AD205=\"\",\"\",MID(TEXT(入力用科目!$AD205,\"????????\"),5,1))","v":""},{"$f":"IF(入力用科目!$AD205=\"\",\"\",MID(TEXT(入力用科目!$AD205,\"????????\"),6,1))","v":""},{"$f":"IF(入力用科目!$AD205=\"\",\"\",MID(TEXT(入力用科目!$AD205,\"????????\"),7,1))","v":""},{"$f":"IF(入力用科目!$AD205=\"\",\"\",MID(TEXT(入力用科目!$AD205,\"????????\"),8,1))","v":""},null,{"$f":"IF(入力用科目!$AM205=\"\",\"\",MID(TEXT(入力用科目!$AM205,\"????????\"),1,1))","v":" "},{"$f":"IF(入力用科目!$AM205=\"\",\"\",MID(TEXT(入力用科目!$AM205,\"????????\"),2,1))","v":" "},{"$f":"IF(入力用科目!$AM205=\"\",\"\",MID(TEXT(入力用科目!$AM205,\"????????\"),3,1))","v":" "},{"$f":"IF(入力用科目!$AM205=\"\",\"\",MID(TEXT(入力用科目!$AM205,\"????????\"),4,1))","v":" "},{"$f":"IF(入力用科目!$AM205=\"\",\"\",MID(TEXT(入力用科目!$AM205,\"????????\"),5,1))","v":" "},{"$f":"IF(入力用科目!$AM205=\"\",\"\",MID(TEXT(入力用科目!$AM205,\"????????\"),6,1))","v":" "},{"$f":"IF(入力用科目!$AM205=\"\",\"\",MID(TEXT(入力用科目!$AM205,\"????????\"),7,1))","v":" "},{"$f":"IF(入力用科目!$AM205=\"\",\"\",MID(TEXT(入力用科目!$AM205,\"????????\"),8,1))","v":" "}]
[{"$f":"IF(入力用科目!A206=\"\",\"\",MID(TEXT(入力用科目!$A206,\"??\"),COLUMN(),1))","v":""},{"$f":"IF(入力用科目!A206=\"\",\"\",MID(TEXT(入力用科目!$A206,\"??\"),COLUMN(),1))","v":""},null,{"$f":"IF(入力用科目!$D206=\"\",\"\",MID(TEXT(入力用科目!$D206,\"???\"),1,1))","v":""},{"$f":"IF(入力用科目!$D206=\"\",\"\",MID(TEXT(入力用科目!$D206,\"???\"),2,1))","v":""},{"$f":"IF(入力用科目!$D206=\"\",\"\",MID(TEXT(入力用科目!$D206,\"???\"),3,1))","v":""},null,{"$f":"IF(入力用科目!$Q206=1,\"運送収入\",IF(入力用科目!$H206=\"\",\"\",入力用科目!$H206))","v":""},null,null,null,null,null,null,null,null,{"$f":"IF(入力用科目!$Q206=\"\",\"\",MID(TEXT(入力用科目!$Q206,\"???\"),1,1))","v":""},{"$f":"IF(入力用科目!$Q206=\"\",\"\",MID(TEXT(入力用科目!$Q206,\"???\"),2,1))","v":""},{"$f":"IF(入力用科目!$Q206=\"\",\"\",MID(TEXT(入力用科目!$Q206,\"???\"),3,1))","v":""},null,{"$f":"IF(入力用科目!$U206=\"\",\"\",MID(TEXT(入力用科目!$U206,\"????????\"),1,1))","v":""},{"$f":"IF(入力用科目!$U206=\"\",\"\",MID(TEXT(入力用科目!$U206,\"????????\"),2,1))","v":""},{"$f":"IF(入力用科目!$U206=\"\",\"\",MID(TEXT(入力用科目!$U206,\"????????\"),3,1))","v":""},{"$f":"IF(入力用科目!$U206=\"\",\"\",MID(TEXT(入力用科目!$U206,\"????????\"),4,1))","v":""},{"$f":"IF(入力用科目!$U206=\"\",\"\",MID(TEXT(入力用科目!$U206,\"????????\"),5,1))","v":""},{"$f":"IF(入力用科目!$U206=\"\",\"\",MID(TEXT(入力用科目!$U206,\"????????\"),6,1))","v":""},{"$f":"IF(入力用科目!$U206=\"\",\"\",MID(TEXT(入力用科目!$U206,\"????????\"),7,1))","v":""},{"$f":"IF(入力用科目!$U206=\"\",\"\",MID(TEXT(入力用科目!$U206,\"????????\"),8,1))","v":""},null,{"$f":"IF(入力用科目!$AD206=\"\",\"\",MID(TEXT(入力用科目!$AD206,\"????????\"),1,1))","v":""},{"$f":"IF(入力用科目!$AD206=\"\",\"\",MID(TEXT(入力用科目!$AD206,\"????????\"),2,1))","v":""},{"$f":"IF(入力用科目!$AD206=\"\",\"\",MID(TEXT(入力用科目!$AD206,\"????????\"),3,1))","v":""},{"$f":"IF(入力用科目!$AD206=\"\",\"\",MID(TEXT(入力用科目!$AD206,\"????????\"),4,1))","v":""},{"$f":"IF(入力用科目!$AD206=\"\",\"\",MID(TEXT(入力用科目!$AD206,\"????????\"),5,1))","v":""},{"$f":"IF(入力用科目!$AD206=\"\",\"\",MID(TEXT(入力用科目!$AD206,\"????????\"),6,1))","v":""},{"$f":"IF(入力用科目!$AD206=\"\",\"\",MID(TEXT(入力用科目!$AD206,\"????????\"),7,1))","v":""},{"$f":"IF(入力用科目!$AD206=\"\",\"\",MID(TEXT(入力用科目!$AD206,\"????????\"),8,1))","v":""},null,{"$f":"IF(入力用科目!$AM206=\"\",\"\",MID(TEXT(入力用科目!$AM206,\"????????\"),1,1))","v":" "},{"$f":"IF(入力用科目!$AM206=\"\",\"\",MID(TEXT(入力用科目!$AM206,\"????????\"),2,1))","v":" "},{"$f":"IF(入力用科目!$AM206=\"\",\"\",MID(TEXT(入力用科目!$AM206,\"????????\"),3,1))","v":" "},{"$f":"IF(入力用科目!$AM206=\"\",\"\",MID(TEXT(入力用科目!$AM206,\"????????\"),4,1))","v":" "},{"$f":"IF(入力用科目!$AM206=\"\",\"\",MID(TEXT(入力用科目!$AM206,\"????????\"),5,1))","v":" "},{"$f":"IF(入力用科目!$AM206=\"\",\"\",MID(TEXT(入力用科目!$AM206,\"????????\"),6,1))","v":" "},{"$f":"IF(入力用科目!$AM206=\"\",\"\",MID(TEXT(入力用科目!$AM206,\"????????\"),7,1))","v":" "},{"$f":"IF(入力用科目!$AM206=\"\",\"\",MID(TEXT(入力用科目!$AM206,\"????????\"),8,1))","v":" "}]
[{"$f":"IF(入力用科目!A207=\"\",\"\",MID(TEXT(入力用科目!$A207,\"??\"),COLUMN(),1))","v":""},{"$f":"IF(入力用科目!A207=\"\",\"\",MID(TEXT(入力用科目!$A207,\"??\"),COLUMN(),1))","v":""},null,{"$f":"IF(入力用科目!$D207=\"\",\"\",MID(TEXT(入力用科目!$D207,\"???\"),1,1))","v":""},{"$f":"IF(入力用科目!$D207=\"\",\"\",MID(TEXT(入力用科目!$D207,\"???\"),2,1))","v":""},{"$f":"IF(入力用科目!$D207=\"\",\"\",MID(TEXT(入力用科目!$D207,\"???\"),3,1))","v":""},null,{"$f":"IF(入力用科目!$Q207=1,\"運送収入\",IF(入力用科目!$H207=\"\",\"\",入力用科目!$H207))","v":""},null,null,null,null,null,null,null,null,{"$f":"IF(入力用科目!$Q207=\"\",\"\",MID(TEXT(入力用科目!$Q207,\"???\"),1,1))","v":""},{"$f":"IF(入力用科目!$Q207=\"\",\"\",MID(TEXT(入力用科目!$Q207,\"???\"),2,1))","v":""},{"$f":"IF(入力用科目!$Q207=\"\",\"\",MID(TEXT(入力用科目!$Q207,\"???\"),3,1))","v":""},null,{"$f":"IF(入力用科目!$U207=\"\",\"\",MID(TEXT(入力用科目!$U207,\"????????\"),1,1))","v":""},{"$f":"IF(入力用科目!$U207=\"\",\"\",MID(TEXT(入力用科目!$U207,\"????????\"),2,1))","v":""},{"$f":"IF(入力用科目!$U207=\"\",\"\",MID(TEXT(入力用科目!$U207,\"????????\"),3,1))","v":""},{"$f":"IF(入力用科目!$U207=\"\",\"\",MID(TEXT(入力用科目!$U207,\"????????\"),4,1))","v":""},{"$f":"IF(入力用科目!$U207=\"\",\"\",MID(TEXT(入力用科目!$U207,\"????????\"),5,1))","v":""},{"$f":"IF(入力用科目!$U207=\"\",\"\",MID(TEXT(入力用科目!$U207,\"????????\"),6,1))","v":""},{"$f":"IF(入力用科目!$U207=\"\",\"\",MID(TEXT(入力用科目!$U207,\"????????\"),7,1))","v":""},{"$f":"IF(入力用科目!$U207=\"\",\"\",MID(TEXT(入力用科目!$U207,\"????????\"),8,1))","v":""},null,{"$f":"IF(入力用科目!$AD207=\"\",\"\",MID(TEXT(入力用科目!$AD207,\"????????\"),1,1))","v":""},{"$f":"IF(入力用科目!$AD207=\"\",\"\",MID(TEXT(入力用科目!$AD207,\"????????\"),2,1))","v":""},{"$f":"IF(入力用科目!$AD207=\"\",\"\",MID(TEXT(入力用科目!$AD207,\"????????\"),3,1))","v":""},{"$f":"IF(入力用科目!$AD207=\"\",\"\",MID(TEXT(入力用科目!$AD207,\"????????\"),4,1))","v":""},{"$f":"IF(入力用科目!$AD207=\"\",\"\",MID(TEXT(入力用科目!$AD207,\"????????\"),5,1))","v":""},{"$f":"IF(入力用科目!$AD207=\"\",\"\",MID(TEXT(入力用科目!$AD207,\"????????\"),6,1))","v":""},{"$f":"IF(入力用科目!$AD207=\"\",\"\",MID(TEXT(入力用科目!$AD207,\"????????\"),7,1))","v":""},{"$f":"IF(入力用科目!$AD207=\"\",\"\",MID(TEXT(入力用科目!$AD207,\"????????\"),8,1))","v":""},null,{"$f":"IF(入力用科目!$AM207=\"\",\"\",MID(TEXT(入力用科目!$AM207,\"????????\"),1,1))","v":" "},{"$f":"IF(入力用科目!$AM207=\"\",\"\",MID(TEXT(入力用科目!$AM207,\"????????\"),2,1))","v":" "},{"$f":"IF(入力用科目!$AM207=\"\",\"\",MID(TEXT(入力用科目!$AM207,\"????????\"),3,1))","v":" "},{"$f":"IF(入力用科目!$AM207=\"\",\"\",MID(TEXT(入力用科目!$AM207,\"????????\"),4,1))","v":" "},{"$f":"IF(入力用科目!$AM207=\"\",\"\",MID(TEXT(入力用科目!$AM207,\"????????\"),5,1))","v":" "},{"$f":"IF(入力用科目!$AM207=\"\",\"\",MID(TEXT(入力用科目!$AM207,\"????????\"),6,1))","v":" "},{"$f":"IF(入力用科目!$AM207=\"\",\"\",MID(TEXT(入力用科目!$AM207,\"????????\"),7,1))","v":" "},{"$f":"IF(入力用科目!$AM207=\"\",\"\",MID(TEXT(入力用科目!$AM207,\"????????\"),8,1))","v":" "}]
[{"$f":"IF(入力用科目!A208=\"\",\"\",MID(TEXT(入力用科目!$A208,\"??\"),COLUMN(),1))","v":""},{"$f":"IF(入力用科目!A208=\"\",\"\",MID(TEXT(入力用科目!$A208,\"??\"),COLUMN(),1))","v":""},null,{"$f":"IF(入力用科目!$D208=\"\",\"\",MID(TEXT(入力用科目!$D208,\"???\"),1,1))","v":""},{"$f":"IF(入力用科目!$D208=\"\",\"\",MID(TEXT(入力用科目!$D208,\"???\"),2,1))","v":""},{"$f":"IF(入力用科目!$D208=\"\",\"\",MID(TEXT(入力用科目!$D208,\"???\"),3,1))","v":""},null,{"$f":"IF(入力用科目!$Q208=1,\"運送収入\",IF(入力用科目!$H208=\"\",\"\",入力用科目!$H208))","v":""},null,null,null,null,null,null,null,null,{"$f":"IF(入力用科目!$Q208=\"\",\"\",MID(TEXT(入力用科目!$Q208,\"???\"),1,1))","v":""},{"$f":"IF(入力用科目!$Q208=\"\",\"\",MID(TEXT(入力用科目!$Q208,\"???\"),2,1))","v":""},{"$f":"IF(入力用科目!$Q208=\"\",\"\",MID(TEXT(入力用科目!$Q208,\"???\"),3,1))","v":""},null,{"$f":"IF(入力用科目!$U208=\"\",\"\",MID(TEXT(入力用科目!$U208,\"????????\"),1,1))","v":""},{"$f":"IF(入力用科目!$U208=\"\",\"\",MID(TEXT(入力用科目!$U208,\"????????\"),2,1))","v":""},{"$f":"IF(入力用科目!$U208=\"\",\"\",MID(TEXT(入力用科目!$U208,\"????????\"),3,1))","v":""},{"$f":"IF(入力用科目!$U208=\"\",\"\",MID(TEXT(入力用科目!$U208,\"????????\"),4,1))","v":""},{"$f":"IF(入力用科目!$U208=\"\",\"\",MID(TEXT(入力用科目!$U208,\"????????\"),5,1))","v":""},{"$f":"IF(入力用科目!$U208=\"\",\"\",MID(TEXT(入力用科目!$U208,\"????????\"),6,1))","v":""},{"$f":"IF(入力用科目!$U208=\"\",\"\",MID(TEXT(入力用科目!$U208,\"????????\"),7,1))","v":""},{"$f":"IF(入力用科目!$U208=\"\",\"\",MID(TEXT(入力用科目!$U208,\"????????\"),8,1))","v":""},null,{"$f":"IF(入力用科目!$AD208=\"\",\"\",MID(TEXT(入力用科目!$AD208,\"????????\"),1,1))","v":""},{"$f":"IF(入力用科目!$AD208=\"\",\"\",MID(TEXT(入力用科目!$AD208,\"????????\"),2,1))","v":""},{"$f":"IF(入力用科目!$AD208=\"\",\"\",MID(TEXT(入力用科目!$AD208,\"????????\"),3,1))","v":""},{"$f":"IF(入力用科目!$AD208=\"\",\"\",MID(TEXT(入力用科目!$AD208,\"????????\"),4,1))","v":""},{"$f":"IF(入力用科目!$AD208=\"\",\"\",MID(TEXT(入力用科目!$AD208,\"????????\"),5,1))","v":""},{"$f":"IF(入力用科目!$AD208=\"\",\"\",MID(TEXT(入力用科目!$AD208,\"????????\"),6,1))","v":""},{"$f":"IF(入力用科目!$AD208=\"\",\"\",MID(TEXT(入力用科目!$AD208,\"????????\"),7,1))","v":""},{"$f":"IF(入力用科目!$AD208=\"\",\"\",MID(TEXT(入力用科目!$AD208,\"????????\"),8,1))","v":""},null,{"$f":"IF(入力用科目!$AM208=\"\",\"\",MID(TEXT(入力用科目!$AM208,\"????????\"),1,1))","v":" "},{"$f":"IF(入力用科目!$AM208=\"\",\"\",MID(TEXT(入力用科目!$AM208,\"????????\"),2,1))","v":" "},{"$f":"IF(入力用科目!$AM208=\"\",\"\",MID(TEXT(入力用科目!$AM208,\"????????\"),3,1))","v":" "},{"$f":"IF(入力用科目!$AM208=\"\",\"\",MID(TEXT(入力用科目!$AM208,\"????????\"),4,1))","v":" "},{"$f":"IF(入力用科目!$AM208=\"\",\"\",MID(TEXT(入力用科目!$AM208,\"????????\"),5,1))","v":" "},{"$f":"IF(入力用科目!$AM208=\"\",\"\",MID(TEXT(入力用科目!$AM208,\"????????\"),6,1))","v":" "},{"$f":"IF(入力用科目!$AM208=\"\",\"\",MID(TEXT(入力用科目!$AM208,\"????????\"),7,1))","v":" "},{"$f":"IF(入力用科目!$AM208=\"\",\"\",MID(TEXT(入力用科目!$AM208,\"????????\"),8,1))","v":" "}]
[{"$f":"IF(入力用科目!A209=\"\",\"\",MID(TEXT(入力用科目!$A209,\"??\"),COLUMN(),1))","v":""},{"$f":"IF(入力用科目!A209=\"\",\"\",MID(TEXT(入力用科目!$A209,\"??\"),COLUMN(),1))","v":""},null,{"$f":"IF(入力用科目!$D209=\"\",\"\",MID(TEXT(入力用科目!$D209,\"???\"),1,1))","v":""},{"$f":"IF(入力用科目!$D209=\"\",\"\",MID(TEXT(入力用科目!$D209,\"???\"),2,1))","v":""},{"$f":"IF(入力用科目!$D209=\"\",\"\",MID(TEXT(入力用科目!$D209,\"???\"),3,1))","v":""},null,{"$f":"IF(入力用科目!$Q209=1,\"運送収入\",IF(入力用科目!$H209=\"\",\"\",入力用科目!$H209))","v":""},null,null,null,null,null,null,null,null,{"$f":"IF(入力用科目!$Q209=\"\",\"\",MID(TEXT(入力用科目!$Q209,\"???\"),1,1))","v":""},{"$f":"IF(入力用科目!$Q209=\"\",\"\",MID(TEXT(入力用科目!$Q209,\"???\"),2,1))","v":""},{"$f":"IF(入力用科目!$Q209=\"\",\"\",MID(TEXT(入力用科目!$Q209,\"???\"),3,1))","v":""},null,{"$f":"IF(入力用科目!$U209=\"\",\"\",MID(TEXT(入力用科目!$U209,\"????????\"),1,1))","v":""},{"$f":"IF(入力用科目!$U209=\"\",\"\",MID(TEXT(入力用科目!$U209,\"????????\"),2,1))","v":""},{"$f":"IF(入力用科目!$U209=\"\",\"\",MID(TEXT(入力用科目!$U209,\"????????\"),3,1))","v":""},{"$f":"IF(入力用科目!$U209=\"\",\"\",MID(TEXT(入力用科目!$U209,\"????????\"),4,1))","v":""},{"$f":"IF(入力用科目!$U209=\"\",\"\",MID(TEXT(入力用科目!$U209,\"????????\"),5,1))","v":""},{"$f":"IF(入力用科目!$U209=\"\",\"\",MID(TEXT(入力用科目!$U209,\"????????\"),6,1))","v":""},{"$f":"IF(入力用科目!$U209=\"\",\"\",MID(TEXT(入力用科目!$U209,\"????????\"),7,1))","v":""},{"$f":"IF(入力用科目!$U209=\"\",\"\",MID(TEXT(入力用科目!$U209,\"????????\"),8,1))","v":""},null,{"$f":"IF(入力用科目!$AD209=\"\",\"\",MID(TEXT(入力用科目!$AD209,\"????????\"),1,1))","v":""},{"$f":"IF(入力用科目!$AD209=\"\",\"\",MID(TEXT(入力用科目!$AD209,\"????????\"),2,1))","v":""},{"$f":"IF(入力用科目!$AD209=\"\",\"\",MID(TEXT(入力用科目!$AD209,\"????????\"),3,1))","v":""},{"$f":"IF(入力用科目!$AD209=\"\",\"\",MID(TEXT(入力用科目!$AD209,\"????????\"),4,1))","v":""},{"$f":"IF(入力用科目!$AD209=\"\",\"\",MID(TEXT(入力用科目!$AD209,\"????????\"),5,1))","v":""},{"$f":"IF(入力用科目!$AD209=\"\",\"\",MID(TEXT(入力用科目!$AD209,\"????????\"),6,1))","v":""},{"$f":"IF(入力用科目!$AD209=\"\",\"\",MID(TEXT(入力用科目!$AD209,\"????????\"),7,1))","v":""},{"$f":"IF(入力用科目!$AD209=\"\",\"\",MID(TEXT(入力用科目!$AD209,\"????????\"),8,1))","v":""},null,{"$f":"IF(入力用科目!$AM209=\"\",\"\",MID(TEXT(入力用科目!$AM209,\"????????\"),1,1))","v":" "},{"$f":"IF(入力用科目!$AM209=\"\",\"\",MID(TEXT(入力用科目!$AM209,\"????????\"),2,1))","v":" "},{"$f":"IF(入力用科目!$AM209=\"\",\"\",MID(TEXT(入力用科目!$AM209,\"????????\"),3,1))","v":" "},{"$f":"IF(入力用科目!$AM209=\"\",\"\",MID(TEXT(入力用科目!$AM209,\"????????\"),4,1))","v":" "},{"$f":"IF(入力用科目!$AM209=\"\",\"\",MID(TEXT(入力用科目!$AM209,\"????????\"),5,1))","v":" "},{"$f":"IF(入力用科目!$AM209=\"\",\"\",MID(TEXT(入力用科目!$AM209,\"????????\"),6,1))","v":" "},{"$f":"IF(入力用科目!$AM209=\"\",\"\",MID(TEXT(入力用科目!$AM209,\"????????\"),7,1))","v":" "},{"$f":"IF(入力用科目!$AM209=\"\",\"\",MID(TEXT(入力用科目!$AM209,\"????????\"),8,1))","v":" "}]
[{"$f":"IF(入力用科目!A210=\"\",\"\",MID(TEXT(入力用科目!$A210,\"??\"),COLUMN(),1))","v":""},{"$f":"IF(入力用科目!A210=\"\",\"\",MID(TEXT(入力用科目!$A210,\"??\"),COLUMN(),1))","v":""},null,{"$f":"IF(入力用科目!$D210=\"\",\"\",MID(TEXT(入力用科目!$D210,\"???\"),1,1))","v":""},{"$f":"IF(入力用科目!$D210=\"\",\"\",MID(TEXT(入力用科目!$D210,\"???\"),2,1))","v":""},{"$f":"IF(入力用科目!$D210=\"\",\"\",MID(TEXT(入力用科目!$D210,\"???\"),3,1))","v":""},null,{"$f":"IF(入力用科目!H210=\"\",\"\",入力用科目!H210)","v":""},null,null,null,null,null,null,null,null,{"$f":"IF(入力用科目!$Q210=\"\",\"\",MID(TEXT(入力用科目!$Q210,\"???\"),1,1))","v":""},{"$f":"IF(入力用科目!$Q210=\"\",\"\",MID(TEXT(入力用科目!$Q210,\"???\"),2,1))","v":""},{"$f":"IF(入力用科目!$Q210=\"\",\"\",MID(TEXT(入力用科目!$Q210,\"???\"),3,1))","v":""},null,{"$f":"IF(入力用科目!$U210=\"\",\"\",MID(TEXT(入力用科目!$U210,\"????????\"),1,1))","v":""},{"$f":"IF(入力用科目!$U210=\"\",\"\",MID(TEXT(入力用科目!$U210,\"????????\"),2,1))","v":""},{"$f":"IF(入力用科目!$U210=\"\",\"\",MID(TEXT(入力用科目!$U210,\"????????\"),3,1))","v":""},{"$f":"IF(入力用科目!$U210=\"\",\"\",MID(TEXT(入力用科目!$U210,\"????????\"),4,1))","v":""},{"$f":"IF(入力用科目!$U210=\"\",\"\",MID(TEXT(入力用科目!$U210,\"????????\"),5,1))","v":""},{"$f":"IF(入力用科目!$U210=\"\",\"\",MID(TEXT(入力用科目!$U210,\"????????\"),6,1))","v":""},{"$f":"IF(入力用科目!$U210=\"\",\"\",MID(TEXT(入力用科目!$U210,\"????????\"),7,1))","v":""},{"$f":"IF(入力用科目!$U210=\"\",\"\",MID(TEXT(入力用科目!$U210,\"????????\"),8,1))","v":""},null,{"$f":"IF(入力用科目!$AD210=\"\",\"\",MID(TEXT(入力用科目!$AD210,\"????????\"),1,1))","v":""},{"$f":"IF(入力用科目!$AD210=\"\",\"\",MID(TEXT(入力用科目!$AD210,\"????????\"),2,1))","v":""},{"$f":"IF(入力用科目!$AD210=\"\",\"\",MID(TEXT(入力用科目!$AD210,\"????????\"),3,1))","v":""},{"$f":"IF(入力用科目!$AD210=\"\",\"\",MID(TEXT(入力用科目!$AD210,\"????????\"),4,1))","v":""},{"$f":"IF(入力用科目!$AD210=\"\",\"\",MID(TEXT(入力用科目!$AD210,\"????????\"),5,1))","v":""},{"$f":"IF(入力用科目!$AD210=\"\",\"\",MID(TEXT(入力用科目!$AD210,\"????????\"),6,1))","v":""},{"$f":"IF(入力用科目!$AD210=\"\",\"\",MID(TEXT(入力用科目!$AD210,\"????????\"),7,1))","v":""},{"$f":"IF(入力用科目!$AD210=\"\",\"\",MID(TEXT(入力用科目!$AD210,\"????????\"),8,1))","v":""},null,{"$f":"IF(入力用科目!$AM210=\"\",\"\",MID(TEXT(入力用科目!$AM210,\"????????\"),1,1))","v":" "},{"$f":"IF(入力用科目!$AM210=\"\",\"\",MID(TEXT(入力用科目!$AM210,\"????????\"),2,1))","v":" "},{"$f":"IF(入力用科目!$AM210=\"\",\"\",MID(TEXT(入力用科目!$AM210,\"????????\"),3,1))","v":" "},{"$f":"IF(入力用科目!$AM210=\"\",\"\",MID(TEXT(入力用科目!$AM210,\"????????\"),4,1))","v":" "},{"$f":"IF(入力用科目!$AM210=\"\",\"\",MID(TEXT(入力用科目!$AM210,\"????????\"),5,1))","v":" "},{"$f":"IF(入力用科目!$AM210=\"\",\"\",MID(TEXT(入力用科目!$AM210,\"????????\"),6,1))","v":" "},{"$f":"IF(入力用科目!$AM210=\"\",\"\",MID(TEXT(入力用科目!$AM210,\"????????\"),7,1))","v":" "},{"$f":"IF(入力用科目!$AM210=\"\",\"\",MID(TEXT(入力用科目!$AM210,\"????????\"),8,1))","v":" "}]
[{"$f":"IF(入力用科目!A211=\"\",\"\",MID(TEXT(入力用科目!$A211,\"??\"),COLUMN(),1))","v":""},{"$f":"IF(入力用科目!A211=\"\",\"\",MID(TEXT(入力用科目!$A211,\"??\"),COLUMN(),1))","v":""},null,{"$f":"IF(入力用科目!$D211=\"\",\"\",MID(TEXT(入力用科目!$D211,\"???\"),1,1))","v":""},{"$f":"IF(入力用科目!$D211=\"\",\"\",MID(TEXT(入力用科目!$D211,\"???\"),2,1))","v":""},{"$f":"IF(入力用科目!$D211=\"\",\"\",MID(TEXT(入力用科目!$D211,\"???\"),3,1))","v":""},null,{"$f":"IF(入力用科目!H211=\"\",\"\",入力用科目!H211)","v":""},null,null,null,null,null,null,null,null,{"$f":"IF(入力用科目!$Q211=\"\",\"\",MID(TEXT(入力用科目!$Q211,\"???\"),1,1))","v":""},{"$f":"IF(入力用科目!$Q211=\"\",\"\",MID(TEXT(入力用科目!$Q211,\"???\"),2,1))","v":""},{"$f":"IF(入力用科目!$Q211=\"\",\"\",MID(TEXT(入力用科目!$Q211,\"???\"),3,1))","v":""},null,{"$f":"IF(入力用科目!$U211=\"\",\"\",MID(TEXT(入力用科目!$U211,\"????????\"),1,1))","v":""},{"$f":"IF(入力用科目!$U211=\"\",\"\",MID(TEXT(入力用科目!$U211,\"????????\"),2,1))","v":""},{"$f":"IF(入力用科目!$U211=\"\",\"\",MID(TEXT(入力用科目!$U211,\"????????\"),3,1))","v":""},{"$f":"IF(入力用科目!$U211=\"\",\"\",MID(TEXT(入力用科目!$U211,\"????????\"),4,1))","v":""},{"$f":"IF(入力用科目!$U211=\"\",\"\",MID(TEXT(入力用科目!$U211,\"????????\"),5,1))","v":""},{"$f":"IF(入力用科目!$U211=\"\",\"\",MID(TEXT(入力用科目!$U211,\"????????\"),6,1))","v":""},{"$f":"IF(入力用科目!$U211=\"\",\"\",MID(TEXT(入力用科目!$U211,\"????????\"),7,1))","v":""},{"$f":"IF(入力用科目!$U211=\"\",\"\",MID(TEXT(入力用科目!$U211,\"????????\"),8,1))","v":""},null,{"$f":"IF(入力用科目!$AD211=\"\",\"\",MID(TEXT(入力用科目!$AD211,\"????????\"),1,1))","v":""},{"$f":"IF(入力用科目!$AD211=\"\",\"\",MID(TEXT(入力用科目!$AD211,\"????????\"),2,1))","v":""},{"$f":"IF(入力用科目!$AD211=\"\",\"\",MID(TEXT(入力用科目!$AD211,\"????????\"),3,1))","v":""},{"$f":"IF(入力用科目!$AD211=\"\",\"\",MID(TEXT(入力用科目!$AD211,\"????????\"),4,1))","v":""},{"$f":"IF(入力用科目!$AD211=\"\",\"\",MID(TEXT(入力用科目!$AD211,\"????????\"),5,1))","v":""},{"$f":"IF(入力用科目!$AD211=\"\",\"\",MID(TEXT(入力用科目!$AD211,\"????????\"),6,1))","v":""},{"$f":"IF(入力用科目!$AD211=\"\",\"\",MID(TEXT(入力用科目!$AD211,\"????????\"),7,1))","v":""},{"$f":"IF(入力用科目!$AD211=\"\",\"\",MID(TEXT(入力用科目!$AD211,\"????????\"),8,1))","v":""},null,{"$f":"IF(入力用科目!$AM211=\"\",\"\",MID(TEXT(入力用科目!$AM211,\"????????\"),1,1))","v":" "},{"$f":"IF(入力用科目!$AM211=\"\",\"\",MID(TEXT(入力用科目!$AM211,\"????????\"),2,1))","v":" "},{"$f":"IF(入力用科目!$AM211=\"\",\"\",MID(TEXT(入力用科目!$AM211,\"????????\"),3,1))","v":" "},{"$f":"IF(入力用科目!$AM211=\"\",\"\",MID(TEXT(入力用科目!$AM211,\"????????\"),4,1))","v":" "},{"$f":"IF(入力用科目!$AM211=\"\",\"\",MID(TEXT(入力用科目!$AM211,\"????????\"),5,1))","v":" "},{"$f":"IF(入力用科目!$AM211=\"\",\"\",MID(TEXT(入力用科目!$AM211,\"????????\"),6,1))","v":" "},{"$f":"IF(入力用科目!$AM211=\"\",\"\",MID(TEXT(入力用科目!$AM211,\"????????\"),7,1))","v":" "},{"$f":"IF(入力用科目!$AM211=\"\",\"\",MID(TEXT(入力用科目!$AM211,\"????????\"),8,1))","v":" "}]
[{"$f":"IF(入力用科目!A212=\"\",\"\",MID(TEXT(入力用科目!$A212,\"??\"),COLUMN(),1))","v":""},{"$f":"IF(入力用科目!A212=\"\",\"\",MID(TEXT(入力用科目!$A212,\"??\"),COLUMN(),1))","v":""},null,{"$f":"IF(入力用科目!$D212=\"\",\"\",MID(TEXT(入力用科目!$D212,\"???\"),1,1))","v":""},{"$f":"IF(入力用科目!$D212=\"\",\"\",MID(TEXT(入力用科目!$D212,\"???\"),2,1))","v":""},{"$f":"IF(入力用科目!$D212=\"\",\"\",MID(TEXT(入力用科目!$D212,\"???\"),3,1))","v":""},null,{"$f":"IF(入力用科目!H212=\"\",\"\",入力用科目!H212)","v":""},null,null,null,null,null,null,null,null,{"$f":"IF(入力用科目!$Q212=\"\",\"\",MID(TEXT(入力用科目!$Q212,\"???\"),1,1))","v":""},{"$f":"IF(入力用科目!$Q212=\"\",\"\",MID(TEXT(入力用科目!$Q212,\"???\"),2,1))","v":""},{"$f":"IF(入力用科目!$Q212=\"\",\"\",MID(TEXT(入力用科目!$Q212,\"???\"),3,1))","v":""},null,{"$f":"IF(入力用科目!$U212=\"\",\"\",MID(TEXT(入力用科目!$U212,\"????????\"),1,1))","v":""},{"$f":"IF(入力用科目!$U212=\"\",\"\",MID(TEXT(入力用科目!$U212,\"????????\"),2,1))","v":""},{"$f":"IF(入力用科目!$U212=\"\",\"\",MID(TEXT(入力用科目!$U212,\"????????\"),3,1))","v":""},{"$f":"IF(入力用科目!$U212=\"\",\"\",MID(TEXT(入力用科目!$U212,\"????????\"),4,1))","v":""},{"$f":"IF(入力用科目!$U212=\"\",\"\",MID(TEXT(入力用科目!$U212,\"????????\"),5,1))","v":""},{"$f":"IF(入力用科目!$U212=\"\",\"\",MID(TEXT(入力用科目!$U212,\"????????\"),6,1))","v":""},{"$f":"IF(入力用科目!$U212=\"\",\"\",MID(TEXT(入力用科目!$U212,\"????????\"),7,1))","v":""},{"$f":"IF(入力用科目!$U212=\"\",\"\",MID(TEXT(入力用科目!$U212,\"????????\"),8,1))","v":""},null,{"$f":"IF(入力用科目!$AD212=\"\",\"\",MID(TEXT(入力用科目!$AD212,\"????????\"),1,1))","v":""},{"$f":"IF(入力用科目!$AD212=\"\",\"\",MID(TEXT(入力用科目!$AD212,\"????????\"),2,1))","v":""},{"$f":"IF(入力用科目!$AD212=\"\",\"\",MID(TEXT(入力用科目!$AD212,\"????????\"),3,1))","v":""},{"$f":"IF(入力用科目!$AD212=\"\",\"\",MID(TEXT(入力用科目!$AD212,\"????????\"),4,1))","v":""},{"$f":"IF(入力用科目!$AD212=\"\",\"\",MID(TEXT(入力用科目!$AD212,\"????????\"),5,1))","v":""},{"$f":"IF(入力用科目!$AD212=\"\",\"\",MID(TEXT(入力用科目!$AD212,\"????????\"),6,1))","v":""},{"$f":"IF(入力用科目!$AD212=\"\",\"\",MID(TEXT(入力用科目!$AD212,\"????????\"),7,1))","v":""},{"$f":"IF(入力用科目!$AD212=\"\",\"\",MID(TEXT(入力用科目!$AD212,\"????????\"),8,1))","v":""},null,{"$f":"IF(入力用科目!$AM212=\"\",\"\",MID(TEXT(入力用科目!$AM212,\"????????\"),1,1))","v":" "},{"$f":"IF(入力用科目!$AM212=\"\",\"\",MID(TEXT(入力用科目!$AM212,\"????????\"),2,1))","v":" "},{"$f":"IF(入力用科目!$AM212=\"\",\"\",MID(TEXT(入力用科目!$AM212,\"????????\"),3,1))","v":" "},{"$f":"IF(入力用科目!$AM212=\"\",\"\",MID(TEXT(入力用科目!$AM212,\"????????\"),4,1))","v":" "},{"$f":"IF(入力用科目!$AM212=\"\",\"\",MID(TEXT(入力用科目!$AM212,\"????????\"),5,1))","v":" "},{"$f":"IF(入力用科目!$AM212=\"\",\"\",MID(TEXT(入力用科目!$AM212,\"????????\"),6,1))","v":" "},{"$f":"IF(入力用科目!$AM212=\"\",\"\",MID(TEXT(入力用科目!$AM212,\"????????\"),7,1))","v":" "},{"$f":"IF(入力用科目!$AM212=\"\",\"\",MID(TEXT(入力用科目!$AM212,\"????????\"),8,1))","v":" "}]
[{"$f":"IF(入力用科目!A213=\"\",\"\",MID(TEXT(入力用科目!$A213,\"??\"),COLUMN(),1))","v":""},{"$f":"IF(入力用科目!A213=\"\",\"\",MID(TEXT(入力用科目!$A213,\"??\"),COLUMN(),1))","v":""},null,{"$f":"IF(入力用科目!$D213=\"\",\"\",MID(TEXT(入力用科目!$D213,\"???\"),1,1))","v":""},{"$f":"IF(入力用科目!$D213=\"\",\"\",MID(TEXT(入力用科目!$D213,\"???\"),2,1))","v":""},{"$f":"IF(入力用科目!$D213=\"\",\"\",MID(TEXT(入力用科目!$D213,\"???\"),3,1))","v":""},null,{"$f":"IF(入力用科目!H213=\"\",\"\",入力用科目!H213)","v":"小　　　計"},null,null,null,null,null,null,null,null,{"$f":"IF(入力用科目!$Q213=\"\",\"\",MID(TEXT(入力用科目!$Q213,\"???\"),1,1))","v":""},{"$f":"IF(入力用科目!$Q213=\"\",\"\",MID(TEXT(入力用科目!$Q213,\"???\"),2,1))","v":""},{"$f":"IF(入力用科目!$Q213=\"\",\"\",MID(TEXT(入力用科目!$Q213,\"???\"),3,1))","v":""},null,{"$f":"IF(入力用科目!$U213=\"\",\"\",MID(TEXT(入力用科目!$U213,\"????????\"),1,1))","v":" "},{"$f":"IF(入力用科目!$U213=\"\",\"\",MID(TEXT(入力用科目!$U213,\"????????\"),2,1))","v":" "},{"$f":"IF(入力用科目!$U213=\"\",\"\",MID(TEXT(入力用科目!$U213,\"????????\"),3,1))","v":" "},{"$f":"IF(入力用科目!$U213=\"\",\"\",MID(TEXT(入力用科目!$U213,\"????????\"),4,1))","v":" "},{"$f":"IF(入力用科目!$U213=\"\",\"\",MID(TEXT(入力用科目!$U213,\"????????\"),5,1))","v":" "},{"$f":"IF(入力用科目!$U213=\"\",\"\",MID(TEXT(入力用科目!$U213,\"????????\"),6,1))","v":" "},{"$f":"IF(入力用科目!$U213=\"\",\"\",MID(TEXT(入力用科目!$U213,\"????????\"),7,1))","v":" "},{"$f":"IF(入力用科目!$U213=\"\",\"\",MID(TEXT(入力用科目!$U213,\"????????\"),8,1))","v":" "},null,{"$f":"IF(入力用科目!$AD213=\"\",\"\",MID(TEXT(入力用科目!$AD213,\"????????\"),1,1))","v":" "},{"$f":"IF(入力用科目!$AD213=\"\",\"\",MID(TEXT(入力用科目!$AD213,\"????????\"),2,1))","v":" "},{"$f":"IF(入力用科目!$AD213=\"\",\"\",MID(TEXT(入力用科目!$AD213,\"????????\"),3,1))","v":" "},{"$f":"IF(入力用科目!$AD213=\"\",\"\",MID(TEXT(入力用科目!$AD213,\"????????\"),4,1))","v":" "},{"$f":"IF(入力用科目!$AD213=\"\",\"\",MID(TEXT(入力用科目!$AD213,\"????????\"),5,1))","v":" "},{"$f":"IF(入力用科目!$AD213=\"\",\"\",MID(TEXT(入力用科目!$AD213,\"????????\"),6,1))","v":" "},{"$f":"IF(入力用科目!$AD213=\"\",\"\",MID(TEXT(入力用科目!$AD213,\"????????\"),7,1))","v":" "},{"$f":"IF(入力用科目!$AD213=\"\",\"\",MID(TEXT(入力用科目!$AD213,\"????????\"),8,1))","v":" "},null,{"$f":"IF(入力用科目!$AM213=\"\",\"\",MID(TEXT(入力用科目!$AM213,\"????????\"),1,1))","v":" "},{"$f":"IF(入力用科目!$AM213=\"\",\"\",MID(TEXT(入力用科目!$AM213,\"????????\"),2,1))","v":" "},{"$f":"IF(入力用科目!$AM213=\"\",\"\",MID(TEXT(入力用科目!$AM213,\"????????\"),3,1))","v":" "},{"$f":"IF(入力用科目!$AM213=\"\",\"\",MID(TEXT(入力用科目!$AM213,\"????????\"),4,1))","v":" "},{"$f":"IF(入力用科目!$AM213=\"\",\"\",MID(TEXT(入力用科目!$AM213,\"????????\"),5,1))","v":" "},{"$f":"IF(入力用科目!$AM213=\"\",\"\",MID(TEXT(入力用科目!$AM213,\"????????\"),6,1))","v":" "},{"$f":"IF(入力用科目!$AM213=\"\",\"\",MID(TEXT(入力用科目!$AM213,\"????????\"),7,1))","v":" "},{"$f":"IF(入力用科目!$AM213=\"\",\"\",MID(TEXT(入力用科目!$AM213,\"????????\"),8,1))","v":" "}]
[]
[null,{"$f":"IF(入力用科目!B215=\"\",\"\",入力用科目!B215)","v":""}]
[null,null,null,null,null,null,null,null,null,null,null,null,null,null,null,null,null,null,null,null,null,null,null,null,null,null,null,null,null,null,null,{"$f":"IF(入力用科目!$AF216=\"\",\"\",MID(TEXT(入力用科目!$AF216,\"???????\"),1,1))","v":""},{"$f":"IF(入力用科目!$AF216=\"\",\"\",MID(TEXT(入力用科目!$AF216,\"???????\"),2,1))","v":""},{"$f":"IF(入力用科目!$AF216=\"\",\"\",MID(TEXT(入力用科目!$AF216,\"???????\"),3,1))","v":""},{"$f":"IF(入力用科目!$AF216=\"\",\"\",MID(TEXT(入力用科目!$AF216,\"???????\"),4,1))","v":""},{"$f":"IF(入力用科目!$AF216=\"\",\"\",MID(TEXT(入力用科目!$AF216,\"???????\"),5,1))","v":""},{"$f":"IF(入力用科目!$AF216=\"\",\"\",MID(TEXT(入力用科目!$AF216,\"???????\"),6,1))","v":""},{"$f":"IF(入力用科目!$AF216=\"\",\"\",MID(TEXT(入力用科目!$AF216,\"???????\"),7,1))","v":""},null,{"$f":"IF(入力用科目!$AN216=\"\",\"\",MID(TEXT(入力用科目!$AN216,\"???????\"),1,1))","v":" "},{"$f":"IF(入力用科目!$AN216=\"\",\"\",MID(TEXT(入力用科目!$AN216,\"???????\"),2,1))","v":" "},{"$f":"IF(入力用科目!$AN216=\"\",\"\",MID(TEXT(入力用科目!$AN216,\"???????\"),3,1))","v":" "},{"$f":"IF(入力用科目!$AN216=\"\",\"\",MID(TEXT(入力用科目!$AN216,\"???????\"),4,1))","v":" "},{"$f":"IF(入力用科目!$AN216=\"\",\"\",MID(TEXT(入力用科目!$AN216,\"???????\"),5,1))","v":" "},{"$f":"IF(入力用科目!$AN216=\"\",\"\",MID(TEXT(入力用科目!$AN216,\"???????\"),6,1))","v":" "},{"$f":"IF(入力用科目!$AN216=\"\",\"\",MID(TEXT(入力用科目!$AN216,\"???????\"),7,1))","v":" "}]

{"sheet":"リンク用","index":7,"n_rows":5,"n_cols":35,"rows_kept":5,"cut":false,"hidden":true,"merged":[]}
[{"$f":"IF(入力用科目!U2=\"\",\"\",入力用科目!U2)","v":2},{"$f":"IF(入力用科目!V2=\"\",\"\",入力用科目!V2)","v":1},{"$f":"IF(入力用科目!W2=\"\",\"\",入力用科目!W2)","v":6},{"$f":"IF(入力用科目!X2=\"\",\"\",入力用科目!X2)","v":""},{"$f":"IF(入力用科目!Y2=\"\",\"\",入力用科目!Y2)","v":""},{"$f":"IF(入力用科目!Z2=\"\",\"\",入力用科目!Z2)","v":""},null,{"$f":"IF(入力用科目!$AC2=\"\",\"\",入力用科目!$AC2)","v":""},{"$f":"IF(入力用科目!$AE2=\"\",\"\",入力用科目!$AE2)","v":1},null,{"$f":"IF(入力用科目!$Y43=\"\",\"\",MID(TEXT(入力用科目!$Y43,\"????\"),1,1))","v":""},{"$f":"IF(入力用科目!$Y43=\"\",\"\",MID(TEXT(入力用科目!$Y43,\"????\"),2,1))","v":""},{"$f":"IF(入力用科目!$Y43=\"\",\"\",MID(TEXT(入力用科目!$Y43,\"????\"),3,1))","v":""},{"$f":"IF(入力用科目!$Y43=\"\",\"\",MID(TEXT(入力用科目!$Y43,\"????\"),4,1))","v":""},null,{"$f":"IF(入力用科目!$AC43=\"\",\"\",MID(TEXT(入力用科目!$AC43,\"????\"),1,1))","v":""},{"$f":"IF(入力用科目!$AC43=\"\",\"\",MID(TEXT(入力用科目!$AC43,\"????\"),2,1))","v":""},{"$f":"IF(入力用科目!$AC43=\"\",\"\",MID(TEXT(入力用科目!$AC43,\"????\"),3,1))","v":""},{"$f":"IF(入力用科目!$AC43=\"\",\"\",MID(TEXT(入力用科目!$AC43,\"????\"),4,1))","v":""},{"$f":"IF(入力用科目!$AC1=\"\",\"\",MID(TEXT(入力用科目!$AC1,\"????\"),4,1))","v":""},{"$f":"IF(入力用科目!$AH43=\"\",\"\",MID(TEXT(入力用科目!$AH43,\"???\"),1,1))","v":""},{"$f":"IF(入力用科目!$AH43=\"\",\"\",MID(TEXT(入力用科目!$AH43,\"???\"),2,1))","v":""},{"$f":"IF(入力用科目!$AH43=\"\",\"\",MID(TEXT(入力用科目!$AH43,\"???\"),3,1))","v":""},null,{"$f":"IF(入力用科目!$AK43=\"\",\"\",MID(TEXT(入力用科目!$AK43,\"???\"),1,1))","v":""},{"$f":"IF(入力用科目!$AK43=\"\",\"\",MID(TEXT(入力用科目!$AK43,\"???\"),2,1))","v":""},{"$f":"IF(入力用科目!$AK43=\"\",\"\",MID(TEXT(入力用科目!$AK43,\"???\"),3,1))","v":""},null,{"$f":"IF(入力用科目!$AO43=\"\",\"\",MID(TEXT(入力用科目!$AO43,\"????\"),1,1))","v":" "},{"$f":"IF(入力用科目!$AO43=\"\",\"\",MID(TEXT(入力用科目!$AO43,\"????\"),2,1))","v":" "},{"$f":"IF(入力用科目!$AO43=\"\",\"\",MID(TEXT(入力用科目!$AO43,\"????\"),3,1))","v":" "},{"$f":"IF(入力用科目!$AO43=\"\",\"\",MID(TEXT(入力用科目!$AO43,\"????\"),4,1))","v":" "},null,{"$f":"IF(入力用科目!$AS43=\"\",\"\",MID(TEXT(入力用科目!$AS43,\"??\"),1,1))","v":" "},{"$f":"IF(入力用科目!$AS43=\"\",\"\",MID(TEXT(入力用科目!$AS43,\"??\"),2,1))","v":" "}]
[]
[null,null,null,null,null,null,null,{"$f":"IF(入力用科目!$AC46=\"\",\"\",入力用科目!$AC46)","v":""},{"$f":"IF(入力用科目!$AE46=\"\",\"\",入力用科目!$AE46)","v":2}]
[]
[null,null,null,null,null,null,null,{"$f":"IF(入力用科目!$AC90=\"\",\"\",入力用科目!$AC90)","v":""},{"$f":"IF(入力用科目!$AE90=\"\",\"\",入力用科目!$AE90)","v":3}]

{"sheet":"入力用","index":8,"n_rows":130,"n_cols":45,"rows_kept":130,"cut":false,"hidden":true,"merged":[[126,39,126,45],[127,31,127,38],[130,40,130,43],[130,44,130,45],[29,7,29,14],[30,7,30,14],[31,7,31,14],[32,7,32,14],[129,40,129,43],[129,44,129,45],[126,1,130,14],[126,31,126,38],[127,39,127,45],[129,23,130,23],[129,24,129,27],[129,28,129,32],[129,33,129,35],[129,36,129,39],[130,24,130,27],[130,28,130,32],[130,33,130,35],[130,36,130,39],[123,38,123,45],[124,0,124,1],[124,3,124,5],[124,7,124,14],[124,16,124,18],[124,20,124,27],[124,29,124,36],[124,38,124,45],[122,7,122,14],[122,16,122,18],[122,20,122,27],[122,29,122,36],[123,0,123,1],[123,3,123,5],[123,7,123,14],[123,16,123,18],[123,20,123,27],[123,29,123,36],[122,38,122,45],[121,0,121,1],[121,3,121,5],[121,7,121,14],[121,16,121,18],[121,20,121,27],[121,29,121,36],[121,38,121,45],[122,0,122,1],[122,3,122,5],[119,38,119,45],[120,0,120,1],[120,3,120,5],[120,7,120,14],[120,16,120,18],[120,20,120,27],[120,29,120,36],[120,38,120,45],[119,0,119,1],[119,3,119,5],[119,7,119,14],[119,16,119,18],[119,20,119,27],[119,29,119,36],[118,0,118,1],[118,3,118,5],[118,7,118,14],[118,16,118,18],[118,20,118,27],[118,29,118,36],[118,38,118,45],[117,0,117,1],[117,3,117,5],[117,7,117,14],[117,16,117,18],[117,20,117,27],[117,29,117,36],[117,38,117,45],[115,38,115,45],[116,0,116,1],[116,3,116,5],[116,7,116,14],[116,16,116,18],[116,20,116,27],[116,29,116,36],[116,38,116,45],[115,0,115,1],[115,3,115,5],[115,7,115,14],[115,16,115,18],[115,20,115,27],[115,29,115,36],[114,0,114,1],[114,3,114,5],[114,7,114,14],[114,16,114,18],[114,20,114,27],[114,29,114,36],[114,38,114,45],[113,0,113,1],[113,3,113,5],[113,7,113,14],[113,16,113,18],[113,20,113,27],[113,29,113,36],[113,38,113,45],[111,38,111,45],[112,0,112,1],[112,3,112,5],[112,7,112,14],[112,16,112,18],[112,20,112,27],[112,29,112,36],[112,38,112,45],[111,0,111,1],[111,3,111,5],[111,7,111,14],[111,16,111,18],[111,20,111,27],[111,29,111,36],[110,0,110,1],[110,3,110,5],[110,7,110,14],[110,16,110,18],[110,20,110,27],[110,29,110,36],[110,38,110,45],[109,0,109,1],[109,3,109,5],[109,7,109,14],[109,16,109,18],[109,20,109,27],[109,29,109,36],[109,38,109,45],[107,38,107,45],[108,0,108,1],[108,3,108,5],[108,7,108,14],[108,16,108,18],[108,20,108,27],[108,29,108,36],[108,38,108,45],[107,0,107,1],[107,3,107,5],[107,7,107,14],[107,16,107,18],[107,20,107,27],[107,29,107,36],[106,0,106,1],[106,3,106,5],[106,7,106,14],[106,16,106,18],[106,20,106,27],[106,29,106,36],[106,38,106,45],[105,0,105,1],[105,3,105,5],[105,7,105,14],[105,16,105,18],[105,20,105,27],[105,29,105,36],[105,38,105,45],[103,38,103,45],[104,0,104,1],[104,3,104,5],[104,7,104,14],[104,16,104,18],[104,20,104,27],[104,29,104,36],[104,38,104,45],[103,0,103,1],[103,3,103,5],[103,7,103,14],[103,16,103,18],[103,20,103,27],[103,29,103,36],[102,0,102,1],[102,3,102,5],[102,7,102,14],[102,16,102,18],[102,20,102,27],[102,29,102,36],[102,38,102,45],[101,0,101,1],[101,3,101,5],[101,7,101,14],[101,16,101,18],[101,20,101,27],[101,29,101,36],[101,38,101,45],[99,38,99,45],[100,0,100,1],[100,3,100,5],[100,7,100,14],[100,16,100,18],[100,20,100,27],[100,29,100,36],[100,38,100,45],[99,0,99,1],[99,3,99,5],[99,7,99,14],[99,16,99,18],[99,20,99,27],[99,29,99,36],[98,0,98,1],[98,3,98,5],[98,7,98,14],[98,16,98,18],[98,20,98,27],[98,29,98,36],[98,38,98,45],[97,0,97,1],[97,3,97,5],[97,7,97,14],[97,16,97,18],[97,20,97,27],[97,29,97,36],[97,38,97,45],[95,38,95,45],[96,0,96,1],[96,3,96,5],[96,7,96,14],[96,16,96,18],[96,20,96,27],[96,29,96,36],[96,38,96,45],[95,0,95,1],[95,3,95,5],[95,7,95,14],[95,16,95,18],[95,20,95,27],[95,29,95,36],[94,0,94,1],[94,3,94,5],[94,7,94,14],[94,16,94,18],[94,20,94,27],[93,29,93,36],[94,29,94,36],[94,38,94,45],[91,29,91,36],[91,38,91,45],[92,38,92,45],[93,38,93,45],[93,20,93,27],[92,7,92,14],[91,0,91,1],[91,3,91,5],[91,7,91,14],[93,0,93,1],[93,3,93,5],[93,7,93,14],[93,16,93,18],[91,16,91,18],[91,20,91,27],[88,0,88,2],[88,3,88,4],[88,20,88,25],[88,32,88,40],[88,41,88,42],[88,43,88,45],[88,28,88,30],[85,36,85,39],[86,33,86,35],[86,36,86,39],[86,40,86,43],[86,44,86,45],[89,28,89,29],[89,32,89,40],[89,41,89,42],[89,43,89,45],[82,39,82,45],[83,31,83,38],[83,39,83,45],[85,23,86,23],[85,24,85,27],[85,40,85,43],[86,24,86,27],[86,28,86,32],[85,44,85,45],[85,28,85,32],[80,0,80,1],[80,3,80,5],[80,7,80,14],[80,16,80,18],[82,1,86,14],[82,31,82,38],[80,20,80,27],[80,29,80,36],[80,38,80,45],[85,33,85,35],[78,38,78,45],[79,0,79,1],[79,3,79,5],[79,7,79,14],[79,16,79,18],[79,20,79,27],[79,29,79,36],[79,38,79,45],[78,0,78,1],[78,3,78,5],[78,7,78,14],[78,16,78,18],[78,20,78,27],[78,29,78,36],[77,3,77,5],[77,7,77,14],[77,16,77,18],[77,20,77,27],[77,29,77,36],[77,38,77,45],[76,0,76,1],[76,3,76,5],[76,7,76,14],[76,16,76,18],[76,20,76,27],[76,29,76,36],[76,38,76,45],[77,0,77,1],[74,38,74,45],[75,0,75,1],[75,3,75,5],[75,7,75,14],[75,16,75,18],[75,20,75,27],[75,29,75,36],[75,38,75,45],[74,0,74,1],[74,3,74,5],[74,7,74,14],[74,16,74,18],[74,20,74,27],[74,29,74,36],[73,3,73,5],[73,7,73,14],[73,16,73,18],[73,20,73,27],[73,29,73,36],[73,38,73,45],[72,0,72,1],[72,3,72,5],[72,7,72,14],[72,16,72,18],[72,20,72,27],[72,29,72,36],[72,38,72,45],[73,0,73,1],[70,38,70,45],[71,0,71,1],[71,3,71,5],[71,7,71,14],[71,16,71,18],[71,20,71,27],[71,29,71,36],[71,38,71,45],[70,0,70,1],[70,3,70,5],[70,7,70,14],[70,16,70,18],[70,20,70,27],[70,29,70,36],[69,3,69,5],[69,7,69,14],[69,16,69,18],[69,20,69,27],[69,29,69,36],[69,38,69,45],[68,0,68,1],[68,3,68,5],[68,7,68,14],[68,16,68,18],[68,20,68,27],[68,29,68,36],[68,38,68,45],[69,0,69,1],[66,38,66,45],[67,0,67,1],[67,3,67,5],[67,7,67,14],[67,16,67,18],[67,20,67,27],[67,29,67,36],[67,38,67,45],[66,0,66,1],[66,3,66,5],[66,7,66,14],[66,16,66,18],[66,20,66,27],[66,29,66,36],[65,3,65,5],[65,7,65,14],[65,16,65,18],[65,20,65,27],[65,29,65,36],[65,38,65,45],[64,0,64,1],[64,3,64,5],[64,7,64,14],[64,16,64,18],[64,20,64,27],[64,29,64,36],[64,38,64,45],[65,0,65,1],[62,38,62,45],[63,0,63,1],[63,3,63,5],[63,7,63,14],[63,16,63,18],[63,20,63,27],[63,29,63,36],[63,38,63,45],[62,0,62,1],[62,3,62,5],[62,7,62,14],[62,16,62,18],[62,20,62,27],[62,29,62,36],[61,3,61,5],[61,7,61,14],[61,16,61,18],[61,20,61,27],[61,29,61,36],[61,38,61,45],[60,0,60,1],[60,3,60,5],[60,7,60,14],[60,16,60,18],[60,20,60,27],[60,29,60,36],[60,38,60,45],[61,0,61,1],[58,38,58,45],[59,0,59,1],[59,3,59,5],[59,7,59,14],[59,16,59,18],[59,20,59,27],[59,29,59,36],[59,38,59,45],[58,0,58,1],[58,3,58,5],[58,7,58,14],[58,16,58,18],[58,20,58,27],[58,29,58,36],[57,3,57,5],[57,7,57,14],[57,16,57,18],[57,20,57,27],[57,29,57,36],[57,38,57,45],[56,0,56,1],[56,3,56,5],[56,7,56,14],[56,16,56,18],[56,20,56,27],[56,29,56,36],[56,38,56,45],[57,0,57,1],[54,38,54,45],[55,0,55,1],[55,3,55,5],[55,7,55,14],[55,16,55,18],[55,20,55,27],[55,29,55,36],[55,38,55,45],[54,0,54,1],[54,3,54,5],[54,7,54,14],[54,16,54,18],[54,20,54,27],[54,29,54,36],[53,3,53,5],[53,7,53,14],[53,16,53,18],[53,20,53,27],[53,29,53,36],[53,38,53,45],[52,0,52,1],[52,3,52,5],[52,7,52,14],[52,16,52,18],[52,20,52,27],[52,29,52,36],[52,38,52,45],[53,0,53,1],[50,38,50,45],[51,0,51,1],[51,3,51,5],[51,7,51,14],[51,16,51,18],[51,20,51,27],[51,29,51,36],[51,38,51,45],[50,0,50,1],[50,3,50,5],[50,20,50,27],[50,29,50,36],[50,7,50,14],[50,16,50,18],[47,38,47,45],[48,7,48,14],[48,38,48,45],[49,38,49,45],[47,20,47,27],[47,29,47,36],[49,20,49,27],[49,29,49,36],[49,0,49,1],[49,3,49,5],[49,7,49,14],[49,16,49,18],[45,28,45,29],[45,32,45,40],[45,41,45,42],[45,43,45,45],[47,0,47,1],[47,3,47,5],[47,7,47,14],[47,16,47,18],[33,29,33,36],[34,29,34,36],[42,36,42,39],[42,40,42,43],[42,44,42,45],[44,41,44,42],[44,43,44,45],[38,39,38,45],[38,31,38,38],[36,38,36,45],[34,7,34,14],[35,7,35,14],[36,7,36,14],[38,1,42,14],[44,0,44,2],[44,3,44,4],[33,16,33,18],[34,16,34,18],[35,16,35,18],[42,28,42,32],[41,24,41,27],[36,16,36,18],[41,28,41,32],[41,23,42,23],[31,20,31,27],[32,20,32,27],[33,20,33,27],[34,20,34,27],[35,20,35,27],[36,20,36,27],[35,29,35,36],[36,29,36,36],[32,29,32,36],[31,29,31,36],[30,16,30,18],[19,16,19,18],[20,16,20,18],[21,16,21,18],[22,16,22,18],[23,16,23,18],[24,16,24,18],[31,16,31,18],[32,16,32,18],[16,38,16,45],[17,38,17,45],[30,38,30,45],[31,38,31,45],[32,38,32,45],[33,38,33,45],[34,38,34,45],[35,38,35,45],[24,38,24,45],[25,38,25,45],[26,38,26,45],[27,38,27,45],[28,38,28,45],[29,38,29,45],[18,38,18,45],[19,38,19,45],[20,38,20,45],[21,38,21,45],[22,38,22,45],[23,38,23,45],[6,38,6,45],[7,38,7,45],[12,38,12,45],[13,38,13,45],[14,38,14,45],[15,38,15,45],[8,38,8,45],[9,38,9,45],[10,38,10,45],[11,38,11,45],[25,20,25,27],[26,20,26,27],[27,20,27,27],[28,20,28,27],[21,29,21,36],[22,29,22,36],[23,29,23,36],[24,29,24,36],[25,29,25,36],[26,29,26,36],[30,20,30,27],[19,20,19,27],[20,20,20,27],[21,20,21,27],[22,20,22,27],[23,20,23,27],[24,20,24,27],[6,16,6,18],[27,29,27,36],[20,29,20,36],[28,29,28,36],[11,29,11,36],[12,29,12,36],[13,29,13,36],[14,29,14,36],[15,29,15,36],[10,16,10,18],[11,16,11,18],[12,16,12,18],[25,16,25,18],[26,16,26,18],[27,16,27,18],[28,16,28,18],[29,16,29,18],[5,3,5,5],[6,3,6,5],[13,20,13,27],[14,20,14,27],[15,20,15,27],[16,20,16,27],[17,20,17,27],[18,20,18,27],[7,20,7,27],[8,20,8,27],[9,20,9,27],[10,20,10,27],[11,20,11,27],[12,20,12,27],[13,16,13,18],[14,16,14,18],[15,16,15,18],[16,16,16,18],[17,16,17,18],[18,16,18,18],[7,16,7,18],[8,16,8,18],[9,16,9,18],[9,3,9,5],[23,7,23,14],[24,7,24,14],[25,7,25,14],[26,7,26,14],[3,0,3,1],[4,7,4,14],[5,7,5,14],[6,7,6,14],[7,7,7,14],[8,7,8,14],[5,0,5,1],[6,0,6,1],[7,0,7,1],[8,0,8,1],[7,3,7,5],[8,3,8,5],[3,3,3,5],[3,7,3,14],[21,0,21,1],[22,0,22,1],[23,0,23,1],[24,0,24,1],[19,0,19,1],[20,0,20,1],[5,29,5,36],[3,38,3,45],[3,29,3,36],[4,38,4,45],[5,38,5,45],[21,7,21,14],[22,7,22,14],[9,7,9,14],[10,7,10,14],[11,7,11,14],[12,7,12,14],[13,7,13,14],[14,7,14,14],[15,7,15,14],[16,7,16,14],[17,7,17,14],[18,7,18,14],[19,7,19,14],[20,7,20,14],[3,20,3,27],[3,16,3,18],[5,20,5,27],[6,20,6,27],[5,16,5,18],[0,0,0,2],[1,32,1,40],[1,41,1,42],[1,43,1,45],[1,28,1,29],[0,43,0,45],[0,3,0,4],[0,20,0,25],[0,28,0,30],[0,32,0,40],[0,41,0,42],[10,29,10,36],[16,29,16,36],[17,29,17,36],[18,29,18,36],[19,29,19,36],[6,29,6,36],[7,29,7,36],[8,29,8,36],[9,29,9,36],[9,0,9,1],[10,0,10,1],[11,0,11,1],[12,0,12,1],[13,0,13,1],[14,0,14,1],[15,0,15,1],[16,0,16,1],[17,0,17,1],[36,0,36,1],[27,0,27,1],[28,0,28,1],[29,0,29,1],[30,0,30,1],[44,20,44,25],[44,28,44,30],[44,32,44,40],[39,39,39,45],[42,24,42,27],[42,33,42,35],[31,0,31,1],[32,0,32,1],[41,44,41,45],[41,40,41,43],[41,36,41,39],[41,33,41,35],[39,31,39,38],[33,7,33,14],[27,7,27,14],[28,7,28,14],[29,29,29,36],[30,29,30,36],[29,20,29,27],[26,3,26,5],[23,3,23,5],[24,3,24,5],[25,0,25,1],[26,0,26,1],[33,0,33,1],[34,0,34,1],[35,0,35,1],[18,0,18,1],[10,3,10,5],[11,3,11,5],[12,3,12,5],[35,3,35,5],[36,3,36,5],[29,3,29,5],[30,3,30,5],[31,3,31,5],[32,3,32,5],[33,3,33,5],[34,3,34,5],[13,3,13,5],[14,3,14,5],[15,3,15,5],[16,3,16,5],[21,3,21,5],[22,3,22,5],[27,3,27,5],[28,3,28,5],[17,3,17,5],[18,3,18,5],[19,3,19,5],[20,3,20,5],[25,3,25,5]]}
["年",null,null,"月",null,null,null,null,null,null,null,null,null,null,null,null,null,null,null,null,"コンピュータ番号",null,null,null,null,null,null,null,"頁",null,null,null,"事業者名",null,null,null,null,null,null,null,null,"年次",null,"整理番号"]
[0,2,null,1,0,null,null,null,null,null,null,null,null,null,null,null,null,null,null,null,2,1,5,0,1,1,null,null,null,null,1,null,"鈴木　一郎"]
[]
["日付",null,null,"摘要ｺｰﾄﾞ",null,null,null,"摘　　　　　　要",null,null,null,null,null,null,null,null,"仕訳ｺｰﾄﾞ",null,null,null,"収　入　金　額",null,null,null,null,null,null,null,null,"支　払　金　額",null,null,null,null,null,null,null,null,"差　引　金　額"]
[null,null,null,null,null,null,null,"繰　越　残　高",null,null,null,null,null,null,null,null,null,null,null,null,null,null,null,null,null,null,null,null,null,null,null,null,null,null,null,null,null,null,20497]
[1,null,null,null,null,null,null,"運送収入",null,null,null,null,null,null,null,null,1,null,null,null,6100,null,null,null,null,null,null,null,null,null,null,null,null,null,null,null,null,null,{"$f":"AM5+U6-AD6","v":26597}]
[2,null,null,null,null,null,null,null,null,null,null,null,null,null,null,null,1,null,null,null,5240,null,null,null,null,null,null,null,null,null,null,null,null,null,null,null,null,null,{"$f":"AM6+U7-AD7","v":31837}]
[null,null,null,null,null,null,null,"LPガス代",null,null,null,null,null,null,null,null,2,null,null,null,null,null,null,null,null,null,null,null,null,5076,null,null,null,null,null,null,null,null,{"$f":"AM7+U8-AD8","v":26761}]
[null,null,null,null,null,null,null,"洗車代",null,null,null,null,null,null,null,null,16,null,null,null,null,null,null,null,null,null,null,null,null,1000,null,null,null,null,null,null,null,null,25761]
[null,null,null,null,null,null,null,"事業主より借入",null,null,null,null,null,null,null,null,31,null,null,null,100000,null,null,null,null,null,null,null,null,null,null,null,null,null,null,null,null,null,125761]
[4,null,null,null,null,null,null,null,null,null,null,null,null,null,null,null,1,null,null,null,8940,null,null,null,null,null,null,null,null,null,null,null,null,null,null,null,null,null,134701]
[5,null,null,null,null,null,null,null,null,null,null,null,null,null,null,null,1,null,null,null,12400,null,null,null,null,null,null,null,null,null,null,null,null,null,null,null,null,null,147101]
[6,null,null,null,null,null,null,null,null,null,null,null,null,null,null,null,1,null,null,null,2180,null,null,null,null,null,null,null,null,null,null,null,null,null,null,null,null,null,149281]
[null,null,null,null,null,null,null,"LPガス代",null,null,null,null,null,null,null,null,2,null,null,null,null,null,null,null,null,null,null,null,null,6744,null,null,null,null,null,null,null,null,142537]
[7,null,null,null,null,null,null,null,null,null,null,null,null,null,null,null,1,null,null,null,8860,null,null,null,null,null,null,null,null,null,null,null,null,null,null,null,null,null,151397]
[8,null,null,null,null,null,null,null,null,null,null,null,null,null,null,null,1,null,null,null,9920,null,null,null,null,null,null,null,null,null,null,null,null,null,null,null,null,null,161317]
[10,null,null,null,null,null,null,null,null,null,null,null,null,null,null,null,1,null,null,null,10300,null,null,null,null,null,null,null,null,null,null,null,null,null,null,null,null,null,{"$f":"AM16+U17-AD17","v":171617}]
[null,null,null,null,null,null,null,"LPガス代",null,null,null,null,null,null,null,null,2,null,null,null,null,null,null,null,null,null,null,null,null,4224,null,null,null,null,null,null,null,null,{"$f":"AM17+U18-AD18","v":167393}]
[null,null,null,null,null,null,null,"携帯電話",null,null,null,null,null,null,null,null,6,null,null,null,null,null,null,null,null,null,null,null,null,3500,null,null,null,null,null,null,null,null,163893]
[null,null,null,null,null,null,null,"高速代",null,null,null,null,null,null,null,null,5,null,null,null,null,null,null,null,null,null,null,null,null,1000,null,null,null,null,null,null,null,null,162893]
[11,null,null,null,null,null,null,null,null,null,null,null,null,null,null,null,1,null,null,null,10940,null,null,null,null,null,null,null,null,null,null,null,null,null,null,null,null,null,173833]
[12,null,null,null,null,null,null,null,null,null,null,null,null,null,null,null,1,null,null,null,11780,null,null,null,null,null,null,null,null,null,null,null,null,null,null,null,null,null,185613]
[null,null,null,null,null,null,null,"国民生活公庫（元本）",null,null,null,null,null,null,null,null,28,null,null,null,null,null,null,null,null,null,null,null,null,70000,null,null,null,null,null,null,null,null,115613]
[null,null,null,null,null,null,null,"国民生活公庫（利息）",null,null,null,null,null,null,null,null,11,null,null,null,null,null,null,null,null,null,null,null,null,3460,null,null,null,null,null,null,null,null,112153]
[14,null,null,null,null,null,null,null,null,null,null,null,null,null,null,null,1,null,null,null,20920,null,null,null,null,null,null,null,null,null,null,null,null,null,null,null,null,null,133073]
[15,null,null,null,null,null,null,null,null,null,null,null,null,null,null,null,1,null,null,null,27370,null,null,null,null,null,null,null,null,null,null,null,null,null,null,null,null,null,160443]
[null,null,null,null,null,null,null,"チケット換金手数料",null,null,null,null,null,null,null,null,16,null,null,null,null,null,null,null,null,null,null,null,null,7833,null,null,null,null,null,null,null,null,{"$f":"AM26+U27-AD27","v":152610}]
[16,null,null,null,null,null,null,null,null,null,null,null,null,null,null,null,1,null,null,null,23870,null,null,null,null,null,null,null,null,null,null,null,null,null,null,null,null,null,{"$f":"AM27+U28-AD28","v":176480}]
[18,null,null,null,null,null,null,null,null,null,null,null,null,null,null,null,1,null,null,null,31500,null,null,null,null,null,null,null,null,null,null,null,null,null,null,null,null,null,207980]
[null,null,null,null,null,null,null,"LPガス代",null,null,null,null,null,null,null,null,2,null,null,null,null,null,null,null,null,null,null,null,null,3780,null,null,null,null,null,null,null,null,204200]
[19,null,null,null,null,null,null,null,null,null,null,null,null,null,null,null,1,null,null,null,8430,null,null,null,null,null,null,null,null,null,null,null,null,null,null,null,null,null,212630]
[20,null,null,null,null,null,null,null,null,null,null,null,null,null,null,null,1,null,null,null,27250,null,null,null,null,null,null,null,null,null,null,null,null,null,null,null,null,null,239880]
[21,null,null,null,null,null,null,null,null,null,null,null,null,null,null,null,1,null,null,null,17660,null,null,null,null,null,null,null,null,null,null,null,null,null,null,null,null,null,257540]
[null,null,null,null,null,null,null,"LPガス代",null,null,null,null,null,null,null,null,2,null,null,null,null,null,null,null,null,null,null,null,null,6300,null,null,null,null,null,null,null,null,251240]
[null,null,null,null,null,null,null,"メーター検査",null,null,null,null,null,null,null,null,9,null,null,null,null,null,null,null,null,null,null,null,null,3675,null,null,null,null,null,null,null,null,247565]
[22,null,null,null,null,null,null,null,null,null,null,null,null,null,null,null,1,null,null,null,32480,null,null,null,null,null,null,null,null,null,null,null,null,null,null,null,null,null,{"$f":"AM35+U36-AD36","v":280045}]
[null,null,null,null,null,null,null,null,null,null,null,null,null,null,null,null,null,null,null,null,{"$f":"SUM(U6:AB36)","v":376140},null,null,null,null,null,null,null,null,{"$f":"SUM(AD6:AK36)","v":116592},null,null,null,null,null,null,null,null,{"$f":"AM5+U37-AD37","v":280045}]
[]
[null,"3日、13日体調不調により休み",null,null,null,null,null,null,null,null,null,null,null,null,null,null,null,null,null,null,null,null,null,null,null,null,null,null,null,null,null,"月末カード等未収入金",null,null,null,null,null,null,null,"合計　　収入金額"]
[null,null,null,null,null,null,null,null,null,null,null,null,null,null,null,null,null,null,null,null,null,null,null,null,null,null,null,null,null,null,null,null,null,null,null,null,null,null,null,{"$f":"SUMIF(Q6:AB36,1,U6:AB36)+SUMIF(Q50:S80,1,U50:AB80)+SUMIF(Q94:S124,1,U94:AB124)","v":385420}]
[]
[null,null,null,null,null,null,null,null,null,null,null,null,null,null,null,null,null,null,null,null,null,null,null,"合計","走行粁",null,null,null,"実車粁",null,null,null,null,"回数",null,null,"人員",null,null,null,"空車粁",null,null,null,"日数"]
[null,null,null,null,null,null,null,null,null,null,null,null,null,null,null,null,null,null,null,null,null,null,null,null,2937,null,null,null,1312,null,null,null,null,269,null,null,369,null,null,null,1625,null,null,null,24]
[]
["年",null,null,"月",null,null,null,null,null,null,null,null,null,null,null,null,null,null,null,null,"コンピュータ番号",null,null,null,null,null,null,null,"頁",null,null,null,"事業者名",null,null,null,null,null,null,null,null,"年次",null,"整理番号"]
[{"$f":"IF(A2=\"\",\"\",A2)","v":0},{"$f":"IF(B2=\"\",\"\",B2)","v":2},null,{"$f":"IF(D2=\"\",\"\",D2)","v":1},{"$f":"IF(E2=\"\",\"\",E2)","v":0},null,null,null,null,null,null,null,null,null,null,null,null,null,null,null,{"$f":"IF(U2=\"\",\"\",U2)","v":2},1,5,0,1,1,null,null,null,null,2,null,{"$f":"IF(AG2=\"\",\"\",AG2)","v":"鈴木　一郎"},null,null,null,null,null,null,null,null,{"$f":"IF(AP2=\"\",\"\",AP2)","v":""},null,{"$f":"IF(AR2=\"\",\"\",AR2)","v":""}]
[]
["日付",null,null,"摘要ｺｰﾄﾞ",null,null,null,"摘　　　　　　要",null,null,null,null,null,null,null,null,"仕訳ｺｰﾄﾞ",null,null,null,"収　入　金　額",null,null,null,null,null,null,null,null,"支　払　金　額",null,null,null,null,null,null,null,null,"差　引　金　額"]
[null,null,null,null,null,null,null,"繰　越　残　高",null,null,null,null,null,null,null,null,null,null,null,null,null,null,null,null,null,null,null,null,null,null,null,null,null,null,null,null,null,null,{"$f":"AM37","v":280045}]
[23,null,null,null,null,null,null,null,null,null,null,null,null,null,null,null,1,null,null,null,38600,null,null,null,null,null,null,null,null,null,null,null,null,null,null,null,null,null,{"$f":"AM49+U50-AD50","v":318645}]
[25,null,null,null,null,null,null,null,null,null,null,null,null,null,null,null,1,null,null,null,26540,null,null,null,null,null,null,null,null,null,null,null,null,null,null,null,null,null,{"$f":"AM50+U51-AD51","v":345185}]
[null,null,null,null,null,null,null,"LPガス代",null,null,null,null,null,null,null,null,2,null,null,null,null,null,null,null,null,null,null,null,null,5493,null,null,null,null,null,null,null,null,{"$f":"AM51+U52-AD52","v":339692}]
[null,null,null,null,null,null,null,"トヨタカローラ　修理代",null,null,null,null,null,null,null,null,9,null,null,null,null,null,null,null,null,null,null,null,null,98000,null,null,null,null,null,null,null,null,241692]
[27,null,null,null,null,null,null,"カー用品",null,null,null,null,null,null,null,null,10,null,null,null,null,null,null,null,null,null,null,null,null,23400,null,null,null,null,null,null,null,null,218292]
[null,null,null,null,null,null,null,"LPガス代",null,null,null,null,null,null,null,null,2,null,null,null,null,null,null,null,null,null,null,null,null,4078,null,null,null,null,null,null,null,null,214214]
[28,null,null,null,null,null,null,null,null,null,null,null,null,null,null,null,1,null,null,null,29800,null,null,null,null,null,null,null,null,null,null,null,null,null,null,null,null,null,244014]
[29,null,null,null,null,null,null,"チケット代金",null,null,null,null,null,null,null,null,1,null,null,null,14340,null,null,null,null,null,null,null,null,null,null,null,null,null,null,null,null,null,258354]
[null,null,null,null,null,null,null,"組合費",null,null,null,null,null,null,null,null,13,null,null,null,null,null,null,null,null,null,null,null,null,10000,null,null,null,null,null,null,null,null,248354]
[null,null,null,null,null,null,null,"上部団体負担金",null,null,null,null,null,null,null,null,13,null,null,null,null,null,null,null,null,null,null,null,null,5050,null,null,null,null,null,null,null,null,243304]
[null,null,null,null,null,null,null,"新共済積立",null,null,null,null,null,null,null,null,27,null,null,null,null,null,null,null,null,null,null,null,null,1000,null,null,null,null,null,null,null,null,242304]
[null,null,null,null,null,null,null,"傷害保険",null,null,null,null,null,null,null,null,27,null,null,null,null,null,null,null,null,null,null,null,null,1650,null,null,null,null,null,null,null,null,{"$f":"AM60+U61-AD61","v":240654}]
[null,null,null,null,null,null,null,"全個連会費",null,null,null,null,null,null,null,null,13,null,null,null,null,null,null,null,null,null,null,null,null,1130,null,null,null,null,null,null,null,null,{"$f":"AM61+U62-AD62","v":239524}]
[null,null,null,null,null,null,null,"新年会積立",null,null,null,null,null,null,null,null,27,null,null,null,null,null,null,null,null,null,null,null,null,1000,null,null,null,null,null,null,null,null,238524]
[null,null,null,null,null,null,null,"連合会共済",null,null,null,null,null,null,null,null,7,null,null,null,null,null,null,null,null,null,null,null,null,540,null,null,null,null,null,null,null,null,237984]
[null,null,null,null,null,null,null,"全国共済徴収金",null,null,null,null,null,null,null,null,7,null,null,null,null,null,null,null,null,null,null,null,null,1250,null,null,null,null,null,null,null,null,236734]
[null,null,null,null,null,null,null,"DiDi通信費",null,null,null,null,null,null,null,null,16,null,null,null,null,null,null,null,null,null,null,null,null,300,null,null,null,null,null,null,null,null,236434]
[null,null,null,null,null,null,null,"弔慰金",null,null,null,null,null,null,null,null,7,null,null,null,null,null,null,null,null,null,null,null,null,400,null,null,null,null,null,null,null,null,236034]
[null,null,null,null,null,null,null,"廃業・譲渡餞別金",null,null,null,null,null,null,null,null,7,null,null,null,null,null,null,null,null,null,null,null,null,1000,null,null,null,null,null,null,null,null,235034]
[null,null,null,null,null,null,null,"JR乗入料",null,null,null,null,null,null,null,null,16,null,null,null,null,null,null,null,null,null,null,null,null,1320,null,null,null,null,null,null,null,null,233714]
[null,null,null,null,null,null,null,"TDモバイル",null,null,null,null,null,null,null,null,8,null,null,null,null,null,null,null,null,null,null,null,null,500,null,null,null,null,null,null,null,null,233214]
[null,null,null,null,null,null,null,"任意保険",null,null,null,null,null,null,null,null,9,null,null,null,null,null,null,null,null,null,null,null,null,54000,null,null,null,null,null,null,null,null,{"$f":"AM70+U71-AD71","v":179214}]
[null,null,null,null,null,null,null,"クレピコ",null,null,null,null,null,null,null,null,8,null,null,null,null,null,null,null,null,null,null,null,null,1130,null,null,null,null,null,null,null,null,{"$f":"AM71+U72-AD72","v":178084}]
[null,null,null,null,null,null,null,"クリーニング代",null,null,null,null,null,null,null,null,16,null,null,null,null,null,null,null,null,null,null,null,null,2750,null,null,null,null,null,null,null,null,175334]
[null,null,null,null,null,null,null,"新聞・雑誌代",null,null,null,null,null,null,null,null,16,null,null,null,null,null,null,null,null,null,null,null,null,3925,null,null,null,null,null,null,null,null,171409]
[null,null,null,null,null,null,null,"ロール紙",null,null,null,null,null,null,null,null,5,null,null,null,null,null,null,null,null,null,null,null,null,500,null,null,null,null,null,null,null,null,170909]
[null,null,null,null,null,null,null,"家事・生活費",null,null,null,null,null,null,null,null,27,null,null,null,null,null,null,null,null,null,null,null,null,100000,null,null,null,null,null,null,null,null,70909]
[null,null,null,null,null,null,null,null,null,null,null,null,null,null,null,null,null,null,null,null,null,null,null,null,null,null,null,null,null,null,null,null,null,null,null,null,null,null,70909]
[null,null,null,null,null,null,null,null,null,null,null,null,null,null,null,null,null,null,null,null,null,null,null,null,null,null,null,null,null,null,null,null,null,null,null,null,null,null,70909]
[null,null,null,null,null,null,null,null,null,null,null,null,null,null,null,null,null,null,null,null,null,null,null,null,null,null,null,null,null,null,null,null,null,null,null,null,null,null,70909]
[null,null,null,null,null,null,null,null,null,null,null,null,null,null,null,null,null,null,null,null,null,null,null,null,null,null,null,null,null,null,null,null,null,null,null,null,null,null,70909]
[null,null,null,null,null,null,null,null,null,null,null,null,null,null,null,null,null,null,null,null,{"$f":"SUM(U50:AB80)","v":109280},null,null,null,null,null,null,null,null,{"$f":"SUM(AD50:AK80)","v":318416},null,null,null,null,null,null,null,null,{"$f":"AM49+U81-AD81","v":70909}]
[]
[null,null,null,null,null,null,null,null,null,null,null,null,null,null,null,null,null,null,null,null,null,null,null,null,null,null,null,null,null,null,null,"月末カード等未収入金",null,null,null,null,null,null,null,"合計　　収入金額"]
[null,null,null,null,null,null,null,null,null,null,null,null,null,null,null,null,null,null,null,null,null,null,null,null,null,null,null,null,null,null,null,null,null,null,null,null,null,null,null,{"$f":"SUMIF(Q50:AB80,1,U50:AB80)","v":109280}]
[]
[null,null,null,null,null,null,null,null,null,null,null,null,null,null,null,null,null,null,null,null,null,null,null,"合計","走行粁",null,null,null,"実車粁",null,null,null,null,"回数",null,null,"人員",null,null,null,"空車粁",null,null,null,"日数"]
[]
[]
["年",null,null,"月",null,null,null,null,null,null,null,null,null,null,null,null,null,null,null,null,"コンピュータ番号",null,null,null,null,null,null,null,"頁",null,null,null,"事業者名",null,null,null,null,null,null,null,null,"年次",null,"整理番号"]
[{"$f":"IF(A46=\"\",\"\",A46)","v":0},{"$f":"IF(B46=\"\",\"\",B46)","v":2},null,{"$f":"IF(D46=\"\",\"\",D46)","v":1},{"$f":"IF(E46=\"\",\"\",E46)","v":0},null,null,null,null,null,null,null,null,null,null,null,null,null,null,null,{"$f":"IF(U46=\"\",\"\",U46)","v":2},1,5,0,1,1,null,null,null,null,3,null,{"$f":"IF(AG46=\"\",\"\",AG46)","v":"鈴木　一郎"},null,null,null,null,null,null,null,null,{"$f":"IF(AP46=\"\",\"\",AP46)","v":""},null,{"$f":"IF(AR46=\"\",\"\",AR46)","v":""}]
[]
["日付",null,null,"摘要ｺｰﾄﾞ",null,null,null,"摘　　　　　　要",null,null,null,null,null,null,null,null,"仕訳ｺｰﾄﾞ",null,null,null,"収　入　金　額",null,null,null,null,null,null,null,null,"支　払　金　額",null,null,null,null,null,null,null,null,"差　引　金　額"]
[null,null,null,null,null,null,null,"繰　越　残　高",null,null,null,null,null,null,null,null,null,null,null,null,null,null,null,null,null,null,null,null,null,null,null,null,null,null,null,null,null,null,{"$f":"AM81","v":70909}]
[null,null,null,null,null,null,null,null,null,null,null,null,null,null,null,null,null,null,null,null,null,null,null,null,null,null,null,null,null,null,null,null,null,null,null,null,null,null,{"$f":"AM93+U94-AD94","v":70909}]
[null,null,null,null,null,null,null,null,null,null,null,null,null,null,null,null,null,null,null,null,null,null,null,null,null,null,null,null,null,null,null,null,null,null,null,null,null,null,{"$f":"AM94+U95-AD95","v":70909}]
[null,null,null,null,null,null,null,null,null,null,null,null,null,null,null,null,null,null,null,null,null,null,null,null,null,null,null,null,null,null,null,null,null,null,null,null,null,null,{"$f":"AM95+U96-AD96","v":70909}]
[null,null,null,null,null,null,null,null,null,null,null,null,null,null,null,null,null,null,null,null,null,null,null,null,null,null,null,null,null,null,null,null,null,null,null,null,null,null,70909]
[null,null,null,null,null,null,null,null,null,null,null,null,null,null,null,null,null,null,null,null,null,null,null,null,null,null,null,null,null,null,null,null,null,null,null,null,null,null,70909]
[null,null,null,null,null,null,null,null,null,null,null,null,null,null,null,null,null,null,null,null,null,null,null,null,null,null,null,null,null,null,null,null,null,null,null,null,null,null,70909]
[null,null,null,null,null,null,null,null,null,null,null,null,null,null,null,null,null,null,null,null,null,null,null,null,null,null,null,null,null,null,null,null,null,null,null,null,null,null,70909]
[null,null,null,null,null,null,null,null,null,null,null,null,null,null,null,null,null,null,null,null,null,null,null,null,null,null,null,null,null,null,null,null,null,null,null,null,null,null,70909]
[null,null,null,null,null,null,null,null,null,null,null,null,null,null,null,null,null,null,null,null,null,null,null,null,null,null,null,null,null,null,null,null,null,null,null,null,null,null,70909]
[null,null,null,null,null,null,null,null,null,null,null,null,null,null,null,null,null,null,null,null,null,null,null,null,null,null,null,null,null,null,null,null,null,null,null,null,null,null,70909]
[null,null,null,null,null,null,null,null,null,null,null,null,null,null,null,null,null,null,null,null,null,null,null,null,null,null,null,null,null,null,null,null,null,null,null,null,null,null,70909]
[null,null,null,null,null,null,null,null,null,null,null,null,null,null,null,null,null,null,null,null,null,null,null,null,null,null,null,null,null,null,null,null,null,null,null,null,null,null,{"$f":"AM104+U105-AD105","v":70909}]
[null,null,null,null,null,null,null,null,null,null,null,null,null,null,null,null,null,null,null,null,null,null,null,null,null,null,null,null,null,null,null,null,null,null,null,null,null,null,{"$f":"AM105+U106-AD106","v":70909}]
[null,null,null,null,null,null,null,null,null,null,null,null,null,null,null,null,null,null,null,null,null,null,null,null,null,null,null,null,null,null,null,null,null,null,null,null,null,null,70909]
[null,null,null,null,null,null,null,null,null,null,null,null,null,null,null,null,null,null,null,null,null,null,null,null,null,null,null,null,null,null,null,null,null,null,null,null,null,null,70909]
[null,null,null,null,null,null,null,null,null,null,null,null,null,null,null,null,null,null,null,null,null,null,null,null,null,null,null,null,null,null,null,null,null,null,null,null,null,null,70909]
[null,null,null,null,null,null,null,null,null,null,null,null,null,null,null,null,null,null,null,null,null,null,null,null,null,null,null,null,null,null,null,null,null,null,null,null,null,null,70909]
[null,null,null,null,null,null,null,null,null,null,null,null,null,null,null,null,null,null,null,null,null,null,null,null,null,null,null,null,null,null,null,null,null,null,null,null,null,null,70909]
[null,null,null,null,null,null,null,null,null,null,null,null,null,null,null,null,null,null,null,null,null,null,null,null,null,null,null,null,null,null,null,null,null,null,null,null,null,null,70909]
[null,null,null,null,null,null,null,null,null,null,null,null,null,null,null,null,null,null,null,null,null,null,null,null,null,null,null,null,null,null,null,null,null,null,null,null,null,null,70909]
[null,null,null,null,null,null,null,null,null,null,null,null,null,null,null,null,null,null,null,null,null,null,null,null,null,null,null,null,null,null,null,null,null,null,null,null,null,null,70909]
[null,null,null,null,null,null,null,null,null,null,null,null,null,null,null,null,null,null,null,null,null,null,null,null,null,null,null,null,null,null,null,null,null,null,null,null,null,null,{"$f":"AM114+U115-AD115","v":70909}]
[null,null,null,null,null,null,null,null,null,null,null,null,null,null,null,null,null,null,null,null,null,null,null,null,null,null,null,null,null,null,null,null,null,null,null,null,null,null,{"$f":"AM115+U116-AD116","v":70909}]
[null,null,null,null,null,null,null,null,null,null,null,null,null,null,null,null,null,null,null,null,null,null,null,null,null,null,null,null,null,null,null,null,null,null,null,null,null,null,70909]
[null,null,null,null,null,null,null,null,null,null,null,null,null,null,null,null,null,null,null,null,null,null,null,null,null,null,null,null,null,null,null,null,null,null,null,null,null,null,70909]
[null,null,null,null,null,null,null,null,null,null,null,null,null,null,null,null,null,null,null,null,null,null,null,null,null,null,null,null,null,null,null,null,null,null,null,null,null,null,70909]
[null,null,null,null,null,null,null,null,null,null,null,null,null,null,null,null,null,null,null,null,null,null,null,null,null,null,null,null,null,null,null,null,null,null,null,null,null,null,70909]
[null,null,null,null,null,null,null,null,null,null,null,null,null,null,null,null,null,null,null,null,null,null,null,null,null,null,null,null,null,null,null,null,null,null,null,null,null,null,70909]
[null,null,null,null,null,null,null,null,null,null,null,null,null,null,null,null,null,null,null,null,null,null,null,null,null,null,null,null,null,null,null,null,null,null,null,null,null,null,70909]
[null,null,null,null,null,null,null,null,null,null,null,null,null,null,null,null,null,null,null,null,null,null,null,null,null,null,null,null,null,null,null,null,null,null,null,null,null,null,70909]
[null,null,null,null,null,null,null,null,null,null,null,null,null,null,null,null,null,null,null,null,null,null,null,null,null,null,null,null,null,null,null,null,null,null,null,null,null,null,70909]
[null,null,null,null,null,null,null,null,null,null,null,null,null,null,null,null,null,null,null,null,{"$f":"SUM(U94:AB124)","v":0},null,null,null,null,null,null,null,null,{"$f":"SUM(AD94:AK124)","v":0},null,null,null,null,null,null,null,null,{"$f":"AM93+U125-AD125","v":70909}]
[]
[null,null,null,null,null,null,null,null,null,null,null,null,null,null,null,null,null,null,null,null,null,null,null,null,null,null,null,null,null,null,null,"月末カード等未収入金",null,null,null,null,null,null,null,"合計　　収入金額"]
[null,null,null,null,null,null,null,null,null,null,null,null,null,null,null,null,null,null,null,null,null,null,null,null,null,null,null,null,null,null,null,null,null,null,null,null,null,null,null,{"$f":"SUMIF(Q94:AB124,1,U94:AB124)","v":0}]
[]
[null,null,null,null,null,null,null,null,null,null,null,null,null,null,null,null,null,null,null,null,null,null,null,"合計","走行粁",null,null,null,"実車粁",null,null,null,null,"回数",null,null,"人員",null,null,null,"空車粁",null,null,null,"日数"]